BEGIN:VCALENDAR
VERSION:2.0
PRODID:-//เว็บไซต์ศูนย์บริการโลหิตแห่งชาติ - ECPv6.11.2.1//NONSGML v1.0//EN
CALSCALE:GREGORIAN
METHOD:PUBLISH
X-WR-CALNAME:เว็บไซต์ศูนย์บริการโลหิตแห่งชาติ
X-ORIGINAL-URL:https://thaibloodcentre.redcross.or.th
X-WR-CALDESC:Events for เว็บไซต์ศูนย์บริการโลหิตแห่งชาติ
REFRESH-INTERVAL;VALUE=DURATION:PT1H
X-Robots-Tag:noindex
X-PUBLISHED-TTL:PT1H
BEGIN:VTIMEZONE
TZID:Asia/Krasnoyarsk
BEGIN:STANDARD
TZOFFSETFROM:+0700
TZOFFSETTO:+0700
TZNAME:+07
DTSTART:20250101T000000
END:STANDARD
END:VTIMEZONE
BEGIN:VEVENT
DTSTART;TZID=Asia/Krasnoyarsk:20251215T120000
DTEND;TZID=Asia/Krasnoyarsk:20251215T180000
DTSTAMP:20260425T203618
CREATED:20251208T073514Z
LAST-MODIFIED:20251208T073514Z
UID:10004682-1765800000-1765821600@thaibloodcentre.redcross.or.th
SUMMARY:ศูนย์การค้าเดอะมอลล์ไลฟ์สโตร์ งามวงศ์วาน []
DESCRIPTION:สถานที่เจาะ : ชั้น 5 โซน Government Center \nที่อยู่ : ถนนงามวงศ์วาน ต.บางเขน อ.เมือง จ.นนทบุรี 0 2555 1550
URL:https://thaibloodcentre.redcross.or.th/event/%e0%b8%a8%e0%b8%b9%e0%b8%99%e0%b8%a2%e0%b9%8c%e0%b8%81%e0%b8%b2%e0%b8%a3%e0%b8%84%e0%b9%89%e0%b8%b2%e0%b9%80%e0%b8%94%e0%b8%ad%e0%b8%b0%e0%b8%a1%e0%b8%ad%e0%b8%a5%e0%b8%a5%e0%b9%8c%e0%b9%84-1161/
LOCATION:ศูนย์การค้าเดอะมอลล์ไลฟ์สโตร์ งามวงศ์วาน\, เดอะมอลล์ ไลฟ์สโตร์ งามวงศ์วาน 430 ถนน งามวงศ์วาน ตำบลบางเขน อำเภอเมืองนนทบุรี นนทบุรี 11000
CATEGORIES:ปฏิทินตารางหน่วยเคลื่อนที่
END:VEVENT
BEGIN:VEVENT
DTSTART;TZID=Asia/Krasnoyarsk:20251215T120000
DTEND;TZID=Asia/Krasnoyarsk:20251215T180000
DTSTAMP:20260425T203618
CREATED:20251208T073523Z
LAST-MODIFIED:20251208T073523Z
UID:10004683-1765800000-1765821600@thaibloodcentre.redcross.or.th
SUMMARY:ศูนย์การค้า เอ็มโพเรียม []
DESCRIPTION:สถานที่เจาะ : ชั้น M ศูนย์การค้า ดิ เอ็มโพเรียม เชื่อมลานจอดรถอาคาร B \nที่อยู่ : 622 ถนนสุขุมวิท แขวงคลองตัน เขตคลองเตย กรุงเทพฯ 0 2269 1515
URL:https://thaibloodcentre.redcross.or.th/event/%e0%b8%a8%e0%b8%b9%e0%b8%99%e0%b8%a2%e0%b9%8c%e0%b8%81%e0%b8%b2%e0%b8%a3%e0%b8%84%e0%b9%89%e0%b8%b2-%e0%b9%80%e0%b8%ad%e0%b9%87%e0%b8%a1%e0%b9%82%e0%b8%9e%e0%b9%80%e0%b8%a3%e0%b8%b5%e0%b8%a2-286/
LOCATION:ศูนย์การค้า เอ็มโพเรียม\, เอ็มโพเรียม 622 ถ. สุขุมวิท แขวงคลองตัน เขตคลองเตย กรุงเทพมหานคร 10110
CATEGORIES:ปฏิทินตารางหน่วยเคลื่อนที่
END:VEVENT
BEGIN:VEVENT
DTSTART;TZID=Asia/Krasnoyarsk:20251215T120000
DTEND;TZID=Asia/Krasnoyarsk:20251215T180000
DTSTAMP:20260425T203618
CREATED:20251208T073526Z
LAST-MODIFIED:20251208T073526Z
UID:10004684-1765800000-1765821600@thaibloodcentre.redcross.or.th
SUMMARY:ศูนย์การค้าเดอะมอลล์ไลฟ์สโตร์ ท่าพระ []
DESCRIPTION:สถานที่เจาะ : ชั้น 1 (ติดลานจอดรถ) \nที่อยู่ : 99 ถนนรัชดาท่าพระตัดใหม่ แขวงบุคคโล เขตธนบุรี กรุงเทพฯ 0 2469-1000
URL:https://thaibloodcentre.redcross.or.th/event/%e0%b8%a8%e0%b8%b9%e0%b8%99%e0%b8%a2%e0%b9%8c%e0%b8%81%e0%b8%b2%e0%b8%a3%e0%b8%84%e0%b9%89%e0%b8%b2%e0%b9%80%e0%b8%94%e0%b8%ad%e0%b8%b0%e0%b8%a1%e0%b8%ad%e0%b8%a5%e0%b8%a5%e0%b9%8c%e0%b9%84-1162/
LOCATION:ศูนย์การค้าเดอะมอลล์ไลฟ์สโตร์ ท่าพระ\, เดอะมอลล์ไลฟ์สโตร์ ท่าพระ 129 ถ. รัชดาภิเษก แขวงบุคคโล เขตธนบุรี กรุงเทพมหานคร 10600
CATEGORIES:ปฏิทินตารางหน่วยเคลื่อนที่
END:VEVENT
BEGIN:VEVENT
DTSTART;TZID=Asia/Krasnoyarsk:20251215T170000
DTEND;TZID=Asia/Krasnoyarsk:20251215T210000
DTSTAMP:20260425T203618
CREATED:20251208T073549Z
LAST-MODIFIED:20251208T073549Z
UID:10004687-1765818000-1765832400@thaibloodcentre.redcross.or.th
SUMMARY:งานกาชาด []
DESCRIPTION:สถานที่เจาะ : ฝั่งตรงข้ามบูทกองทัพบก  \nที่อยู่ : สวนลุมพินี ถนนพระรามที่ 4 แขวงลุมพินี เขตปทุมวัน กรุงเทพฯ
URL:https://thaibloodcentre.redcross.or.th/event/%e0%b8%87%e0%b8%b2%e0%b8%99%e0%b8%81%e0%b8%b2%e0%b8%8a%e0%b8%b2%e0%b8%94-4/
LOCATION:งานกาชาด\, งานกาชาด สวนลุมพินี ถนนพระรามที่ 4 แขวงลุมพินี เขตปทุมวัน กรุงเทพฯ 10330
CATEGORIES:ปฏิทินตารางหน่วยเคลื่อนที่
END:VEVENT
BEGIN:VEVENT
DTSTART;TZID=Asia/Krasnoyarsk:20251216T073000
DTEND;TZID=Asia/Krasnoyarsk:20251216T193000
DTSTAMP:20260425T203618
CREATED:20251208T073618Z
LAST-MODIFIED:20251208T073618Z
UID:10004696-1765870200-1765913400@thaibloodcentre.redcross.or.th
SUMMARY:ศูนย์บริการโลหิตแห่งชาติ สภากาชาดไทย []
DESCRIPTION:ที่อยู่ : 1871 ถ. อังรีดูนังต์ แขวงปทุมวัน เขตปทุมวัน
URL:https://thaibloodcentre.redcross.or.th/event/%e0%b8%a8%e0%b8%b9%e0%b8%99%e0%b8%a2%e0%b9%8c%e0%b8%9a%e0%b8%a3%e0%b8%b4%e0%b8%81%e0%b8%b2%e0%b8%a3%e0%b9%82%e0%b8%a5%e0%b8%ab%e0%b8%b4%e0%b8%95%e0%b9%81%e0%b8%ab%e0%b9%88%e0%b8%87%e0%b8%8a-371/
LOCATION:ศูนย์บริการโลหิตแห่งชาติ สภากาชาดไทย\, ศูนย์บริการโลหิตแห่งชาติ สภากาชาดไทย 1871 ถ. อังรีดูนังต์ แขวงปทุมวัน เขตปทุมวัน กรุงเทพมหานคร 10330
CATEGORIES:ปฏิทินตารางหน่วยเคลื่อนที่
END:VEVENT
BEGIN:VEVENT
DTSTART;TZID=Asia/Krasnoyarsk:20251216T083000
DTEND;TZID=Asia/Krasnoyarsk:20251216T193000
DTSTAMP:20260425T203618
CREATED:20251208T073714Z
LAST-MODIFIED:20251208T073714Z
UID:10004702-1765873800-1765913400@thaibloodcentre.redcross.or.th
SUMMARY:สถานีกาชาด 11 วิเศษนิยม []
DESCRIPTION:สถานที่เจาะ : ชั้น 3 \nที่อยู่ : 33/3 ถนนเพชรเกษม แขวงบางหว้า เขตภาษีเจริญ กรุงเทพฯ 0633450711
URL:https://thaibloodcentre.redcross.or.th/event/%e0%b8%aa%e0%b8%96%e0%b8%b2%e0%b8%99%e0%b8%b5%e0%b8%81%e0%b8%b2%e0%b8%8a%e0%b8%b2%e0%b8%94-11-%e0%b8%a7%e0%b8%b4%e0%b9%80%e0%b8%a8%e0%b8%a9%e0%b8%99%e0%b8%b4%e0%b8%a2%e0%b8%a1-120/
LOCATION:สถานีกาชาด 11 วิเศษนิยม\, สถานีกาชาด 11 วิเศษนิยม 605 ถ.เพชรเกษม แขวงบางหว้า เขตภาษีเจริญ กรุงเทพมหานคร 10160
CATEGORIES:ปฏิทินตารางหน่วยเคลื่อนที่
END:VEVENT
BEGIN:VEVENT
DTSTART;TZID=Asia/Krasnoyarsk:20251216T090000
DTEND;TZID=Asia/Krasnoyarsk:20251216T150000
DTSTAMP:20260425T203618
CREATED:20251208T073717Z
LAST-MODIFIED:20251208T073717Z
UID:10004703-1765875600-1765897200@thaibloodcentre.redcross.or.th
SUMMARY:บ้านทรงไทย (ย่านวงศ์สว่าง) []
DESCRIPTION:สถานที่เจาะ : (พัก 12.30-13.00 น.) \nที่อยู่ : 1423 ถนนกรุงเทพ – นนทบุรี แขวงวงศ์สว่าง เขตบางซื่อ กรุงเทพฯ 0 2256 4300
URL:https://thaibloodcentre.redcross.or.th/event/%e0%b8%9a%e0%b9%89%e0%b8%b2%e0%b8%99%e0%b8%97%e0%b8%a3%e0%b8%87%e0%b9%84%e0%b8%97%e0%b8%a2-%e0%b8%a2%e0%b9%88%e0%b8%b2%e0%b8%99%e0%b8%a7%e0%b8%87%e0%b8%a8%e0%b9%8c%e0%b8%aa%e0%b8%a7%e0%b9%88-289/
LOCATION:บ้านทรงไทย (ย่านวงศ์สว่าง)\, หน่วยรับบริจาคโลหิต บ้านทรงไทย(ย่านวงศ์สว่าง) 1423 ถนนกรุงเทพ-นนทบุรี แขวงวงศ์สว่าง เขตบางซื่อ กรุงเทพมหานคร 10800
CATEGORIES:ปฏิทินตารางหน่วยเคลื่อนที่
END:VEVENT
BEGIN:VEVENT
DTSTART;TZID=Asia/Krasnoyarsk:20251216T090000
DTEND;TZID=Asia/Krasnoyarsk:20251216T150000
DTSTAMP:20260425T203618
CREATED:20251208T073730Z
LAST-MODIFIED:20251208T073730Z
UID:10004706-1765875600-1765897200@thaibloodcentre.redcross.or.th
SUMMARY:บริษัท เคซีจี คอร์ปอเรชั่น จำกัด (มหาชน) สาขาบางพลี []
DESCRIPTION:สถานที่เจาะ : ลานจอดรถเคซีจี (พัก 11.00-12.00 น.) \nที่อยู่ : 79 ม.11 ถ.เทพารักษ์ ต.บางปลา อ.บางพลี จ.สมุทรปราการ 0 2744 2000
URL:https://thaibloodcentre.redcross.or.th/event/%e0%b8%9a%e0%b8%a3%e0%b8%b4%e0%b8%a9%e0%b8%b1%e0%b8%97-%e0%b9%80%e0%b8%84%e0%b8%8b%e0%b8%b5%e0%b8%88%e0%b8%b5-%e0%b8%84%e0%b8%ad%e0%b8%a3%e0%b9%8c%e0%b8%9b%e0%b8%ad%e0%b9%80%e0%b8%a3%e0%b8%8a-7/
LOCATION:บริษัท เคซีจี คอร์ปอเรชั่น จำกัด (มหาชน) สาขาบางพลี\, บริษัท เคซีจี คอร์ปอเรชั่น จำกัด (มหาชน) สาขาบางพลี 79 ม.11 ถ.เทพารักษ์ ต.บางพลีใหญ่ อ.บางพลี จ.สมุทรปราการ 10540
CATEGORIES:ปฏิทินตารางหน่วยเคลื่อนที่
END:VEVENT
BEGIN:VEVENT
DTSTART;TZID=Asia/Krasnoyarsk:20251216T090000
DTEND;TZID=Asia/Krasnoyarsk:20251216T150000
DTSTAMP:20260425T203618
CREATED:20251208T073733Z
LAST-MODIFIED:20251208T073733Z
UID:10004707-1765875600-1765897200@thaibloodcentre.redcross.or.th
SUMMARY:บริษัท เคซีจี คอร์ปอเรชั่น จำกัด (มหาชน) สาขาเทพารักษ์ []
DESCRIPTION:สถานที่เจาะ : หน้าอาคาร Excellence Center (พัก 12.00-13.00 น.) \nที่อยู่ : 228 ม.11 ถ.เทพารักษ์ กม.14 ต.บางพลีใหญ่ อ.เมือง จ.สมุทรปราการ 0 2744 2000
URL:https://thaibloodcentre.redcross.or.th/event/%e0%b8%9a%e0%b8%a3%e0%b8%b4%e0%b8%a9%e0%b8%b1%e0%b8%97-%e0%b9%80%e0%b8%84%e0%b8%8b%e0%b8%b5%e0%b8%88%e0%b8%b5-%e0%b8%84%e0%b8%ad%e0%b8%a3%e0%b9%8c%e0%b8%9b%e0%b8%ad%e0%b9%80%e0%b8%a3%e0%b8%8a-8/
LOCATION:บริษัท เคซีจี คอร์ปอเรชั่น จำกัด (มหาชน) สาขาเทพารักษ์\, บริษัท เคซีจี คอร์ปอเรชั่น จำกัด (มหาชน) สาขาเทพารักษ์ 228 ม.11 ถ.เทพารักษ์ ต.บางพลีใหญ่ อ.บางพลี จ.สมุทรปราการ 10540
CATEGORIES:ปฏิทินตารางหน่วยเคลื่อนที่
END:VEVENT
BEGIN:VEVENT
DTSTART;TZID=Asia/Krasnoyarsk:20251216T090000
DTEND;TZID=Asia/Krasnoyarsk:20251216T150000
DTSTAMP:20260425T203618
CREATED:20251208T073738Z
LAST-MODIFIED:20251208T073738Z
UID:10004709-1765875600-1765897200@thaibloodcentre.redcross.or.th
SUMMARY:บริษัท ไมลอทท์ แลบบอราทอรีส์ จำกัด []
DESCRIPTION:สถานที่เจาะ : ห้องฝ่ายทรัพยากรบุคคล (พัก 12.00-13.00 น.) \nที่อยู่ : 84/55 ม.11 ซ.ธนะสิทธิ์ ถ.เทพารักษ์ ต.บางปลา อ.บางพลี จ.สมุทรปราการ 0 2729 8176
URL:https://thaibloodcentre.redcross.or.th/event/%e0%b8%9a%e0%b8%a3%e0%b8%b4%e0%b8%a9%e0%b8%b1%e0%b8%97-%e0%b9%84%e0%b8%a1%e0%b8%a5%e0%b8%ad%e0%b8%97%e0%b8%97%e0%b9%8c-%e0%b9%81%e0%b8%a5%e0%b8%9a%e0%b8%9a%e0%b8%ad%e0%b8%a3%e0%b8%b2%e0%b8%97-4/
LOCATION:บริษัท ไมลอทท์ แลบบอราทอรีส์ จำกัด\, บริษัท ไมลอทท์ แลบบอราทอรีส์ จำกัด 84/55 ต.บางปลา อ.บางพลี จ.สมุทรปราการ 10540
CATEGORIES:ปฏิทินตารางหน่วยเคลื่อนที่
END:VEVENT
BEGIN:VEVENT
DTSTART;TZID=Asia/Krasnoyarsk:20251216T090000
DTEND;TZID=Asia/Krasnoyarsk:20251216T150000
DTSTAMP:20260425T203618
CREATED:20251208T073746Z
LAST-MODIFIED:20251208T073746Z
UID:10004710-1765875600-1765897200@thaibloodcentre.redcross.or.th
SUMMARY:อาคารอับดุลราฮิมเพลส []
DESCRIPTION:สถานที่เจาะ : สวนหย่อมด้านหน้าอาคาร (พัก 11.00-12.00 น.) \nที่อยู่ : 990 ฝ่ายบริหารอาคารชั้น B1 ถนนพระราม 4 แขวงสีลม เขตบางรัก กรุงเทพฯ 0 2636 1308-10
URL:https://thaibloodcentre.redcross.or.th/event/%e0%b8%ad%e0%b8%b2%e0%b8%84%e0%b8%b2%e0%b8%a3%e0%b8%ad%e0%b8%b1%e0%b8%9a%e0%b8%94%e0%b8%b8%e0%b8%a5%e0%b8%a3%e0%b8%b2%e0%b8%ae%e0%b8%b4%e0%b8%a1%e0%b9%80%e0%b8%9e%e0%b8%a5%e0%b8%aa-2/
LOCATION:อาคารอับดุลราฮิมเพลส\, อาคารอับดุลราฮิมเพลส 990 ถนนพระรามที่4 แขวงสีลม เขตบางรัก กรุงเทพมหานคร 10500
CATEGORIES:ปฏิทินตารางหน่วยเคลื่อนที่
END:VEVENT
BEGIN:VEVENT
DTSTART;TZID=Asia/Krasnoyarsk:20251216T090000
DTEND;TZID=Asia/Krasnoyarsk:20251216T150000
DTSTAMP:20260425T203618
CREATED:20251208T073749Z
LAST-MODIFIED:20251208T073749Z
UID:10004711-1765875600-1765897200@thaibloodcentre.redcross.or.th
SUMMARY:บริษัท เอเซีย พลัส กรุ๊ป โฮลดิ้งส์ จำกัด (มหาชน) []
DESCRIPTION:สถานที่เจาะ : ห้องอบรมชั้น 3 (พัก 11.30-12.30 น.) \nที่อยู่ : 175 อาคารสาทรซิตี้ทาวเวอร์ชั้น 3 ถนนสาทรใต้ แขวงทุ่งมหาเมฆ เขตสาทร กรุงเทพฯ 0 2680 4045
URL:https://thaibloodcentre.redcross.or.th/event/%e0%b8%9a%e0%b8%a3%e0%b8%b4%e0%b8%a9%e0%b8%b1%e0%b8%97-%e0%b9%80%e0%b8%ad%e0%b9%80%e0%b8%8b%e0%b8%b5%e0%b8%a2-%e0%b8%9e%e0%b8%a5%e0%b8%b1%e0%b8%aa-%e0%b8%81%e0%b8%a3%e0%b8%b8%e0%b9%8a%e0%b8%9b-4/
LOCATION:บริษัท เอเซีย พลัส กรุ๊ป โฮลดิ้งส์ จำกัด (มหาชน)\, อาคารสาทรซิตี้ทาวเวอร์ 175 ถนนสาทรใต้ แขวงทุ่งมหาเมฆ เขตสาทร กรุงเทพมหานคร 10120
CATEGORIES:ปฏิทินตารางหน่วยเคลื่อนที่
END:VEVENT
BEGIN:VEVENT
DTSTART;TZID=Asia/Krasnoyarsk:20251216T090000
DTEND;TZID=Asia/Krasnoyarsk:20251216T190000
DTSTAMP:20260425T203618
CREATED:20251208T073728Z
LAST-MODIFIED:20251208T073728Z
UID:10004705-1765875600-1765911600@thaibloodcentre.redcross.or.th
SUMMARY:สามย่านมิตรทาวน์ []
DESCRIPTION:สถานที่เจาะ : ชั้น G ลานโปรโมชั่น หน้าร้าน Muji \nที่อยู่ : 944 ถนนพระรามที่ 4 แขวงวังใหม่  เขตปทุมวัน กรุงเทพฯ 0 2483 0000
URL:https://thaibloodcentre.redcross.or.th/event/%e0%b8%aa%e0%b8%b2%e0%b8%a1%e0%b8%a2%e0%b9%88%e0%b8%b2%e0%b8%99%e0%b8%a1%e0%b8%b4%e0%b8%95%e0%b8%a3%e0%b8%97%e0%b8%b2%e0%b8%a7%e0%b8%99%e0%b9%8c-4/
LOCATION:สามย่านมิตรทาวน์\, สามย่านมิตรทาวน์ 944 ถนนพระรามที่ 4 แขวงวังใหม่ เขตปทุมวัน กรุงเทพมหานคร 10330
CATEGORIES:ปฏิทินตารางหน่วยเคลื่อนที่
END:VEVENT
BEGIN:VEVENT
DTSTART;TZID=Asia/Krasnoyarsk:20251216T110000
DTEND;TZID=Asia/Krasnoyarsk:20251216T150000
DTSTAMP:20260425T203618
CREATED:20251208T073736Z
LAST-MODIFIED:20251215T015002Z
UID:10004708-1765882800-1765897200@thaibloodcentre.redcross.or.th
SUMMARY:บริษัท ซี.พี.แลนด์ จำกัด (มหาชน) []
DESCRIPTION:สถานที่เจาะ : ชั้น 4 ข้างบันไดเลื่อน ศูนย์การค้าฟอร์จูนทาวน์ \nที่อยู่ : 1\,3\,5\,7 ถนนรัชดาภิเษก แขวงดินแดง เขตดินแดง กรุงเทพฯ 0 2247 3737
URL:https://thaibloodcentre.redcross.or.th/event/%e0%b8%9a%e0%b8%a3%e0%b8%b4%e0%b8%a9%e0%b8%b1%e0%b8%97-%e0%b8%8b%e0%b8%b5-%e0%b8%9e%e0%b8%b5-%e0%b9%81%e0%b8%a5%e0%b8%99%e0%b8%94%e0%b9%8c-%e0%b8%88%e0%b8%b3%e0%b8%81%e0%b8%b1%e0%b8%94-%e0%b8%a1-7/
LOCATION:บริษัท ซี.พี.แลนด์ จำกัด (มหาชน)\, อาคารฟอร์จูนทาวน์ ถนนรัชดาภิเษก แขวงดินแดง เขตดินแดง กรุงเทพมหานคร 10400
CATEGORIES:ปฏิทินตารางหน่วยเคลื่อนที่
END:VEVENT
BEGIN:VEVENT
DTSTART;TZID=Asia/Krasnoyarsk:20251216T120000
DTEND;TZID=Asia/Krasnoyarsk:20251216T180000
DTSTAMP:20260425T203618
CREATED:20251208T073623Z
LAST-MODIFIED:20251208T073623Z
UID:10004697-1765886400-1765908000@thaibloodcentre.redcross.or.th
SUMMARY:ศูนย์การค้าเดอะมอลล์ไลฟ์สโตร์ บางแค []
DESCRIPTION:สถานที่เจาะ : ชั้น 3 ตรงข้ามร้านโอ้กะจู๋ \nที่อยู่ : ถนนเพชรเกษม แขวงบางแคเหนือ เขตภาษีเจริญ กรุงเทพฯ 02 487 1221
URL:https://thaibloodcentre.redcross.or.th/event/%e0%b8%a8%e0%b8%b9%e0%b8%99%e0%b8%a2%e0%b9%8c%e0%b8%81%e0%b8%b2%e0%b8%a3%e0%b8%84%e0%b9%89%e0%b8%b2%e0%b9%80%e0%b8%94%e0%b8%ad%e0%b8%b0%e0%b8%a1%e0%b8%ad%e0%b8%a5%e0%b8%a5%e0%b9%8c%e0%b9%84-1163/
LOCATION:ศูนย์การค้าเดอะมอลล์ไลฟ์สโตร์ บางแค\, ศูนย์การค้าเดอะมอลล์ไลฟ์สโตร์ บางแค
CATEGORIES:ปฏิทินตารางหน่วยเคลื่อนที่
END:VEVENT
BEGIN:VEVENT
DTSTART;TZID=Asia/Krasnoyarsk:20251216T120000
DTEND;TZID=Asia/Krasnoyarsk:20251216T180000
DTSTAMP:20260425T203618
CREATED:20251208T073633Z
LAST-MODIFIED:20251208T073633Z
UID:10004698-1765886400-1765908000@thaibloodcentre.redcross.or.th
SUMMARY:ศูนย์การค้าเดอะมอลล์ไลฟ์สโตร์ บางกะปิ []
DESCRIPTION:สถานที่เจาะ : ชั้น 2 ทางออกลานจอดรถ \nที่อยู่ : ถนนลาดพร้าว แขวงคลองจั่น เขตบางกะปิ กรุงเทพฯ 0 2310 2278
URL:https://thaibloodcentre.redcross.or.th/event/%e0%b8%a8%e0%b8%b9%e0%b8%99%e0%b8%a2%e0%b9%8c%e0%b8%81%e0%b8%b2%e0%b8%a3%e0%b8%84%e0%b9%89%e0%b8%b2%e0%b9%80%e0%b8%94%e0%b8%ad%e0%b8%b0%e0%b8%a1%e0%b8%ad%e0%b8%a5%e0%b8%a5%e0%b9%8c%e0%b9%84-1164/
LOCATION:ศูนย์การค้าเดอะมอลล์ไลฟ์สโตร์ บางกะปิ\, เดอะมอลล์ไลฟ์สโตร์ บางกะปิ 3522 ถ. ลาดพร้าว แขวงคลองจั่น เขตบางกะปิ กรุงเทพมหานคร 10240
CATEGORIES:ปฏิทินตารางหน่วยเคลื่อนที่
END:VEVENT
BEGIN:VEVENT
DTSTART;TZID=Asia/Krasnoyarsk:20251216T120000
DTEND;TZID=Asia/Krasnoyarsk:20251216T180000
DTSTAMP:20260425T203618
CREATED:20251208T073642Z
LAST-MODIFIED:20251208T073642Z
UID:10004699-1765886400-1765908000@thaibloodcentre.redcross.or.th
SUMMARY:ศูนย์การค้าเดอะมอลล์ไลฟ์สโตร์ งามวงศ์วาน []
DESCRIPTION:สถานที่เจาะ : ชั้น 5 โซน Government Center \nที่อยู่ : ถนนงามวงศ์วาน ต.บางเขน อ.เมือง จ.นนทบุรี 0 2555 1550
URL:https://thaibloodcentre.redcross.or.th/event/%e0%b8%a8%e0%b8%b9%e0%b8%99%e0%b8%a2%e0%b9%8c%e0%b8%81%e0%b8%b2%e0%b8%a3%e0%b8%84%e0%b9%89%e0%b8%b2%e0%b9%80%e0%b8%94%e0%b8%ad%e0%b8%b0%e0%b8%a1%e0%b8%ad%e0%b8%a5%e0%b8%a5%e0%b9%8c%e0%b9%84-1165/
LOCATION:ศูนย์การค้าเดอะมอลล์ไลฟ์สโตร์ งามวงศ์วาน\, เดอะมอลล์ ไลฟ์สโตร์ งามวงศ์วาน 430 ถนน งามวงศ์วาน ตำบลบางเขน อำเภอเมืองนนทบุรี นนทบุรี 11000
CATEGORIES:ปฏิทินตารางหน่วยเคลื่อนที่
END:VEVENT
BEGIN:VEVENT
DTSTART;TZID=Asia/Krasnoyarsk:20251216T120000
DTEND;TZID=Asia/Krasnoyarsk:20251216T180000
DTSTAMP:20260425T203618
CREATED:20251208T073700Z
LAST-MODIFIED:20251208T073700Z
UID:10004700-1765886400-1765908000@thaibloodcentre.redcross.or.th
SUMMARY:ศูนย์การค้า เอ็มโพเรียม []
DESCRIPTION:สถานที่เจาะ : ชั้น M ศูนย์การค้า ดิ เอ็มโพเรียม เชื่อมลานจอดรถอาคาร B \nที่อยู่ : 622 ถนนสุขุมวิท แขวงคลองตัน เขตคลองเตย กรุงเทพฯ 0 2269 1515
URL:https://thaibloodcentre.redcross.or.th/event/%e0%b8%a8%e0%b8%b9%e0%b8%99%e0%b8%a2%e0%b9%8c%e0%b8%81%e0%b8%b2%e0%b8%a3%e0%b8%84%e0%b9%89%e0%b8%b2-%e0%b9%80%e0%b8%ad%e0%b9%87%e0%b8%a1%e0%b9%82%e0%b8%9e%e0%b9%80%e0%b8%a3%e0%b8%b5%e0%b8%a2-287/
LOCATION:ศูนย์การค้า เอ็มโพเรียม\, เอ็มโพเรียม 622 ถ. สุขุมวิท แขวงคลองตัน เขตคลองเตย กรุงเทพมหานคร 10110
CATEGORIES:ปฏิทินตารางหน่วยเคลื่อนที่
END:VEVENT
BEGIN:VEVENT
DTSTART;TZID=Asia/Krasnoyarsk:20251216T120000
DTEND;TZID=Asia/Krasnoyarsk:20251216T180000
DTSTAMP:20260425T203618
CREATED:20251208T073704Z
LAST-MODIFIED:20251208T073704Z
UID:10004701-1765886400-1765908000@thaibloodcentre.redcross.or.th
SUMMARY:ศูนย์การค้าเดอะมอลล์ไลฟ์สโตร์ ท่าพระ []
DESCRIPTION:สถานที่เจาะ : ชั้น 1 (ติดลานจอดรถ) \nที่อยู่ : 99 ถนนรัชดาท่าพระตัดใหม่ แขวงบุคคโล เขตธนบุรี กรุงเทพฯ 0 2469-1000
URL:https://thaibloodcentre.redcross.or.th/event/%e0%b8%a8%e0%b8%b9%e0%b8%99%e0%b8%a2%e0%b9%8c%e0%b8%81%e0%b8%b2%e0%b8%a3%e0%b8%84%e0%b9%89%e0%b8%b2%e0%b9%80%e0%b8%94%e0%b8%ad%e0%b8%b0%e0%b8%a1%e0%b8%ad%e0%b8%a5%e0%b8%a5%e0%b9%8c%e0%b9%84-1166/
LOCATION:ศูนย์การค้าเดอะมอลล์ไลฟ์สโตร์ ท่าพระ\, เดอะมอลล์ไลฟ์สโตร์ ท่าพระ 129 ถ. รัชดาภิเษก แขวงบุคคโล เขตธนบุรี กรุงเทพมหานคร 10600
CATEGORIES:ปฏิทินตารางหน่วยเคลื่อนที่
END:VEVENT
BEGIN:VEVENT
DTSTART;TZID=Asia/Krasnoyarsk:20251216T170000
DTEND;TZID=Asia/Krasnoyarsk:20251216T210000
DTSTAMP:20260425T203618
CREATED:20251208T073721Z
LAST-MODIFIED:20251208T073721Z
UID:10004704-1765904400-1765918800@thaibloodcentre.redcross.or.th
SUMMARY:งานกาชาด []
DESCRIPTION:สถานที่เจาะ : ฝั่งตรงข้ามบูทกองทัพบก (ทุกตำแหน่งกลับพร้อมผู้บริจาคคนสุดท้า \nที่อยู่ : สวนลุมพินี ถนนพระรามที่ 4 แขวงลุมพินี เขตปทุมวัน กรุงเทพฯ
URL:https://thaibloodcentre.redcross.or.th/event/%e0%b8%87%e0%b8%b2%e0%b8%99%e0%b8%81%e0%b8%b2%e0%b8%8a%e0%b8%b2%e0%b8%94-5/
LOCATION:งานกาชาด\, งานกาชาด สวนลุมพินี ถนนพระรามที่ 4 แขวงลุมพินี เขตปทุมวัน กรุงเทพฯ 10330
CATEGORIES:ปฏิทินตารางหน่วยเคลื่อนที่
END:VEVENT
BEGIN:VEVENT
DTSTART;TZID=Asia/Krasnoyarsk:20251217T073000
DTEND;TZID=Asia/Krasnoyarsk:20251217T193000
DTSTAMP:20260425T203618
CREATED:20251215T115141Z
LAST-MODIFIED:20251215T115141Z
UID:10004712-1765956600-1765999800@thaibloodcentre.redcross.or.th
SUMMARY:ศูนย์บริการโลหิตแห่งชาติ สภากาชาดไทย [0A0000]
DESCRIPTION:ที่อยู่ : 1871 ถ. อังรีดูนังต์ แขวงปทุมวัน เขตปทุมวัน
URL:https://thaibloodcentre.redcross.or.th/event/%e0%b8%a8%e0%b8%b9%e0%b8%99%e0%b8%a2%e0%b9%8c%e0%b8%9a%e0%b8%a3%e0%b8%b4%e0%b8%81%e0%b8%b2%e0%b8%a3%e0%b9%82%e0%b8%a5%e0%b8%ab%e0%b8%b4%e0%b8%95%e0%b9%81%e0%b8%ab%e0%b9%88%e0%b8%87%e0%b8%8a-372/
LOCATION:ศูนย์บริการโลหิตแห่งชาติ สภากาชาดไทย\, ศูนย์บริการโลหิตแห่งชาติ สภากาชาดไทย 1871 ถ. อังรีดูนังต์ แขวงปทุมวัน เขตปทุมวัน กรุงเทพมหานคร 10330
CATEGORIES:ปฏิทินตารางหน่วยเคลื่อนที่
END:VEVENT
BEGIN:VEVENT
DTSTART;TZID=Asia/Krasnoyarsk:20251217T083000
DTEND;TZID=Asia/Krasnoyarsk:20251217T193000
DTSTAMP:20260425T203618
CREATED:20251215T115231Z
LAST-MODIFIED:20251215T115231Z
UID:10004718-1765960200-1765999800@thaibloodcentre.redcross.or.th
SUMMARY:สถานีกาชาด 11 วิเศษนิยม [0D0200]
DESCRIPTION:สถานที่เจาะ : ชั้น 3 \nที่อยู่ : 33/3 ถนนเพชรเกษม แขวงบางหว้า เขตภาษีเจริญ กรุงเทพฯ 0633450711
URL:https://thaibloodcentre.redcross.or.th/event/%e0%b8%aa%e0%b8%96%e0%b8%b2%e0%b8%99%e0%b8%b5%e0%b8%81%e0%b8%b2%e0%b8%8a%e0%b8%b2%e0%b8%94-11-%e0%b8%a7%e0%b8%b4%e0%b9%80%e0%b8%a8%e0%b8%a9%e0%b8%99%e0%b8%b4%e0%b8%a2%e0%b8%a1-0d0200-169/
LOCATION:สถานีกาชาด 11 วิเศษนิยม\, สถานีกาชาด 11 วิเศษนิยม 605 ถ.เพชรเกษม แขวงบางหว้า เขตภาษีเจริญ กรุงเทพมหานคร 10160
CATEGORIES:ปฏิทินตารางหน่วยเคลื่อนที่
END:VEVENT
BEGIN:VEVENT
DTSTART;TZID=Asia/Krasnoyarsk:20251217T090000
DTEND;TZID=Asia/Krasnoyarsk:20251217T120000
DTSTAMP:20260425T203618
CREATED:20251215T115243Z
LAST-MODIFIED:20251215T115243Z
UID:10004721-1765962000-1765972800@thaibloodcentre.redcross.or.th
SUMMARY:สถาบันบัณฑิตพัฒนบริหารศาสตร์ [0B0275]
DESCRIPTION:สถานที่เจาะ : หน้าอาคารมาลัย หุวะนันทน์ \nที่อยู่ : 148 ถนนเสรีไทย แขวงคลองจั่น เขตบางกะปิ กรุงเทพฯ 0 2727 3452
URL:https://thaibloodcentre.redcross.or.th/event/%e0%b8%aa%e0%b8%96%e0%b8%b2%e0%b8%9a%e0%b8%b1%e0%b8%99%e0%b8%9a%e0%b8%b1%e0%b8%93%e0%b8%91%e0%b8%b4%e0%b8%95%e0%b8%9e%e0%b8%b1%e0%b8%92%e0%b8%99%e0%b8%9a%e0%b8%a3%e0%b8%b4%e0%b8%ab%e0%b8%b2%e0%b8%a3-4/
LOCATION:สถาบันบัณฑิตพัฒนบริหารศาสตร์\, สถาบันบัณฑิตพัฒนบริหารศาสตร์ 148 ถนนเสรีไทย แขวงคลองจั่น เขตบางกะปิ กรุงเทพมหานคร 10240
CATEGORIES:ปฏิทินตารางหน่วยเคลื่อนที่
END:VEVENT
BEGIN:VEVENT
DTSTART;TZID=Asia/Krasnoyarsk:20251217T090000
DTEND;TZID=Asia/Krasnoyarsk:20251217T150000
DTSTAMP:20260425T203618
CREATED:20251215T115235Z
LAST-MODIFIED:20251215T115235Z
UID:10004719-1765962000-1765983600@thaibloodcentre.redcross.or.th
SUMMARY:บ้านทรงไทย (ย่านวงศ์สว่าง) [0J0463]
DESCRIPTION:สถานที่เจาะ : (พัก 12.30-13.00 น.) \nที่อยู่ : 1423 ถนนกรุงเทพ – นนทบุรี แขวงวงศ์สว่าง เขตบางซื่อ กรุงเทพฯ 0 2256 4300
URL:https://thaibloodcentre.redcross.or.th/event/%e0%b8%9a%e0%b9%89%e0%b8%b2%e0%b8%99%e0%b8%97%e0%b8%a3%e0%b8%87%e0%b9%84%e0%b8%97%e0%b8%a2-%e0%b8%a2%e0%b9%88%e0%b8%b2%e0%b8%99%e0%b8%a7%e0%b8%87%e0%b8%a8%e0%b9%8c%e0%b8%aa%e0%b8%a7%e0%b9%88-290/
LOCATION:บ้านทรงไทย (ย่านวงศ์สว่าง)\, หน่วยรับบริจาคโลหิต บ้านทรงไทย(ย่านวงศ์สว่าง) 1423 ถนนกรุงเทพ-นนทบุรี แขวงวงศ์สว่าง เขตบางซื่อ กรุงเทพมหานคร 10800
CATEGORIES:ปฏิทินตารางหน่วยเคลื่อนที่
END:VEVENT
BEGIN:VEVENT
DTSTART;TZID=Asia/Krasnoyarsk:20251217T090000
DTEND;TZID=Asia/Krasnoyarsk:20251217T150000
DTSTAMP:20260425T203619
CREATED:20251215T115253Z
LAST-MODIFIED:20251215T115253Z
UID:10004722-1765962000-1765983600@thaibloodcentre.redcross.or.th
SUMMARY:สภาผู้แทนราษฎร [0D0315]
DESCRIPTION:สถานที่เจาะ : ห้องบรรยายใหญ่ ชั้น B1-2 อาคารรัฐสภา ฝั่ง ส.ส. \nที่อยู่ : 1111 ถนนสามเสน แขวงถนนนครไชยศรี เขตดุสิต กรุงเทพฯ 0 2242 5900
URL:https://thaibloodcentre.redcross.or.th/event/%e0%b8%aa%e0%b8%a0%e0%b8%b2%e0%b8%9c%e0%b8%b9%e0%b9%89%e0%b9%81%e0%b8%97%e0%b8%99%e0%b8%a3%e0%b8%b2%e0%b8%a9%e0%b8%8e%e0%b8%a3-0d0315-3/
LOCATION:สภาผู้แทนราษฎร\, อาคารรัฐสภา 1111 ถนนสามเสน แขวงถนนนครไชยศรี เขตดุสิต กรุงเทพฯ 10300
CATEGORIES:ปฏิทินตารางหน่วยเคลื่อนที่
END:VEVENT
BEGIN:VEVENT
DTSTART;TZID=Asia/Krasnoyarsk:20251217T090000
DTEND;TZID=Asia/Krasnoyarsk:20251217T150000
DTSTAMP:20260425T203619
CREATED:20251215T115258Z
LAST-MODIFIED:20251215T115258Z
UID:10004724-1765962000-1765983600@thaibloodcentre.redcross.or.th
SUMMARY:ธนาคารทหารไทยธนชาต จำกัด (มหาชน) [0G0019]
DESCRIPTION:สถานที่เจาะ : ชั้น 1 \nที่อยู่ : 3000 ถนนพหลโยธิน แขวงลาดยาว เขตจตุจักร กรุงเทพฯ 0 2299 1366
URL:https://thaibloodcentre.redcross.or.th/event/%e0%b8%98%e0%b8%99%e0%b8%b2%e0%b8%84%e0%b8%b2%e0%b8%a3%e0%b8%97%e0%b8%ab%e0%b8%b2%e0%b8%a3%e0%b9%84%e0%b8%97%e0%b8%a2%e0%b8%98%e0%b8%99%e0%b8%8a%e0%b8%b2%e0%b8%95-%e0%b8%88%e0%b8%b3%e0%b8%81-4/
LOCATION:ธนาคารทหารไทยธนชาต จำกัด (มหาชน)\, ธนาคารทหารไทยธนชาต จำกัด (มหาชน) 3000 ถนนพหลโยธิน แขวงจอมพล เขตจตุจักร กรุงเทพมหานคร 10900
CATEGORIES:ปฏิทินตารางหน่วยเคลื่อนที่
END:VEVENT
BEGIN:VEVENT
DTSTART;TZID=Asia/Krasnoyarsk:20251217T090000
DTEND;TZID=Asia/Krasnoyarsk:20251217T150000
DTSTAMP:20260425T203619
CREATED:20251215T115301Z
LAST-MODIFIED:20251215T115301Z
UID:10004725-1765962000-1765983600@thaibloodcentre.redcross.or.th
SUMMARY:บริษัท ธนชาตประกันภัย จำกัด (มหาชน) [0M0604]
DESCRIPTION:สถานที่เจาะ : ห้องประชุมชั้นใต้ดิน อาคาร B เดอะไนน์ พระราม 9 (พัก 12.00-13.00) น. \nที่อยู่ : 999/1 เดอะไนน์ทาวเวอร์ ถนนพระราม 9 แขวงพัฒนาการ  เขตสวนหลวง กรุงเทพฯ 0 2308 9300
URL:https://thaibloodcentre.redcross.or.th/event/%e0%b8%9a%e0%b8%a3%e0%b8%b4%e0%b8%a9%e0%b8%b1%e0%b8%97-%e0%b8%98%e0%b8%99%e0%b8%8a%e0%b8%b2%e0%b8%95%e0%b8%9b%e0%b8%a3%e0%b8%b0%e0%b8%81%e0%b8%b1%e0%b8%99%e0%b8%a0%e0%b8%b1%e0%b8%a2-%e0%b8%88-4/
LOCATION:บริษัท ธนชาตประกันภัย จำกัด (มหาชน)\, ศูนย์การค้าเดอะไนน์ พระราม 9 999/1-4 ถนนพระราม 9 แขวงสวนหลวง เขตสวนหลวง กรุงเทพมหานคร 10250
CATEGORIES:ปฏิทินตารางหน่วยเคลื่อนที่
END:VEVENT
BEGIN:VEVENT
DTSTART;TZID=Asia/Krasnoyarsk:20251217T090000
DTEND;TZID=Asia/Krasnoyarsk:20251217T150000
DTSTAMP:20260425T203619
CREATED:20251215T115303Z
LAST-MODIFIED:20251215T115303Z
UID:10004726-1765962000-1765983600@thaibloodcentre.redcross.or.th
SUMMARY:บริษัท ทีคิวเอ็ม อินชัวร์รันส์ โบรคเกอร์ จำกัด [0M0429]
DESCRIPTION:สถานที่เจาะ : ระหว่างอาคารพรรณนิภา 1 และ 2 (พัก 11.30-12.30 น.) \nที่อยู่ : 123 ถนนลาดปลาเค้า แขวงจรเข้บัว เขตลาดพร้าว กรุงเทพฯ 0 2119 8888
URL:https://thaibloodcentre.redcross.or.th/event/%e0%b8%9a%e0%b8%a3%e0%b8%b4%e0%b8%a9%e0%b8%b1%e0%b8%97-%e0%b8%97%e0%b8%b5%e0%b8%84%e0%b8%b4%e0%b8%a7%e0%b9%80%e0%b8%ad%e0%b9%87%e0%b8%a1-%e0%b8%ad%e0%b8%b4%e0%b8%99%e0%b8%8a%e0%b8%b1%e0%b8%a7-4/
LOCATION:บริษัท ทีคิวเอ็ม อินชัวร์รันส์ โบรคเกอร์ จำกัด\, บริษัท ทีคิวเอ็ม อินชัวร์รันส์ โบรคเกอร์ จำกัด 123 ถนนลาดปลาเค้า แขวงจรเข้บัว เขตลาดพร้าว กรุงเทพมหานคร 10230
CATEGORIES:ปฏิทินตารางหน่วยเคลื่อนที่
END:VEVENT
BEGIN:VEVENT
DTSTART;TZID=Asia/Krasnoyarsk:20251217T090000
DTEND;TZID=Asia/Krasnoyarsk:20251217T150000
DTSTAMP:20260425T203619
CREATED:20251215T115310Z
LAST-MODIFIED:20251215T115310Z
UID:10004727-1765962000-1765983600@thaibloodcentre.redcross.or.th
SUMMARY:คลินิกศูนย์แพทย์พัฒนา [0M0559]
DESCRIPTION:สถานที่เจาะ : ระหว่างอาคารบวรเวชรักษ์และอาคารเวชกรรมฟื้นฟู (พัก 12.00-13.00 น.) \nที่อยู่ : 159 ถนนประดิษฐ์มนูธรรม แขวงวังทองหลาง เขตวังทองหลาง กรุงเทพฯ 0 2105 0345 กด 9
URL:https://thaibloodcentre.redcross.or.th/event/%e0%b8%84%e0%b8%a5%e0%b8%b4%e0%b8%99%e0%b8%b4%e0%b8%81%e0%b8%a8%e0%b8%b9%e0%b8%99%e0%b8%a2%e0%b9%8c%e0%b9%81%e0%b8%9e%e0%b8%97%e0%b8%a2%e0%b9%8c%e0%b8%9e%e0%b8%b1%e0%b8%92%e0%b8%99%e0%b8%b2-0m0559-3/
LOCATION:คลินิกศูนย์แพทย์พัฒนา\, อาคารคลินิกศูนย์แพทย์พัฒนา 159 ถนนประดิษฐ์มนูธรรม แขวงวังทองหลาง เขตวังทองหลาง กรุงเทพมหานคร 10310
CATEGORIES:ปฏิทินตารางหน่วยเคลื่อนที่
END:VEVENT
BEGIN:VEVENT
DTSTART;TZID=Asia/Krasnoyarsk:20251217T090000
DTEND;TZID=Asia/Krasnoyarsk:20251217T150000
DTSTAMP:20260425T203619
CREATED:20251215T115312Z
LAST-MODIFIED:20251215T115312Z
UID:10004728-1765962000-1765983600@thaibloodcentre.redcross.or.th
SUMMARY:บริษัท บางจาก คอร์ปอเรชั่น จำกัด (มหาชน) อาคารวิบูลย์ธานี [0E0267]
DESCRIPTION:สถานที่เจาะ : ข้างอาคารฯ (พัก 11.00-12.00 น.) \nที่อยู่ : 3195/17-29 ถนนพระราม 4 แขวงคลองเตย เขตคลองเตย กรุงเทพฯ 0 2262 4000
URL:https://thaibloodcentre.redcross.or.th/event/%e0%b8%9a%e0%b8%a3%e0%b8%b4%e0%b8%a9%e0%b8%b1%e0%b8%97-%e0%b8%9a%e0%b8%b2%e0%b8%87%e0%b8%88%e0%b8%b2%e0%b8%81-%e0%b8%84%e0%b8%ad%e0%b8%a3%e0%b9%8c%e0%b8%9b%e0%b8%ad%e0%b9%80%e0%b8%a3%e0%b8%8a-6/
LOCATION:บริษัท บางจาก คอร์ปอเรชั่น จำกัด (มหาชน) อาคารวิบูลย์ธานี\, อาคารวิบูลย์ธานี 1399 ถ. พระรามที่ 4 แขวงคลองตัน เขตคลองเตย กรุงเทพมหานคร 10110
CATEGORIES:ปฏิทินตารางหน่วยเคลื่อนที่
END:VEVENT
END:VCALENDAR