BEGIN:VCALENDAR
VERSION:2.0
PRODID:-//เว็บไซต์ศูนย์บริการโลหิตแห่งชาติ - ECPv6.11.2.1//NONSGML v1.0//EN
CALSCALE:GREGORIAN
METHOD:PUBLISH
X-WR-CALNAME:เว็บไซต์ศูนย์บริการโลหิตแห่งชาติ
X-ORIGINAL-URL:https://thaibloodcentre.redcross.or.th
X-WR-CALDESC:Events for เว็บไซต์ศูนย์บริการโลหิตแห่งชาติ
REFRESH-INTERVAL;VALUE=DURATION:PT1H
X-Robots-Tag:noindex
X-PUBLISHED-TTL:PT1H
BEGIN:VTIMEZONE
TZID:Asia/Krasnoyarsk
BEGIN:STANDARD
TZOFFSETFROM:+0700
TZOFFSETTO:+0700
TZNAME:+07
DTSTART:20250101T000000
END:STANDARD
END:VTIMEZONE
BEGIN:VEVENT
DTSTART;TZID=Asia/Krasnoyarsk:20251129T120000
DTEND;TZID=Asia/Krasnoyarsk:20251129T180000
DTSTAMP:20260424T084812
CREATED:20251124T030131Z
LAST-MODIFIED:20251124T030131Z
UID:10004454-1764417600-1764439200@thaibloodcentre.redcross.or.th
SUMMARY:ศูนย์การค้าเดอะมอลล์ไลฟ์สโตร์ ท่าพระ []
DESCRIPTION:สถานที่เจาะ : ชั้น 1 (ติดลานจอดรถ) \nที่อยู่ : 99 ถนนรัชดาท่าพระตัดใหม่ แขวงบุคคโล เขตธนบุรี กรุงเทพฯ 0 2469-1000
URL:https://thaibloodcentre.redcross.or.th/event/%e0%b8%a8%e0%b8%b9%e0%b8%99%e0%b8%a2%e0%b9%8c%e0%b8%81%e0%b8%b2%e0%b8%a3%e0%b8%84%e0%b9%89%e0%b8%b2%e0%b9%80%e0%b8%94%e0%b8%ad%e0%b8%b0%e0%b8%a1%e0%b8%ad%e0%b8%a5%e0%b8%a5%e0%b9%8c%e0%b9%84-1098/
LOCATION:ศูนย์การค้าเดอะมอลล์ไลฟ์สโตร์ ท่าพระ\, เดอะมอลล์ไลฟ์สโตร์ ท่าพระ 129 ถ. รัชดาภิเษก แขวงบุคคโล เขตธนบุรี กรุงเทพมหานคร 10600
CATEGORIES:ปฏิทินตารางหน่วยเคลื่อนที่
END:VEVENT
BEGIN:VEVENT
DTSTART;TZID=Asia/Krasnoyarsk:20251129T120000
DTEND;TZID=Asia/Krasnoyarsk:20251129T180000
DTSTAMP:20260424T084812
CREATED:20251124T030127Z
LAST-MODIFIED:20251124T030127Z
UID:10004453-1764417600-1764439200@thaibloodcentre.redcross.or.th
SUMMARY:ศูนย์การค้า เอ็มโพเรียม []
DESCRIPTION:สถานที่เจาะ : ชั้น M ศูนย์การค้า ดิ เอ็มโพเรียม เชื่อมลานจอดรถอาคาร B \nที่อยู่ : 622 ถนนสุขุมวิท แขวงคลองตัน เขตคลองเตย กรุงเทพฯ 0 2269 1515
URL:https://thaibloodcentre.redcross.or.th/event/%e0%b8%a8%e0%b8%b9%e0%b8%99%e0%b8%a2%e0%b9%8c%e0%b8%81%e0%b8%b2%e0%b8%a3%e0%b8%84%e0%b9%89%e0%b8%b2-%e0%b9%80%e0%b8%ad%e0%b9%87%e0%b8%a1%e0%b9%82%e0%b8%9e%e0%b9%80%e0%b8%a3%e0%b8%b5%e0%b8%a2-270/
LOCATION:ศูนย์การค้า เอ็มโพเรียม\, เอ็มโพเรียม 622 ถ. สุขุมวิท แขวงคลองตัน เขตคลองเตย กรุงเทพมหานคร 10110
CATEGORIES:ปฏิทินตารางหน่วยเคลื่อนที่
END:VEVENT
BEGIN:VEVENT
DTSTART;TZID=Asia/Krasnoyarsk:20251129T120000
DTEND;TZID=Asia/Krasnoyarsk:20251129T180000
DTSTAMP:20260424T084812
CREATED:20251124T030112Z
LAST-MODIFIED:20251124T030112Z
UID:10004452-1764417600-1764439200@thaibloodcentre.redcross.or.th
SUMMARY:ศูนย์การค้าเดอะมอลล์ไลฟ์สโตร์ งามวงศ์วาน []
DESCRIPTION:สถานที่เจาะ : ชั้น 5 โซน Government Center \nที่อยู่ : ถนนงามวงศ์วาน ต.บางเขน อ.เมือง จ.นนทบุรี 0 2555 1550
URL:https://thaibloodcentre.redcross.or.th/event/%e0%b8%a8%e0%b8%b9%e0%b8%99%e0%b8%a2%e0%b9%8c%e0%b8%81%e0%b8%b2%e0%b8%a3%e0%b8%84%e0%b9%89%e0%b8%b2%e0%b9%80%e0%b8%94%e0%b8%ad%e0%b8%b0%e0%b8%a1%e0%b8%ad%e0%b8%a5%e0%b8%a5%e0%b9%8c%e0%b9%84-1097/
LOCATION:ศูนย์การค้าเดอะมอลล์ไลฟ์สโตร์ งามวงศ์วาน\, เดอะมอลล์ ไลฟ์สโตร์ งามวงศ์วาน 430 ถนน งามวงศ์วาน ตำบลบางเขน อำเภอเมืองนนทบุรี นนทบุรี 11000
CATEGORIES:ปฏิทินตารางหน่วยเคลื่อนที่
END:VEVENT
BEGIN:VEVENT
DTSTART;TZID=Asia/Krasnoyarsk:20251129T120000
DTEND;TZID=Asia/Krasnoyarsk:20251129T180000
DTSTAMP:20260424T084812
CREATED:20251124T030103Z
LAST-MODIFIED:20251124T030103Z
UID:10004451-1764417600-1764439200@thaibloodcentre.redcross.or.th
SUMMARY:ศูนย์การค้าเดอะมอลล์ไลฟ์สโตร์ บางกะปิ []
DESCRIPTION:สถานที่เจาะ : ชั้น 2 ทางออกลานจอดรถ \nที่อยู่ : ถนนลาดพร้าว แขวงคลองจั่น เขตบางกะปิ กรุงเทพฯ 0 2310 2278
URL:https://thaibloodcentre.redcross.or.th/event/%e0%b8%a8%e0%b8%b9%e0%b8%99%e0%b8%a2%e0%b9%8c%e0%b8%81%e0%b8%b2%e0%b8%a3%e0%b8%84%e0%b9%89%e0%b8%b2%e0%b9%80%e0%b8%94%e0%b8%ad%e0%b8%b0%e0%b8%a1%e0%b8%ad%e0%b8%a5%e0%b8%a5%e0%b9%8c%e0%b9%84-1096/
LOCATION:ศูนย์การค้าเดอะมอลล์ไลฟ์สโตร์ บางกะปิ\, เดอะมอลล์ไลฟ์สโตร์ บางกะปิ 3522 ถ. ลาดพร้าว แขวงคลองจั่น เขตบางกะปิ กรุงเทพมหานคร 10240
CATEGORIES:ปฏิทินตารางหน่วยเคลื่อนที่
END:VEVENT
BEGIN:VEVENT
DTSTART;TZID=Asia/Krasnoyarsk:20251129T120000
DTEND;TZID=Asia/Krasnoyarsk:20251129T180000
DTSTAMP:20260424T084812
CREATED:20251124T030055Z
LAST-MODIFIED:20251124T030055Z
UID:10004450-1764417600-1764439200@thaibloodcentre.redcross.or.th
SUMMARY:ศูนย์การค้าเดอะมอลล์ไลฟ์สโตร์ บางแค []
DESCRIPTION:สถานที่เจาะ : ชั้น 3 ตรงข้ามร้านโอ้กะจู๋ \nที่อยู่ : ถนนเพชรเกษม แขวงบางแคเหนือ เขตภาษีเจริญ กรุงเทพฯ 02 487 1221
URL:https://thaibloodcentre.redcross.or.th/event/%e0%b8%a8%e0%b8%b9%e0%b8%99%e0%b8%a2%e0%b9%8c%e0%b8%81%e0%b8%b2%e0%b8%a3%e0%b8%84%e0%b9%89%e0%b8%b2%e0%b9%80%e0%b8%94%e0%b8%ad%e0%b8%b0%e0%b8%a1%e0%b8%ad%e0%b8%a5%e0%b8%a5%e0%b9%8c%e0%b9%84-1095/
LOCATION:ศูนย์การค้าเดอะมอลล์ไลฟ์สโตร์ บางแค\, ศูนย์การค้าเดอะมอลล์ไลฟ์สโตร์ บางแค
CATEGORIES:ปฏิทินตารางหน่วยเคลื่อนที่
END:VEVENT
BEGIN:VEVENT
DTSTART;TZID=Asia/Krasnoyarsk:20251129T110000
DTEND;TZID=Asia/Krasnoyarsk:20251129T150000
DTSTAMP:20260424T084812
CREATED:20251124T030155Z
LAST-MODIFIED:20251124T030155Z
UID:10004459-1764414000-1764428400@thaibloodcentre.redcross.or.th
SUMMARY:ลุมพินี พาร์ค นวมินทร์-ศรีบูรพา []
DESCRIPTION:สถานที่เจาะ : บริเวณด้านข้างอาคาร A2 หน้าห้องสมุด \nที่อยู่ : ซอยนวมินทร์ 38 ถนนนวมินทร์ แขวงคลองกุ่ม เขตบึงกุ่ม กรุงเทพฯ 0 2285 5011-16
URL:https://thaibloodcentre.redcross.or.th/event/%e0%b8%a5%e0%b8%b8%e0%b8%a1%e0%b8%9e%e0%b8%b4%e0%b8%99%e0%b8%b5-%e0%b8%9e%e0%b8%b2%e0%b8%a3%e0%b9%8c%e0%b8%84-%e0%b8%99%e0%b8%a7%e0%b8%a1%e0%b8%b4%e0%b8%99%e0%b8%97%e0%b8%a3%e0%b9%8c-%e0%b8%a8-2/
LOCATION:ลุมพินี พาร์ค นวมินทร์-ศรีบูรพา\, ลุมพินี พาร์ค นวมินทร์-ศรีบูรพา 452-237 ถนนนวมินทร์ แขวงคลองกุ่ม เขตบึงกุ่ม กรุงเทพมหานคร 10240
CATEGORIES:ปฏิทินตารางหน่วยเคลื่อนที่
END:VEVENT
BEGIN:VEVENT
DTSTART;TZID=Asia/Krasnoyarsk:20251129T110000
DTEND;TZID=Asia/Krasnoyarsk:20251129T150000
DTSTAMP:20260424T084812
CREATED:20251124T030151Z
LAST-MODIFIED:20251124T030151Z
UID:10004458-1764414000-1764428400@thaibloodcentre.redcross.or.th
SUMMARY:ศูนย์การค้าเดอะพรอมานาด []
DESCRIPTION:สถานที่เจาะ : ชั้น 4 ฝั่ง Fitness และมคลินทร์ฯ \nที่อยู่ : 587\,589\,589/7-9 ถนนรามอินทรา แขวงคันนายาว เขตคันนายาว กรุงเทพฯ 0 2947 5000
URL:https://thaibloodcentre.redcross.or.th/event/%e0%b8%a8%e0%b8%b9%e0%b8%99%e0%b8%a2%e0%b9%8c%e0%b8%81%e0%b8%b2%e0%b8%a3%e0%b8%84%e0%b9%89%e0%b8%b2%e0%b9%80%e0%b8%94%e0%b8%ad%e0%b8%b0%e0%b8%9e%e0%b8%a3%e0%b8%ad%e0%b8%a1%e0%b8%b2%e0%b8%99-20/
LOCATION:ศูนย์การค้าเดอะพรอมานาด\, ศูนย์การค้าเดอะพรอมานาด 587\,589 589/7-9 ถ.รามอินทรา แขวงคันนายาว เขตคันนายาว กรุงเทพมหานคร 10230
CATEGORIES:ปฏิทินตารางหน่วยเคลื่อนที่
END:VEVENT
BEGIN:VEVENT
DTSTART;TZID=Asia/Krasnoyarsk:20251129T110000
DTEND;TZID=Asia/Krasnoyarsk:20251129T150000
DTSTAMP:20260424T084812
CREATED:20251124T030145Z
LAST-MODIFIED:20251124T030145Z
UID:10004457-1764414000-1764428400@thaibloodcentre.redcross.or.th
SUMMARY:เซ็นทรัลพลาซา บางนา []
DESCRIPTION:สถานที่เจาะ : บริเวณด้านข้างประตูจอดรถ KFC \nที่อยู่ : 1090 ถนนบางนา-ตราด แขวงบางนา เขตบางนา กรุงเทพฯ 0 2763 6000
URL:https://thaibloodcentre.redcross.or.th/event/%e0%b9%80%e0%b8%8b%e0%b9%87%e0%b8%99%e0%b8%97%e0%b8%a3%e0%b8%b1%e0%b8%a5%e0%b8%9e%e0%b8%a5%e0%b8%b2%e0%b8%8b%e0%b8%b2-%e0%b8%9a%e0%b8%b2%e0%b8%87%e0%b8%99%e0%b8%b2-16/
LOCATION:เซ็นทรัลพลาซา บางนา\, เซ็นทรัล บางนา ทางคู่ขนาน ถนนบางนา-ตราด แขวงบางนาเหนือ เขตบางนา กรุงเทพมหานคร 10260
CATEGORIES:ปฏิทินตารางหน่วยเคลื่อนที่
END:VEVENT
BEGIN:VEVENT
DTSTART;TZID=Asia/Krasnoyarsk:20251129T090000
DTEND;TZID=Asia/Krasnoyarsk:20251129T150000
DTSTAMP:20260424T084812
CREATED:20251124T030141Z
LAST-MODIFIED:20251124T030141Z
UID:10004456-1764406800-1764428400@thaibloodcentre.redcross.or.th
SUMMARY:บ้านทรงไทย (ย่านวงศ์สว่าง) []
DESCRIPTION:สถานที่เจาะ : (พัก 12.30-13.00 น.) \nที่อยู่ : 1423 ถนนกรุงเทพ – นนทบุรี แขวงวงศ์สว่าง เขตบางซื่อ กรุงเทพฯ 0 2256 4300
URL:https://thaibloodcentre.redcross.or.th/event/%e0%b8%9a%e0%b9%89%e0%b8%b2%e0%b8%99%e0%b8%97%e0%b8%a3%e0%b8%87%e0%b9%84%e0%b8%97%e0%b8%a2-%e0%b8%a2%e0%b9%88%e0%b8%b2%e0%b8%99%e0%b8%a7%e0%b8%87%e0%b8%a8%e0%b9%8c%e0%b8%aa%e0%b8%a7%e0%b9%88-272/
LOCATION:บ้านทรงไทย (ย่านวงศ์สว่าง)\, หน่วยรับบริจาคโลหิต บ้านทรงไทย(ย่านวงศ์สว่าง) 1423 ถนนกรุงเทพ-นนทบุรี แขวงวงศ์สว่าง เขตบางซื่อ กรุงเทพมหานคร 10800
CATEGORIES:ปฏิทินตารางหน่วยเคลื่อนที่
END:VEVENT
BEGIN:VEVENT
DTSTART;TZID=Asia/Krasnoyarsk:20251129T090000
DTEND;TZID=Asia/Krasnoyarsk:20251129T120000
DTSTAMP:20260424T084812
CREATED:20251124T030158Z
LAST-MODIFIED:20251124T030158Z
UID:10004460-1764406800-1764417600@thaibloodcentre.redcross.or.th
SUMMARY:บริษัท เบนซ์อมรรัชดา จำกัด []
DESCRIPTION:สถานที่เจาะ : ลานจอดรถข้างบริษัทเบนซ์อมรรัชดา \nที่อยู่ : 60 ซอยเฉลิมสุข ถนนรัชดาภิเษก แขวงจันทรเกษม เขตจตุจักร กรุงเทพฯ 0 2939 0055
URL:https://thaibloodcentre.redcross.or.th/event/%e0%b8%9a%e0%b8%a3%e0%b8%b4%e0%b8%a9%e0%b8%b1%e0%b8%97-%e0%b9%80%e0%b8%9a%e0%b8%99%e0%b8%8b%e0%b9%8c%e0%b8%ad%e0%b8%a1%e0%b8%a3%e0%b8%a3%e0%b8%b1%e0%b8%8a%e0%b8%94%e0%b8%b2-%e0%b8%88%e0%b8%b3-2/
LOCATION:บริษัท เบนซ์อมรรัชดา จำกัด\, บริษัท เบนซ์อมรรัชดา จำกัด 133 ซอยพหลโยธิน28 แขวงจันทรเกษม เขตจตุจักร กรุงเทพมหานคร 10900
CATEGORIES:ปฏิทินตารางหน่วยเคลื่อนที่
END:VEVENT
BEGIN:VEVENT
DTSTART;TZID=Asia/Krasnoyarsk:20251129T083000
DTEND;TZID=Asia/Krasnoyarsk:20251129T153000
DTSTAMP:20260424T084812
CREATED:20251124T030139Z
LAST-MODIFIED:20251124T030139Z
UID:10004455-1764405000-1764430200@thaibloodcentre.redcross.or.th
SUMMARY:สถานีกาชาด 11 วิเศษนิยม []
DESCRIPTION:สถานที่เจาะ : ชั้น 3 \nที่อยู่ : 33/3 ถนนเพชรเกษม แขวงบางหว้า เขตภาษีเจริญ กรุงเทพฯ 0633450711
URL:https://thaibloodcentre.redcross.or.th/event/%e0%b8%aa%e0%b8%96%e0%b8%b2%e0%b8%99%e0%b8%b5%e0%b8%81%e0%b8%b2%e0%b8%8a%e0%b8%b2%e0%b8%94-11-%e0%b8%a7%e0%b8%b4%e0%b9%80%e0%b8%a8%e0%b8%a9%e0%b8%99%e0%b8%b4%e0%b8%a2%e0%b8%a1-103/
LOCATION:สถานีกาชาด 11 วิเศษนิยม\, สถานีกาชาด 11 วิเศษนิยม 605 ถ.เพชรเกษม แขวงบางหว้า เขตภาษีเจริญ กรุงเทพมหานคร 10160
CATEGORIES:ปฏิทินตารางหน่วยเคลื่อนที่
END:VEVENT
BEGIN:VEVENT
DTSTART;TZID=Asia/Krasnoyarsk:20251129T083000
DTEND;TZID=Asia/Krasnoyarsk:20251129T153000
DTSTAMP:20260424T084812
CREATED:20251124T030050Z
LAST-MODIFIED:20251124T030050Z
UID:10004449-1764405000-1764430200@thaibloodcentre.redcross.or.th
SUMMARY:ศูนย์บริการโลหิตแห่งชาติ สภากาชาดไทย []
DESCRIPTION:ที่อยู่ : 1871 ถ. อังรีดูนังต์ แขวงปทุมวัน เขตปทุมวัน
URL:https://thaibloodcentre.redcross.or.th/event/%e0%b8%a8%e0%b8%b9%e0%b8%99%e0%b8%a2%e0%b9%8c%e0%b8%9a%e0%b8%a3%e0%b8%b4%e0%b8%81%e0%b8%b2%e0%b8%a3%e0%b9%82%e0%b8%a5%e0%b8%ab%e0%b8%b4%e0%b8%95%e0%b9%81%e0%b8%ab%e0%b9%88%e0%b8%87%e0%b8%8a-354/
LOCATION:ศูนย์บริการโลหิตแห่งชาติ สภากาชาดไทย\, ศูนย์บริการโลหิตแห่งชาติ สภากาชาดไทย 1871 ถ. อังรีดูนังต์ แขวงปทุมวัน เขตปทุมวัน กรุงเทพมหานคร 10330
CATEGORIES:ปฏิทินตารางหน่วยเคลื่อนที่
END:VEVENT
BEGIN:VEVENT
DTSTART;TZID=Asia/Krasnoyarsk:20251128T130000
DTEND;TZID=Asia/Krasnoyarsk:20251128T150000
DTSTAMP:20260424T084812
CREATED:20251124T030013Z
LAST-MODIFIED:20251124T030013Z
UID:10004441-1764334800-1764342000@thaibloodcentre.redcross.or.th
SUMMARY:บริษัท ไทยอินเตอร์เนชั่นแนลไดเมคกิ้ง จำกัด []
DESCRIPTION:สถานที่เจาะ : ด้านหน้าอาคารสำนักงาน \nที่อยู่ : 331 ม.4 นิคมฯบางปู ซ. 6 บี ถ.สุขุมวิท ต.แพรกษา อ.เมือง จ.สมุทรปราการ 0 2709 6500-5
URL:https://thaibloodcentre.redcross.or.th/event/%e0%b8%9a%e0%b8%a3%e0%b8%b4%e0%b8%a9%e0%b8%b1%e0%b8%97-%e0%b9%84%e0%b8%97%e0%b8%a2%e0%b8%ad%e0%b8%b4%e0%b8%99%e0%b9%80%e0%b8%95%e0%b8%ad%e0%b8%a3%e0%b9%8c%e0%b9%80%e0%b8%99%e0%b8%8a%e0%b8%b1-2/
LOCATION:บริษัท ไทยอินเตอร์เนชั่นแนลไดเมคกิ้ง จำกัด\, บริษัท ไทยอินเตอร์เนชั่นแนลไดเมคกิ้ง จำกัด 331 นิคมอุตสาหกรรมบางปู ม.4 ซ.6บี ถ.สุขุมวิท อ.แพรกษา อ.เมือง จ.สมุทรปราการ 10280
CATEGORIES:ปฏิทินตารางหน่วยเคลื่อนที่
END:VEVENT
BEGIN:VEVENT
DTSTART;TZID=Asia/Krasnoyarsk:20251128T120000
DTEND;TZID=Asia/Krasnoyarsk:20251128T180000
DTSTAMP:20260424T084812
CREATED:20251124T025937Z
LAST-MODIFIED:20251124T025937Z
UID:10004436-1764331200-1764352800@thaibloodcentre.redcross.or.th
SUMMARY:ศูนย์การค้าเดอะมอลล์ไลฟ์สโตร์ ท่าพระ []
DESCRIPTION:สถานที่เจาะ : ชั้น 1 (ติดลานจอดรถ) \nที่อยู่ : 99 ถนนรัชดาท่าพระตัดใหม่ แขวงบุคคโล เขตธนบุรี กรุงเทพฯ 0 2469-1000
URL:https://thaibloodcentre.redcross.or.th/event/%e0%b8%a8%e0%b8%b9%e0%b8%99%e0%b8%a2%e0%b9%8c%e0%b8%81%e0%b8%b2%e0%b8%a3%e0%b8%84%e0%b9%89%e0%b8%b2%e0%b9%80%e0%b8%94%e0%b8%ad%e0%b8%b0%e0%b8%a1%e0%b8%ad%e0%b8%a5%e0%b8%a5%e0%b9%8c%e0%b9%84-1094/
LOCATION:ศูนย์การค้าเดอะมอลล์ไลฟ์สโตร์ ท่าพระ\, เดอะมอลล์ไลฟ์สโตร์ ท่าพระ 129 ถ. รัชดาภิเษก แขวงบุคคโล เขตธนบุรี กรุงเทพมหานคร 10600
CATEGORIES:ปฏิทินตารางหน่วยเคลื่อนที่
END:VEVENT
BEGIN:VEVENT
DTSTART;TZID=Asia/Krasnoyarsk:20251128T120000
DTEND;TZID=Asia/Krasnoyarsk:20251128T180000
DTSTAMP:20260424T084812
CREATED:20251124T025931Z
LAST-MODIFIED:20251124T025931Z
UID:10004435-1764331200-1764352800@thaibloodcentre.redcross.or.th
SUMMARY:ศูนย์การค้า เอ็มโพเรียม []
DESCRIPTION:สถานที่เจาะ : ชั้น M ศูนย์การค้า ดิ เอ็มโพเรียม เชื่อมลานจอดรถอาคาร B \nที่อยู่ : 622 ถนนสุขุมวิท แขวงคลองตัน เขตคลองเตย กรุงเทพฯ 0 2269 1515
URL:https://thaibloodcentre.redcross.or.th/event/%e0%b8%a8%e0%b8%b9%e0%b8%99%e0%b8%a2%e0%b9%8c%e0%b8%81%e0%b8%b2%e0%b8%a3%e0%b8%84%e0%b9%89%e0%b8%b2-%e0%b9%80%e0%b8%ad%e0%b9%87%e0%b8%a1%e0%b9%82%e0%b8%9e%e0%b9%80%e0%b8%a3%e0%b8%b5%e0%b8%a2-269/
LOCATION:ศูนย์การค้า เอ็มโพเรียม\, เอ็มโพเรียม 622 ถ. สุขุมวิท แขวงคลองตัน เขตคลองเตย กรุงเทพมหานคร 10110
CATEGORIES:ปฏิทินตารางหน่วยเคลื่อนที่
END:VEVENT
BEGIN:VEVENT
DTSTART;TZID=Asia/Krasnoyarsk:20251128T120000
DTEND;TZID=Asia/Krasnoyarsk:20251128T180000
DTSTAMP:20260424T084812
CREATED:20251124T025922Z
LAST-MODIFIED:20251124T025922Z
UID:10004434-1764331200-1764352800@thaibloodcentre.redcross.or.th
SUMMARY:ศูนย์การค้าเดอะมอลล์ไลฟ์สโตร์ งามวงศ์วาน []
DESCRIPTION:สถานที่เจาะ : ชั้น 5 โซน Government Center \nที่อยู่ : ถนนงามวงศ์วาน ต.บางเขน อ.เมือง จ.นนทบุรี 0 2555 1550
URL:https://thaibloodcentre.redcross.or.th/event/%e0%b8%a8%e0%b8%b9%e0%b8%99%e0%b8%a2%e0%b9%8c%e0%b8%81%e0%b8%b2%e0%b8%a3%e0%b8%84%e0%b9%89%e0%b8%b2%e0%b9%80%e0%b8%94%e0%b8%ad%e0%b8%b0%e0%b8%a1%e0%b8%ad%e0%b8%a5%e0%b8%a5%e0%b9%8c%e0%b9%84-1093/
LOCATION:ศูนย์การค้าเดอะมอลล์ไลฟ์สโตร์ งามวงศ์วาน\, เดอะมอลล์ ไลฟ์สโตร์ งามวงศ์วาน 430 ถนน งามวงศ์วาน ตำบลบางเขน อำเภอเมืองนนทบุรี นนทบุรี 11000
CATEGORIES:ปฏิทินตารางหน่วยเคลื่อนที่
END:VEVENT
BEGIN:VEVENT
DTSTART;TZID=Asia/Krasnoyarsk:20251128T120000
DTEND;TZID=Asia/Krasnoyarsk:20251128T180000
DTSTAMP:20260424T084812
CREATED:20251124T025913Z
LAST-MODIFIED:20251124T025913Z
UID:10004433-1764331200-1764352800@thaibloodcentre.redcross.or.th
SUMMARY:ศูนย์การค้าเดอะมอลล์ไลฟ์สโตร์ บางกะปิ []
DESCRIPTION:สถานที่เจาะ : ชั้น 2 ทางออกลานจอดรถ \nที่อยู่ : ถนนลาดพร้าว แขวงคลองจั่น เขตบางกะปิ กรุงเทพฯ 0 2310 2278
URL:https://thaibloodcentre.redcross.or.th/event/%e0%b8%a8%e0%b8%b9%e0%b8%99%e0%b8%a2%e0%b9%8c%e0%b8%81%e0%b8%b2%e0%b8%a3%e0%b8%84%e0%b9%89%e0%b8%b2%e0%b9%80%e0%b8%94%e0%b8%ad%e0%b8%b0%e0%b8%a1%e0%b8%ad%e0%b8%a5%e0%b8%a5%e0%b9%8c%e0%b9%84-1092/
LOCATION:ศูนย์การค้าเดอะมอลล์ไลฟ์สโตร์ บางกะปิ\, เดอะมอลล์ไลฟ์สโตร์ บางกะปิ 3522 ถ. ลาดพร้าว แขวงคลองจั่น เขตบางกะปิ กรุงเทพมหานคร 10240
CATEGORIES:ปฏิทินตารางหน่วยเคลื่อนที่
END:VEVENT
BEGIN:VEVENT
DTSTART;TZID=Asia/Krasnoyarsk:20251128T120000
DTEND;TZID=Asia/Krasnoyarsk:20251128T180000
DTSTAMP:20260424T084812
CREATED:20251124T025857Z
LAST-MODIFIED:20251124T025857Z
UID:10004432-1764331200-1764352800@thaibloodcentre.redcross.or.th
SUMMARY:ศูนย์การค้าเดอะมอลล์ไลฟ์สโตร์ บางแค []
DESCRIPTION:สถานที่เจาะ : ชั้น 3 ตรงข้ามร้านโอ้กะจู๋ \nที่อยู่ : ถนนเพชรเกษม แขวงบางแคเหนือ เขตภาษีเจริญ กรุงเทพฯ 02 487 1221
URL:https://thaibloodcentre.redcross.or.th/event/%e0%b8%a8%e0%b8%b9%e0%b8%99%e0%b8%a2%e0%b9%8c%e0%b8%81%e0%b8%b2%e0%b8%a3%e0%b8%84%e0%b9%89%e0%b8%b2%e0%b9%80%e0%b8%94%e0%b8%ad%e0%b8%b0%e0%b8%a1%e0%b8%ad%e0%b8%a5%e0%b8%a5%e0%b9%8c%e0%b9%84-1091/
LOCATION:ศูนย์การค้าเดอะมอลล์ไลฟ์สโตร์ บางแค\, ศูนย์การค้าเดอะมอลล์ไลฟ์สโตร์ บางแค
CATEGORIES:ปฏิทินตารางหน่วยเคลื่อนที่
END:VEVENT
BEGIN:VEVENT
DTSTART;TZID=Asia/Krasnoyarsk:20251128T110000
DTEND;TZID=Asia/Krasnoyarsk:20251128T150000
DTSTAMP:20260424T084812
CREATED:20251124T030007Z
LAST-MODIFIED:20251124T030007Z
UID:10004439-1764327600-1764342000@thaibloodcentre.redcross.or.th
SUMMARY:ศูนย์การค้าทรี ออน ธรี พระราม 3 []
DESCRIPTION:สถานที่เจาะ : ลานกิจกรรม \nที่อยู่ : 295 ถนนพระราม 3 แขวงบางคอแหลม เขตบางคอแหลม กรุงเทพฯ 0 2689 0917-9
URL:https://thaibloodcentre.redcross.or.th/event/%e0%b8%a8%e0%b8%b9%e0%b8%99%e0%b8%a2%e0%b9%8c%e0%b8%81%e0%b8%b2%e0%b8%a3%e0%b8%84%e0%b9%89%e0%b8%b2%e0%b8%97%e0%b8%a3%e0%b8%b5-%e0%b8%ad%e0%b8%ad%e0%b8%99-%e0%b8%98%e0%b8%a3%e0%b8%b5-%e0%b8%9e-8/
LOCATION:ศูนย์การค้าทรี ออน ธรี พระราม 3\, ทรี ออน ธรี 295 ถนนพระรามที่ 3 แขวงบางคอแหลม เขตบางคอแหลม กรุงเทพมหานคร 10120
CATEGORIES:ปฏิทินตารางหน่วยเคลื่อนที่
END:VEVENT
BEGIN:VEVENT
DTSTART;TZID=Asia/Krasnoyarsk:20251128T090000
DTEND;TZID=Asia/Krasnoyarsk:20251128T150000
DTSTAMP:20260424T084812
CREATED:20251124T030047Z
LAST-MODIFIED:20251124T032911Z
UID:10004448-1764320400-1764342000@thaibloodcentre.redcross.or.th
SUMMARY:โรงเรียนอัสสัมชัญธนบุรี []
DESCRIPTION:สถานที่เจาะ : ห้องประชุมรัตนฯ 1 (พัก 12.00-13.00 น.) \nที่อยู่ : 92 ถนนอัสสัมชัญ แขวงบางไผ่ เขตบางแค กรุงเทพฯ 0 2807 9555
URL:https://thaibloodcentre.redcross.or.th/event/%e0%b9%82%e0%b8%a3%e0%b8%87%e0%b9%80%e0%b8%a3%e0%b8%b5%e0%b8%a2%e0%b8%99%e0%b8%ad%e0%b8%b1%e0%b8%aa%e0%b8%aa%e0%b8%b1%e0%b8%a1%e0%b8%8a%e0%b8%b1%e0%b8%8d%e0%b8%98%e0%b8%99%e0%b8%9a%e0%b8%b8%e0%b8%a3/
LOCATION:โรงเรียนอัสสัมชัญธนบุรี\, โรงเรียนอัสสัมชัญธนบุรี 92 ถนน อัสสัมชัญ แขวงบางไผ่ เขตบางแค กรุงเทพมหานคร 10160
CATEGORIES:ปฏิทินตารางหน่วยเคลื่อนที่
END:VEVENT
BEGIN:VEVENT
DTSTART;TZID=Asia/Krasnoyarsk:20251128T090000
DTEND;TZID=Asia/Krasnoyarsk:20251128T150000
DTSTAMP:20260424T084812
CREATED:20251124T030036Z
LAST-MODIFIED:20251124T030036Z
UID:10004447-1764320400-1764342000@thaibloodcentre.redcross.or.th
SUMMARY:โรงพยาบาลทหารผ่านศึก []
DESCRIPTION:สถานที่เจาะ : ห้องประชุม ชั้น2 อาคาร2 (พัก 12.00-13.00 น.) \nที่อยู่ : 123 ถนนวิภาวดีรังสิต แขวงสามเสนใน เขตพญาไท กรุงเทพฯ 0 2644 9400
URL:https://thaibloodcentre.redcross.or.th/event/%e0%b9%82%e0%b8%a3%e0%b8%87%e0%b8%9e%e0%b8%a2%e0%b8%b2%e0%b8%9a%e0%b8%b2%e0%b8%a5%e0%b8%97%e0%b8%ab%e0%b8%b2%e0%b8%a3%e0%b8%9c%e0%b9%88%e0%b8%b2%e0%b8%99%e0%b8%a8%e0%b8%b6%e0%b8%81-2/
LOCATION:โรงพยาบาลทหารผ่านศึก\, โรงพยาบาลทหารผ่านศึก 123 ถนนวิภาวดีรังสิต แขวงสามเสนใน เขตพญาไท กรุงเทพมหานคร 10400
CATEGORIES:ปฏิทินตารางหน่วยเคลื่อนที่
END:VEVENT
BEGIN:VEVENT
DTSTART;TZID=Asia/Krasnoyarsk:20251128T090000
DTEND;TZID=Asia/Krasnoyarsk:20251128T150000
DTSTAMP:20260424T084812
CREATED:20251124T030032Z
LAST-MODIFIED:20251124T030032Z
UID:10004445-1764320400-1764342000@thaibloodcentre.redcross.or.th
SUMMARY:บริษัท ไทย ซีกซ์ จำกัด []
DESCRIPTION:สถานที่เจาะ : ด้านหน้าอาคาร C (พัก 11.00-12.00 น.) \nที่อยู่ : 172/7 ม. 8 สุขสวัสดิ์ 74 แยก 14 ต.บางครุ อ.พระประแดง จ.สมุทรปราการ 0 2463 0118
URL:https://thaibloodcentre.redcross.or.th/event/%e0%b8%9a%e0%b8%a3%e0%b8%b4%e0%b8%a9%e0%b8%b1%e0%b8%97-%e0%b9%84%e0%b8%97%e0%b8%a2-%e0%b8%8b%e0%b8%b5%e0%b8%81%e0%b8%8b%e0%b9%8c-%e0%b8%88%e0%b8%b3%e0%b8%81%e0%b8%b1%e0%b8%94/
LOCATION:บริษัท ไทย ซีกซ์ จำกัด\, บริษัท ไทย ซีกซ์ จำกัด 172/7 ซ.สุขสวัสดิ์ 74 ต.บางครุ อ.พระประแดง สมุทรปราการ 10130
CATEGORIES:ปฏิทินตารางหน่วยเคลื่อนที่
END:VEVENT
BEGIN:VEVENT
DTSTART;TZID=Asia/Krasnoyarsk:20251128T090000
DTEND;TZID=Asia/Krasnoyarsk:20251128T150000
DTSTAMP:20260424T084812
CREATED:20251124T030030Z
LAST-MODIFIED:20251124T030030Z
UID:10004444-1764320400-1764342000@thaibloodcentre.redcross.or.th
SUMMARY:อาคารซันทาวเวอร์ส บี []
DESCRIPTION:สถานที่เจาะ : หน้าอาคารซันทาวเวอร์ส บี (พัก 11.00-12.00 น.) \nที่อยู่ : 123 ถนนวิภาวดีรังสิต แขวงจอมพล เขตจตุจักร กรุงเทพฯ 0 2617 8333
URL:https://thaibloodcentre.redcross.or.th/event/%e0%b8%ad%e0%b8%b2%e0%b8%84%e0%b8%b2%e0%b8%a3%e0%b8%8b%e0%b8%b1%e0%b8%99%e0%b8%97%e0%b8%b2%e0%b8%a7%e0%b9%80%e0%b8%a7%e0%b8%ad%e0%b8%a3%e0%b9%8c%e0%b8%aa-%e0%b8%9a%e0%b8%b5-2/
LOCATION:อาคารซันทาวเวอร์ส บี\, อาคารซันทาวเวอร์ส บี 123 อาคารซันทาวเวอร์ส บี ถนนวิภาวดีรังสิต แขวงจอมพล เขตจตุจักร กรุงเทพมหานคร 10900
CATEGORIES:ปฏิทินตารางหน่วยเคลื่อนที่
END:VEVENT
BEGIN:VEVENT
DTSTART;TZID=Asia/Krasnoyarsk:20251128T090000
DTEND;TZID=Asia/Krasnoyarsk:20251128T150000
DTSTAMP:20260424T084812
CREATED:20251124T030027Z
LAST-MODIFIED:20251124T030027Z
UID:10004443-1764320400-1764342000@thaibloodcentre.redcross.or.th
SUMMARY:บริษัท ธนบุรีประกอบรถยนต์ จำกัด []
DESCRIPTION:สถานที่เจาะ : ข้างห้องพยาบาลโรงงาน 2 (พัก 12.00-13.00 น.) \nที่อยู่ : 2/360 ม.1 ถ.สุขุมวิท ต.บางเมือง อ.เมือง จ.สมุทรปราการ 0 2757 9544-50
URL:https://thaibloodcentre.redcross.or.th/event/%e0%b8%9a%e0%b8%a3%e0%b8%b4%e0%b8%a9%e0%b8%b1%e0%b8%97-%e0%b8%98%e0%b8%99%e0%b8%9a%e0%b8%b8%e0%b8%a3%e0%b8%b5%e0%b8%9b%e0%b8%a3%e0%b8%b0%e0%b8%81%e0%b8%ad%e0%b8%9a%e0%b8%a3%e0%b8%96%e0%b8%a2-4/
LOCATION:บริษัท ธนบุรีประกอบรถยนต์ จำกัด\, บริษัท ธนบุรีประกอบรถยนต์ จำกัด 2/360 ซอย ตำบลบางเมืองใหม่ อำเภอเมืองสมุทรปราการ สมุทรปราการ 10270
CATEGORIES:ปฏิทินตารางหน่วยเคลื่อนที่
END:VEVENT
BEGIN:VEVENT
DTSTART;TZID=Asia/Krasnoyarsk:20251128T090000
DTEND;TZID=Asia/Krasnoyarsk:20251128T150000
DTSTAMP:20260424T084812
CREATED:20251124T030017Z
LAST-MODIFIED:20251124T030017Z
UID:10004442-1764320400-1764342000@thaibloodcentre.redcross.or.th
SUMMARY:บริษัท แอร์โรคลาส จำกัด []
DESCRIPTION:สถานที่เจาะ : ห้องประชุมชั้น 1 ตึก EPG ทาวเวอร์ (พัก 12.00-13.00 น.) \nที่อยู่ : 62 บางนา-ตราด 25 ( เลย Big C บางนา ) แขวงบางนา เขตบางนา กรุงเทพฯ 0 2744 3020-30
URL:https://thaibloodcentre.redcross.or.th/event/%e0%b8%9a%e0%b8%a3%e0%b8%b4%e0%b8%a9%e0%b8%b1%e0%b8%97-%e0%b9%81%e0%b8%ad%e0%b8%a3%e0%b9%8c%e0%b9%82%e0%b8%a3%e0%b8%84%e0%b8%a5%e0%b8%b2%e0%b8%aa-%e0%b8%88%e0%b8%b3%e0%b8%81%e0%b8%b1%e0%b8%94/
LOCATION:บริษัท แอร์โรคลาส จำกัด\, บริษัท แอร์โรคลาส จำกัด 62 ซอยบางนา-ตราด 25 แขวงบางนาเหนือ เขตบางนา กรุงเทพมหานคร 10260
CATEGORIES:ปฏิทินตารางหน่วยเคลื่อนที่
END:VEVENT
BEGIN:VEVENT
DTSTART;TZID=Asia/Krasnoyarsk:20251128T090000
DTEND;TZID=Asia/Krasnoyarsk:20251128T150000
DTSTAMP:20260424T084812
CREATED:20251124T030000Z
LAST-MODIFIED:20251124T030000Z
UID:10004438-1764320400-1764342000@thaibloodcentre.redcross.or.th
SUMMARY:บ้านทรงไทย (ย่านวงศ์สว่าง) []
DESCRIPTION:สถานที่เจาะ : (พัก 12.30-13.00 น.) \nที่อยู่ : 1423 ถนนกรุงเทพ – นนทบุรี แขวงวงศ์สว่าง เขตบางซื่อ กรุงเทพฯ 0 2256 4300
URL:https://thaibloodcentre.redcross.or.th/event/%e0%b8%9a%e0%b9%89%e0%b8%b2%e0%b8%99%e0%b8%97%e0%b8%a3%e0%b8%87%e0%b9%84%e0%b8%97%e0%b8%a2-%e0%b8%a2%e0%b9%88%e0%b8%b2%e0%b8%99%e0%b8%a7%e0%b8%87%e0%b8%a8%e0%b9%8c%e0%b8%aa%e0%b8%a7%e0%b9%88-271/
LOCATION:บ้านทรงไทย (ย่านวงศ์สว่าง)\, หน่วยรับบริจาคโลหิต บ้านทรงไทย(ย่านวงศ์สว่าง) 1423 ถนนกรุงเทพ-นนทบุรี แขวงวงศ์สว่าง เขตบางซื่อ กรุงเทพมหานคร 10800
CATEGORIES:ปฏิทินตารางหน่วยเคลื่อนที่
END:VEVENT
BEGIN:VEVENT
DTSTART;TZID=Asia/Krasnoyarsk:20251128T090000
DTEND;TZID=Asia/Krasnoyarsk:20251128T120000
DTSTAMP:20260424T084813
CREATED:20251124T030034Z
LAST-MODIFIED:20251124T030034Z
UID:10004446-1764320400-1764331200@thaibloodcentre.redcross.or.th
SUMMARY:สถาบันเทคโนโลยีแห่งเอเชีย []
DESCRIPTION:สถานที่เจาะ : หน้า AIT Conference Center \nที่อยู่ : 58 ม.9 ถ.พหลโยธิน ต.คลองหนึ่ง อ.คลองหลวง ปทุมธานี 0 2524 5288
URL:https://thaibloodcentre.redcross.or.th/event/%e0%b8%aa%e0%b8%96%e0%b8%b2%e0%b8%9a%e0%b8%b1%e0%b8%99%e0%b9%80%e0%b8%97%e0%b8%84%e0%b9%82%e0%b8%99%e0%b9%82%e0%b8%a5%e0%b8%a2%e0%b8%b5%e0%b9%81%e0%b8%ab%e0%b9%88%e0%b8%87%e0%b9%80%e0%b8%ad%e0%b9%80-3/
LOCATION:สถาบันเทคโนโลยีแห่งเอเชีย\, สถาบันเทคโนโลยีแห่งเอเชีย 58 ม.9 ถ.พหลโยธิน ต.คลองหนึ่ง อ.คลองหลวง ปทุมธานี 12120
CATEGORIES:ปฏิทินตารางหน่วยเคลื่อนที่
END:VEVENT
BEGIN:VEVENT
DTSTART;TZID=Asia/Krasnoyarsk:20251128T090000
DTEND;TZID=Asia/Krasnoyarsk:20251128T120000
DTSTAMP:20260424T084813
CREATED:20251124T030010Z
LAST-MODIFIED:20251124T030010Z
UID:10004440-1764320400-1764331200@thaibloodcentre.redcross.or.th
SUMMARY:บริษัท สยามยีเอสแบตเตอรี่ จำกัด []
DESCRIPTION:สถานที่เจาะ : หน้าห้องพยาบาล \nที่อยู่ : 78 ม.3 นิคมฯบางปูใหม่ ถ.สุขุมวิท ต.บางปูใหม่ อ.เมือง จ.สมุทรปราการ 0 2323 9030
URL:https://thaibloodcentre.redcross.or.th/event/%e0%b8%9a%e0%b8%a3%e0%b8%b4%e0%b8%a9%e0%b8%b1%e0%b8%97-%e0%b8%aa%e0%b8%a2%e0%b8%b2%e0%b8%a1%e0%b8%a2%e0%b8%b5%e0%b9%80%e0%b8%ad%e0%b8%aa%e0%b9%81%e0%b8%9a%e0%b8%95%e0%b9%80%e0%b8%95%e0%b8%ad-2/
LOCATION:บริษัท สยามยีเอสแบตเตอรี่ จำกัด\, บริษัท สยามยีเอสแบตเตอรี่ จำกัด 78/1 ม.3 ถ.สุขุมวิท ต.บางปูใหม่ อ.เมืองสมุทรปราการ สมุทรปราการ 10270
CATEGORIES:ปฏิทินตารางหน่วยเคลื่อนที่
END:VEVENT
BEGIN:VEVENT
DTSTART;TZID=Asia/Krasnoyarsk:20251128T083000
DTEND;TZID=Asia/Krasnoyarsk:20251128T193000
DTSTAMP:20260424T084813
CREATED:20251124T025946Z
LAST-MODIFIED:20251124T025946Z
UID:10004437-1764318600-1764358200@thaibloodcentre.redcross.or.th
SUMMARY:สถานีกาชาด 11 วิเศษนิยม []
DESCRIPTION:สถานที่เจาะ : ชั้น 3 \nที่อยู่ : 33/3 ถนนเพชรเกษม แขวงบางหว้า เขตภาษีเจริญ กรุงเทพฯ 0633450711
URL:https://thaibloodcentre.redcross.or.th/event/%e0%b8%aa%e0%b8%96%e0%b8%b2%e0%b8%99%e0%b8%b5%e0%b8%81%e0%b8%b2%e0%b8%8a%e0%b8%b2%e0%b8%94-11-%e0%b8%a7%e0%b8%b4%e0%b9%80%e0%b8%a8%e0%b8%a9%e0%b8%99%e0%b8%b4%e0%b8%a2%e0%b8%a1-102/
LOCATION:สถานีกาชาด 11 วิเศษนิยม\, สถานีกาชาด 11 วิเศษนิยม 605 ถ.เพชรเกษม แขวงบางหว้า เขตภาษีเจริญ กรุงเทพมหานคร 10160
CATEGORIES:ปฏิทินตารางหน่วยเคลื่อนที่
END:VEVENT
BEGIN:VEVENT
DTSTART;TZID=Asia/Krasnoyarsk:20251128T073000
DTEND;TZID=Asia/Krasnoyarsk:20251128T193000
DTSTAMP:20260424T084813
CREATED:20251124T025853Z
LAST-MODIFIED:20251124T025853Z
UID:10004431-1764315000-1764358200@thaibloodcentre.redcross.or.th
SUMMARY:ศูนย์บริการโลหิตแห่งชาติ สภากาชาดไทย []
DESCRIPTION:ที่อยู่ : 1871 ถ. อังรีดูนังต์ แขวงปทุมวัน เขตปทุมวัน
URL:https://thaibloodcentre.redcross.or.th/event/%e0%b8%a8%e0%b8%b9%e0%b8%99%e0%b8%a2%e0%b9%8c%e0%b8%9a%e0%b8%a3%e0%b8%b4%e0%b8%81%e0%b8%b2%e0%b8%a3%e0%b9%82%e0%b8%a5%e0%b8%ab%e0%b8%b4%e0%b8%95%e0%b9%81%e0%b8%ab%e0%b9%88%e0%b8%87%e0%b8%8a-353/
LOCATION:ศูนย์บริการโลหิตแห่งชาติ สภากาชาดไทย\, ศูนย์บริการโลหิตแห่งชาติ สภากาชาดไทย 1871 ถ. อังรีดูนังต์ แขวงปทุมวัน เขตปทุมวัน กรุงเทพมหานคร 10330
CATEGORIES:ปฏิทินตารางหน่วยเคลื่อนที่
END:VEVENT
END:VCALENDAR