BEGIN:VCALENDAR
VERSION:2.0
PRODID:-//เว็บไซต์ศูนย์บริการโลหิตแห่งชาติ - ECPv6.11.2.1//NONSGML v1.0//EN
CALSCALE:GREGORIAN
METHOD:PUBLISH
X-WR-CALNAME:เว็บไซต์ศูนย์บริการโลหิตแห่งชาติ
X-ORIGINAL-URL:https://thaibloodcentre.redcross.or.th
X-WR-CALDESC:Events for เว็บไซต์ศูนย์บริการโลหิตแห่งชาติ
REFRESH-INTERVAL;VALUE=DURATION:PT1H
X-Robots-Tag:noindex
X-PUBLISHED-TTL:PT1H
BEGIN:VTIMEZONE
TZID:Asia/Krasnoyarsk
BEGIN:STANDARD
TZOFFSETFROM:+0700
TZOFFSETTO:+0700
TZNAME:+07
DTSTART:20260101T000000
END:STANDARD
END:VTIMEZONE
BEGIN:VEVENT
DTSTART;TZID=Asia/Krasnoyarsk:20260316T090000
DTEND;TZID=Asia/Krasnoyarsk:20260316T150000
DTSTAMP:20260421T085619
CREATED:20260312T030437Z
LAST-MODIFIED:20260312T030437Z
UID:10006074-1773651600-1773673200@thaibloodcentre.redcross.or.th
SUMMARY:เขตประกอบการอุตสาหกรรมที่ปลอดภาระภาษี บางกอก ฟรีเทรด โซน []
DESCRIPTION:สถานที่เจาะ : หน้าสำนักงานขาย FTZ (พัก 12.00-13.00 น.)
URL:https://thaibloodcentre.redcross.or.th/event/%e0%b9%80%e0%b8%82%e0%b8%95%e0%b8%9b%e0%b8%a3%e0%b8%b0%e0%b8%81%e0%b8%ad%e0%b8%9a%e0%b8%81%e0%b8%b2%e0%b8%a3%e0%b8%ad%e0%b8%b8%e0%b8%95%e0%b8%aa%e0%b8%b2%e0%b8%ab%e0%b8%81%e0%b8%a3%e0%b8%a3%e0%b8%a1-5/
LOCATION:เขตประกอบการอุตสาหกรรมที่ปลอดภาระภาษี บางกอก ฟรีเทรด โซน\, เขตประกอบการอุตสาหกรรมที่ปลอดภาระภาษี บางกอก ฟรีเทรด โซน 71 ม.15 ต.บางเสาธง จ.สมุทรปราการ 10570
CATEGORIES:ปฏิทินตารางหน่วยเคลื่อนที่
END:VEVENT
BEGIN:VEVENT
DTSTART;TZID=Asia/Krasnoyarsk:20260316T090000
DTEND;TZID=Asia/Krasnoyarsk:20260316T150000
DTSTAMP:20260421T085619
CREATED:20260312T030252Z
LAST-MODIFIED:20260312T030252Z
UID:10006069-1773651600-1773673200@thaibloodcentre.redcross.or.th
SUMMARY:บ้านทรงไทย (ย่านวงศ์สว่าง) []
DESCRIPTION:สถานที่เจาะ : (พัก 12.30-13.00 น.)
URL:https://thaibloodcentre.redcross.or.th/event/%e0%b8%9a%e0%b9%89%e0%b8%b2%e0%b8%99%e0%b8%97%e0%b8%a3%e0%b8%87%e0%b9%84%e0%b8%97%e0%b8%a2-%e0%b8%a2%e0%b9%88%e0%b8%b2%e0%b8%99%e0%b8%a7%e0%b8%87%e0%b8%a8%e0%b9%8c%e0%b8%aa%e0%b8%a7%e0%b9%88-386/
LOCATION:บ้านทรงไทย (ย่านวงศ์สว่าง)\, หน่วยรับบริจาคโลหิต บ้านทรงไทย(ย่านวงศ์สว่าง) 1423 ถนนกรุงเทพ-นนทบุรี แขวงวงศ์สว่าง เขตบางซื่อ กรุงเทพมหานคร 10800
CATEGORIES:ปฏิทินตารางหน่วยเคลื่อนที่
END:VEVENT
BEGIN:VEVENT
DTSTART;TZID=Asia/Krasnoyarsk:20260316T090000
DTEND;TZID=Asia/Krasnoyarsk:20260316T120000
DTSTAMP:20260421T085619
CREATED:20260312T030430Z
LAST-MODIFIED:20260312T030430Z
UID:10006071-1773651600-1773662400@thaibloodcentre.redcross.or.th
SUMMARY:กระทรวงคมนาคม []
DESCRIPTION:สถานที่เจาะ : หน้ากระทรวงฯ
URL:https://thaibloodcentre.redcross.or.th/event/%e0%b8%81%e0%b8%a3%e0%b8%b0%e0%b8%97%e0%b8%a3%e0%b8%a7%e0%b8%87%e0%b8%84%e0%b8%a1%e0%b8%99%e0%b8%b2%e0%b8%84%e0%b8%a1-4/
LOCATION:กระทรวงคมนาคม\, กระทรวงคมนาคม 38 ถนนราชดำเนินนอก แขวงวัดโสมนัส เขตป้อมปราบศัตรูพ่าย กรุงเทพมหานคร 10100
CATEGORIES:ปฏิทินตารางหน่วยเคลื่อนที่
END:VEVENT
BEGIN:VEVENT
DTSTART;TZID=Asia/Krasnoyarsk:20260316T083000
DTEND;TZID=Asia/Krasnoyarsk:20260316T193000
DTSTAMP:20260421T085619
CREATED:20260312T030248Z
LAST-MODIFIED:20260312T030248Z
UID:10006068-1773649800-1773689400@thaibloodcentre.redcross.or.th
SUMMARY:สถานีกาชาด 11 วิเศษนิยม []
DESCRIPTION:สถานที่เจาะ : ชั้น 3
URL:https://thaibloodcentre.redcross.or.th/event/%e0%b8%aa%e0%b8%96%e0%b8%b2%e0%b8%99%e0%b8%b5%e0%b8%81%e0%b8%b2%e0%b8%8a%e0%b8%b2%e0%b8%94-11-%e0%b8%a7%e0%b8%b4%e0%b9%80%e0%b8%a8%e0%b8%a9%e0%b8%99%e0%b8%b4%e0%b8%a2%e0%b8%a1-204/
LOCATION:สถานีกาชาด 11 วิเศษนิยม\, สถานีกาชาด 11 วิเศษนิยม 605 ถ.เพชรเกษม แขวงบางหว้า เขตภาษีเจริญ กรุงเทพมหานคร 10160
CATEGORIES:ปฏิทินตารางหน่วยเคลื่อนที่
END:VEVENT
BEGIN:VEVENT
DTSTART;TZID=Asia/Krasnoyarsk:20260316T073000
DTEND;TZID=Asia/Krasnoyarsk:20260316T193000
DTSTAMP:20260421T085619
CREATED:20260312T030031Z
LAST-MODIFIED:20260312T030031Z
UID:10006062-1773646200-1773689400@thaibloodcentre.redcross.or.th
SUMMARY:ศูนย์บริการโลหิตแห่งชาติ สภากาชาดไทย []
DESCRIPTION:
URL:https://thaibloodcentre.redcross.or.th/event/%e0%b8%a8%e0%b8%b9%e0%b8%99%e0%b8%a2%e0%b9%8c%e0%b8%9a%e0%b8%a3%e0%b8%b4%e0%b8%81%e0%b8%b2%e0%b8%a3%e0%b9%82%e0%b8%a5%e0%b8%ab%e0%b8%b4%e0%b8%95%e0%b9%81%e0%b8%ab%e0%b9%88%e0%b8%87%e0%b8%8a-469/
LOCATION:ศูนย์บริการโลหิตแห่งชาติ สภากาชาดไทย\, ศูนย์บริการโลหิตแห่งชาติ สภากาชาดไทย 1871 ถ. อังรีดูนังต์ แขวงปทุมวัน เขตปทุมวัน กรุงเทพมหานคร 10330
CATEGORIES:ปฏิทินตารางหน่วยเคลื่อนที่
END:VEVENT
BEGIN:VEVENT
DTSTART;TZID=Asia/Krasnoyarsk:20260315T120000
DTEND;TZID=Asia/Krasnoyarsk:20260315T180000
DTSTAMP:20260421T085619
CREATED:20260312T025957Z
LAST-MODIFIED:20260312T025957Z
UID:10006056-1773576000-1773597600@thaibloodcentre.redcross.or.th
SUMMARY:ศูนย์การค้าเดอะมอลล์ไลฟ์สโตร์ ท่าพระ []
DESCRIPTION:สถานที่เจาะ : ชั้น 1 (ติดลานจอดรถ)
URL:https://thaibloodcentre.redcross.or.th/event/%e0%b8%a8%e0%b8%b9%e0%b8%99%e0%b8%a2%e0%b9%8c%e0%b8%81%e0%b8%b2%e0%b8%a3%e0%b8%84%e0%b9%89%e0%b8%b2%e0%b9%80%e0%b8%94%e0%b8%ad%e0%b8%b0%e0%b8%a1%e0%b8%ad%e0%b8%a5%e0%b8%a5%e0%b9%8c%e0%b9%84-1554/
LOCATION:ศูนย์การค้าเดอะมอลล์ไลฟ์สโตร์ ท่าพระ\, เดอะมอลล์ไลฟ์สโตร์ ท่าพระ 129 ถ. รัชดาภิเษก แขวงบุคคโล เขตธนบุรี กรุงเทพมหานคร 10600
CATEGORIES:ปฏิทินตารางหน่วยเคลื่อนที่
END:VEVENT
BEGIN:VEVENT
DTSTART;TZID=Asia/Krasnoyarsk:20260315T120000
DTEND;TZID=Asia/Krasnoyarsk:20260315T180000
DTSTAMP:20260421T085619
CREATED:20260312T025849Z
LAST-MODIFIED:20260312T025849Z
UID:10006055-1773576000-1773597600@thaibloodcentre.redcross.or.th
SUMMARY:ศูนย์การค้า เอ็มโพเรียม []
DESCRIPTION:สถานที่เจาะ : ชั้น M ศูนย์การค้า ดิ เอ็มโพเรียม เชื่อมลานจอดรถอาคาร B
URL:https://thaibloodcentre.redcross.or.th/event/%e0%b8%a8%e0%b8%b9%e0%b8%99%e0%b8%a2%e0%b9%8c%e0%b8%81%e0%b8%b2%e0%b8%a3%e0%b8%84%e0%b9%89%e0%b8%b2-%e0%b9%80%e0%b8%ad%e0%b9%87%e0%b8%a1%e0%b9%82%e0%b8%9e%e0%b9%80%e0%b8%a3%e0%b8%b5%e0%b8%a2-385/
LOCATION:ศูนย์การค้า เอ็มโพเรียม\, เอ็มโพเรียม 622 ถ. สุขุมวิท แขวงคลองตัน เขตคลองเตย กรุงเทพมหานคร 10110
CATEGORIES:ปฏิทินตารางหน่วยเคลื่อนที่
END:VEVENT
BEGIN:VEVENT
DTSTART;TZID=Asia/Krasnoyarsk:20260315T120000
DTEND;TZID=Asia/Krasnoyarsk:20260315T180000
DTSTAMP:20260421T085619
CREATED:20260312T025837Z
LAST-MODIFIED:20260312T025837Z
UID:10006054-1773576000-1773597600@thaibloodcentre.redcross.or.th
SUMMARY:ศูนย์การค้าเดอะมอลล์ไลฟ์สโตร์ งามวงศ์วาน []
DESCRIPTION:สถานที่เจาะ : ชั้น 5 โซน Government Center
URL:https://thaibloodcentre.redcross.or.th/event/%e0%b8%a8%e0%b8%b9%e0%b8%99%e0%b8%a2%e0%b9%8c%e0%b8%81%e0%b8%b2%e0%b8%a3%e0%b8%84%e0%b9%89%e0%b8%b2%e0%b9%80%e0%b8%94%e0%b8%ad%e0%b8%b0%e0%b8%a1%e0%b8%ad%e0%b8%a5%e0%b8%a5%e0%b9%8c%e0%b9%84-1553/
LOCATION:ศูนย์การค้าเดอะมอลล์ไลฟ์สโตร์ งามวงศ์วาน\, เดอะมอลล์ ไลฟ์สโตร์ งามวงศ์วาน 430 ถนน งามวงศ์วาน ตำบลบางเขน อำเภอเมืองนนทบุรี นนทบุรี 11000
CATEGORIES:ปฏิทินตารางหน่วยเคลื่อนที่
END:VEVENT
BEGIN:VEVENT
DTSTART;TZID=Asia/Krasnoyarsk:20260315T120000
DTEND;TZID=Asia/Krasnoyarsk:20260315T180000
DTSTAMP:20260421T085619
CREATED:20260312T025824Z
LAST-MODIFIED:20260312T025824Z
UID:10006053-1773576000-1773597600@thaibloodcentre.redcross.or.th
SUMMARY:ศูนย์การค้าเดอะมอลล์ไลฟ์สโตร์ บางกะปิ []
DESCRIPTION:สถานที่เจาะ : ชั้น 2 ทางออกลานจอดรถ
URL:https://thaibloodcentre.redcross.or.th/event/%e0%b8%a8%e0%b8%b9%e0%b8%99%e0%b8%a2%e0%b9%8c%e0%b8%81%e0%b8%b2%e0%b8%a3%e0%b8%84%e0%b9%89%e0%b8%b2%e0%b9%80%e0%b8%94%e0%b8%ad%e0%b8%b0%e0%b8%a1%e0%b8%ad%e0%b8%a5%e0%b8%a5%e0%b9%8c%e0%b9%84-1552/
LOCATION:ศูนย์การค้าเดอะมอลล์ไลฟ์สโตร์ บางกะปิ\, เดอะมอลล์ไลฟ์สโตร์ บางกะปิ 3522 ถ. ลาดพร้าว แขวงคลองจั่น เขตบางกะปิ กรุงเทพมหานคร 10240
CATEGORIES:ปฏิทินตารางหน่วยเคลื่อนที่
END:VEVENT
BEGIN:VEVENT
DTSTART;TZID=Asia/Krasnoyarsk:20260315T120000
DTEND;TZID=Asia/Krasnoyarsk:20260315T180000
DTSTAMP:20260421T085619
CREATED:20260312T025812Z
LAST-MODIFIED:20260312T025812Z
UID:10006052-1773576000-1773597600@thaibloodcentre.redcross.or.th
SUMMARY:ศูนย์การค้าเดอะมอลล์ไลฟ์สโตร์ บางแค []
DESCRIPTION:สถานที่เจาะ : ชั้น 3 ตรงข้ามร้านโอ้กะจู๋
URL:https://thaibloodcentre.redcross.or.th/event/%e0%b8%a8%e0%b8%b9%e0%b8%99%e0%b8%a2%e0%b9%8c%e0%b8%81%e0%b8%b2%e0%b8%a3%e0%b8%84%e0%b9%89%e0%b8%b2%e0%b9%80%e0%b8%94%e0%b8%ad%e0%b8%b0%e0%b8%a1%e0%b8%ad%e0%b8%a5%e0%b8%a5%e0%b9%8c%e0%b9%84-1551/
LOCATION:ศูนย์การค้าเดอะมอลล์ไลฟ์สโตร์ บางแค\, ศูนย์การค้าเดอะมอลล์ไลฟ์สโตร์ บางแค
CATEGORIES:ปฏิทินตารางหน่วยเคลื่อนที่
END:VEVENT
BEGIN:VEVENT
DTSTART;TZID=Asia/Krasnoyarsk:20260315T110000
DTEND;TZID=Asia/Krasnoyarsk:20260315T150000
DTSTAMP:20260421T085619
CREATED:20260312T030024Z
LAST-MODIFIED:20260312T030024Z
UID:10006060-1773572400-1773586800@thaibloodcentre.redcross.or.th
SUMMARY:ตลาดสุขรุ่งเรือง มาร์เก็ต []
DESCRIPTION:สถานที่เจาะ : ลานจอดรถกลางตลาด (จอดรถชิดหลังคาตลาด)
URL:https://thaibloodcentre.redcross.or.th/event/%e0%b8%95%e0%b8%a5%e0%b8%b2%e0%b8%94%e0%b8%aa%e0%b8%b8%e0%b8%82%e0%b8%a3%e0%b8%b8%e0%b9%88%e0%b8%87%e0%b9%80%e0%b8%a3%e0%b8%b7%e0%b8%ad%e0%b8%87-%e0%b8%a1%e0%b8%b2%e0%b8%a3%e0%b9%8c%e0%b9%80-6/
LOCATION:ตลาดสุขรุ่งเรือง มาร์เก็ต\, ตลาดสุขรุ่งเรือง มาร์เก็ต JFCQ+FF9 ถ. กาญจนาภิเษก แขวงทุ่งครุ เขตทุ่งครุ กรุงเทพมหานคร 10140
CATEGORIES:ปฏิทินตารางหน่วยเคลื่อนที่
END:VEVENT
BEGIN:VEVENT
DTSTART;TZID=Asia/Krasnoyarsk:20260315T090000
DTEND;TZID=Asia/Krasnoyarsk:20260315T150000
DTSTAMP:20260421T085619
CREATED:20260312T030016Z
LAST-MODIFIED:20260312T030016Z
UID:10006058-1773565200-1773586800@thaibloodcentre.redcross.or.th
SUMMARY:บ้านทรงไทย (ย่านวงศ์สว่าง) []
DESCRIPTION:สถานที่เจาะ : (พัก 12.30-13.00 น.)
URL:https://thaibloodcentre.redcross.or.th/event/%e0%b8%9a%e0%b9%89%e0%b8%b2%e0%b8%99%e0%b8%97%e0%b8%a3%e0%b8%87%e0%b9%84%e0%b8%97%e0%b8%a2-%e0%b8%a2%e0%b9%88%e0%b8%b2%e0%b8%99%e0%b8%a7%e0%b8%87%e0%b8%a8%e0%b9%8c%e0%b8%aa%e0%b8%a7%e0%b9%88-385/
LOCATION:บ้านทรงไทย (ย่านวงศ์สว่าง)\, หน่วยรับบริจาคโลหิต บ้านทรงไทย(ย่านวงศ์สว่าง) 1423 ถนนกรุงเทพ-นนทบุรี แขวงวงศ์สว่าง เขตบางซื่อ กรุงเทพมหานคร 10800
CATEGORIES:ปฏิทินตารางหน่วยเคลื่อนที่
END:VEVENT
BEGIN:VEVENT
DTSTART;TZID=Asia/Krasnoyarsk:20260315T083000
DTEND;TZID=Asia/Krasnoyarsk:20260315T153000
DTSTAMP:20260421T085619
CREATED:20260312T030013Z
LAST-MODIFIED:20260312T030013Z
UID:10006057-1773563400-1773588600@thaibloodcentre.redcross.or.th
SUMMARY:สถานีกาชาด 11 วิเศษนิยม []
DESCRIPTION:สถานที่เจาะ : ชั้น 3
URL:https://thaibloodcentre.redcross.or.th/event/%e0%b8%aa%e0%b8%96%e0%b8%b2%e0%b8%99%e0%b8%b5%e0%b8%81%e0%b8%b2%e0%b8%8a%e0%b8%b2%e0%b8%94-11-%e0%b8%a7%e0%b8%b4%e0%b9%80%e0%b8%a8%e0%b8%a9%e0%b8%99%e0%b8%b4%e0%b8%a2%e0%b8%a1-203/
LOCATION:สถานีกาชาด 11 วิเศษนิยม\, สถานีกาชาด 11 วิเศษนิยม 605 ถ.เพชรเกษม แขวงบางหว้า เขตภาษีเจริญ กรุงเทพมหานคร 10160
CATEGORIES:ปฏิทินตารางหน่วยเคลื่อนที่
END:VEVENT
BEGIN:VEVENT
DTSTART;TZID=Asia/Krasnoyarsk:20260315T083000
DTEND;TZID=Asia/Krasnoyarsk:20260315T153000
DTSTAMP:20260421T085619
CREATED:20260312T025805Z
LAST-MODIFIED:20260312T025805Z
UID:10006051-1773563400-1773588600@thaibloodcentre.redcross.or.th
SUMMARY:ศูนย์บริการโลหิตแห่งชาติ สภากาชาดไทย []
DESCRIPTION:
URL:https://thaibloodcentre.redcross.or.th/event/%e0%b8%a8%e0%b8%b9%e0%b8%99%e0%b8%a2%e0%b9%8c%e0%b8%9a%e0%b8%a3%e0%b8%b4%e0%b8%81%e0%b8%b2%e0%b8%a3%e0%b9%82%e0%b8%a5%e0%b8%ab%e0%b8%b4%e0%b8%95%e0%b9%81%e0%b8%ab%e0%b9%88%e0%b8%87%e0%b8%8a-468/
LOCATION:ศูนย์บริการโลหิตแห่งชาติ สภากาชาดไทย\, ศูนย์บริการโลหิตแห่งชาติ สภากาชาดไทย 1871 ถ. อังรีดูนังต์ แขวงปทุมวัน เขตปทุมวัน กรุงเทพมหานคร 10330
CATEGORIES:ปฏิทินตารางหน่วยเคลื่อนที่
END:VEVENT
BEGIN:VEVENT
DTSTART;TZID=Asia/Krasnoyarsk:20260315T083000
DTEND;TZID=Asia/Krasnoyarsk:20260315T140000
DTSTAMP:20260421T085619
CREATED:20260312T030029Z
LAST-MODIFIED:20260312T030029Z
UID:10006061-1773563400-1773583200@thaibloodcentre.redcross.or.th
SUMMARY:วัดอโศการาม []
DESCRIPTION:สถานที่เจาะ : ด้านหน้าอาคาร 6 ชั้น (พักพร้อมกัน 12.00-13.00 น.)
URL:https://thaibloodcentre.redcross.or.th/event/%e0%b8%a7%e0%b8%b1%e0%b8%94%e0%b8%ad%e0%b9%82%e0%b8%a8%e0%b8%81%e0%b8%b2%e0%b8%a3%e0%b8%b2%e0%b8%a1-4/
LOCATION:วัดอโศการาม\, ศูนย์เวชศาสตร์ฟื้นฟู สภากาชาดไทย 199 ต.ท้ายบ้าน อ.เมืองสมุทรปราการ จ.สมุทรปราการ 10280
CATEGORIES:ปฏิทินตารางหน่วยเคลื่อนที่
END:VEVENT
BEGIN:VEVENT
DTSTART;TZID=Asia/Krasnoyarsk:20260315T083000
DTEND;TZID=Asia/Krasnoyarsk:20260315T120000
DTSTAMP:20260421T085619
CREATED:20260312T030021Z
LAST-MODIFIED:20260312T030021Z
UID:10006059-1773563400-1773576000@thaibloodcentre.redcross.or.th
SUMMARY:กลุ่มปฏิบัติธรรม LDH วัดภาษี []
DESCRIPTION:สถานที่เจาะ : โรงเรียนวัดธาตุทอง ฝ่ายประถม
URL:https://thaibloodcentre.redcross.or.th/event/%e0%b8%81%e0%b8%a5%e0%b8%b8%e0%b9%88%e0%b8%a1%e0%b8%9b%e0%b8%8f%e0%b8%b4%e0%b8%9a%e0%b8%b1%e0%b8%95%e0%b8%b4%e0%b8%98%e0%b8%a3%e0%b8%a3%e0%b8%a1-ldh-%e0%b8%a7%e0%b8%b1%e0%b8%94%e0%b8%a0%e0%b8%b2-6/
LOCATION:กลุ่มปฏิบัติธรรม LDH วัดภาษี\, โรงเรียนวัดธาตุทอง ฝ่ายประถม 1325 ถนนสุขุมวิท แขวงพระโขนงเหนือ เขตวัฒนา กรุงเทพมหานคร 10110
CATEGORIES:ปฏิทินตารางหน่วยเคลื่อนที่
END:VEVENT
BEGIN:VEVENT
DTSTART;TZID=Asia/Krasnoyarsk:20260314T120000
DTEND;TZID=Asia/Krasnoyarsk:20260314T180000
DTSTAMP:20260421T085619
CREATED:20260312T025414Z
LAST-MODIFIED:20260312T025414Z
UID:10006044-1773489600-1773511200@thaibloodcentre.redcross.or.th
SUMMARY:ศูนย์การค้าเดอะมอลล์ไลฟ์สโตร์ ท่าพระ []
DESCRIPTION:สถานที่เจาะ : ชั้น 1 (ติดลานจอดรถ)
URL:https://thaibloodcentre.redcross.or.th/event/%e0%b8%a8%e0%b8%b9%e0%b8%99%e0%b8%a2%e0%b9%8c%e0%b8%81%e0%b8%b2%e0%b8%a3%e0%b8%84%e0%b9%89%e0%b8%b2%e0%b9%80%e0%b8%94%e0%b8%ad%e0%b8%b0%e0%b8%a1%e0%b8%ad%e0%b8%a5%e0%b8%a5%e0%b9%8c%e0%b9%84-1550/
LOCATION:ศูนย์การค้าเดอะมอลล์ไลฟ์สโตร์ ท่าพระ\, เดอะมอลล์ไลฟ์สโตร์ ท่าพระ 129 ถ. รัชดาภิเษก แขวงบุคคโล เขตธนบุรี กรุงเทพมหานคร 10600
CATEGORIES:ปฏิทินตารางหน่วยเคลื่อนที่
END:VEVENT
BEGIN:VEVENT
DTSTART;TZID=Asia/Krasnoyarsk:20260314T120000
DTEND;TZID=Asia/Krasnoyarsk:20260314T180000
DTSTAMP:20260421T085619
CREATED:20260312T025409Z
LAST-MODIFIED:20260312T025409Z
UID:10006043-1773489600-1773511200@thaibloodcentre.redcross.or.th
SUMMARY:ศูนย์การค้า เอ็มโพเรียม []
DESCRIPTION:สถานที่เจาะ : ชั้น M ศูนย์การค้า ดิ เอ็มโพเรียม เชื่อมลานจอดรถอาคาร B
URL:https://thaibloodcentre.redcross.or.th/event/%e0%b8%a8%e0%b8%b9%e0%b8%99%e0%b8%a2%e0%b9%8c%e0%b8%81%e0%b8%b2%e0%b8%a3%e0%b8%84%e0%b9%89%e0%b8%b2-%e0%b9%80%e0%b8%ad%e0%b9%87%e0%b8%a1%e0%b9%82%e0%b8%9e%e0%b9%80%e0%b8%a3%e0%b8%b5%e0%b8%a2-384/
LOCATION:ศูนย์การค้า เอ็มโพเรียม\, เอ็มโพเรียม 622 ถ. สุขุมวิท แขวงคลองตัน เขตคลองเตย กรุงเทพมหานคร 10110
CATEGORIES:ปฏิทินตารางหน่วยเคลื่อนที่
END:VEVENT
BEGIN:VEVENT
DTSTART;TZID=Asia/Krasnoyarsk:20260314T120000
DTEND;TZID=Asia/Krasnoyarsk:20260314T180000
DTSTAMP:20260421T085619
CREATED:20260312T025355Z
LAST-MODIFIED:20260312T025355Z
UID:10006042-1773489600-1773511200@thaibloodcentre.redcross.or.th
SUMMARY:ศูนย์การค้าเดอะมอลล์ไลฟ์สโตร์ งามวงศ์วาน []
DESCRIPTION:สถานที่เจาะ : ชั้น 5 โซน Government Center
URL:https://thaibloodcentre.redcross.or.th/event/%e0%b8%a8%e0%b8%b9%e0%b8%99%e0%b8%a2%e0%b9%8c%e0%b8%81%e0%b8%b2%e0%b8%a3%e0%b8%84%e0%b9%89%e0%b8%b2%e0%b9%80%e0%b8%94%e0%b8%ad%e0%b8%b0%e0%b8%a1%e0%b8%ad%e0%b8%a5%e0%b8%a5%e0%b9%8c%e0%b9%84-1549/
LOCATION:ศูนย์การค้าเดอะมอลล์ไลฟ์สโตร์ งามวงศ์วาน\, เดอะมอลล์ ไลฟ์สโตร์ งามวงศ์วาน 430 ถนน งามวงศ์วาน ตำบลบางเขน อำเภอเมืองนนทบุรี นนทบุรี 11000
CATEGORIES:ปฏิทินตารางหน่วยเคลื่อนที่
END:VEVENT
BEGIN:VEVENT
DTSTART;TZID=Asia/Krasnoyarsk:20260314T120000
DTEND;TZID=Asia/Krasnoyarsk:20260314T180000
DTSTAMP:20260421T085619
CREATED:20260312T025341Z
LAST-MODIFIED:20260312T025341Z
UID:10006041-1773489600-1773511200@thaibloodcentre.redcross.or.th
SUMMARY:ศูนย์การค้าเดอะมอลล์ไลฟ์สโตร์ บางกะปิ []
DESCRIPTION:สถานที่เจาะ : ชั้น 2 ทางออกลานจอดรถ
URL:https://thaibloodcentre.redcross.or.th/event/%e0%b8%a8%e0%b8%b9%e0%b8%99%e0%b8%a2%e0%b9%8c%e0%b8%81%e0%b8%b2%e0%b8%a3%e0%b8%84%e0%b9%89%e0%b8%b2%e0%b9%80%e0%b8%94%e0%b8%ad%e0%b8%b0%e0%b8%a1%e0%b8%ad%e0%b8%a5%e0%b8%a5%e0%b9%8c%e0%b9%84-1548/
LOCATION:ศูนย์การค้าเดอะมอลล์ไลฟ์สโตร์ บางกะปิ\, เดอะมอลล์ไลฟ์สโตร์ บางกะปิ 3522 ถ. ลาดพร้าว แขวงคลองจั่น เขตบางกะปิ กรุงเทพมหานคร 10240
CATEGORIES:ปฏิทินตารางหน่วยเคลื่อนที่
END:VEVENT
BEGIN:VEVENT
DTSTART;TZID=Asia/Krasnoyarsk:20260314T120000
DTEND;TZID=Asia/Krasnoyarsk:20260314T180000
DTSTAMP:20260421T085619
CREATED:20260312T025244Z
LAST-MODIFIED:20260312T025244Z
UID:10006040-1773489600-1773511200@thaibloodcentre.redcross.or.th
SUMMARY:ศูนย์การค้าเดอะมอลล์ไลฟ์สโตร์ บางแค []
DESCRIPTION:สถานที่เจาะ : ชั้น 3 ตรงข้ามร้านโอ้กะจู๋
URL:https://thaibloodcentre.redcross.or.th/event/%e0%b8%a8%e0%b8%b9%e0%b8%99%e0%b8%a2%e0%b9%8c%e0%b8%81%e0%b8%b2%e0%b8%a3%e0%b8%84%e0%b9%89%e0%b8%b2%e0%b9%80%e0%b8%94%e0%b8%ad%e0%b8%b0%e0%b8%a1%e0%b8%ad%e0%b8%a5%e0%b8%a5%e0%b9%8c%e0%b9%84-1547/
LOCATION:ศูนย์การค้าเดอะมอลล์ไลฟ์สโตร์ บางแค\, ศูนย์การค้าเดอะมอลล์ไลฟ์สโตร์ บางแค
CATEGORIES:ปฏิทินตารางหน่วยเคลื่อนที่
END:VEVENT
BEGIN:VEVENT
DTSTART;TZID=Asia/Krasnoyarsk:20260314T110000
DTEND;TZID=Asia/Krasnoyarsk:20260314T150000
DTSTAMP:20260421T085619
CREATED:20260312T025616Z
LAST-MODIFIED:20260312T025616Z
UID:10006050-1773486000-1773500400@thaibloodcentre.redcross.or.th
SUMMARY:บริษัท โชคปัญญามอเตอร์ จำกัด []
DESCRIPTION:สถานที่เจาะ : หน้าบริษัท
URL:https://thaibloodcentre.redcross.or.th/event/%e0%b8%9a%e0%b8%a3%e0%b8%b4%e0%b8%a9%e0%b8%b1%e0%b8%97-%e0%b9%82%e0%b8%8a%e0%b8%84%e0%b8%9b%e0%b8%b1%e0%b8%8d%e0%b8%8d%e0%b8%b2%e0%b8%a1%e0%b8%ad%e0%b9%80%e0%b8%95%e0%b8%ad%e0%b8%a3%e0%b9%8c-6/
LOCATION:บริษัท โชคปัญญามอเตอร์ จำกัด\, บริษัท โชคปัญญามอเตอร์ จำกัด 77 ถนนประดิษฐ์มนูธรรม แขวงลาดพร้าว เขตลาดพร้าว กรุงเทพมหานคร 10230
CATEGORIES:ปฏิทินตารางหน่วยเคลื่อนที่
END:VEVENT
BEGIN:VEVENT
DTSTART;TZID=Asia/Krasnoyarsk:20260314T110000
DTEND;TZID=Asia/Krasnoyarsk:20260314T150000
DTSTAMP:20260421T085619
CREATED:20260312T025614Z
LAST-MODIFIED:20260312T025614Z
UID:10006049-1773486000-1773500400@thaibloodcentre.redcross.or.th
SUMMARY:ลุมพินี พาร์ค ปิ่นเกล้า []
DESCRIPTION:สถานที่เจาะ : สวนรวมใจฝั่งด้านหน้านิติบุคคล
URL:https://thaibloodcentre.redcross.or.th/event/%e0%b8%a5%e0%b8%b8%e0%b8%a1%e0%b8%9e%e0%b8%b4%e0%b8%99%e0%b8%b5-%e0%b8%9e%e0%b8%b2%e0%b8%a3%e0%b9%8c%e0%b8%84-%e0%b8%9b%e0%b8%b4%e0%b9%88%e0%b8%99%e0%b9%80%e0%b8%81%e0%b8%a5%e0%b9%89%e0%b8%b2-4/
LOCATION:ลุมพินี พาร์ค ปิ่นเกล้า\, ลุมพินี พาร์ค ปิ่นเกล้า 618 ถนนบรมราชชนนี แขวงบางบำหรุ เขตบางพลัด กรุงเทพมหานคร 10700
CATEGORIES:ปฏิทินตารางหน่วยเคลื่อนที่
END:VEVENT
BEGIN:VEVENT
DTSTART;TZID=Asia/Krasnoyarsk:20260314T110000
DTEND;TZID=Asia/Krasnoyarsk:20260314T150000
DTSTAMP:20260421T085619
CREATED:20260312T025611Z
LAST-MODIFIED:20260312T025611Z
UID:10006048-1773486000-1773500400@thaibloodcentre.redcross.or.th
SUMMARY:ศูนย์การค้าเดอะพรอมานาด []
DESCRIPTION:สถานที่เจาะ : ชั้น 4 ฝั่ง Fitness และมคลินทร์ฯ
URL:https://thaibloodcentre.redcross.or.th/event/%e0%b8%a8%e0%b8%b9%e0%b8%99%e0%b8%a2%e0%b9%8c%e0%b8%81%e0%b8%b2%e0%b8%a3%e0%b8%84%e0%b9%89%e0%b8%b2%e0%b9%80%e0%b8%94%e0%b8%ad%e0%b8%b0%e0%b8%9e%e0%b8%a3%e0%b8%ad%e0%b8%a1%e0%b8%b2%e0%b8%99-29/
LOCATION:ศูนย์การค้าเดอะพรอมานาด\, ศูนย์การค้าเดอะพรอมานาด 587\,589 589/7-9 ถ.รามอินทรา แขวงคันนายาว เขตคันนายาว กรุงเทพมหานคร 10230
CATEGORIES:ปฏิทินตารางหน่วยเคลื่อนที่
END:VEVENT
BEGIN:VEVENT
DTSTART;TZID=Asia/Krasnoyarsk:20260314T110000
DTEND;TZID=Asia/Krasnoyarsk:20260314T150000
DTSTAMP:20260421T085619
CREATED:20260312T025609Z
LAST-MODIFIED:20260312T025609Z
UID:10006047-1773486000-1773500400@thaibloodcentre.redcross.or.th
SUMMARY:เซ็นทรัลพลาซา บางนา []
DESCRIPTION:สถานที่เจาะ : ด้านหน้า KFC
URL:https://thaibloodcentre.redcross.or.th/event/%e0%b9%80%e0%b8%8b%e0%b9%87%e0%b8%99%e0%b8%97%e0%b8%a3%e0%b8%b1%e0%b8%a5%e0%b8%9e%e0%b8%a5%e0%b8%b2%e0%b8%8b%e0%b8%b2-%e0%b8%9a%e0%b8%b2%e0%b8%87%e0%b8%99%e0%b8%b2-34/
LOCATION:เซ็นทรัลพลาซา บางนา\, เซ็นทรัล บางนา ทางคู่ขนาน ถนนบางนา-ตราด แขวงบางนาเหนือ เขตบางนา กรุงเทพมหานคร 10260
CATEGORIES:ปฏิทินตารางหน่วยเคลื่อนที่
END:VEVENT
BEGIN:VEVENT
DTSTART;TZID=Asia/Krasnoyarsk:20260314T090000
DTEND;TZID=Asia/Krasnoyarsk:20260314T150000
DTSTAMP:20260421T085619
CREATED:20260312T025604Z
LAST-MODIFIED:20260312T025604Z
UID:10006046-1773478800-1773500400@thaibloodcentre.redcross.or.th
SUMMARY:บ้านทรงไทย (ย่านวงศ์สว่าง) []
DESCRIPTION:สถานที่เจาะ : (พัก 12.30-13.00 น.)
URL:https://thaibloodcentre.redcross.or.th/event/%e0%b8%9a%e0%b9%89%e0%b8%b2%e0%b8%99%e0%b8%97%e0%b8%a3%e0%b8%87%e0%b9%84%e0%b8%97%e0%b8%a2-%e0%b8%a2%e0%b9%88%e0%b8%b2%e0%b8%99%e0%b8%a7%e0%b8%87%e0%b8%a8%e0%b9%8c%e0%b8%aa%e0%b8%a7%e0%b9%88-384/
LOCATION:บ้านทรงไทย (ย่านวงศ์สว่าง)\, หน่วยรับบริจาคโลหิต บ้านทรงไทย(ย่านวงศ์สว่าง) 1423 ถนนกรุงเทพ-นนทบุรี แขวงวงศ์สว่าง เขตบางซื่อ กรุงเทพมหานคร 10800
CATEGORIES:ปฏิทินตารางหน่วยเคลื่อนที่
END:VEVENT
BEGIN:VEVENT
DTSTART;TZID=Asia/Krasnoyarsk:20260314T083000
DTEND;TZID=Asia/Krasnoyarsk:20260314T153000
DTSTAMP:20260421T085619
CREATED:20260312T025427Z
LAST-MODIFIED:20260312T025427Z
UID:10006045-1773477000-1773502200@thaibloodcentre.redcross.or.th
SUMMARY:สถานีกาชาด 11 วิเศษนิยม []
DESCRIPTION:สถานที่เจาะ : ชั้น 3
URL:https://thaibloodcentre.redcross.or.th/event/%e0%b8%aa%e0%b8%96%e0%b8%b2%e0%b8%99%e0%b8%b5%e0%b8%81%e0%b8%b2%e0%b8%8a%e0%b8%b2%e0%b8%94-11-%e0%b8%a7%e0%b8%b4%e0%b9%80%e0%b8%a8%e0%b8%a9%e0%b8%99%e0%b8%b4%e0%b8%a2%e0%b8%a1-202/
LOCATION:สถานีกาชาด 11 วิเศษนิยม\, สถานีกาชาด 11 วิเศษนิยม 605 ถ.เพชรเกษม แขวงบางหว้า เขตภาษีเจริญ กรุงเทพมหานคร 10160
CATEGORIES:ปฏิทินตารางหน่วยเคลื่อนที่
END:VEVENT
BEGIN:VEVENT
DTSTART;TZID=Asia/Krasnoyarsk:20260314T083000
DTEND;TZID=Asia/Krasnoyarsk:20260314T153000
DTSTAMP:20260421T085619
CREATED:20260312T025239Z
LAST-MODIFIED:20260312T025239Z
UID:10006039-1773477000-1773502200@thaibloodcentre.redcross.or.th
SUMMARY:ศูนย์บริการโลหิตแห่งชาติ สภากาชาดไทย []
DESCRIPTION:
URL:https://thaibloodcentre.redcross.or.th/event/%e0%b8%a8%e0%b8%b9%e0%b8%99%e0%b8%a2%e0%b9%8c%e0%b8%9a%e0%b8%a3%e0%b8%b4%e0%b8%81%e0%b8%b2%e0%b8%a3%e0%b9%82%e0%b8%a5%e0%b8%ab%e0%b8%b4%e0%b8%95%e0%b9%81%e0%b8%ab%e0%b9%88%e0%b8%87%e0%b8%8a-467/
LOCATION:ศูนย์บริการโลหิตแห่งชาติ สภากาชาดไทย\, ศูนย์บริการโลหิตแห่งชาติ สภากาชาดไทย 1871 ถ. อังรีดูนังต์ แขวงปทุมวัน เขตปทุมวัน กรุงเทพมหานคร 10330
CATEGORIES:ปฏิทินตารางหน่วยเคลื่อนที่
END:VEVENT
BEGIN:VEVENT
DTSTART;TZID=Asia/Krasnoyarsk:20260313T120000
DTEND;TZID=Asia/Krasnoyarsk:20260313T180000
DTSTAMP:20260421T085619
CREATED:20260312T025020Z
LAST-MODIFIED:20260312T025020Z
UID:10006027-1773403200-1773424800@thaibloodcentre.redcross.or.th
SUMMARY:ศูนย์การค้าเดอะมอลล์ไลฟ์สโตร์ ท่าพระ []
DESCRIPTION:สถานที่เจาะ : ชั้น 1 (ติดลานจอดรถ)
URL:https://thaibloodcentre.redcross.or.th/event/%e0%b8%a8%e0%b8%b9%e0%b8%99%e0%b8%a2%e0%b9%8c%e0%b8%81%e0%b8%b2%e0%b8%a3%e0%b8%84%e0%b9%89%e0%b8%b2%e0%b9%80%e0%b8%94%e0%b8%ad%e0%b8%b0%e0%b8%a1%e0%b8%ad%e0%b8%a5%e0%b8%a5%e0%b9%8c%e0%b9%84-1546/
LOCATION:ศูนย์การค้าเดอะมอลล์ไลฟ์สโตร์ ท่าพระ\, เดอะมอลล์ไลฟ์สโตร์ ท่าพระ 129 ถ. รัชดาภิเษก แขวงบุคคโล เขตธนบุรี กรุงเทพมหานคร 10600
CATEGORIES:ปฏิทินตารางหน่วยเคลื่อนที่
END:VEVENT
BEGIN:VEVENT
DTSTART;TZID=Asia/Krasnoyarsk:20260313T120000
DTEND;TZID=Asia/Krasnoyarsk:20260313T180000
DTSTAMP:20260421T085619
CREATED:20260312T025015Z
LAST-MODIFIED:20260312T025015Z
UID:10006026-1773403200-1773424800@thaibloodcentre.redcross.or.th
SUMMARY:ศูนย์การค้า เอ็มโพเรียม []
DESCRIPTION:สถานที่เจาะ : ชั้น M ศูนย์การค้า ดิ เอ็มโพเรียม เชื่อมลานจอดรถอาคาร B
URL:https://thaibloodcentre.redcross.or.th/event/%e0%b8%a8%e0%b8%b9%e0%b8%99%e0%b8%a2%e0%b9%8c%e0%b8%81%e0%b8%b2%e0%b8%a3%e0%b8%84%e0%b9%89%e0%b8%b2-%e0%b9%80%e0%b8%ad%e0%b9%87%e0%b8%a1%e0%b9%82%e0%b8%9e%e0%b9%80%e0%b8%a3%e0%b8%b5%e0%b8%a2-383/
LOCATION:ศูนย์การค้า เอ็มโพเรียม\, เอ็มโพเรียม 622 ถ. สุขุมวิท แขวงคลองตัน เขตคลองเตย กรุงเทพมหานคร 10110
CATEGORIES:ปฏิทินตารางหน่วยเคลื่อนที่
END:VEVENT
END:VCALENDAR