BEGIN:VCALENDAR
VERSION:2.0
PRODID:-//เว็บไซต์ศูนย์บริการโลหิตแห่งชาติ - ECPv6.11.2.1//NONSGML v1.0//EN
CALSCALE:GREGORIAN
METHOD:PUBLISH
X-ORIGINAL-URL:https://thaibloodcentre.redcross.or.th
X-WR-CALDESC:Events for เว็บไซต์ศูนย์บริการโลหิตแห่งชาติ
REFRESH-INTERVAL;VALUE=DURATION:PT1H
X-Robots-Tag:noindex
X-PUBLISHED-TTL:PT1H
BEGIN:VTIMEZONE
TZID:Asia/Krasnoyarsk
BEGIN:STANDARD
TZOFFSETFROM:+0700
TZOFFSETTO:+0700
TZNAME:+07
DTSTART:20260101T000000
END:STANDARD
END:VTIMEZONE
BEGIN:VEVENT
DTSTART;TZID=Asia/Krasnoyarsk:20260427T120000
DTEND;TZID=Asia/Krasnoyarsk:20260427T180000
DTSTAMP:20260421T120953
CREATED:20260420T062638Z
LAST-MODIFIED:20260420T062638Z
UID:10006596-1777291200-1777312800@thaibloodcentre.redcross.or.th
SUMMARY:ศูนย์การค้าเดอะมอลล์ไลฟ์สโตร์ ท่าพระ []
DESCRIPTION:สถานที่เจาะ : ชั้น 1 (ติดลานจอดรถ) \nที่อยู่ : 99 ถนนรัชดาท่าพระตัดใหม่ แขวงบุคคโล เขตธนบุรี กรุงเทพฯ 0 2469-1000
URL:https://thaibloodcentre.redcross.or.th/event/%e0%b8%a8%e0%b8%b9%e0%b8%99%e0%b8%a2%e0%b9%8c%e0%b8%81%e0%b8%b2%e0%b8%a3%e0%b8%84%e0%b9%89%e0%b8%b2%e0%b9%80%e0%b8%94%e0%b8%ad%e0%b8%b0%e0%b8%a1%e0%b8%ad%e0%b8%a5%e0%b8%a5%e0%b9%8c%e0%b9%84-1720/
LOCATION:ศูนย์การค้าเดอะมอลล์ไลฟ์สโตร์ ท่าพระ\, เดอะมอลล์ไลฟ์สโตร์ ท่าพระ 129 ถ. รัชดาภิเษก แขวงบุคคโล เขตธนบุรี กรุงเทพมหานคร 10600
CATEGORIES:ปฏิทินตารางหน่วยเคลื่อนที่
END:VEVENT
BEGIN:VEVENT
DTSTART;TZID=Asia/Krasnoyarsk:20260428T073000
DTEND;TZID=Asia/Krasnoyarsk:20260428T163000
DTSTAMP:20260421T120953
CREATED:20260420T063020Z
LAST-MODIFIED:20260420T063020Z
UID:10006603-1777361400-1777393800@thaibloodcentre.redcross.or.th
SUMMARY:ศูนย์บริการโลหิตแห่งชาติ สภากาชาดไทย []
DESCRIPTION:ที่อยู่ : 1871 ถ. อังรีดูนังต์ แขวงปทุมวัน เขตปทุมวัน
URL:https://thaibloodcentre.redcross.or.th/event/%e0%b8%a8%e0%b8%b9%e0%b8%99%e0%b8%a2%e0%b9%8c%e0%b8%9a%e0%b8%a3%e0%b8%b4%e0%b8%81%e0%b8%b2%e0%b8%a3%e0%b9%82%e0%b8%a5%e0%b8%ab%e0%b8%b4%e0%b8%95%e0%b9%81%e0%b8%ab%e0%b9%88%e0%b8%87%e0%b8%8a-515/
LOCATION:ศูนย์บริการโลหิตแห่งชาติ สภากาชาดไทย\, ศูนย์บริการโลหิตแห่งชาติ สภากาชาดไทย 1871 ถ. อังรีดูนังต์ แขวงปทุมวัน เขตปทุมวัน กรุงเทพมหานคร 10330
CATEGORIES:ปฏิทินตารางหน่วยเคลื่อนที่
END:VEVENT
BEGIN:VEVENT
DTSTART;TZID=Asia/Krasnoyarsk:20260428T083000
DTEND;TZID=Asia/Krasnoyarsk:20260428T193000
DTSTAMP:20260421T120953
CREATED:20260420T063237Z
LAST-MODIFIED:20260420T063237Z
UID:10006609-1777365000-1777404600@thaibloodcentre.redcross.or.th
SUMMARY:สถานีกาชาด 11 วิเศษนิยม []
DESCRIPTION:สถานที่เจาะ : ชั้น 3 \nที่อยู่ : 33/3 ถนนเพชรเกษม แขวงบางหว้า เขตภาษีเจริญ กรุงเทพฯ 0633450711
URL:https://thaibloodcentre.redcross.or.th/event/%e0%b8%aa%e0%b8%96%e0%b8%b2%e0%b8%99%e0%b8%b5%e0%b8%81%e0%b8%b2%e0%b8%8a%e0%b8%b2%e0%b8%94-11-%e0%b8%a7%e0%b8%b4%e0%b9%80%e0%b8%a8%e0%b8%a9%e0%b8%99%e0%b8%b4%e0%b8%a2%e0%b8%a1-223/
LOCATION:สถานีกาชาด 11 วิเศษนิยม\, สถานีกาชาด 11 วิเศษนิยม 605 ถ.เพชรเกษม แขวงบางหว้า เขตภาษีเจริญ กรุงเทพมหานคร 10160
CATEGORIES:ปฏิทินตารางหน่วยเคลื่อนที่
END:VEVENT
BEGIN:VEVENT
DTSTART;TZID=Asia/Krasnoyarsk:20260428T090000
DTEND;TZID=Asia/Krasnoyarsk:20260428T113000
DTSTAMP:20260421T120953
CREATED:20260420T064706Z
LAST-MODIFIED:20260420T064706Z
UID:10006615-1777366800-1777375800@thaibloodcentre.redcross.or.th
SUMMARY:ทีวายเค กลาส []
DESCRIPTION:สถานที่เจาะ : บริเวณศาลา \nที่อยู่ : 35/6 ม.6 ถ.ตลิ่งชัน-สุพรรณบุรี ต.เสาธงหิน อ.บางใหญ่ จ.นนทบุรี 0 2960 2682-4
URL:https://thaibloodcentre.redcross.or.th/event/%e0%b8%97%e0%b8%b5%e0%b8%a7%e0%b8%b2%e0%b8%a2%e0%b9%80%e0%b8%84-%e0%b8%81%e0%b8%a5%e0%b8%b2%e0%b8%aa-2/
LOCATION:ทีวายเค กลาส
CATEGORIES:ปฏิทินตารางหน่วยเคลื่อนที่
END:VEVENT
BEGIN:VEVENT
DTSTART;TZID=Asia/Krasnoyarsk:20260428T090000
DTEND;TZID=Asia/Krasnoyarsk:20260428T120000
DTSTAMP:20260421T120953
CREATED:20260420T064711Z
LAST-MODIFIED:20260420T064711Z
UID:10006617-1777366800-1777377600@thaibloodcentre.redcross.or.th
SUMMARY:บริษัท สหพัฒนพิบูล จำกัด (มหาชน) []
DESCRIPTION:สถานที่เจาะ : ข้างอาคารบางกอกทาวเวอร์ \nที่อยู่ : 2156 ถนนเพชรบุรีตัดใหม่ แขวงบางกะปิ เขตห้วยขวาง กรุงเทพฯ 0 2318 0062
URL:https://thaibloodcentre.redcross.or.th/event/%e0%b8%9a%e0%b8%a3%e0%b8%b4%e0%b8%a9%e0%b8%b1%e0%b8%97-%e0%b8%aa%e0%b8%ab%e0%b8%9e%e0%b8%b1%e0%b8%92%e0%b8%99%e0%b8%9e%e0%b8%b4%e0%b8%9a%e0%b8%b9%e0%b8%a5-%e0%b8%88%e0%b8%b3%e0%b8%81%e0%b8%b1-6/
LOCATION:บริษัท สหพัฒนพิบูล จำกัด (มหาชน)\, บริษัท สหพัฒนพิบูล จำกัด (มหาชน) 2156 ถ.เพชรบุรีตัดใหม่ แขวงบางกะปิ เขตห้วยขวาง กรุงเทพมหานคร 10310
CATEGORIES:ปฏิทินตารางหน่วยเคลื่อนที่
END:VEVENT
BEGIN:VEVENT
DTSTART;TZID=Asia/Krasnoyarsk:20260428T090000
DTEND;TZID=Asia/Krasnoyarsk:20260428T150000
DTSTAMP:20260421T120953
CREATED:20260420T063241Z
LAST-MODIFIED:20260420T063241Z
UID:10006610-1777366800-1777388400@thaibloodcentre.redcross.or.th
SUMMARY:บ้านทรงไทย (ย่านวงศ์สว่าง) []
DESCRIPTION:สถานที่เจาะ : (พัก 12.30-13.00 น.) \nที่อยู่ : 1423 ถนนกรุงเทพ – นนทบุรี แขวงวงศ์สว่าง เขตบางซื่อ กรุงเทพฯ 0 2256 4300
URL:https://thaibloodcentre.redcross.or.th/event/%e0%b8%9a%e0%b9%89%e0%b8%b2%e0%b8%99%e0%b8%97%e0%b8%a3%e0%b8%87%e0%b9%84%e0%b8%97%e0%b8%a2-%e0%b8%a2%e0%b9%88%e0%b8%b2%e0%b8%99%e0%b8%a7%e0%b8%87%e0%b8%a8%e0%b9%8c%e0%b8%aa%e0%b8%a7%e0%b9%88-424/
LOCATION:บ้านทรงไทย (ย่านวงศ์สว่าง)\, หน่วยรับบริจาคโลหิต บ้านทรงไทย(ย่านวงศ์สว่าง) 1423 ถนนกรุงเทพ-นนทบุรี แขวงวงศ์สว่าง เขตบางซื่อ กรุงเทพมหานคร 10800
CATEGORIES:ปฏิทินตารางหน่วยเคลื่อนที่
END:VEVENT
BEGIN:VEVENT
DTSTART;TZID=Asia/Krasnoyarsk:20260428T090000
DTEND;TZID=Asia/Krasnoyarsk:20260428T150000
DTSTAMP:20260421T120953
CREATED:20260420T063246Z
LAST-MODIFIED:20260420T063246Z
UID:10006611-1777366800-1777388400@thaibloodcentre.redcross.or.th
SUMMARY:บริษัท ไทยแอร์เอเชีย จำกัด []
DESCRIPTION:สถานที่เจาะ : โถงชั้น 3 เอเชีย เอวิเอชั่น อะคาเดมี่ (พัก 12.00-13.00 น.) \nที่อยู่ : ตรงข้ามวิภาวดีรังสิต 35 แขวงสนามบิน เขตดอนเมือง กรุงเทพฯ
URL:https://thaibloodcentre.redcross.or.th/event/%e0%b8%9a%e0%b8%a3%e0%b8%b4%e0%b8%a9%e0%b8%b1%e0%b8%97-%e0%b9%84%e0%b8%97%e0%b8%a2%e0%b9%81%e0%b8%ad%e0%b8%a3%e0%b9%8c%e0%b9%80%e0%b8%ad%e0%b9%80%e0%b8%8a%e0%b8%b5%e0%b8%a2-%e0%b8%88%e0%b8%b3-5/
LOCATION:บริษัท ไทยแอร์เอเชีย จำกัด\, บริษัท ไทยแอร์เอเชีย จำกัด 222 ท่าอากาศยานดอนเมือง อาคารส่วนกลางชั้น 3 ห้องหมายเลข 3200 ถนนวิภาวดีรังสิต แขวงสนามบิน เขตดอนเมือง กรุงเทพฯ 10210
CATEGORIES:ปฏิทินตารางหน่วยเคลื่อนที่
END:VEVENT
BEGIN:VEVENT
DTSTART;TZID=Asia/Krasnoyarsk:20260428T090000
DTEND;TZID=Asia/Krasnoyarsk:20260428T150000
DTSTAMP:20260421T120953
CREATED:20260420T063248Z
LAST-MODIFIED:20260420T063248Z
UID:10006612-1777366800-1777388400@thaibloodcentre.redcross.or.th
SUMMARY:ธนาคารเกียรตินาคินภัทร จำกัด (มหาชน) []
DESCRIPTION:สถานที่เจาะ : ห้อง 601-603 ชั้น 6 อาคาร เคเคพี ทาวเวอร์ เอ \nที่อยู่ : 209 ถนนสุขุมวิท 21 (อโศก) แขวงคลองเตย เขตวัฒนา กรุงเทพฯ 0 2495 3450
URL:https://thaibloodcentre.redcross.or.th/event/%e0%b8%98%e0%b8%99%e0%b8%b2%e0%b8%84%e0%b8%b2%e0%b8%a3%e0%b9%80%e0%b8%81%e0%b8%b5%e0%b8%a2%e0%b8%a3%e0%b8%95%e0%b8%b4%e0%b8%99%e0%b8%b2%e0%b8%84%e0%b8%b4%e0%b8%99%e0%b8%a0%e0%b8%b1%e0%b8%97%e0%b8%a3-3/
LOCATION:ธนาคารเกียรตินาคินภัทร จำกัด (มหาชน)\, อาคาร เคเคพี ทาวเวอร์ 209 ถนนสุขุมวิท 21 แขวงคลองเตยเหนือ เขตวัฒนา กรุงเทพมหานคร 10110
CATEGORIES:ปฏิทินตารางหน่วยเคลื่อนที่
END:VEVENT
BEGIN:VEVENT
DTSTART;TZID=Asia/Krasnoyarsk:20260428T090000
DTEND;TZID=Asia/Krasnoyarsk:20260428T150000
DTSTAMP:20260421T120953
CREATED:20260420T064701Z
LAST-MODIFIED:20260420T064701Z
UID:10006613-1777366800-1777388400@thaibloodcentre.redcross.or.th
SUMMARY:สำนักงานพัฒนาวิทยาศาสตร์และเทคโนโลยีแห่งชาติ []
DESCRIPTION:สถานที่เจาะ : ห้องประชุม CO-113 (พัก 12.00-13.00 น.) \nที่อยู่ : 111 ถ.พหลโยธิน (อยู่ใน มธ.ศูนย์รังสิต) ต.คลองหนึ่ง อ.คลองหลวง ปทุมธานี 0 2564 7000
URL:https://thaibloodcentre.redcross.or.th/event/%e0%b8%aa%e0%b8%b3%e0%b8%99%e0%b8%b1%e0%b8%81%e0%b8%87%e0%b8%b2%e0%b8%99%e0%b8%9e%e0%b8%b1%e0%b8%92%e0%b8%99%e0%b8%b2%e0%b8%a7%e0%b8%b4%e0%b8%97%e0%b8%a2%e0%b8%b2%e0%b8%a8%e0%b8%b2%e0%b8%aa%e0%b8%95-4/
LOCATION:สำนักงานพัฒนาวิทยาศาสตร์และเทคโนโลยีแห่งชาติ\, อุทยานวิทยาศาสตร์ประเทศไทย 111 ถ.พหลโยธิน ต.คลองหนึ่ง อ.คลองหลวง จ.ปทุมธานี 12120
CATEGORIES:ปฏิทินตารางหน่วยเคลื่อนที่
END:VEVENT
BEGIN:VEVENT
DTSTART;TZID=Asia/Krasnoyarsk:20260428T120000
DTEND;TZID=Asia/Krasnoyarsk:20260428T160000
DTSTAMP:20260421T120953
CREATED:20260420T064704Z
LAST-MODIFIED:20260420T064704Z
UID:10006614-1777377600-1777392000@thaibloodcentre.redcross.or.th
SUMMARY:คณะแพทย์ศาสตร์ จุฬาลงกรณ์มหาวิทยาลัย []
DESCRIPTION:สถานที่เจาะ : ลานอเนกประสงค์ชั้น 1 อาคารอานันทมหิดล \nที่อยู่ : 1873 ถนนพระรามที่ 4 แขวงปทุมวัน เขตปทุมวัน กรุงเทพฯ 0 2256 4183
URL:https://thaibloodcentre.redcross.or.th/event/%e0%b8%84%e0%b8%93%e0%b8%b0%e0%b9%81%e0%b8%9e%e0%b8%97%e0%b8%a2%e0%b9%8c%e0%b8%a8%e0%b8%b2%e0%b8%aa%e0%b8%95%e0%b8%a3%e0%b9%8c-%e0%b8%88%e0%b8%b8%e0%b8%ac%e0%b8%b2%e0%b8%a5%e0%b8%87%e0%b8%81-13/
LOCATION:คณะแพทย์ศาสตร์ จุฬาลงกรณ์มหาวิทยาลัย\, คณะแพทย์ศาสตร์ จุฬาลงกรณ์มหาวิทยาลัย 1873 ถ. พระรามที่ 4 แขวงปทุมวัน เขตปทุมวัน กรุงเทพมหานคร 10330
CATEGORIES:ปฏิทินตารางหน่วยเคลื่อนที่
END:VEVENT
BEGIN:VEVENT
DTSTART;TZID=Asia/Krasnoyarsk:20260428T120000
DTEND;TZID=Asia/Krasnoyarsk:20260428T180000
DTSTAMP:20260421T120953
CREATED:20260420T063025Z
LAST-MODIFIED:20260420T063025Z
UID:10006604-1777377600-1777399200@thaibloodcentre.redcross.or.th
SUMMARY:ศูนย์การค้าเดอะมอลล์ไลฟ์สโตร์ บางแค []
DESCRIPTION:สถานที่เจาะ : ชั้น 3 ตรงข้ามร้านโอ้กะจู๋ \nที่อยู่ : ถนนเพชรเกษม แขวงบางแคเหนือ เขตภาษีเจริญ กรุงเทพฯ 02 487 1221
URL:https://thaibloodcentre.redcross.or.th/event/%e0%b8%a8%e0%b8%b9%e0%b8%99%e0%b8%a2%e0%b9%8c%e0%b8%81%e0%b8%b2%e0%b8%a3%e0%b8%84%e0%b9%89%e0%b8%b2%e0%b9%80%e0%b8%94%e0%b8%ad%e0%b8%b0%e0%b8%a1%e0%b8%ad%e0%b8%a5%e0%b8%a5%e0%b9%8c%e0%b9%84-1721/
LOCATION:ศูนย์การค้าเดอะมอลล์ไลฟ์สโตร์ บางแค\, ศูนย์การค้าเดอะมอลล์ไลฟ์สโตร์ บางแค
CATEGORIES:ปฏิทินตารางหน่วยเคลื่อนที่
END:VEVENT
BEGIN:VEVENT
DTSTART;TZID=Asia/Krasnoyarsk:20260428T120000
DTEND;TZID=Asia/Krasnoyarsk:20260428T180000
DTSTAMP:20260421T120953
CREATED:20260420T063041Z
LAST-MODIFIED:20260420T063041Z
UID:10006605-1777377600-1777399200@thaibloodcentre.redcross.or.th
SUMMARY:ศูนย์การค้าเดอะมอลล์ไลฟ์สโตร์ บางกะปิ []
DESCRIPTION:สถานที่เจาะ : ชั้น 2 ทางออกลานจอดรถ \nที่อยู่ : ถนนลาดพร้าว แขวงคลองจั่น เขตบางกะปิ กรุงเทพฯ 0 2310 2278
URL:https://thaibloodcentre.redcross.or.th/event/%e0%b8%a8%e0%b8%b9%e0%b8%99%e0%b8%a2%e0%b9%8c%e0%b8%81%e0%b8%b2%e0%b8%a3%e0%b8%84%e0%b9%89%e0%b8%b2%e0%b9%80%e0%b8%94%e0%b8%ad%e0%b8%b0%e0%b8%a1%e0%b8%ad%e0%b8%a5%e0%b8%a5%e0%b9%8c%e0%b9%84-1722/
LOCATION:ศูนย์การค้าเดอะมอลล์ไลฟ์สโตร์ บางกะปิ\, เดอะมอลล์ไลฟ์สโตร์ บางกะปิ 3522 ถ. ลาดพร้าว แขวงคลองจั่น เขตบางกะปิ กรุงเทพมหานคร 10240
CATEGORIES:ปฏิทินตารางหน่วยเคลื่อนที่
END:VEVENT
BEGIN:VEVENT
DTSTART;TZID=Asia/Krasnoyarsk:20260428T120000
DTEND;TZID=Asia/Krasnoyarsk:20260428T180000
DTSTAMP:20260421T120953
CREATED:20260420T063055Z
LAST-MODIFIED:20260420T063055Z
UID:10006606-1777377600-1777399200@thaibloodcentre.redcross.or.th
SUMMARY:ศูนย์การค้าเดอะมอลล์ไลฟ์สโตร์ งามวงศ์วาน []
DESCRIPTION:สถานที่เจาะ : ชั้น 5 โซน Government Center \nที่อยู่ : ถนนงามวงศ์วาน ต.บางเขน อ.เมือง จ.นนทบุรี 0 2555 1550
URL:https://thaibloodcentre.redcross.or.th/event/%e0%b8%a8%e0%b8%b9%e0%b8%99%e0%b8%a2%e0%b9%8c%e0%b8%81%e0%b8%b2%e0%b8%a3%e0%b8%84%e0%b9%89%e0%b8%b2%e0%b9%80%e0%b8%94%e0%b8%ad%e0%b8%b0%e0%b8%a1%e0%b8%ad%e0%b8%a5%e0%b8%a5%e0%b9%8c%e0%b9%84-1723/
LOCATION:ศูนย์การค้าเดอะมอลล์ไลฟ์สโตร์ งามวงศ์วาน\, เดอะมอลล์ ไลฟ์สโตร์ งามวงศ์วาน 430 ถนน งามวงศ์วาน ตำบลบางเขน อำเภอเมืองนนทบุรี นนทบุรี 11000
CATEGORIES:ปฏิทินตารางหน่วยเคลื่อนที่
END:VEVENT
BEGIN:VEVENT
DTSTART;TZID=Asia/Krasnoyarsk:20260428T120000
DTEND;TZID=Asia/Krasnoyarsk:20260428T180000
DTSTAMP:20260421T120953
CREATED:20260420T063110Z
LAST-MODIFIED:20260420T063110Z
UID:10006607-1777377600-1777399200@thaibloodcentre.redcross.or.th
SUMMARY:ศูนย์การค้า เอ็มโพเรียม []
DESCRIPTION:สถานที่เจาะ : ชั้น M ศูนย์การค้า ดิ เอ็มโพเรียม เชื่อมลานจอดรถอาคาร B \nที่อยู่ : 622 ถนนสุขุมวิท แขวงคลองตัน เขตคลองเตย กรุงเทพฯ 0 2269 1515
URL:https://thaibloodcentre.redcross.or.th/event/%e0%b8%a8%e0%b8%b9%e0%b8%99%e0%b8%a2%e0%b9%8c%e0%b8%81%e0%b8%b2%e0%b8%a3%e0%b8%84%e0%b9%89%e0%b8%b2-%e0%b9%80%e0%b8%ad%e0%b9%87%e0%b8%a1%e0%b9%82%e0%b8%9e%e0%b9%80%e0%b8%a3%e0%b8%b5%e0%b8%a2-427/
LOCATION:ศูนย์การค้า เอ็มโพเรียม\, เอ็มโพเรียม 622 ถ. สุขุมวิท แขวงคลองตัน เขตคลองเตย กรุงเทพมหานคร 10110
CATEGORIES:ปฏิทินตารางหน่วยเคลื่อนที่
END:VEVENT
BEGIN:VEVENT
DTSTART;TZID=Asia/Krasnoyarsk:20260428T120000
DTEND;TZID=Asia/Krasnoyarsk:20260428T180000
DTSTAMP:20260421T120953
CREATED:20260420T063221Z
LAST-MODIFIED:20260420T063221Z
UID:10006608-1777377600-1777399200@thaibloodcentre.redcross.or.th
SUMMARY:ศูนย์การค้าเดอะมอลล์ไลฟ์สโตร์ ท่าพระ []
DESCRIPTION:สถานที่เจาะ : ชั้น 1 (ติดลานจอดรถ) \nที่อยู่ : 99 ถนนรัชดาท่าพระตัดใหม่ แขวงบุคคโล เขตธนบุรี กรุงเทพฯ 0 2469-1000
URL:https://thaibloodcentre.redcross.or.th/event/%e0%b8%a8%e0%b8%b9%e0%b8%99%e0%b8%a2%e0%b9%8c%e0%b8%81%e0%b8%b2%e0%b8%a3%e0%b8%84%e0%b9%89%e0%b8%b2%e0%b9%80%e0%b8%94%e0%b8%ad%e0%b8%b0%e0%b8%a1%e0%b8%ad%e0%b8%a5%e0%b8%a5%e0%b9%8c%e0%b9%84-1724/
LOCATION:ศูนย์การค้าเดอะมอลล์ไลฟ์สโตร์ ท่าพระ\, เดอะมอลล์ไลฟ์สโตร์ ท่าพระ 129 ถ. รัชดาภิเษก แขวงบุคคโล เขตธนบุรี กรุงเทพมหานคร 10600
CATEGORIES:ปฏิทินตารางหน่วยเคลื่อนที่
END:VEVENT
BEGIN:VEVENT
DTSTART;TZID=Asia/Krasnoyarsk:20260428T130000
DTEND;TZID=Asia/Krasnoyarsk:20260428T150000
DTSTAMP:20260421T120953
CREATED:20260420T064709Z
LAST-MODIFIED:20260420T064709Z
UID:10006616-1777381200-1777388400@thaibloodcentre.redcross.or.th
SUMMARY:เซ็นทรัลพลาซา เวสต์เกต []
DESCRIPTION:สถานที่เจาะ : จุดจอดรถประตูยูนิโคล่ \nที่อยู่ : 199\,199/1\,199/2 ถ.กาญจนาภิเษก ต.เสาธงหิน อ.บางใหญ่ จ.นนทบุรี 0 2101 7999
URL:https://thaibloodcentre.redcross.or.th/event/%e0%b9%80%e0%b8%8b%e0%b9%87%e0%b8%99%e0%b8%97%e0%b8%a3%e0%b8%b1%e0%b8%a5%e0%b8%9e%e0%b8%a5%e0%b8%b2%e0%b8%8b%e0%b8%b2-%e0%b9%80%e0%b8%a7%e0%b8%aa%e0%b8%95%e0%b9%8c%e0%b9%80%e0%b8%81%e0%b8%95-13/
LOCATION:เซ็นทรัลพลาซา เวสต์เกต\, เซ็นทรัลพลาซา เวสต์เกต 199\, 199/1 199/2 ถ. กาญจนาภิเษก ตำบล เสาธงหิน อำเภอบางใหญ่ นนทบุรี 11140
CATEGORIES:ปฏิทินตารางหน่วยเคลื่อนที่
END:VEVENT
END:VCALENDAR