BEGIN:VCALENDAR
VERSION:2.0
PRODID:-//เว็บไซต์ศูนย์บริการโลหิตแห่งชาติ - ECPv6.11.2.1//NONSGML v1.0//EN
CALSCALE:GREGORIAN
METHOD:PUBLISH
X-WR-CALNAME:เว็บไซต์ศูนย์บริการโลหิตแห่งชาติ
X-ORIGINAL-URL:https://thaibloodcentre.redcross.or.th
X-WR-CALDESC:Events for เว็บไซต์ศูนย์บริการโลหิตแห่งชาติ
REFRESH-INTERVAL;VALUE=DURATION:PT1H
X-Robots-Tag:noindex
X-PUBLISHED-TTL:PT1H
BEGIN:VTIMEZONE
TZID:Asia/Krasnoyarsk
BEGIN:STANDARD
TZOFFSETFROM:+0700
TZOFFSETTO:+0700
TZNAME:+07
DTSTART:20260101T000000
END:STANDARD
END:VTIMEZONE
BEGIN:VEVENT
DTSTART;TZID=Asia/Krasnoyarsk:20260319T123000
DTEND;TZID=Asia/Krasnoyarsk:20260319T150000
DTSTAMP:20260421T041103
CREATED:20260312T034405Z
LAST-MODIFIED:20260318T121626Z
UID:10006122-1773923400-1773932400@thaibloodcentre.redcross.or.th
SUMMARY:บริษัท เอ็มเค เรสโตรองต์ กรุ๊ป จำกัด (มหาชน) (ครัวกลางบางนา 5) []
DESCRIPTION:สถานที่เจาะ : หน้าสำนักงาน \nที่อยู่ : 60/9 \, 61/9 ม.1 ถ.บางนา-ตราด กม.21 ต.ศรีษะจรเข้ใหญ่ อ.บางเสาธง จ.สมุทรปราการ  \nโทร : 0 2836 1055
URL:https://thaibloodcentre.redcross.or.th/event/%e0%b8%9a%e0%b8%a3%e0%b8%b4%e0%b8%a9%e0%b8%b1%e0%b8%97-%e0%b9%80%e0%b8%ad%e0%b9%87%e0%b8%a1%e0%b9%80%e0%b8%84-%e0%b9%80%e0%b8%a3%e0%b8%aa%e0%b9%82%e0%b8%95%e0%b8%a3%e0%b8%ad%e0%b8%87%e0%b8%95-3/
LOCATION:บริษัท เอ็มเค เรสโตรองต์ กรุ๊ป จำกัด (มหาชน) (ครัวกลางบางนา 5)\, บริษัท เอ็มเค เรสโตรองต์ กรุ๊ป จำกัด (มหาชน) (ครัวกลางบางนา 5) 60/9-61/9 ม.1 ถ.บางนา-ตราด กม.21 ต.ศีรษะจรเข้ใหญ่ อ.บางเสาธง จ.สมุทรปราการ 10540
CATEGORIES:ปฏิทินตารางหน่วยเคลื่อนที่
END:VEVENT
BEGIN:VEVENT
DTSTART;TZID=Asia/Krasnoyarsk:20260319T120000
DTEND;TZID=Asia/Krasnoyarsk:20260319T180000
DTSTAMP:20260421T041104
CREATED:20260312T032832Z
LAST-MODIFIED:20260318T121607Z
UID:10006115-1773921600-1773943200@thaibloodcentre.redcross.or.th
SUMMARY:ศูนย์การค้าเดอะมอลล์ไลฟ์สโตร์ ท่าพระ []
DESCRIPTION:สถานที่เจาะ : ชั้น 1 (ติดลานจอดรถ) \nที่อยู่ : 99 ถนนรัชดาท่าพระตัดใหม่ แขวงบุคคโล เขตธนบุรี กรุงเทพฯ  \nโทร : 0 2469-1000
URL:https://thaibloodcentre.redcross.or.th/event/%e0%b8%a8%e0%b8%b9%e0%b8%99%e0%b8%a2%e0%b9%8c%e0%b8%81%e0%b8%b2%e0%b8%a3%e0%b8%84%e0%b9%89%e0%b8%b2%e0%b9%80%e0%b8%94%e0%b8%ad%e0%b8%b0%e0%b8%a1%e0%b8%ad%e0%b8%a5%e0%b8%a5%e0%b9%8c%e0%b9%84-1570/
LOCATION:ศูนย์การค้าเดอะมอลล์ไลฟ์สโตร์ ท่าพระ\, เดอะมอลล์ไลฟ์สโตร์ ท่าพระ 129 ถ. รัชดาภิเษก แขวงบุคคโล เขตธนบุรี กรุงเทพมหานคร 10600
CATEGORIES:ปฏิทินตารางหน่วยเคลื่อนที่
END:VEVENT
BEGIN:VEVENT
DTSTART;TZID=Asia/Krasnoyarsk:20260319T120000
DTEND;TZID=Asia/Krasnoyarsk:20260319T180000
DTSTAMP:20260421T041104
CREATED:20260312T032826Z
LAST-MODIFIED:20260318T121601Z
UID:10006114-1773921600-1773943200@thaibloodcentre.redcross.or.th
SUMMARY:ศูนย์การค้า เอ็มโพเรียม []
DESCRIPTION:สถานที่เจาะ : ชั้น M ศูนย์การค้า ดิ เอ็มโพเรียม เชื่อมลานจอดรถอาคาร B \nที่อยู่ : 622 ถนนสุขุมวิท แขวงคลองตัน เขตคลองเตย กรุงเทพฯ  \nโทร : 0 2269 1515
URL:https://thaibloodcentre.redcross.or.th/event/%e0%b8%a8%e0%b8%b9%e0%b8%99%e0%b8%a2%e0%b9%8c%e0%b8%81%e0%b8%b2%e0%b8%a3%e0%b8%84%e0%b9%89%e0%b8%b2-%e0%b9%80%e0%b8%ad%e0%b9%87%e0%b8%a1%e0%b9%82%e0%b8%9e%e0%b9%80%e0%b8%a3%e0%b8%b5%e0%b8%a2-389/
LOCATION:ศูนย์การค้า เอ็มโพเรียม\, เอ็มโพเรียม 622 ถ. สุขุมวิท แขวงคลองตัน เขตคลองเตย กรุงเทพมหานคร 10110
CATEGORIES:ปฏิทินตารางหน่วยเคลื่อนที่
END:VEVENT
BEGIN:VEVENT
DTSTART;TZID=Asia/Krasnoyarsk:20260319T120000
DTEND;TZID=Asia/Krasnoyarsk:20260319T180000
DTSTAMP:20260421T041104
CREATED:20260312T032812Z
LAST-MODIFIED:20260318T121600Z
UID:10006113-1773921600-1773943200@thaibloodcentre.redcross.or.th
SUMMARY:ศูนย์การค้าเดอะมอลล์ไลฟ์สโตร์ งามวงศ์วาน []
DESCRIPTION:สถานที่เจาะ : ชั้น 5 โซน Government Center \nที่อยู่ : ถนนงามวงศ์วาน ต.บางเขน อ.เมือง จ.นนทบุรี  \nโทร : 0 2555 1550
URL:https://thaibloodcentre.redcross.or.th/event/%e0%b8%a8%e0%b8%b9%e0%b8%99%e0%b8%a2%e0%b9%8c%e0%b8%81%e0%b8%b2%e0%b8%a3%e0%b8%84%e0%b9%89%e0%b8%b2%e0%b9%80%e0%b8%94%e0%b8%ad%e0%b8%b0%e0%b8%a1%e0%b8%ad%e0%b8%a5%e0%b8%a5%e0%b9%8c%e0%b9%84-1569/
LOCATION:ศูนย์การค้าเดอะมอลล์ไลฟ์สโตร์ งามวงศ์วาน\, เดอะมอลล์ ไลฟ์สโตร์ งามวงศ์วาน 430 ถนน งามวงศ์วาน ตำบลบางเขน อำเภอเมืองนนทบุรี นนทบุรี 11000
CATEGORIES:ปฏิทินตารางหน่วยเคลื่อนที่
END:VEVENT
BEGIN:VEVENT
DTSTART;TZID=Asia/Krasnoyarsk:20260319T120000
DTEND;TZID=Asia/Krasnoyarsk:20260319T180000
DTSTAMP:20260421T041104
CREATED:20260312T032758Z
LAST-MODIFIED:20260318T121559Z
UID:10006112-1773921600-1773943200@thaibloodcentre.redcross.or.th
SUMMARY:ศูนย์การค้าเดอะมอลล์ไลฟ์สโตร์ บางกะปิ []
DESCRIPTION:สถานที่เจาะ : ชั้น 2 ทางออกลานจอดรถ \nที่อยู่ : ถนนลาดพร้าว แขวงคลองจั่น เขตบางกะปิ กรุงเทพฯ  \nโทร : 0 2310 2278
URL:https://thaibloodcentre.redcross.or.th/event/%e0%b8%a8%e0%b8%b9%e0%b8%99%e0%b8%a2%e0%b9%8c%e0%b8%81%e0%b8%b2%e0%b8%a3%e0%b8%84%e0%b9%89%e0%b8%b2%e0%b9%80%e0%b8%94%e0%b8%ad%e0%b8%b0%e0%b8%a1%e0%b8%ad%e0%b8%a5%e0%b8%a5%e0%b9%8c%e0%b9%84-1568/
LOCATION:ศูนย์การค้าเดอะมอลล์ไลฟ์สโตร์ บางกะปิ\, เดอะมอลล์ไลฟ์สโตร์ บางกะปิ 3522 ถ. ลาดพร้าว แขวงคลองจั่น เขตบางกะปิ กรุงเทพมหานคร 10240
CATEGORIES:ปฏิทินตารางหน่วยเคลื่อนที่
END:VEVENT
BEGIN:VEVENT
DTSTART;TZID=Asia/Krasnoyarsk:20260319T120000
DTEND;TZID=Asia/Krasnoyarsk:20260319T180000
DTSTAMP:20260421T041104
CREATED:20260312T032743Z
LAST-MODIFIED:20260318T121558Z
UID:10006111-1773921600-1773943200@thaibloodcentre.redcross.or.th
SUMMARY:ศูนย์การค้าเดอะมอลล์ไลฟ์สโตร์ บางแค []
DESCRIPTION:สถานที่เจาะ : ชั้น 3 ตรงข้ามร้านโอ้กะจู๋ \nที่อยู่ : ถนนเพชรเกษม แขวงบางแคเหนือ เขตภาษีเจริญ กรุงเทพฯ  \nโทร : 02 487 1221
URL:https://thaibloodcentre.redcross.or.th/event/%e0%b8%a8%e0%b8%b9%e0%b8%99%e0%b8%a2%e0%b9%8c%e0%b8%81%e0%b8%b2%e0%b8%a3%e0%b8%84%e0%b9%89%e0%b8%b2%e0%b9%80%e0%b8%94%e0%b8%ad%e0%b8%b0%e0%b8%a1%e0%b8%ad%e0%b8%a5%e0%b8%a5%e0%b9%8c%e0%b9%84-1567/
LOCATION:ศูนย์การค้าเดอะมอลล์ไลฟ์สโตร์ บางแค\, ศูนย์การค้าเดอะมอลล์ไลฟ์สโตร์ บางแค
CATEGORIES:ปฏิทินตารางหน่วยเคลื่อนที่
END:VEVENT
BEGIN:VEVENT
DTSTART;TZID=Asia/Krasnoyarsk:20260319T120000
DTEND;TZID=Asia/Krasnoyarsk:20260319T150000
DTSTAMP:20260421T041104
CREATED:20260312T034412Z
LAST-MODIFIED:20260318T121628Z
UID:10006124-1773921600-1773932400@thaibloodcentre.redcross.or.th
SUMMARY:โรงพยาบาลเซนต์หลุยส์ []
DESCRIPTION:สถานที่เจาะ : ด้านข้างอาคารเมตตาธรรม \nที่อยู่ : 27 ถนนสาทรใต้ แขวงยานนาวา เขตสาทร กรุงเทพฯ  \nโทร : 0 2838 5555
URL:https://thaibloodcentre.redcross.or.th/event/%e0%b9%82%e0%b8%a3%e0%b8%87%e0%b8%9e%e0%b8%a2%e0%b8%b2%e0%b8%9a%e0%b8%b2%e0%b8%a5%e0%b9%80%e0%b8%8b%e0%b8%99%e0%b8%95%e0%b9%8c%e0%b8%ab%e0%b8%a5%e0%b8%b8%e0%b8%a2%e0%b8%aa%e0%b9%8c-4/
LOCATION:โรงพยาบาลเซนต์หลุยส์\, โรงพยาบาลเซนต์หลุยส์ 27 ถนนสาทรใต้ แขวงยานนาวา เขตสาทร กรุงเทพฯ 10120
CATEGORIES:ปฏิทินตารางหน่วยเคลื่อนที่
END:VEVENT
BEGIN:VEVENT
DTSTART;TZID=Asia/Krasnoyarsk:20260319T110000
DTEND;TZID=Asia/Krasnoyarsk:20260319T150000
DTSTAMP:20260421T041104
CREATED:20260312T034415Z
LAST-MODIFIED:20260318T121639Z
UID:10006125-1773918000-1773932400@thaibloodcentre.redcross.or.th
SUMMARY:บริษัท ซีพีแรม จำกัด (ลาดกระบัง) []
DESCRIPTION:สถานที่เจาะ : หน้าเสาธงโรงงานลาดกระบัง 1 \nที่อยู่ : 149 ฉลองกรุง 31 แขวงลำปลาทิว เขตลาดกระบัง กรุงเทพฯ  \nโทร : 0 2844 8300-12
URL:https://thaibloodcentre.redcross.or.th/event/%e0%b8%9a%e0%b8%a3%e0%b8%b4%e0%b8%a9%e0%b8%b1%e0%b8%97-%e0%b8%8b%e0%b8%b5%e0%b8%9e%e0%b8%b5%e0%b9%81%e0%b8%a3%e0%b8%a1-%e0%b8%88%e0%b8%b3%e0%b8%81%e0%b8%b1%e0%b8%94-%e0%b8%a5%e0%b8%b2%e0%b8%94-7/
LOCATION:บริษัท ซีพีแรม จำกัด (ลาดกระบัง)\, บริษัท ซีพีแรม จำกัด (ลาดกระบัง) 149 ซอยฉลองกรุง 31 แขวงลำปลาทิว เขตลาดกระบัง กรุงเทพมหานคร 10520
CATEGORIES:ปฏิทินตารางหน่วยเคลื่อนที่
END:VEVENT
BEGIN:VEVENT
DTSTART;TZID=Asia/Krasnoyarsk:20260319T110000
DTEND;TZID=Asia/Krasnoyarsk:20260319T150000
DTSTAMP:20260421T041104
CREATED:20260312T032957Z
LAST-MODIFIED:20260318T121624Z
UID:10006120-1773918000-1773932400@thaibloodcentre.redcross.or.th
SUMMARY:บริษัท ไทยโตชิบาอุตสาหกรรม จำกัด (สนามบินน้ำ) []
DESCRIPTION:สถานที่เจาะ : ห้องประชุม ชั้น 3 \nที่อยู่ : 129/1-5 ถ.ติวานนท์ ต.ท่าทราย อ.เมืองนนทบุรี จ.นนทบุรี  \nโทร : 0 2589 0160-7
URL:https://thaibloodcentre.redcross.or.th/event/%e0%b8%9a%e0%b8%a3%e0%b8%b4%e0%b8%a9%e0%b8%b1%e0%b8%97-%e0%b9%84%e0%b8%97%e0%b8%a2%e0%b9%82%e0%b8%95%e0%b8%8a%e0%b8%b4%e0%b8%9a%e0%b8%b2%e0%b8%ad%e0%b8%b8%e0%b8%95%e0%b8%aa%e0%b8%b2%e0%b8%ab-12/
LOCATION:บริษัท ไทยโตชิบาอุตสาหกรรม จำกัด (สนามบินน้ำ)
CATEGORIES:ปฏิทินตารางหน่วยเคลื่อนที่
END:VEVENT
BEGIN:VEVENT
DTSTART;TZID=Asia/Krasnoyarsk:20260319T090000
DTEND;TZID=Asia/Krasnoyarsk:20260319T150000
DTSTAMP:20260421T041104
CREATED:20260312T034600Z
LAST-MODIFIED:20260318T121640Z
UID:10006126-1773910800-1773932400@thaibloodcentre.redcross.or.th
SUMMARY:บริษัท โตโยต้าบัสส์ จำกัด สาขาวิภาวดี []
DESCRIPTION:สถานที่เจาะ : ห้องประชุม ชั้น 5 \nที่อยู่ : 999 ถนนวิภาวดีรังสิต แขวงจตุจักร เขตจตุจักร กรุงเทพฯ
URL:https://thaibloodcentre.redcross.or.th/event/%e0%b8%9a%e0%b8%a3%e0%b8%b4%e0%b8%a9%e0%b8%b1%e0%b8%97-%e0%b9%82%e0%b8%95%e0%b9%82%e0%b8%a2%e0%b8%95%e0%b9%89%e0%b8%b2%e0%b8%9a%e0%b8%b1%e0%b8%aa%e0%b8%aa%e0%b9%8c-%e0%b8%88%e0%b8%b3%e0%b8%81-5/
LOCATION:บริษัท โตโยต้าบัสส์ จำกัด สาขาวิภาวดี\, บริษัท โตโยต้าบัสส์ จำกัด สาขาวิภาวดี 999 ถนนวิภาวดีรังสิต แขวงจตุจักร เขตจตุจักร กรุงเทพมหานคร 10900
CATEGORIES:ปฏิทินตารางหน่วยเคลื่อนที่
END:VEVENT
BEGIN:VEVENT
DTSTART;TZID=Asia/Krasnoyarsk:20260319T090000
DTEND;TZID=Asia/Krasnoyarsk:20260319T150000
DTSTAMP:20260421T041104
CREATED:20260312T032954Z
LAST-MODIFIED:20260318T121610Z
UID:10006119-1773910800-1773932400@thaibloodcentre.redcross.or.th
SUMMARY:บริษัท กรุงเทพประกันภัย จำกัด (มหาชน) []
DESCRIPTION:สถานที่เจาะ : ห้อง 1103-1104 ชั้น 11 \nที่อยู่ : 25 ถนนสาทรใต้ แขวงทุ่งมหาเมฆ เขตสาทร กรุงเทพฯ  \nโทร : 0 2285 8515
URL:https://thaibloodcentre.redcross.or.th/event/%e0%b8%9a%e0%b8%a3%e0%b8%b4%e0%b8%a9%e0%b8%b1%e0%b8%97-%e0%b8%81%e0%b8%a3%e0%b8%b8%e0%b8%87%e0%b9%80%e0%b8%97%e0%b8%9e%e0%b8%9b%e0%b8%a3%e0%b8%b0%e0%b8%81%e0%b8%b1%e0%b8%99%e0%b8%a0%e0%b8%b1-5/
LOCATION:บริษัท กรุงเทพประกันภัย จำกัด (มหาชน)\, อาคารกรุงเทพประกันภัย 25 ถนนสาทรใต้ แขวงทุ่งมหาเมฆ เขตสาทร กรุงเทพมหานคร 10120
CATEGORIES:ปฏิทินตารางหน่วยเคลื่อนที่
END:VEVENT
BEGIN:VEVENT
DTSTART;TZID=Asia/Krasnoyarsk:20260319T090000
DTEND;TZID=Asia/Krasnoyarsk:20260319T150000
DTSTAMP:20260421T041104
CREATED:20260312T032952Z
LAST-MODIFIED:20260318T121610Z
UID:10006118-1773910800-1773932400@thaibloodcentre.redcross.or.th
SUMMARY:กระทรวงกลาโหม []
DESCRIPTION:สถานที่เจาะ : ห้องศรีสมาน 4 ชั้น 3 อาคารบริการ (พัก 12-13 น.) \nที่อยู่ : ถ.ศรีสมาน ต.บ้านใหม่ อ.ปากเกร็ด จ.นนทบุรี  \nโทร : 0 2222 9814
URL:https://thaibloodcentre.redcross.or.th/event/%e0%b8%81%e0%b8%a3%e0%b8%b0%e0%b8%97%e0%b8%a3%e0%b8%a7%e0%b8%87%e0%b8%81%e0%b8%a5%e0%b8%b2%e0%b9%82%e0%b8%ab%e0%b8%a1-2/
LOCATION:กระทรวงกลาโหม\, ถ.ศรีสมาน ต.บ้านใหม่ อ.ปากเกร็ด จ.นนทบุรี 11120 0.375
CATEGORIES:ปฏิทินตารางหน่วยเคลื่อนที่
END:VEVENT
BEGIN:VEVENT
DTSTART;TZID=Asia/Krasnoyarsk:20260319T090000
DTEND;TZID=Asia/Krasnoyarsk:20260319T150000
DTSTAMP:20260421T041104
CREATED:20260312T032948Z
LAST-MODIFIED:20260318T121609Z
UID:10006117-1773910800-1773932400@thaibloodcentre.redcross.or.th
SUMMARY:บ้านทรงไทย (ย่านวงศ์สว่าง) []
DESCRIPTION:สถานที่เจาะ : (พัก 12.30-13.00 น.) \nที่อยู่ : 1423 ถนนกรุงเทพ – นนทบุรี แขวงวงศ์สว่าง เขตบางซื่อ กรุงเทพฯ  \nโทร : 0 2256 4300
URL:https://thaibloodcentre.redcross.or.th/event/%e0%b8%9a%e0%b9%89%e0%b8%b2%e0%b8%99%e0%b8%97%e0%b8%a3%e0%b8%87%e0%b9%84%e0%b8%97%e0%b8%a2-%e0%b8%a2%e0%b9%88%e0%b8%b2%e0%b8%99%e0%b8%a7%e0%b8%87%e0%b8%a8%e0%b9%8c%e0%b8%aa%e0%b8%a7%e0%b9%88-389/
LOCATION:บ้านทรงไทย (ย่านวงศ์สว่าง)\, หน่วยรับบริจาคโลหิต บ้านทรงไทย(ย่านวงศ์สว่าง) 1423 ถนนกรุงเทพ-นนทบุรี แขวงวงศ์สว่าง เขตบางซื่อ กรุงเทพมหานคร 10800
CATEGORIES:ปฏิทินตารางหน่วยเคลื่อนที่
END:VEVENT
BEGIN:VEVENT
DTSTART;TZID=Asia/Krasnoyarsk:20260319T090000
DTEND;TZID=Asia/Krasnoyarsk:20260319T110000
DTSTAMP:20260421T041104
CREATED:20260312T034409Z
LAST-MODIFIED:20260318T121627Z
UID:10006123-1773910800-1773918000@thaibloodcentre.redcross.or.th
SUMMARY:บริษัท วิทยุการบินแห่งประเทศไทย จำกัด []
DESCRIPTION:สถานที่เจาะ : ข้างห้องปฐมพยาบาล \nที่อยู่ : 102 ซอยงามดูพลี ถนนนางลิ้นจี่ แขวงทุ่งมหาเมฆ เขตสาทร กรุงเทพฯ  \nโทร : 0 2287 8567
URL:https://thaibloodcentre.redcross.or.th/event/%e0%b8%9a%e0%b8%a3%e0%b8%b4%e0%b8%a9%e0%b8%b1%e0%b8%97-%e0%b8%a7%e0%b8%b4%e0%b8%97%e0%b8%a2%e0%b8%b8%e0%b8%81%e0%b8%b2%e0%b8%a3%e0%b8%9a%e0%b8%b4%e0%b8%99%e0%b9%81%e0%b8%ab%e0%b9%88%e0%b8%87-6/
LOCATION:บริษัท วิทยุการบินแห่งประเทศไทย จำกัด\, บริษัท วิทยุการบินแห่งประเทศไทย จำกัด 102 ซอยงามดูพลี ถนนนางลิ้นจี่ แขวงทุ่งมหาเมฆ เขตสาทร กรุงเทพฯ 10120
CATEGORIES:ปฏิทินตารางหน่วยเคลื่อนที่
END:VEVENT
BEGIN:VEVENT
DTSTART;TZID=Asia/Krasnoyarsk:20260319T090000
DTEND;TZID=Asia/Krasnoyarsk:20260319T110000
DTSTAMP:20260421T041104
CREATED:20260312T034400Z
LAST-MODIFIED:20260318T121625Z
UID:10006121-1773910800-1773918000@thaibloodcentre.redcross.or.th
SUMMARY:บริษัท อุตสาหกรรมทำเครื่องแก้วไทย จำกัด (มหาชน) โรงงานบางพลี []
DESCRIPTION:สถานที่เจาะ : ด้านหน้าโรงงาน \nที่อยู่ : 78 ม. 3 ซ.วัดศรีวารีน้อย ถ.บางนา-ตราด กม.18 ต.หนองปรือ อ.บางพลี จ.สมุทรปราการ  \nโทร : 0 2769 3500
URL:https://thaibloodcentre.redcross.or.th/event/%e0%b8%9a%e0%b8%a3%e0%b8%b4%e0%b8%a9%e0%b8%b1%e0%b8%97-%e0%b8%ad%e0%b8%b8%e0%b8%95%e0%b8%aa%e0%b8%b2%e0%b8%ab%e0%b8%81%e0%b8%a3%e0%b8%a3%e0%b8%a1%e0%b8%97%e0%b8%b3%e0%b9%80%e0%b8%84%e0%b8%a3-5/
LOCATION:บริษัท อุตสาหกรรมทำเครื่องแก้วไทย จำกัด (มหาชน) โรงงานบางพลี\, บริษัท อุตสาหกรรมทำเครื่องแก้วไทย จำกัด (มหาชน) โรงงานบางพลี 78 ม.3 ซ.วัดศรีวารีน้อย ถ.บางนา-ตราด ต.หนองปรือ อ.บางพลี จ.สมุทรปราการ 10540
CATEGORIES:ปฏิทินตารางหน่วยเคลื่อนที่
END:VEVENT
BEGIN:VEVENT
DTSTART;TZID=Asia/Krasnoyarsk:20260319T083000
DTEND;TZID=Asia/Krasnoyarsk:20260319T193000
DTSTAMP:20260421T041104
CREATED:20260312T032944Z
LAST-MODIFIED:20260318T121608Z
UID:10006116-1773909000-1773948600@thaibloodcentre.redcross.or.th
SUMMARY:สถานีกาชาด 11 วิเศษนิยม []
DESCRIPTION:สถานที่เจาะ : ชั้น 3 \nที่อยู่ : 33/3 ถนนเพชรเกษม แขวงบางหว้า เขตภาษีเจริญ กรุงเทพฯ  \nโทร : 0633450711
URL:https://thaibloodcentre.redcross.or.th/event/%e0%b8%aa%e0%b8%96%e0%b8%b2%e0%b8%99%e0%b8%b5%e0%b8%81%e0%b8%b2%e0%b8%8a%e0%b8%b2%e0%b8%94-11-%e0%b8%a7%e0%b8%b4%e0%b9%80%e0%b8%a8%e0%b8%a9%e0%b8%99%e0%b8%b4%e0%b8%a2%e0%b8%a1-207/
LOCATION:สถานีกาชาด 11 วิเศษนิยม\, สถานีกาชาด 11 วิเศษนิยม 605 ถ.เพชรเกษม แขวงบางหว้า เขตภาษีเจริญ กรุงเทพมหานคร 10160
CATEGORIES:ปฏิทินตารางหน่วยเคลื่อนที่
END:VEVENT
BEGIN:VEVENT
DTSTART;TZID=Asia/Krasnoyarsk:20260319T073000
DTEND;TZID=Asia/Krasnoyarsk:20260319T193000
DTSTAMP:20260421T041104
CREATED:20260312T032550Z
LAST-MODIFIED:20260318T121557Z
UID:10006110-1773905400-1773948600@thaibloodcentre.redcross.or.th
SUMMARY:ศูนย์บริการโลหิตแห่งชาติ สภากาชาดไทย []
DESCRIPTION:ที่อยู่ : 1871 ถ. อังรีดูนังต์ แขวงปทุมวัน เขตปทุมวัน
URL:https://thaibloodcentre.redcross.or.th/event/%e0%b8%a8%e0%b8%b9%e0%b8%99%e0%b8%a2%e0%b9%8c%e0%b8%9a%e0%b8%a3%e0%b8%b4%e0%b8%81%e0%b8%b2%e0%b8%a3%e0%b9%82%e0%b8%a5%e0%b8%ab%e0%b8%b4%e0%b8%95%e0%b9%81%e0%b8%ab%e0%b9%88%e0%b8%87%e0%b8%8a-472/
LOCATION:ศูนย์บริการโลหิตแห่งชาติ สภากาชาดไทย\, ศูนย์บริการโลหิตแห่งชาติ สภากาชาดไทย 1871 ถ. อังรีดูนังต์ แขวงปทุมวัน เขตปทุมวัน กรุงเทพมหานคร 10330
CATEGORIES:ปฏิทินตารางหน่วยเคลื่อนที่
END:VEVENT
BEGIN:VEVENT
DTSTART;TZID=Asia/Krasnoyarsk:20260318T130000
DTEND;TZID=Asia/Krasnoyarsk:20260318T150000
DTSTAMP:20260421T041104
CREATED:20260312T032345Z
LAST-MODIFIED:20260312T032345Z
UID:10006103-1773838800-1773846000@thaibloodcentre.redcross.or.th
SUMMARY:กลุ่มบริษัท สหยูเนี่ยน เขตบางชัน []
DESCRIPTION:สถานที่เจาะ : บริเวณถนนกลางข้าง UP
URL:https://thaibloodcentre.redcross.or.th/event/%e0%b8%81%e0%b8%a5%e0%b8%b8%e0%b9%88%e0%b8%a1%e0%b8%9a%e0%b8%a3%e0%b8%b4%e0%b8%a9%e0%b8%b1%e0%b8%97-%e0%b8%aa%e0%b8%ab%e0%b8%a2%e0%b8%b9%e0%b9%80%e0%b8%99%e0%b8%b5%e0%b9%88%e0%b8%a2%e0%b8%99-5/
LOCATION:กลุ่มบริษัท สหยูเนี่ยน เขตบางชัน\, บริษัท สหยูเนี่ยน เขตบางชัน 11/1 นิคมอุตสาหกรรมบางชัน ซอยเสรีไทย 62 แขวงมีนบุรี เขตมีนบุรี จังหวัดกรุงเทพมหานคร 10510
CATEGORIES:ปฏิทินตารางหน่วยเคลื่อนที่
END:VEVENT
BEGIN:VEVENT
DTSTART;TZID=Asia/Krasnoyarsk:20260318T120000
DTEND;TZID=Asia/Krasnoyarsk:20260318T180000
DTSTAMP:20260421T041104
CREATED:20260312T032200Z
LAST-MODIFIED:20260312T032200Z
UID:10006098-1773835200-1773856800@thaibloodcentre.redcross.or.th
SUMMARY:ศูนย์การค้าเดอะมอลล์ไลฟ์สโตร์ ท่าพระ []
DESCRIPTION:สถานที่เจาะ : ชั้น 1 (ติดลานจอดรถ)
URL:https://thaibloodcentre.redcross.or.th/event/%e0%b8%a8%e0%b8%b9%e0%b8%99%e0%b8%a2%e0%b9%8c%e0%b8%81%e0%b8%b2%e0%b8%a3%e0%b8%84%e0%b9%89%e0%b8%b2%e0%b9%80%e0%b8%94%e0%b8%ad%e0%b8%b0%e0%b8%a1%e0%b8%ad%e0%b8%a5%e0%b8%a5%e0%b9%8c%e0%b9%84-1566/
LOCATION:ศูนย์การค้าเดอะมอลล์ไลฟ์สโตร์ ท่าพระ\, เดอะมอลล์ไลฟ์สโตร์ ท่าพระ 129 ถ. รัชดาภิเษก แขวงบุคคโล เขตธนบุรี กรุงเทพมหานคร 10600
CATEGORIES:ปฏิทินตารางหน่วยเคลื่อนที่
END:VEVENT
BEGIN:VEVENT
DTSTART;TZID=Asia/Krasnoyarsk:20260318T120000
DTEND;TZID=Asia/Krasnoyarsk:20260318T180000
DTSTAMP:20260421T041104
CREATED:20260312T032155Z
LAST-MODIFIED:20260312T032155Z
UID:10006097-1773835200-1773856800@thaibloodcentre.redcross.or.th
SUMMARY:ศูนย์การค้า เอ็มโพเรียม []
DESCRIPTION:สถานที่เจาะ : ชั้น M ศูนย์การค้า ดิ เอ็มโพเรียม เชื่อมลานจอดรถอาคาร B
URL:https://thaibloodcentre.redcross.or.th/event/%e0%b8%a8%e0%b8%b9%e0%b8%99%e0%b8%a2%e0%b9%8c%e0%b8%81%e0%b8%b2%e0%b8%a3%e0%b8%84%e0%b9%89%e0%b8%b2-%e0%b9%80%e0%b8%ad%e0%b9%87%e0%b8%a1%e0%b9%82%e0%b8%9e%e0%b9%80%e0%b8%a3%e0%b8%b5%e0%b8%a2-388/
LOCATION:ศูนย์การค้า เอ็มโพเรียม\, เอ็มโพเรียม 622 ถ. สุขุมวิท แขวงคลองตัน เขตคลองเตย กรุงเทพมหานคร 10110
CATEGORIES:ปฏิทินตารางหน่วยเคลื่อนที่
END:VEVENT
BEGIN:VEVENT
DTSTART;TZID=Asia/Krasnoyarsk:20260318T120000
DTEND;TZID=Asia/Krasnoyarsk:20260318T180000
DTSTAMP:20260421T041104
CREATED:20260312T032140Z
LAST-MODIFIED:20260312T032140Z
UID:10006096-1773835200-1773856800@thaibloodcentre.redcross.or.th
SUMMARY:ศูนย์การค้าเดอะมอลล์ไลฟ์สโตร์ งามวงศ์วาน []
DESCRIPTION:สถานที่เจาะ : ชั้น 5 โซน Government Center
URL:https://thaibloodcentre.redcross.or.th/event/%e0%b8%a8%e0%b8%b9%e0%b8%99%e0%b8%a2%e0%b9%8c%e0%b8%81%e0%b8%b2%e0%b8%a3%e0%b8%84%e0%b9%89%e0%b8%b2%e0%b9%80%e0%b8%94%e0%b8%ad%e0%b8%b0%e0%b8%a1%e0%b8%ad%e0%b8%a5%e0%b8%a5%e0%b9%8c%e0%b9%84-1565/
LOCATION:ศูนย์การค้าเดอะมอลล์ไลฟ์สโตร์ งามวงศ์วาน\, เดอะมอลล์ ไลฟ์สโตร์ งามวงศ์วาน 430 ถนน งามวงศ์วาน ตำบลบางเขน อำเภอเมืองนนทบุรี นนทบุรี 11000
CATEGORIES:ปฏิทินตารางหน่วยเคลื่อนที่
END:VEVENT
BEGIN:VEVENT
DTSTART;TZID=Asia/Krasnoyarsk:20260318T120000
DTEND;TZID=Asia/Krasnoyarsk:20260318T180000
DTSTAMP:20260421T041104
CREATED:20260312T032006Z
LAST-MODIFIED:20260312T032006Z
UID:10006095-1773835200-1773856800@thaibloodcentre.redcross.or.th
SUMMARY:ศูนย์การค้าเดอะมอลล์ไลฟ์สโตร์ บางกะปิ []
DESCRIPTION:สถานที่เจาะ : ชั้น 2 ทางออกลานจอดรถ
URL:https://thaibloodcentre.redcross.or.th/event/%e0%b8%a8%e0%b8%b9%e0%b8%99%e0%b8%a2%e0%b9%8c%e0%b8%81%e0%b8%b2%e0%b8%a3%e0%b8%84%e0%b9%89%e0%b8%b2%e0%b9%80%e0%b8%94%e0%b8%ad%e0%b8%b0%e0%b8%a1%e0%b8%ad%e0%b8%a5%e0%b8%a5%e0%b9%8c%e0%b9%84-1564/
LOCATION:ศูนย์การค้าเดอะมอลล์ไลฟ์สโตร์ บางกะปิ\, เดอะมอลล์ไลฟ์สโตร์ บางกะปิ 3522 ถ. ลาดพร้าว แขวงคลองจั่น เขตบางกะปิ กรุงเทพมหานคร 10240
CATEGORIES:ปฏิทินตารางหน่วยเคลื่อนที่
END:VEVENT
BEGIN:VEVENT
DTSTART;TZID=Asia/Krasnoyarsk:20260318T120000
DTEND;TZID=Asia/Krasnoyarsk:20260318T180000
DTSTAMP:20260421T041104
CREATED:20260312T031952Z
LAST-MODIFIED:20260312T031952Z
UID:10006094-1773835200-1773856800@thaibloodcentre.redcross.or.th
SUMMARY:ศูนย์การค้าเดอะมอลล์ไลฟ์สโตร์ บางแค []
DESCRIPTION:สถานที่เจาะ : ชั้น 3 ตรงข้ามร้านโอ้กะจู๋
URL:https://thaibloodcentre.redcross.or.th/event/%e0%b8%a8%e0%b8%b9%e0%b8%99%e0%b8%a2%e0%b9%8c%e0%b8%81%e0%b8%b2%e0%b8%a3%e0%b8%84%e0%b9%89%e0%b8%b2%e0%b9%80%e0%b8%94%e0%b8%ad%e0%b8%b0%e0%b8%a1%e0%b8%ad%e0%b8%a5%e0%b8%a5%e0%b9%8c%e0%b9%84-1563/
LOCATION:ศูนย์การค้าเดอะมอลล์ไลฟ์สโตร์ บางแค\, ศูนย์การค้าเดอะมอลล์ไลฟ์สโตร์ บางแค
CATEGORIES:ปฏิทินตารางหน่วยเคลื่อนที่
END:VEVENT
BEGIN:VEVENT
DTSTART;TZID=Asia/Krasnoyarsk:20260318T110000
DTEND;TZID=Asia/Krasnoyarsk:20260318T150000
DTSTAMP:20260421T041104
CREATED:20260312T032548Z
LAST-MODIFIED:20260312T032548Z
UID:10006109-1773831600-1773846000@thaibloodcentre.redcross.or.th
SUMMARY:มหาวิทยาลัยหัวเฉียวเฉลิมพระเกียรติ []
DESCRIPTION:สถานที่เจาะ : ด้านหน้าอาคารอัฒจันทร์
URL:https://thaibloodcentre.redcross.or.th/event/%e0%b8%a1%e0%b8%ab%e0%b8%b2%e0%b8%a7%e0%b8%b4%e0%b8%97%e0%b8%a2%e0%b8%b2%e0%b8%a5%e0%b8%b1%e0%b8%a2%e0%b8%ab%e0%b8%b1%e0%b8%a7%e0%b9%80%e0%b8%89%e0%b8%b5%e0%b8%a2%e0%b8%a7%e0%b9%80%e0%b8%89%e0%b8%a5-6/
LOCATION:มหาวิทยาลัยหัวเฉียวเฉลิมพระเกียรติ\, มหาวิทยาลัยหัวเฉียวเฉลิมพระเกียรติ 18/18 ม.7 ถ.บางนา-ตราด ต.บางโฉลง อ.บางพลี สมุทรปราการ 10540
CATEGORIES:ปฏิทินตารางหน่วยเคลื่อนที่
END:VEVENT
BEGIN:VEVENT
DTSTART;TZID=Asia/Krasnoyarsk:20260318T110000
DTEND;TZID=Asia/Krasnoyarsk:20260318T150000
DTSTAMP:20260421T041104
CREATED:20260312T032347Z
LAST-MODIFIED:20260312T032347Z
UID:10006104-1773831600-1773846000@thaibloodcentre.redcross.or.th
SUMMARY:ศูนย์การค้า เดอะ สตรีท รัชดา []
DESCRIPTION:สถานที่เจาะ : หน้าลิฟท์แก้ว ชั้น 2 อาคาร CW Tower
URL:https://thaibloodcentre.redcross.or.th/event/%e0%b8%a8%e0%b8%b9%e0%b8%99%e0%b8%a2%e0%b9%8c%e0%b8%81%e0%b8%b2%e0%b8%a3%e0%b8%84%e0%b9%89%e0%b8%b2-%e0%b9%80%e0%b8%94%e0%b8%ad%e0%b8%b0-%e0%b8%aa%e0%b8%95%e0%b8%a3%e0%b8%b5%e0%b8%97-%e0%b8%a3-8/
LOCATION:ศูนย์การค้า เดอะ สตรีท รัชดา\, อาคาร CW Tower 90 ถนนรัชดาภิเษก แขวงห้วยขวาง เขตห้วยขวาง กรุงเทพมหานคร 10310
CATEGORIES:ปฏิทินตารางหน่วยเคลื่อนที่
END:VEVENT
BEGIN:VEVENT
DTSTART;TZID=Asia/Krasnoyarsk:20260318T110000
DTEND;TZID=Asia/Krasnoyarsk:20260318T150000
DTSTAMP:20260421T041104
CREATED:20260312T032341Z
LAST-MODIFIED:20260312T032341Z
UID:10006101-1773831600-1773846000@thaibloodcentre.redcross.or.th
SUMMARY:กิจกรรมไทยฮอนด้าเพื่อสังคมไทย []
DESCRIPTION:สถานที่เจาะ : วัดสุทธาโภชน์ (39 ซอยฉลองกรุง 8 แขวงทับยาว เขตลาดกระบัง)
URL:https://thaibloodcentre.redcross.or.th/event/%e0%b8%81%e0%b8%b4%e0%b8%88%e0%b8%81%e0%b8%a3%e0%b8%a3%e0%b8%a1%e0%b9%84%e0%b8%97%e0%b8%a2%e0%b8%ae%e0%b8%ad%e0%b8%99%e0%b8%94%e0%b9%89%e0%b8%b2%e0%b9%80%e0%b8%9e%e0%b8%b7%e0%b9%88%e0%b8%ad-15/
LOCATION:กิจกรรมไทยฮอนด้าเพื่อสังคมไทย\, วัดทิพพาวาส ซอยฉลองกรุง 53 แขวงลำปลาทิว เขตลาดกระบัง กรุงเทพมหานคร 10520
CATEGORIES:ปฏิทินตารางหน่วยเคลื่อนที่
END:VEVENT
BEGIN:VEVENT
DTSTART;TZID=Asia/Krasnoyarsk:20260318T090000
DTEND;TZID=Asia/Krasnoyarsk:20260318T150000
DTSTAMP:20260421T041104
CREATED:20260312T032546Z
LAST-MODIFIED:20260312T032546Z
UID:10006108-1773824400-1773846000@thaibloodcentre.redcross.or.th
SUMMARY:ธนาคารทหารไทยธนชาต จำกัด (มหาชน) []
DESCRIPTION:สถานที่เจาะ : ชั้น 1
URL:https://thaibloodcentre.redcross.or.th/event/%e0%b8%98%e0%b8%99%e0%b8%b2%e0%b8%84%e0%b8%b2%e0%b8%a3%e0%b8%97%e0%b8%ab%e0%b8%b2%e0%b8%a3%e0%b9%84%e0%b8%97%e0%b8%a2%e0%b8%98%e0%b8%99%e0%b8%8a%e0%b8%b2%e0%b8%95-%e0%b8%88%e0%b8%b3%e0%b8%81-6/
LOCATION:ธนาคารทหารไทยธนชาต จำกัด (มหาชน)\, ธนาคารทหารไทยธนชาต จำกัด (มหาชน) 3000 ถนนพหลโยธิน แขวงจอมพล เขตจตุจักร กรุงเทพมหานคร 10900
CATEGORIES:ปฏิทินตารางหน่วยเคลื่อนที่
END:VEVENT
BEGIN:VEVENT
DTSTART;TZID=Asia/Krasnoyarsk:20260318T090000
DTEND;TZID=Asia/Krasnoyarsk:20260318T150000
DTSTAMP:20260421T041104
CREATED:20260312T032544Z
LAST-MODIFIED:20260312T032544Z
UID:10006107-1773824400-1773846000@thaibloodcentre.redcross.or.th
SUMMARY:บริษัท ซัมมิท แคปปิตอล ลีสซิ่ง จำกัด []
DESCRIPTION:สถานที่เจาะ : ห้อง Seminar B ชั้น 9 (พัก 11.30-12.30 น.)
URL:https://thaibloodcentre.redcross.or.th/event/%e0%b8%9a%e0%b8%a3%e0%b8%b4%e0%b8%a9%e0%b8%b1%e0%b8%97-%e0%b8%8b%e0%b8%b1%e0%b8%a1%e0%b8%a1%e0%b8%b4%e0%b8%97-%e0%b9%81%e0%b8%84%e0%b8%9b%e0%b8%9b%e0%b8%b4%e0%b8%95%e0%b8%ad%e0%b8%a5-%e0%b8%a5-6/
LOCATION:บริษัท ซัมมิท แคปปิตอล ลีสซิ่ง จำกัด\, อาคารอื้อจือเหลียง อาคารอื้อจือเหลียง 968 แขวงสีลม เขตบางรัก กรุงเทพมหานคร 10500
CATEGORIES:ปฏิทินตารางหน่วยเคลื่อนที่
END:VEVENT
BEGIN:VEVENT
DTSTART;TZID=Asia/Krasnoyarsk:20260318T090000
DTEND;TZID=Asia/Krasnoyarsk:20260318T150000
DTSTAMP:20260421T041104
CREATED:20260312T032542Z
LAST-MODIFIED:20260312T032542Z
UID:10006106-1773824400-1773846000@thaibloodcentre.redcross.or.th
SUMMARY:กระทรวงยุติธรรม []
DESCRIPTION:สถานที่เจาะ : ห้องรับรอง 2 ชั้น 2 (พัก 12.00-13.00 น.)
URL:https://thaibloodcentre.redcross.or.th/event/%e0%b8%81%e0%b8%a3%e0%b8%b0%e0%b8%97%e0%b8%a3%e0%b8%a7%e0%b8%87%e0%b8%a2%e0%b8%b8%e0%b8%95%e0%b8%b4%e0%b8%98%e0%b8%a3%e0%b8%a3%e0%b8%a1-4/
LOCATION:กระทรวงยุติธรรม\, อาคารกระทรวงยุติธรรม 404 ถนนแจ้งวัฒนะ แขวงทุ่งสองห้อง เขตหลักสี่ กรุงเทพมหานคร 10210
CATEGORIES:ปฏิทินตารางหน่วยเคลื่อนที่
END:VEVENT
BEGIN:VEVENT
DTSTART;TZID=Asia/Krasnoyarsk:20260318T090000
DTEND;TZID=Asia/Krasnoyarsk:20260318T150000
DTSTAMP:20260421T041104
CREATED:20260312T032349Z
LAST-MODIFIED:20260312T032349Z
UID:10006105-1773824400-1773846000@thaibloodcentre.redcross.or.th
SUMMARY:บริษัท เอส.พี.อาคาร จำกัด []
DESCRIPTION:สถานที่เจาะ : ชั้น 4 ตึก IBM (พัก 11.00-12.00 น.)
URL:https://thaibloodcentre.redcross.or.th/event/%e0%b8%9a%e0%b8%a3%e0%b8%b4%e0%b8%a9%e0%b8%b1%e0%b8%97-%e0%b9%80%e0%b8%ad%e0%b8%aa-%e0%b8%9e%e0%b8%b5-%e0%b8%ad%e0%b8%b2%e0%b8%84%e0%b8%b2%e0%b8%a3-%e0%b8%88%e0%b8%b3%e0%b8%81%e0%b8%b1%e0%b8%94-2/
LOCATION:บริษัท เอส.พี.อาคาร จำกัด\, ตึก IBM 388 ถนนพหลโยธิน แขวงสามเสนใน เขตพญาไท กรุงเทพมหานคร 10400
CATEGORIES:ปฏิทินตารางหน่วยเคลื่อนที่
END:VEVENT
END:VCALENDAR