BEGIN:VCALENDAR
VERSION:2.0
PRODID:-//เว็บไซต์ศูนย์บริการโลหิตแห่งชาติ - ECPv6.11.2.1//NONSGML v1.0//EN
CALSCALE:GREGORIAN
METHOD:PUBLISH
X-ORIGINAL-URL:https://thaibloodcentre.redcross.or.th
X-WR-CALDESC:Events for เว็บไซต์ศูนย์บริการโลหิตแห่งชาติ
REFRESH-INTERVAL;VALUE=DURATION:PT1H
X-Robots-Tag:noindex
X-PUBLISHED-TTL:PT1H
BEGIN:VTIMEZONE
TZID:Asia/Krasnoyarsk
BEGIN:STANDARD
TZOFFSETFROM:+0700
TZOFFSETTO:+0700
TZNAME:+07
DTSTART:20260101T000000
END:STANDARD
END:VTIMEZONE
BEGIN:VEVENT
DTSTART;TZID=Asia/Krasnoyarsk:20260424T090000
DTEND;TZID=Asia/Krasnoyarsk:20260424T150000
DTSTAMP:20260421T094345
CREATED:20260420T062105Z
LAST-MODIFIED:20260420T062125Z
UID:10006548-1777021200-1777042800@thaibloodcentre.redcross.or.th
SUMMARY:โรงพยาบาลวิชัยเวช อินเตอร์เนชั่นแนล หนองแขม []
DESCRIPTION:สถานที่เจาะ : ห้องประชุมวนดุรงค์วรรณ ชั้น 2 อาคาร 3 (พัก 12.00-13.00 น.) \nที่อยู่ : 456-456/8 ถนนเพชรเกษม หนองค้างพลู เขตหนองแขม กรุงเทพฯ 0 2441 6999
URL:https://thaibloodcentre.redcross.or.th/event/%e0%b9%82%e0%b8%a3%e0%b8%87%e0%b8%9e%e0%b8%a2%e0%b8%b2%e0%b8%9a%e0%b8%b2%e0%b8%a5%e0%b8%a7%e0%b8%b4%e0%b8%8a%e0%b8%b1%e0%b8%a2%e0%b9%80%e0%b8%a7%e0%b8%8a-%e0%b8%ad%e0%b8%b4%e0%b8%99%e0%b9%80-5/
LOCATION:โรงพยาบาลวิชัยเวช อินเตอร์เนชั่นแนล หนองแขม\, โรงพยาบาลวิชัยเวช อินเตอร์เนชั่นแนล หนองแขม 456-456/9 ถนนเพชรเกษม แขวงหนองค้างพลู เขตหนองแขม กรุงเทพฯ 10160
CATEGORIES:ปฏิทินตารางหน่วยเคลื่อนที่
END:VEVENT
BEGIN:VEVENT
DTSTART;TZID=Asia/Krasnoyarsk:20260424T110000
DTEND;TZID=Asia/Krasnoyarsk:20260424T150000
DTSTAMP:20260421T094345
CREATED:20260420T062038Z
LAST-MODIFIED:20260420T062038Z
UID:10006541-1777028400-1777042800@thaibloodcentre.redcross.or.th
SUMMARY:ศูนย์การค้าทรี ออน ธรี พระราม 3 []
DESCRIPTION:สถานที่เจาะ : ชั้น 1 \nที่อยู่ : 295 ถนนพระราม 3 แขวงบางคอแหลม เขตบางคอแหลม กรุงเทพฯ 0 2689 0917-9
URL:https://thaibloodcentre.redcross.or.th/event/%e0%b8%a8%e0%b8%b9%e0%b8%99%e0%b8%a2%e0%b9%8c%e0%b8%81%e0%b8%b2%e0%b8%a3%e0%b8%84%e0%b9%89%e0%b8%b2%e0%b8%97%e0%b8%a3%e0%b8%b5-%e0%b8%ad%e0%b8%ad%e0%b8%99-%e0%b8%98%e0%b8%a3%e0%b8%b5-%e0%b8%9e-13/
LOCATION:ศูนย์การค้าทรี ออน ธรี พระราม 3\, ทรี ออน ธรี 295 ถนนพระรามที่ 3 แขวงบางคอแหลม เขตบางคอแหลม กรุงเทพมหานคร 10120
CATEGORIES:ปฏิทินตารางหน่วยเคลื่อนที่
END:VEVENT
BEGIN:VEVENT
DTSTART;TZID=Asia/Krasnoyarsk:20260424T120000
DTEND;TZID=Asia/Krasnoyarsk:20260424T150000
DTSTAMP:20260421T094345
CREATED:20260420T062110Z
LAST-MODIFIED:20260420T062127Z
UID:10006550-1777032000-1777042800@thaibloodcentre.redcross.or.th
SUMMARY:บริษัท วนวิทย์ แมนูแฟคเจอริ่ง จำกัด (พระราม 2) []
DESCRIPTION:สถานที่เจาะ : หน้าคลังวัตถุดิบ \nที่อยู่ : 10 ถนนพระราม 2 ซอย 94 แขวงแสมดำ เขตบางขุนเทียน กรุงเทพฯ 0 2896 2390
URL:https://thaibloodcentre.redcross.or.th/event/%e0%b8%9a%e0%b8%a3%e0%b8%b4%e0%b8%a9%e0%b8%b1%e0%b8%97-%e0%b8%a7%e0%b8%99%e0%b8%a7%e0%b8%b4%e0%b8%97%e0%b8%a2%e0%b9%8c-%e0%b9%81%e0%b8%a1%e0%b8%99%e0%b8%b9%e0%b9%81%e0%b8%9f%e0%b8%84%e0%b9%80-9/
LOCATION:บริษัท วนวิทย์ แมนูแฟคเจอริ่ง จำกัด (พระราม 2)\, บริษัท วนวิทย์ แมนูแฟคเจอริ่ง จำกัด ( Hatari ) 10 ซอยพระรามที่ 2 ซอย 94 แขวงแสมดำ เขตบางขุนเทียน กรุงเทพมหานคร 10150
CATEGORIES:ปฏิทินตารางหน่วยเคลื่อนที่
END:VEVENT
BEGIN:VEVENT
DTSTART;TZID=Asia/Krasnoyarsk:20260424T120000
DTEND;TZID=Asia/Krasnoyarsk:20260424T180000
DTSTAMP:20260421T094345
CREATED:20260420T061913Z
LAST-MODIFIED:20260420T061913Z
UID:10006533-1777032000-1777053600@thaibloodcentre.redcross.or.th
SUMMARY:ศูนย์การค้าเดอะมอลล์ไลฟ์สโตร์ บางแค []
DESCRIPTION:สถานที่เจาะ : ชั้น 3 ตรงข้ามร้านโอ้กะจู๋ \nที่อยู่ : ถนนเพชรเกษม แขวงบางแคเหนือ เขตภาษีเจริญ กรุงเทพฯ 02 487 1221
URL:https://thaibloodcentre.redcross.or.th/event/%e0%b8%a8%e0%b8%b9%e0%b8%99%e0%b8%a2%e0%b9%8c%e0%b8%81%e0%b8%b2%e0%b8%a3%e0%b8%84%e0%b9%89%e0%b8%b2%e0%b9%80%e0%b8%94%e0%b8%ad%e0%b8%b0%e0%b8%a1%e0%b8%ad%e0%b8%a5%e0%b8%a5%e0%b9%8c%e0%b9%84-1699/
LOCATION:ศูนย์การค้าเดอะมอลล์ไลฟ์สโตร์ บางแค\, ศูนย์การค้าเดอะมอลล์ไลฟ์สโตร์ บางแค
CATEGORIES:ปฏิทินตารางหน่วยเคลื่อนที่
END:VEVENT
BEGIN:VEVENT
DTSTART;TZID=Asia/Krasnoyarsk:20260424T120000
DTEND;TZID=Asia/Krasnoyarsk:20260424T180000
DTSTAMP:20260421T094345
CREATED:20260420T061927Z
LAST-MODIFIED:20260420T061927Z
UID:10006534-1777032000-1777053600@thaibloodcentre.redcross.or.th
SUMMARY:ศูนย์การค้าเดอะมอลล์ไลฟ์สโตร์ บางกะปิ []
DESCRIPTION:สถานที่เจาะ : ชั้น 2 ทางออกลานจอดรถ \nที่อยู่ : ถนนลาดพร้าว แขวงคลองจั่น เขตบางกะปิ กรุงเทพฯ 0 2310 2278
URL:https://thaibloodcentre.redcross.or.th/event/%e0%b8%a8%e0%b8%b9%e0%b8%99%e0%b8%a2%e0%b9%8c%e0%b8%81%e0%b8%b2%e0%b8%a3%e0%b8%84%e0%b9%89%e0%b8%b2%e0%b9%80%e0%b8%94%e0%b8%ad%e0%b8%b0%e0%b8%a1%e0%b8%ad%e0%b8%a5%e0%b8%a5%e0%b9%8c%e0%b9%84-1701/
LOCATION:ศูนย์การค้าเดอะมอลล์ไลฟ์สโตร์ บางกะปิ\, เดอะมอลล์ไลฟ์สโตร์ บางกะปิ 3522 ถ. ลาดพร้าว แขวงคลองจั่น เขตบางกะปิ กรุงเทพมหานคร 10240
CATEGORIES:ปฏิทินตารางหน่วยเคลื่อนที่
END:VEVENT
BEGIN:VEVENT
DTSTART;TZID=Asia/Krasnoyarsk:20260424T120000
DTEND;TZID=Asia/Krasnoyarsk:20260424T180000
DTSTAMP:20260421T094345
CREATED:20260420T061941Z
LAST-MODIFIED:20260420T061941Z
UID:10006535-1777032000-1777053600@thaibloodcentre.redcross.or.th
SUMMARY:ศูนย์การค้าเดอะมอลล์ไลฟ์สโตร์ งามวงศ์วาน []
DESCRIPTION:สถานที่เจาะ : ชั้น 5 โซน Government Center \nที่อยู่ : ถนนงามวงศ์วาน ต.บางเขน อ.เมือง จ.นนทบุรี 0 2555 1550
URL:https://thaibloodcentre.redcross.or.th/event/%e0%b8%a8%e0%b8%b9%e0%b8%99%e0%b8%a2%e0%b9%8c%e0%b8%81%e0%b8%b2%e0%b8%a3%e0%b8%84%e0%b9%89%e0%b8%b2%e0%b9%80%e0%b8%94%e0%b8%ad%e0%b8%b0%e0%b8%a1%e0%b8%ad%e0%b8%a5%e0%b8%a5%e0%b9%8c%e0%b9%84-1703/
LOCATION:ศูนย์การค้าเดอะมอลล์ไลฟ์สโตร์ งามวงศ์วาน\, เดอะมอลล์ ไลฟ์สโตร์ งามวงศ์วาน 430 ถนน งามวงศ์วาน ตำบลบางเขน อำเภอเมืองนนทบุรี นนทบุรี 11000
CATEGORIES:ปฏิทินตารางหน่วยเคลื่อนที่
END:VEVENT
BEGIN:VEVENT
DTSTART;TZID=Asia/Krasnoyarsk:20260424T120000
DTEND;TZID=Asia/Krasnoyarsk:20260424T180000
DTSTAMP:20260421T094345
CREATED:20260420T061955Z
LAST-MODIFIED:20260420T061955Z
UID:10006536-1777032000-1777053600@thaibloodcentre.redcross.or.th
SUMMARY:ศูนย์การค้า เอ็มโพเรียม []
DESCRIPTION:สถานที่เจาะ : ชั้น M ศูนย์การค้า ดิ เอ็มโพเรียม เชื่อมลานจอดรถอาคาร B \nที่อยู่ : 622 ถนนสุขุมวิท แขวงคลองตัน เขตคลองเตย กรุงเทพฯ 0 2269 1515
URL:https://thaibloodcentre.redcross.or.th/event/%e0%b8%a8%e0%b8%b9%e0%b8%99%e0%b8%a2%e0%b9%8c%e0%b8%81%e0%b8%b2%e0%b8%a3%e0%b8%84%e0%b9%89%e0%b8%b2-%e0%b9%80%e0%b8%ad%e0%b9%87%e0%b8%a1%e0%b9%82%e0%b8%9e%e0%b9%80%e0%b8%a3%e0%b8%b5%e0%b8%a2-421/
LOCATION:ศูนย์การค้า เอ็มโพเรียม\, เอ็มโพเรียม 622 ถ. สุขุมวิท แขวงคลองตัน เขตคลองเตย กรุงเทพมหานคร 10110
CATEGORIES:ปฏิทินตารางหน่วยเคลื่อนที่
END:VEVENT
BEGIN:VEVENT
DTSTART;TZID=Asia/Krasnoyarsk:20260424T120000
DTEND;TZID=Asia/Krasnoyarsk:20260424T180000
DTSTAMP:20260421T094345
CREATED:20260420T062000Z
LAST-MODIFIED:20260420T062000Z
UID:10006537-1777032000-1777053600@thaibloodcentre.redcross.or.th
SUMMARY:ศูนย์การค้าเดอะมอลล์ไลฟ์สโตร์ ท่าพระ []
DESCRIPTION:สถานที่เจาะ : ชั้น 1 (ติดลานจอดรถ) \nที่อยู่ : 99 ถนนรัชดาท่าพระตัดใหม่ แขวงบุคคโล เขตธนบุรี กรุงเทพฯ 0 2469-1000
URL:https://thaibloodcentre.redcross.or.th/event/%e0%b8%a8%e0%b8%b9%e0%b8%99%e0%b8%a2%e0%b9%8c%e0%b8%81%e0%b8%b2%e0%b8%a3%e0%b8%84%e0%b9%89%e0%b8%b2%e0%b9%80%e0%b8%94%e0%b8%ad%e0%b8%b0%e0%b8%a1%e0%b8%ad%e0%b8%a5%e0%b8%a5%e0%b9%8c%e0%b9%84-1705/
LOCATION:ศูนย์การค้าเดอะมอลล์ไลฟ์สโตร์ ท่าพระ\, เดอะมอลล์ไลฟ์สโตร์ ท่าพระ 129 ถ. รัชดาภิเษก แขวงบุคคโล เขตธนบุรี กรุงเทพมหานคร 10600
CATEGORIES:ปฏิทินตารางหน่วยเคลื่อนที่
END:VEVENT
BEGIN:VEVENT
DTSTART;TZID=Asia/Krasnoyarsk:20260425T083000
DTEND;TZID=Asia/Krasnoyarsk:20260425T153000
DTSTAMP:20260421T094345
CREATED:20260420T062112Z
LAST-MODIFIED:20260420T062128Z
UID:10006551-1777105800-1777131000@thaibloodcentre.redcross.or.th
SUMMARY:ศูนย์บริการโลหิตแห่งชาติ สภากาชาดไทย []
DESCRIPTION:สถานที่เจาะ : ห้องเบอร์ 4 \nที่อยู่ : 1871 ถ. อังรีดูนังต์ แขวงปทุมวัน เขตปทุมวัน
URL:https://thaibloodcentre.redcross.or.th/event/%e0%b8%a8%e0%b8%b9%e0%b8%99%e0%b8%a2%e0%b9%8c%e0%b8%9a%e0%b8%a3%e0%b8%b4%e0%b8%81%e0%b8%b2%e0%b8%a3%e0%b9%82%e0%b8%a5%e0%b8%ab%e0%b8%b4%e0%b8%95%e0%b9%81%e0%b8%ab%e0%b9%88%e0%b8%87%e0%b8%8a-511/
LOCATION:ศูนย์บริการโลหิตแห่งชาติ สภากาชาดไทย\, ศูนย์บริการโลหิตแห่งชาติ สภากาชาดไทย 1871 ถ. อังรีดูนังต์ แขวงปทุมวัน เขตปทุมวัน กรุงเทพมหานคร 10330
CATEGORIES:ปฏิทินตารางหน่วยเคลื่อนที่
END:VEVENT
BEGIN:VEVENT
DTSTART;TZID=Asia/Krasnoyarsk:20260425T083000
DTEND;TZID=Asia/Krasnoyarsk:20260425T153000
DTSTAMP:20260421T094345
CREATED:20260420T062249Z
LAST-MODIFIED:20260420T062249Z
UID:10006573-1777105800-1777131000@thaibloodcentre.redcross.or.th
SUMMARY:สถานีกาชาด 11 วิเศษนิยม []
DESCRIPTION:สถานที่เจาะ : ชั้น 3 \nที่อยู่ : 33/3 ถนนเพชรเกษม แขวงบางหว้า เขตภาษีเจริญ กรุงเทพฯ 0633450711
URL:https://thaibloodcentre.redcross.or.th/event/%e0%b8%aa%e0%b8%96%e0%b8%b2%e0%b8%99%e0%b8%b5%e0%b8%81%e0%b8%b2%e0%b8%8a%e0%b8%b2%e0%b8%94-11-%e0%b8%a7%e0%b8%b4%e0%b9%80%e0%b8%a8%e0%b8%a9%e0%b8%99%e0%b8%b4%e0%b8%a2%e0%b8%a1-220/
LOCATION:สถานีกาชาด 11 วิเศษนิยม\, สถานีกาชาด 11 วิเศษนิยม 605 ถ.เพชรเกษม แขวงบางหว้า เขตภาษีเจริญ กรุงเทพมหานคร 10160
CATEGORIES:ปฏิทินตารางหน่วยเคลื่อนที่
END:VEVENT
BEGIN:VEVENT
DTSTART;TZID=Asia/Krasnoyarsk:20260425T090000
DTEND;TZID=Asia/Krasnoyarsk:20260425T150000
DTSTAMP:20260421T094345
CREATED:20260420T062255Z
LAST-MODIFIED:20260420T062255Z
UID:10006574-1777107600-1777129200@thaibloodcentre.redcross.or.th
SUMMARY:บ้านทรงไทย (ย่านวงศ์สว่าง) []
DESCRIPTION:สถานที่เจาะ : (พัก 12.30-13.00 น.) \nที่อยู่ : 1423 ถนนกรุงเทพ – นนทบุรี แขวงวงศ์สว่าง เขตบางซื่อ กรุงเทพฯ 0 2256 4300
URL:https://thaibloodcentre.redcross.or.th/event/%e0%b8%9a%e0%b9%89%e0%b8%b2%e0%b8%99%e0%b8%97%e0%b8%a3%e0%b8%87%e0%b9%84%e0%b8%97%e0%b8%a2-%e0%b8%a2%e0%b9%88%e0%b8%b2%e0%b8%99%e0%b8%a7%e0%b8%87%e0%b8%a8%e0%b9%8c%e0%b8%aa%e0%b8%a7%e0%b9%88-421/
LOCATION:บ้านทรงไทย (ย่านวงศ์สว่าง)\, หน่วยรับบริจาคโลหิต บ้านทรงไทย(ย่านวงศ์สว่าง) 1423 ถนนกรุงเทพ-นนทบุรี แขวงวงศ์สว่าง เขตบางซื่อ กรุงเทพมหานคร 10800
CATEGORIES:ปฏิทินตารางหน่วยเคลื่อนที่
END:VEVENT
BEGIN:VEVENT
DTSTART;TZID=Asia/Krasnoyarsk:20260425T110000
DTEND;TZID=Asia/Krasnoyarsk:20260425T150000
DTSTAMP:20260421T094345
CREATED:20260420T062300Z
LAST-MODIFIED:20260420T062300Z
UID:10006575-1777114800-1777129200@thaibloodcentre.redcross.or.th
SUMMARY:เซ็นทรัลพลาซา บางนา []
DESCRIPTION:สถานที่เจาะ : ด้านหน้า KFC \nที่อยู่ : 1090 ถนนบางนา-ตราด แขวงบางนา เขตบางนา กรุงเทพฯ 0 2763 6000
URL:https://thaibloodcentre.redcross.or.th/event/%e0%b9%80%e0%b8%8b%e0%b9%87%e0%b8%99%e0%b8%97%e0%b8%a3%e0%b8%b1%e0%b8%a5%e0%b8%9e%e0%b8%a5%e0%b8%b2%e0%b8%8b%e0%b8%b2-%e0%b8%9a%e0%b8%b2%e0%b8%87%e0%b8%99%e0%b8%b2-37/
LOCATION:เซ็นทรัลพลาซา บางนา\, เซ็นทรัล บางนา ทางคู่ขนาน ถนนบางนา-ตราด แขวงบางนาเหนือ เขตบางนา กรุงเทพมหานคร 10260
CATEGORIES:ปฏิทินตารางหน่วยเคลื่อนที่
END:VEVENT
BEGIN:VEVENT
DTSTART;TZID=Asia/Krasnoyarsk:20260425T110000
DTEND;TZID=Asia/Krasnoyarsk:20260425T150000
DTSTAMP:20260421T094345
CREATED:20260420T062303Z
LAST-MODIFIED:20260420T062303Z
UID:10006576-1777114800-1777129200@thaibloodcentre.redcross.or.th
SUMMARY:ศูนย์การค้าเดอะพรอมานาด []
DESCRIPTION:สถานที่เจาะ : หน้าร้านนิติพลคลินิก ชั้น 4 \nที่อยู่ : 587\,589\,589/7-9 ถนนรามอินทรา แขวงคันนายาว เขตคันนายาว กรุงเทพฯ 0 2947 5000
URL:https://thaibloodcentre.redcross.or.th/event/%e0%b8%a8%e0%b8%b9%e0%b8%99%e0%b8%a2%e0%b9%8c%e0%b8%81%e0%b8%b2%e0%b8%a3%e0%b8%84%e0%b9%89%e0%b8%b2%e0%b9%80%e0%b8%94%e0%b8%ad%e0%b8%b0%e0%b8%9e%e0%b8%a3%e0%b8%ad%e0%b8%a1%e0%b8%b2%e0%b8%99-32/
LOCATION:ศูนย์การค้าเดอะพรอมานาด\, ศูนย์การค้าเดอะพรอมานาด 587\,589 589/7-9 ถ.รามอินทรา แขวงคันนายาว เขตคันนายาว กรุงเทพมหานคร 10230
CATEGORIES:ปฏิทินตารางหน่วยเคลื่อนที่
END:VEVENT
BEGIN:VEVENT
DTSTART;TZID=Asia/Krasnoyarsk:20260425T110000
DTEND;TZID=Asia/Krasnoyarsk:20260425T150000
DTSTAMP:20260421T094345
CREATED:20260420T062305Z
LAST-MODIFIED:20260420T062305Z
UID:10006577-1777114800-1777129200@thaibloodcentre.redcross.or.th
SUMMARY:ลุมพินี วิลล์ แจ้งวัฒนะ-ปากเกร็ด []
DESCRIPTION:สถานที่เจาะ : หน้าอาคาร B \nที่อยู่ : 175 ม.5 ถ.แจ้งวัฒนะ (ตรงข้ามเมเจอร์ปากเกร็ด) ต.ปากเกร็ด อ.ปากเกร็ด จ.นนทบุรี 0 2285 5011-16
URL:https://thaibloodcentre.redcross.or.th/event/%e0%b8%a5%e0%b8%b8%e0%b8%a1%e0%b8%9e%e0%b8%b4%e0%b8%99%e0%b8%b5-%e0%b8%a7%e0%b8%b4%e0%b8%a5%e0%b8%a5%e0%b9%8c-%e0%b9%81%e0%b8%88%e0%b9%89%e0%b8%87%e0%b8%a7%e0%b8%b1%e0%b8%92%e0%b8%99%e0%b8%b0-5/
LOCATION:ลุมพินี วิลล์ แจ้งวัฒนะ-ปากเกร็ด\, ลุมพินี วิลล์ แจ้งวัฒนะ-ปากเกร็ด ถ.แจ้งวัฒนะ ต.ปากเกร็ด อ.ปากเกร็ด จ.นนทบุรี 11120
CATEGORIES:ปฏิทินตารางหน่วยเคลื่อนที่
END:VEVENT
BEGIN:VEVENT
DTSTART;TZID=Asia/Krasnoyarsk:20260425T110000
DTEND;TZID=Asia/Krasnoyarsk:20260425T150000
DTSTAMP:20260421T094345
CREATED:20260420T062312Z
LAST-MODIFIED:20260420T062312Z
UID:10006578-1777114800-1777129200@thaibloodcentre.redcross.or.th
SUMMARY:เพอร์เฟค มาสเตอร์พีซ รามคำแหง []
DESCRIPTION:สถานที่เจาะ : หน้าสโมสรมาสเตอร์คลับ รามคำแหง เฟส 4 \nที่อยู่ : 99 ถนนรามคำแหง 164 แขวงมีนบุรี เขตมีนบุรี กรุงเทพฯ
URL:https://thaibloodcentre.redcross.or.th/event/%e0%b9%80%e0%b8%9e%e0%b8%ad%e0%b8%a3%e0%b9%8c%e0%b9%80%e0%b8%9f%e0%b8%84-%e0%b8%a1%e0%b8%b2%e0%b8%aa%e0%b9%80%e0%b8%95%e0%b8%ad%e0%b8%a3%e0%b9%8c%e0%b8%9e%e0%b8%b5%e0%b8%8b-%e0%b8%a3%e0%b8%b2-5/
LOCATION:เพอร์เฟค มาสเตอร์พีซ รามคำแหง\, เพอร์เฟค มาสเตอร์พีซ เซ็นจูรี่ รามคำแหง 99 รามคำแหง164 แขวงสะพานสูง เขตสะพานสูง กรุงเทพมหานคร 10240
CATEGORIES:ปฏิทินตารางหน่วยเคลื่อนที่
END:VEVENT
BEGIN:VEVENT
DTSTART;TZID=Asia/Krasnoyarsk:20260425T113000
DTEND;TZID=Asia/Krasnoyarsk:20260425T153000
DTSTAMP:20260421T094345
CREATED:20260420T062118Z
LAST-MODIFIED:20260420T062128Z
UID:10006552-1777116600-1777131000@thaibloodcentre.redcross.or.th
SUMMARY:ศูนย์บริการโลหิตแห่งชาติ สภากาชาดไทย []
DESCRIPTION:สถานที่เจาะ : ห้องเบอร์ 5 \nที่อยู่ : 1871 ถ. อังรีดูนังต์ แขวงปทุมวัน เขตปทุมวัน
URL:https://thaibloodcentre.redcross.or.th/event/%e0%b8%a8%e0%b8%b9%e0%b8%99%e0%b8%a2%e0%b9%8c%e0%b8%9a%e0%b8%a3%e0%b8%b4%e0%b8%81%e0%b8%b2%e0%b8%a3%e0%b9%82%e0%b8%a5%e0%b8%ab%e0%b8%b4%e0%b8%95%e0%b9%81%e0%b8%ab%e0%b9%88%e0%b8%87%e0%b8%8a-512/
LOCATION:ศูนย์บริการโลหิตแห่งชาติ สภากาชาดไทย\, ศูนย์บริการโลหิตแห่งชาติ สภากาชาดไทย 1871 ถ. อังรีดูนังต์ แขวงปทุมวัน เขตปทุมวัน กรุงเทพมหานคร 10330
CATEGORIES:ปฏิทินตารางหน่วยเคลื่อนที่
END:VEVENT
BEGIN:VEVENT
DTSTART;TZID=Asia/Krasnoyarsk:20260425T120000
DTEND;TZID=Asia/Krasnoyarsk:20260425T180000
DTSTAMP:20260421T094345
CREATED:20260420T062135Z
LAST-MODIFIED:20260420T062135Z
UID:10006563-1777118400-1777140000@thaibloodcentre.redcross.or.th
SUMMARY:ศูนย์การค้าเดอะมอลล์ไลฟ์สโตร์ บางแค []
DESCRIPTION:สถานที่เจาะ : ชั้น 3 ตรงข้ามร้านโอ้กะจู๋ \nที่อยู่ : ถนนเพชรเกษม แขวงบางแคเหนือ เขตภาษีเจริญ กรุงเทพฯ 02 487 1221
URL:https://thaibloodcentre.redcross.or.th/event/%e0%b8%a8%e0%b8%b9%e0%b8%99%e0%b8%a2%e0%b9%8c%e0%b8%81%e0%b8%b2%e0%b8%a3%e0%b8%84%e0%b9%89%e0%b8%b2%e0%b9%80%e0%b8%94%e0%b8%ad%e0%b8%b0%e0%b8%a1%e0%b8%ad%e0%b8%a5%e0%b8%a5%e0%b9%8c%e0%b9%84-1708/
LOCATION:ศูนย์การค้าเดอะมอลล์ไลฟ์สโตร์ บางแค\, ศูนย์การค้าเดอะมอลล์ไลฟ์สโตร์ บางแค
CATEGORIES:ปฏิทินตารางหน่วยเคลื่อนที่
END:VEVENT
BEGIN:VEVENT
DTSTART;TZID=Asia/Krasnoyarsk:20260425T120000
DTEND;TZID=Asia/Krasnoyarsk:20260425T180000
DTSTAMP:20260421T094345
CREATED:20260420T062150Z
LAST-MODIFIED:20260420T062150Z
UID:10006564-1777118400-1777140000@thaibloodcentre.redcross.or.th
SUMMARY:ศูนย์การค้าเดอะมอลล์ไลฟ์สโตร์ บางกะปิ []
DESCRIPTION:สถานที่เจาะ : ชั้น 2 ทางออกลานจอดรถ \nที่อยู่ : ถนนลาดพร้าว แขวงคลองจั่น เขตบางกะปิ กรุงเทพฯ 0 2310 2278
URL:https://thaibloodcentre.redcross.or.th/event/%e0%b8%a8%e0%b8%b9%e0%b8%99%e0%b8%a2%e0%b9%8c%e0%b8%81%e0%b8%b2%e0%b8%a3%e0%b8%84%e0%b9%89%e0%b8%b2%e0%b9%80%e0%b8%94%e0%b8%ad%e0%b8%b0%e0%b8%a1%e0%b8%ad%e0%b8%a5%e0%b8%a5%e0%b9%8c%e0%b9%84-1709/
LOCATION:ศูนย์การค้าเดอะมอลล์ไลฟ์สโตร์ บางกะปิ\, เดอะมอลล์ไลฟ์สโตร์ บางกะปิ 3522 ถ. ลาดพร้าว แขวงคลองจั่น เขตบางกะปิ กรุงเทพมหานคร 10240
CATEGORIES:ปฏิทินตารางหน่วยเคลื่อนที่
END:VEVENT
BEGIN:VEVENT
DTSTART;TZID=Asia/Krasnoyarsk:20260425T120000
DTEND;TZID=Asia/Krasnoyarsk:20260425T180000
DTSTAMP:20260421T094345
CREATED:20260420T062207Z
LAST-MODIFIED:20260420T062207Z
UID:10006565-1777118400-1777140000@thaibloodcentre.redcross.or.th
SUMMARY:ศูนย์การค้าเดอะมอลล์ไลฟ์สโตร์ งามวงศ์วาน []
DESCRIPTION:สถานที่เจาะ : ชั้น 5 โซน Government Center \nที่อยู่ : ถนนงามวงศ์วาน ต.บางเขน อ.เมือง จ.นนทบุรี 0 2555 1550
URL:https://thaibloodcentre.redcross.or.th/event/%e0%b8%a8%e0%b8%b9%e0%b8%99%e0%b8%a2%e0%b9%8c%e0%b8%81%e0%b8%b2%e0%b8%a3%e0%b8%84%e0%b9%89%e0%b8%b2%e0%b9%80%e0%b8%94%e0%b8%ad%e0%b8%b0%e0%b8%a1%e0%b8%ad%e0%b8%a5%e0%b8%a5%e0%b9%8c%e0%b9%84-1711/
LOCATION:ศูนย์การค้าเดอะมอลล์ไลฟ์สโตร์ งามวงศ์วาน\, เดอะมอลล์ ไลฟ์สโตร์ งามวงศ์วาน 430 ถนน งามวงศ์วาน ตำบลบางเขน อำเภอเมืองนนทบุรี นนทบุรี 11000
CATEGORIES:ปฏิทินตารางหน่วยเคลื่อนที่
END:VEVENT
BEGIN:VEVENT
DTSTART;TZID=Asia/Krasnoyarsk:20260425T120000
DTEND;TZID=Asia/Krasnoyarsk:20260425T180000
DTSTAMP:20260421T094345
CREATED:20260420T062224Z
LAST-MODIFIED:20260420T062224Z
UID:10006566-1777118400-1777140000@thaibloodcentre.redcross.or.th
SUMMARY:ศูนย์การค้า เอ็มโพเรียม []
DESCRIPTION:สถานที่เจาะ : ชั้น M ศูนย์การค้า ดิ เอ็มโพเรียม เชื่อมลานจอดรถอาคาร B \nที่อยู่ : 622 ถนนสุขุมวิท แขวงคลองตัน เขตคลองเตย กรุงเทพฯ 0 2269 1515
URL:https://thaibloodcentre.redcross.or.th/event/%e0%b8%a8%e0%b8%b9%e0%b8%99%e0%b8%a2%e0%b9%8c%e0%b8%81%e0%b8%b2%e0%b8%a3%e0%b8%84%e0%b9%89%e0%b8%b2-%e0%b9%80%e0%b8%ad%e0%b9%87%e0%b8%a1%e0%b9%82%e0%b8%9e%e0%b9%80%e0%b8%a3%e0%b8%b5%e0%b8%a2-424/
LOCATION:ศูนย์การค้า เอ็มโพเรียม\, เอ็มโพเรียม 622 ถ. สุขุมวิท แขวงคลองตัน เขตคลองเตย กรุงเทพมหานคร 10110
CATEGORIES:ปฏิทินตารางหน่วยเคลื่อนที่
END:VEVENT
BEGIN:VEVENT
DTSTART;TZID=Asia/Krasnoyarsk:20260425T120000
DTEND;TZID=Asia/Krasnoyarsk:20260425T180000
DTSTAMP:20260421T094345
CREATED:20260420T062230Z
LAST-MODIFIED:20260420T062230Z
UID:10006567-1777118400-1777140000@thaibloodcentre.redcross.or.th
SUMMARY:ศูนย์การค้าเดอะมอลล์ไลฟ์สโตร์ ท่าพระ []
DESCRIPTION:สถานที่เจาะ : ชั้น 1 (ติดลานจอดรถ) \nที่อยู่ : 99 ถนนรัชดาท่าพระตัดใหม่ แขวงบุคคโล เขตธนบุรี กรุงเทพฯ 0 2469-1000
URL:https://thaibloodcentre.redcross.or.th/event/%e0%b8%a8%e0%b8%b9%e0%b8%99%e0%b8%a2%e0%b9%8c%e0%b8%81%e0%b8%b2%e0%b8%a3%e0%b8%84%e0%b9%89%e0%b8%b2%e0%b9%80%e0%b8%94%e0%b8%ad%e0%b8%b0%e0%b8%a1%e0%b8%ad%e0%b8%a5%e0%b8%a5%e0%b9%8c%e0%b9%84-1712/
LOCATION:ศูนย์การค้าเดอะมอลล์ไลฟ์สโตร์ ท่าพระ\, เดอะมอลล์ไลฟ์สโตร์ ท่าพระ 129 ถ. รัชดาภิเษก แขวงบุคคโล เขตธนบุรี กรุงเทพมหานคร 10600
CATEGORIES:ปฏิทินตารางหน่วยเคลื่อนที่
END:VEVENT
BEGIN:VEVENT
DTSTART;TZID=Asia/Krasnoyarsk:20260426T083000
DTEND;TZID=Asia/Krasnoyarsk:20260426T120000
DTSTAMP:20260421T094345
CREATED:20260420T062500Z
LAST-MODIFIED:20260420T062500Z
UID:10006589-1777192200-1777204800@thaibloodcentre.redcross.or.th
SUMMARY:มูลนิธิโพธิภาวนาสงเคราะห์ []
DESCRIPTION:สถานที่เจาะ : หน้าศาลเจ้า \nที่อยู่ : 299 ถนนพหลโยธิน (สะพานใหม่) แขวงอนุสาวรีย์ เขตบางเขน กรุงเทพฯ 0 2521 0003
URL:https://thaibloodcentre.redcross.or.th/event/%e0%b8%a1%e0%b8%b9%e0%b8%a5%e0%b8%99%e0%b8%b4%e0%b8%98%e0%b8%b4%e0%b9%82%e0%b8%9e%e0%b8%98%e0%b8%b4%e0%b8%a0%e0%b8%b2%e0%b8%a7%e0%b8%99%e0%b8%b2%e0%b8%aa%e0%b8%87%e0%b9%80%e0%b8%84%e0%b8%a3%e0%b8%b2-8/
LOCATION:มูลนิธิโพธิภาวนาสงเคราะห์\, มูลนิธิโพธิภาวนาสงเคราะห์ (จิบเสียงเซี่ยงตึ๊ง) 299 หมู่ที่ 7 ถ.พหลโยธิน สะพานใหม่ แขวงอนุสาวรีย์ฯ เขตบางเขน กรุงเทพมหานคร 10220
CATEGORIES:ปฏิทินตารางหน่วยเคลื่อนที่
END:VEVENT
BEGIN:VEVENT
DTSTART;TZID=Asia/Krasnoyarsk:20260426T083000
DTEND;TZID=Asia/Krasnoyarsk:20260426T153000
DTSTAMP:20260421T094345
CREATED:20260420T062315Z
LAST-MODIFIED:20260420T062315Z
UID:10006579-1777192200-1777217400@thaibloodcentre.redcross.or.th
SUMMARY:ศูนย์บริการโลหิตแห่งชาติ สภากาชาดไทย []
DESCRIPTION:ที่อยู่ : 1871 ถ. อังรีดูนังต์ แขวงปทุมวัน เขตปทุมวัน
URL:https://thaibloodcentre.redcross.or.th/event/%e0%b8%a8%e0%b8%b9%e0%b8%99%e0%b8%a2%e0%b9%8c%e0%b8%9a%e0%b8%a3%e0%b8%b4%e0%b8%81%e0%b8%b2%e0%b8%a3%e0%b9%82%e0%b8%a5%e0%b8%ab%e0%b8%b4%e0%b8%95%e0%b9%81%e0%b8%ab%e0%b9%88%e0%b8%87%e0%b8%8a-513/
LOCATION:ศูนย์บริการโลหิตแห่งชาติ สภากาชาดไทย\, ศูนย์บริการโลหิตแห่งชาติ สภากาชาดไทย 1871 ถ. อังรีดูนังต์ แขวงปทุมวัน เขตปทุมวัน กรุงเทพมหานคร 10330
CATEGORIES:ปฏิทินตารางหน่วยเคลื่อนที่
END:VEVENT
BEGIN:VEVENT
DTSTART;TZID=Asia/Krasnoyarsk:20260426T083000
DTEND;TZID=Asia/Krasnoyarsk:20260426T153000
DTSTAMP:20260421T094345
CREATED:20260420T062434Z
LAST-MODIFIED:20260420T062434Z
UID:10006585-1777192200-1777217400@thaibloodcentre.redcross.or.th
SUMMARY:สถานีกาชาด 11 วิเศษนิยม []
DESCRIPTION:สถานที่เจาะ : ชั้น 3 \nที่อยู่ : 33/3 ถนนเพชรเกษม แขวงบางหว้า เขตภาษีเจริญ กรุงเทพฯ 0633450711
URL:https://thaibloodcentre.redcross.or.th/event/%e0%b8%aa%e0%b8%96%e0%b8%b2%e0%b8%99%e0%b8%b5%e0%b8%81%e0%b8%b2%e0%b8%8a%e0%b8%b2%e0%b8%94-11-%e0%b8%a7%e0%b8%b4%e0%b9%80%e0%b8%a8%e0%b8%a9%e0%b8%99%e0%b8%b4%e0%b8%a2%e0%b8%a1-221/
LOCATION:สถานีกาชาด 11 วิเศษนิยม\, สถานีกาชาด 11 วิเศษนิยม 605 ถ.เพชรเกษม แขวงบางหว้า เขตภาษีเจริญ กรุงเทพมหานคร 10160
CATEGORIES:ปฏิทินตารางหน่วยเคลื่อนที่
END:VEVENT
BEGIN:VEVENT
DTSTART;TZID=Asia/Krasnoyarsk:20260426T090000
DTEND;TZID=Asia/Krasnoyarsk:20260426T150000
DTSTAMP:20260421T094345
CREATED:20260420T062437Z
LAST-MODIFIED:20260420T062437Z
UID:10006586-1777194000-1777215600@thaibloodcentre.redcross.or.th
SUMMARY:บ้านทรงไทย (ย่านวงศ์สว่าง) []
DESCRIPTION:สถานที่เจาะ : (พัก 12.30-13.00 น.) \nที่อยู่ : 1423 ถนนกรุงเทพ – นนทบุรี แขวงวงศ์สว่าง เขตบางซื่อ กรุงเทพฯ 0 2256 4300
URL:https://thaibloodcentre.redcross.or.th/event/%e0%b8%9a%e0%b9%89%e0%b8%b2%e0%b8%99%e0%b8%97%e0%b8%a3%e0%b8%87%e0%b9%84%e0%b8%97%e0%b8%a2-%e0%b8%a2%e0%b9%88%e0%b8%b2%e0%b8%99%e0%b8%a7%e0%b8%87%e0%b8%a8%e0%b9%8c%e0%b8%aa%e0%b8%a7%e0%b9%88-422/
LOCATION:บ้านทรงไทย (ย่านวงศ์สว่าง)\, หน่วยรับบริจาคโลหิต บ้านทรงไทย(ย่านวงศ์สว่าง) 1423 ถนนกรุงเทพ-นนทบุรี แขวงวงศ์สว่าง เขตบางซื่อ กรุงเทพมหานคร 10800
CATEGORIES:ปฏิทินตารางหน่วยเคลื่อนที่
END:VEVENT
BEGIN:VEVENT
DTSTART;TZID=Asia/Krasnoyarsk:20260426T100000
DTEND;TZID=Asia/Krasnoyarsk:20260426T130000
DTSTAMP:20260421T094345
CREATED:20260420T062502Z
LAST-MODIFIED:20260420T062502Z
UID:10006590-1777197600-1777208400@thaibloodcentre.redcross.or.th
SUMMARY:สมาคมศรีคุรุสิงห์สภา []
DESCRIPTION:สถานที่เจาะ : ชั้น 3 \nที่อยู่ : 565 ถนนจักรเพชร แขวงวังบูรพา เขตพระนคร กรุงเทพฯ 0 2221 1011
URL:https://thaibloodcentre.redcross.or.th/event/%e0%b8%aa%e0%b8%a1%e0%b8%b2%e0%b8%84%e0%b8%a1%e0%b8%a8%e0%b8%a3%e0%b8%b5%e0%b8%84%e0%b8%b8%e0%b8%a3%e0%b8%b8%e0%b8%aa%e0%b8%b4%e0%b8%87%e0%b8%ab%e0%b9%8c%e0%b8%aa%e0%b8%a0%e0%b8%b2-4/
LOCATION:สมาคมศรีคุรุสิงห์สภา
CATEGORIES:ปฏิทินตารางหน่วยเคลื่อนที่
END:VEVENT
BEGIN:VEVENT
DTSTART;TZID=Asia/Krasnoyarsk:20260426T110000
DTEND;TZID=Asia/Krasnoyarsk:20260426T150000
DTSTAMP:20260421T094345
CREATED:20260420T062442Z
LAST-MODIFIED:20260420T062442Z
UID:10006587-1777201200-1777215600@thaibloodcentre.redcross.or.th
SUMMARY:บิ๊กซี ซูเปอร์เซ็นเตอร์ สาขาธนบุรี-ปากท่อ []
DESCRIPTION:สถานที่เจาะ : ด้านหน้าห้าง \nที่อยู่ : 127 ถนนพระราม 2 แขวงแสมดำ เขตบางขุนเทียน กรุงเทพฯ 0 2895 7600
URL:https://thaibloodcentre.redcross.or.th/event/%e0%b8%9a%e0%b8%b4%e0%b9%8a%e0%b8%81%e0%b8%8b%e0%b8%b5-%e0%b8%8b%e0%b8%b9%e0%b9%80%e0%b8%9b%e0%b8%ad%e0%b8%a3%e0%b9%8c%e0%b9%80%e0%b8%8b%e0%b9%87%e0%b8%99%e0%b9%80%e0%b8%95%e0%b8%ad%e0%b8%a3-43/
LOCATION:บิ๊กซี ซูเปอร์เซ็นเตอร์ สาขาธนบุรี-ปากท่อ\, บิ๊กซี ซูเปอร์เซ็นเตอร์ สาขาธนบุรี-ปากท่อ 127 ถนนพระรามที่ 2 แขวงแสมดำ เขตบางขุนเทียน กรุงเทพมหานคร 10150
CATEGORIES:ปฏิทินตารางหน่วยเคลื่อนที่
END:VEVENT
BEGIN:VEVENT
DTSTART;TZID=Asia/Krasnoyarsk:20260426T110000
DTEND;TZID=Asia/Krasnoyarsk:20260426T150000
DTSTAMP:20260421T094345
CREATED:20260420T062457Z
LAST-MODIFIED:20260420T062457Z
UID:10006588-1777201200-1777215600@thaibloodcentre.redcross.or.th
SUMMARY:นิติบุคคลอาคารชุด ลุมพินีคอนโดทาวน์ ร่มเกล้า-สุวรรณภูมิ []
DESCRIPTION:สถานที่เจาะ : ห้องสมุด \nที่อยู่ : 164/274 ถนนร่มเกล้า แขวงคลองสามประเวศ เขตลาดกระบัง กรุงเทพฯ 0 21717711-12
URL:https://thaibloodcentre.redcross.or.th/event/%e0%b8%99%e0%b8%b4%e0%b8%95%e0%b8%b4%e0%b8%9a%e0%b8%b8%e0%b8%84%e0%b8%84%e0%b8%a5%e0%b8%ad%e0%b8%b2%e0%b8%84%e0%b8%b2%e0%b8%a3%e0%b8%8a%e0%b8%b8%e0%b8%94-%e0%b8%a5%e0%b8%b8%e0%b8%a1%e0%b8%9e-4/
LOCATION:นิติบุคคลอาคารชุด ลุมพินีคอนโดทาวน์ ร่มเกล้า-สุวรรณภูมิ\, ลุมพินี คอนโดทาวน์ ร่มเกล้า-สุวรรณภูมิ 164/274 ถนนร่มเกล้า แขวงคลองสามประเวศ เขตลาดกระบัง กรุงเทพมหานคร 10520
CATEGORIES:ปฏิทินตารางหน่วยเคลื่อนที่
END:VEVENT
BEGIN:VEVENT
DTSTART;TZID=Asia/Krasnoyarsk:20260426T120000
DTEND;TZID=Asia/Krasnoyarsk:20260426T180000
DTSTAMP:20260421T094345
CREATED:20260420T062321Z
LAST-MODIFIED:20260420T062321Z
UID:10006580-1777204800-1777226400@thaibloodcentre.redcross.or.th
SUMMARY:ศูนย์การค้าเดอะมอลล์ไลฟ์สโตร์ บางแค []
DESCRIPTION:สถานที่เจาะ : ชั้น 3 ตรงข้ามร้านโอ้กะจู๋ \nที่อยู่ : ถนนเพชรเกษม แขวงบางแคเหนือ เขตภาษีเจริญ กรุงเทพฯ 02 487 1221
URL:https://thaibloodcentre.redcross.or.th/event/%e0%b8%a8%e0%b8%b9%e0%b8%99%e0%b8%a2%e0%b9%8c%e0%b8%81%e0%b8%b2%e0%b8%a3%e0%b8%84%e0%b9%89%e0%b8%b2%e0%b9%80%e0%b8%94%e0%b8%ad%e0%b8%b0%e0%b8%a1%e0%b8%ad%e0%b8%a5%e0%b8%a5%e0%b9%8c%e0%b9%84-1713/
LOCATION:ศูนย์การค้าเดอะมอลล์ไลฟ์สโตร์ บางแค\, ศูนย์การค้าเดอะมอลล์ไลฟ์สโตร์ บางแค
CATEGORIES:ปฏิทินตารางหน่วยเคลื่อนที่
END:VEVENT
BEGIN:VEVENT
DTSTART;TZID=Asia/Krasnoyarsk:20260426T120000
DTEND;TZID=Asia/Krasnoyarsk:20260426T180000
DTSTAMP:20260421T094345
CREATED:20260420T062336Z
LAST-MODIFIED:20260420T062336Z
UID:10006581-1777204800-1777226400@thaibloodcentre.redcross.or.th
SUMMARY:ศูนย์การค้าเดอะมอลล์ไลฟ์สโตร์ บางกะปิ []
DESCRIPTION:สถานที่เจาะ : ชั้น 2 ทางออกลานจอดรถ \nที่อยู่ : ถนนลาดพร้าว แขวงคลองจั่น เขตบางกะปิ กรุงเทพฯ 0 2310 2278
URL:https://thaibloodcentre.redcross.or.th/event/%e0%b8%a8%e0%b8%b9%e0%b8%99%e0%b8%a2%e0%b9%8c%e0%b8%81%e0%b8%b2%e0%b8%a3%e0%b8%84%e0%b9%89%e0%b8%b2%e0%b9%80%e0%b8%94%e0%b8%ad%e0%b8%b0%e0%b8%a1%e0%b8%ad%e0%b8%a5%e0%b8%a5%e0%b9%8c%e0%b9%84-1714/
LOCATION:ศูนย์การค้าเดอะมอลล์ไลฟ์สโตร์ บางกะปิ\, เดอะมอลล์ไลฟ์สโตร์ บางกะปิ 3522 ถ. ลาดพร้าว แขวงคลองจั่น เขตบางกะปิ กรุงเทพมหานคร 10240
CATEGORIES:ปฏิทินตารางหน่วยเคลื่อนที่
END:VEVENT
END:VCALENDAR