BEGIN:VCALENDAR
VERSION:2.0
PRODID:-//เว็บไซต์ศูนย์บริการโลหิตแห่งชาติ - ECPv6.11.2.1//NONSGML v1.0//EN
CALSCALE:GREGORIAN
METHOD:PUBLISH
X-ORIGINAL-URL:https://thaibloodcentre.redcross.or.th
X-WR-CALDESC:Events for เว็บไซต์ศูนย์บริการโลหิตแห่งชาติ
REFRESH-INTERVAL;VALUE=DURATION:PT1H
X-Robots-Tag:noindex
X-PUBLISHED-TTL:PT1H
BEGIN:VTIMEZONE
TZID:Asia/Krasnoyarsk
BEGIN:STANDARD
TZOFFSETFROM:+0700
TZOFFSETTO:+0700
TZNAME:+07
DTSTART:20250101T000000
END:STANDARD
END:VTIMEZONE
BEGIN:VEVENT
DTSTART;TZID=Asia/Krasnoyarsk:20251213T110000
DTEND;TZID=Asia/Krasnoyarsk:20251213T150000
DTSTAMP:20260425T200038
CREATED:20251208T073325Z
LAST-MODIFIED:20251208T073325Z
UID:10004666-1765623600-1765638000@thaibloodcentre.redcross.or.th
SUMMARY:เซ็นทรัลพลาซา บางนา []
DESCRIPTION:สถานที่เจาะ : ด้านหน้า KFC \nที่อยู่ : 1090 ถนนบางนา-ตราด แขวงบางนา เขตบางนา กรุงเทพฯ 0 2763 6000
URL:https://thaibloodcentre.redcross.or.th/event/%e0%b9%80%e0%b8%8b%e0%b9%87%e0%b8%99%e0%b8%97%e0%b8%a3%e0%b8%b1%e0%b8%a5%e0%b8%9e%e0%b8%a5%e0%b8%b2%e0%b8%8b%e0%b8%b2-%e0%b8%9a%e0%b8%b2%e0%b8%87%e0%b8%99%e0%b8%b2-20/
LOCATION:เซ็นทรัลพลาซา บางนา\, เซ็นทรัล บางนา ทางคู่ขนาน ถนนบางนา-ตราด แขวงบางนาเหนือ เขตบางนา กรุงเทพมหานคร 10260
CATEGORIES:ปฏิทินตารางหน่วยเคลื่อนที่
END:VEVENT
BEGIN:VEVENT
DTSTART;TZID=Asia/Krasnoyarsk:20251213T110000
DTEND;TZID=Asia/Krasnoyarsk:20251213T150000
DTSTAMP:20260425T200038
CREATED:20251208T073327Z
LAST-MODIFIED:20251208T073327Z
UID:10004667-1765623600-1765638000@thaibloodcentre.redcross.or.th
SUMMARY:บริษัท โชคปัญญามอเตอร์ จำกัด []
DESCRIPTION:สถานที่เจาะ : หน้าบริษัท \nที่อยู่ : 77 ถนนประดิษฐ์มนูธรรม แขวงลาดพร้าว เขตลาดพร้าว กรุงเทพฯ 0 2530 7033-4
URL:https://thaibloodcentre.redcross.or.th/event/%e0%b8%9a%e0%b8%a3%e0%b8%b4%e0%b8%a9%e0%b8%b1%e0%b8%97-%e0%b9%82%e0%b8%8a%e0%b8%84%e0%b8%9b%e0%b8%b1%e0%b8%8d%e0%b8%8d%e0%b8%b2%e0%b8%a1%e0%b8%ad%e0%b9%80%e0%b8%95%e0%b8%ad%e0%b8%a3%e0%b9%8c-4/
LOCATION:บริษัท โชคปัญญามอเตอร์ จำกัด\, บริษัท โชคปัญญามอเตอร์ จำกัด 77 ถนนประดิษฐ์มนูธรรม แขวงลาดพร้าว เขตลาดพร้าว กรุงเทพมหานคร 10230
CATEGORIES:ปฏิทินตารางหน่วยเคลื่อนที่
END:VEVENT
BEGIN:VEVENT
DTSTART;TZID=Asia/Krasnoyarsk:20251213T120000
DTEND;TZID=Asia/Krasnoyarsk:20251213T180000
DTSTAMP:20260425T200038
CREATED:20251208T073213Z
LAST-MODIFIED:20251208T073213Z
UID:10004656-1765627200-1765648800@thaibloodcentre.redcross.or.th
SUMMARY:ศูนย์การค้าเดอะมอลล์ไลฟ์สโตร์ บางแค []
DESCRIPTION:สถานที่เจาะ : ชั้น 3 ตรงข้ามร้านโอ้กะจู๋ \nที่อยู่ : ถนนเพชรเกษม แขวงบางแคเหนือ เขตภาษีเจริญ กรุงเทพฯ 02 487 1221
URL:https://thaibloodcentre.redcross.or.th/event/%e0%b8%a8%e0%b8%b9%e0%b8%99%e0%b8%a2%e0%b9%8c%e0%b8%81%e0%b8%b2%e0%b8%a3%e0%b8%84%e0%b9%89%e0%b8%b2%e0%b9%80%e0%b8%94%e0%b8%ad%e0%b8%b0%e0%b8%a1%e0%b8%ad%e0%b8%a5%e0%b8%a5%e0%b9%8c%e0%b9%84-1151/
LOCATION:ศูนย์การค้าเดอะมอลล์ไลฟ์สโตร์ บางแค\, ศูนย์การค้าเดอะมอลล์ไลฟ์สโตร์ บางแค
CATEGORIES:ปฏิทินตารางหน่วยเคลื่อนที่
END:VEVENT
BEGIN:VEVENT
DTSTART;TZID=Asia/Krasnoyarsk:20251213T120000
DTEND;TZID=Asia/Krasnoyarsk:20251213T180000
DTSTAMP:20260425T200038
CREATED:20251208T073223Z
LAST-MODIFIED:20251208T073223Z
UID:10004657-1765627200-1765648800@thaibloodcentre.redcross.or.th
SUMMARY:ศูนย์การค้าเดอะมอลล์ไลฟ์สโตร์ บางกะปิ []
DESCRIPTION:สถานที่เจาะ : ชั้น 2 ทางออกลานจอดรถ \nที่อยู่ : ถนนลาดพร้าว แขวงคลองจั่น เขตบางกะปิ กรุงเทพฯ 0 2310 2278
URL:https://thaibloodcentre.redcross.or.th/event/%e0%b8%a8%e0%b8%b9%e0%b8%99%e0%b8%a2%e0%b9%8c%e0%b8%81%e0%b8%b2%e0%b8%a3%e0%b8%84%e0%b9%89%e0%b8%b2%e0%b9%80%e0%b8%94%e0%b8%ad%e0%b8%b0%e0%b8%a1%e0%b8%ad%e0%b8%a5%e0%b8%a5%e0%b9%8c%e0%b9%84-1152/
LOCATION:ศูนย์การค้าเดอะมอลล์ไลฟ์สโตร์ บางกะปิ\, เดอะมอลล์ไลฟ์สโตร์ บางกะปิ 3522 ถ. ลาดพร้าว แขวงคลองจั่น เขตบางกะปิ กรุงเทพมหานคร 10240
CATEGORIES:ปฏิทินตารางหน่วยเคลื่อนที่
END:VEVENT
BEGIN:VEVENT
DTSTART;TZID=Asia/Krasnoyarsk:20251213T120000
DTEND;TZID=Asia/Krasnoyarsk:20251213T180000
DTSTAMP:20260425T200038
CREATED:20251208T073234Z
LAST-MODIFIED:20251208T073234Z
UID:10004658-1765627200-1765648800@thaibloodcentre.redcross.or.th
SUMMARY:ศูนย์การค้าเดอะมอลล์ไลฟ์สโตร์ งามวงศ์วาน []
DESCRIPTION:สถานที่เจาะ : ชั้น 5 โซน Government Center \nที่อยู่ : ถนนงามวงศ์วาน ต.บางเขน อ.เมือง จ.นนทบุรี 0 2555 1550
URL:https://thaibloodcentre.redcross.or.th/event/%e0%b8%a8%e0%b8%b9%e0%b8%99%e0%b8%a2%e0%b9%8c%e0%b8%81%e0%b8%b2%e0%b8%a3%e0%b8%84%e0%b9%89%e0%b8%b2%e0%b9%80%e0%b8%94%e0%b8%ad%e0%b8%b0%e0%b8%a1%e0%b8%ad%e0%b8%a5%e0%b8%a5%e0%b9%8c%e0%b9%84-1153/
LOCATION:ศูนย์การค้าเดอะมอลล์ไลฟ์สโตร์ งามวงศ์วาน\, เดอะมอลล์ ไลฟ์สโตร์ งามวงศ์วาน 430 ถนน งามวงศ์วาน ตำบลบางเขน อำเภอเมืองนนทบุรี นนทบุรี 11000
CATEGORIES:ปฏิทินตารางหน่วยเคลื่อนที่
END:VEVENT
BEGIN:VEVENT
DTSTART;TZID=Asia/Krasnoyarsk:20251213T120000
DTEND;TZID=Asia/Krasnoyarsk:20251213T180000
DTSTAMP:20260425T200038
CREATED:20251208T073244Z
LAST-MODIFIED:20251208T073244Z
UID:10004659-1765627200-1765648800@thaibloodcentre.redcross.or.th
SUMMARY:ศูนย์การค้า เอ็มโพเรียม []
DESCRIPTION:สถานที่เจาะ : ชั้น M ศูนย์การค้า ดิ เอ็มโพเรียม เชื่อมลานจอดรถอาคาร B \nที่อยู่ : 622 ถนนสุขุมวิท แขวงคลองตัน เขตคลองเตย กรุงเทพฯ 0 2269 1515
URL:https://thaibloodcentre.redcross.or.th/event/%e0%b8%a8%e0%b8%b9%e0%b8%99%e0%b8%a2%e0%b9%8c%e0%b8%81%e0%b8%b2%e0%b8%a3%e0%b8%84%e0%b9%89%e0%b8%b2-%e0%b9%80%e0%b8%ad%e0%b9%87%e0%b8%a1%e0%b9%82%e0%b8%9e%e0%b9%80%e0%b8%a3%e0%b8%b5%e0%b8%a2-284/
LOCATION:ศูนย์การค้า เอ็มโพเรียม\, เอ็มโพเรียม 622 ถ. สุขุมวิท แขวงคลองตัน เขตคลองเตย กรุงเทพมหานคร 10110
CATEGORIES:ปฏิทินตารางหน่วยเคลื่อนที่
END:VEVENT
BEGIN:VEVENT
DTSTART;TZID=Asia/Krasnoyarsk:20251213T120000
DTEND;TZID=Asia/Krasnoyarsk:20251213T180000
DTSTAMP:20260425T200038
CREATED:20251208T073253Z
LAST-MODIFIED:20251208T073253Z
UID:10004660-1765627200-1765648800@thaibloodcentre.redcross.or.th
SUMMARY:ศูนย์การค้าเดอะมอลล์ไลฟ์สโตร์ ท่าพระ []
DESCRIPTION:สถานที่เจาะ : ชั้น 1 (ติดลานจอดรถ) \nที่อยู่ : 99 ถนนรัชดาท่าพระตัดใหม่ แขวงบุคคโล เขตธนบุรี กรุงเทพฯ 0 2469-1000
URL:https://thaibloodcentre.redcross.or.th/event/%e0%b8%a8%e0%b8%b9%e0%b8%99%e0%b8%a2%e0%b9%8c%e0%b8%81%e0%b8%b2%e0%b8%a3%e0%b8%84%e0%b9%89%e0%b8%b2%e0%b9%80%e0%b8%94%e0%b8%ad%e0%b8%b0%e0%b8%a1%e0%b8%ad%e0%b8%a5%e0%b8%a5%e0%b9%8c%e0%b9%84-1154/
LOCATION:ศูนย์การค้าเดอะมอลล์ไลฟ์สโตร์ ท่าพระ\, เดอะมอลล์ไลฟ์สโตร์ ท่าพระ 129 ถ. รัชดาภิเษก แขวงบุคคโล เขตธนบุรี กรุงเทพมหานคร 10600
CATEGORIES:ปฏิทินตารางหน่วยเคลื่อนที่
END:VEVENT
BEGIN:VEVENT
DTSTART;TZID=Asia/Krasnoyarsk:20251213T170000
DTEND;TZID=Asia/Krasnoyarsk:20251213T210000
DTSTAMP:20260425T200038
CREATED:20251208T073310Z
LAST-MODIFIED:20251208T073310Z
UID:10004663-1765645200-1765659600@thaibloodcentre.redcross.or.th
SUMMARY:งานกาชาด []
DESCRIPTION:สถานที่เจาะ : ฝั่งตรงข้ามบูทกองทัพบก  \nที่อยู่ : สวนลุมพินี ถนนพระรามที่ 4 แขวงลุมพินี เขตปทุมวัน กรุงเทพฯ
URL:https://thaibloodcentre.redcross.or.th/event/%e0%b8%87%e0%b8%b2%e0%b8%99%e0%b8%81%e0%b8%b2%e0%b8%8a%e0%b8%b2%e0%b8%94-2/
LOCATION:งานกาชาด\, งานกาชาด สวนลุมพินี ถนนพระรามที่ 4 แขวงลุมพินี เขตปทุมวัน กรุงเทพฯ 10330
CATEGORIES:ปฏิทินตารางหน่วยเคลื่อนที่
END:VEVENT
BEGIN:VEVENT
DTSTART;TZID=Asia/Krasnoyarsk:20251214T083000
DTEND;TZID=Asia/Krasnoyarsk:20251214T120000
DTSTAMP:20260425T200038
CREATED:20251208T073444Z
LAST-MODIFIED:20251208T073444Z
UID:10004678-1765701000-1765713600@thaibloodcentre.redcross.or.th
SUMMARY:วัดบึงทองหลาง []
DESCRIPTION:สถานที่เจาะ : ศาลาการเปรียญ วัดบึงทองหลาง \nที่อยู่ : 1115 ลาดพร้าว 101 แขวงคลองจั่น เขตบางกะปิ กรุงเทพฯ 0 2377 5323
URL:https://thaibloodcentre.redcross.or.th/event/%e0%b8%a7%e0%b8%b1%e0%b8%94%e0%b8%9a%e0%b8%b6%e0%b8%87%e0%b8%97%e0%b8%ad%e0%b8%87%e0%b8%ab%e0%b8%a5%e0%b8%b2%e0%b8%87-2/
LOCATION:วัดบึงทองหลาง\, ศาลาการเปรียญ วัดบึงทองหลาง 1155 ถนนลาดพร้าว 101 คลองจั่น บางกะปิ กทม. 10240
CATEGORIES:ปฏิทินตารางหน่วยเคลื่อนที่
END:VEVENT
BEGIN:VEVENT
DTSTART;TZID=Asia/Krasnoyarsk:20251214T083000
DTEND;TZID=Asia/Krasnoyarsk:20251214T153000
DTSTAMP:20260425T200038
CREATED:20251208T073329Z
LAST-MODIFIED:20251208T073329Z
UID:10004668-1765701000-1765726200@thaibloodcentre.redcross.or.th
SUMMARY:ศูนย์บริการโลหิตแห่งชาติ สภากาชาดไทย []
DESCRIPTION:ที่อยู่ : 1871 ถ. อังรีดูนังต์ แขวงปทุมวัน เขตปทุมวัน
URL:https://thaibloodcentre.redcross.or.th/event/%e0%b8%a8%e0%b8%b9%e0%b8%99%e0%b8%a2%e0%b9%8c%e0%b8%9a%e0%b8%a3%e0%b8%b4%e0%b8%81%e0%b8%b2%e0%b8%a3%e0%b9%82%e0%b8%a5%e0%b8%ab%e0%b8%b4%e0%b8%95%e0%b9%81%e0%b8%ab%e0%b9%88%e0%b8%87%e0%b8%8a-369/
LOCATION:ศูนย์บริการโลหิตแห่งชาติ สภากาชาดไทย\, ศูนย์บริการโลหิตแห่งชาติ สภากาชาดไทย 1871 ถ. อังรีดูนังต์ แขวงปทุมวัน เขตปทุมวัน กรุงเทพมหานคร 10330
CATEGORIES:ปฏิทินตารางหน่วยเคลื่อนที่
END:VEVENT
BEGIN:VEVENT
DTSTART;TZID=Asia/Krasnoyarsk:20251214T083000
DTEND;TZID=Asia/Krasnoyarsk:20251214T153000
DTSTAMP:20260425T200038
CREATED:20251208T073420Z
LAST-MODIFIED:20251208T073420Z
UID:10004674-1765701000-1765726200@thaibloodcentre.redcross.or.th
SUMMARY:สถานีกาชาด 11 วิเศษนิยม []
DESCRIPTION:สถานที่เจาะ : ชั้น 3 \nที่อยู่ : 33/3 ถนนเพชรเกษม แขวงบางหว้า เขตภาษีเจริญ กรุงเทพฯ 0633450711
URL:https://thaibloodcentre.redcross.or.th/event/%e0%b8%aa%e0%b8%96%e0%b8%b2%e0%b8%99%e0%b8%b5%e0%b8%81%e0%b8%b2%e0%b8%8a%e0%b8%b2%e0%b8%94-11-%e0%b8%a7%e0%b8%b4%e0%b9%80%e0%b8%a8%e0%b8%a9%e0%b8%99%e0%b8%b4%e0%b8%a2%e0%b8%a1-118/
LOCATION:สถานีกาชาด 11 วิเศษนิยม\, สถานีกาชาด 11 วิเศษนิยม 605 ถ.เพชรเกษม แขวงบางหว้า เขตภาษีเจริญ กรุงเทพมหานคร 10160
CATEGORIES:ปฏิทินตารางหน่วยเคลื่อนที่
END:VEVENT
BEGIN:VEVENT
DTSTART;TZID=Asia/Krasnoyarsk:20251214T090000
DTEND;TZID=Asia/Krasnoyarsk:20251214T150000
DTSTAMP:20260425T200038
CREATED:20251208T073433Z
LAST-MODIFIED:20251208T073433Z
UID:10004675-1765702800-1765724400@thaibloodcentre.redcross.or.th
SUMMARY:บ้านทรงไทย (ย่านวงศ์สว่าง) []
DESCRIPTION:สถานที่เจาะ : (พัก 12.30-13.00 น.) \nที่อยู่ : 1423 ถนนกรุงเทพ – นนทบุรี แขวงวงศ์สว่าง เขตบางซื่อ กรุงเทพฯ 0 2256 4300
URL:https://thaibloodcentre.redcross.or.th/event/%e0%b8%9a%e0%b9%89%e0%b8%b2%e0%b8%99%e0%b8%97%e0%b8%a3%e0%b8%87%e0%b9%84%e0%b8%97%e0%b8%a2-%e0%b8%a2%e0%b9%88%e0%b8%b2%e0%b8%99%e0%b8%a7%e0%b8%87%e0%b8%a8%e0%b9%8c%e0%b8%aa%e0%b8%a7%e0%b9%88-287/
LOCATION:บ้านทรงไทย (ย่านวงศ์สว่าง)\, หน่วยรับบริจาคโลหิต บ้านทรงไทย(ย่านวงศ์สว่าง) 1423 ถนนกรุงเทพ-นนทบุรี แขวงวงศ์สว่าง เขตบางซื่อ กรุงเทพมหานคร 10800
CATEGORIES:ปฏิทินตารางหน่วยเคลื่อนที่
END:VEVENT
BEGIN:VEVENT
DTSTART;TZID=Asia/Krasnoyarsk:20251214T110000
DTEND;TZID=Asia/Krasnoyarsk:20251214T150000
DTSTAMP:20260425T200038
CREATED:20251208T073441Z
LAST-MODIFIED:20251208T073441Z
UID:10004677-1765710000-1765724400@thaibloodcentre.redcross.or.th
SUMMARY:ศูนย์การค้าฟิวเจอร์พาร์ค รังสิต []
DESCRIPTION:สถานที่เจาะ : ชั้น 2 ฝั่งอีสต์ \nที่อยู่ : 94 ถ.พหลโยธิน ต.ประชาธิปัตย์ อ.ธัญบุรี ปทุมธานี 0 2958 0011
URL:https://thaibloodcentre.redcross.or.th/event/%e0%b8%a8%e0%b8%b9%e0%b8%99%e0%b8%a2%e0%b9%8c%e0%b8%81%e0%b8%b2%e0%b8%a3%e0%b8%84%e0%b9%89%e0%b8%b2%e0%b8%9f%e0%b8%b4%e0%b8%a7%e0%b9%80%e0%b8%88%e0%b8%ad%e0%b8%a3%e0%b9%8c%e0%b8%9e%e0%b8%b2-16/
LOCATION:ศูนย์การค้าฟิวเจอร์พาร์ค รังสิต\, ศูนย์การค้าฟิวเจอร์พาร์ค รังสิต เลขที่ 94 ถ.พหลโยธิน ตำบลประชาธิปัตย์ อำเภอธัญบุรี ปทุมธานี 12130
CATEGORIES:ปฏิทินตารางหน่วยเคลื่อนที่
END:VEVENT
BEGIN:VEVENT
DTSTART;TZID=Asia/Krasnoyarsk:20251214T120000
DTEND;TZID=Asia/Krasnoyarsk:20251214T180000
DTSTAMP:20260425T200038
CREATED:20251208T073334Z
LAST-MODIFIED:20251208T073334Z
UID:10004669-1765713600-1765735200@thaibloodcentre.redcross.or.th
SUMMARY:ศูนย์การค้าเดอะมอลล์ไลฟ์สโตร์ บางแค []
DESCRIPTION:สถานที่เจาะ : ชั้น 3 ตรงข้ามร้านโอ้กะจู๋ \nที่อยู่ : ถนนเพชรเกษม แขวงบางแคเหนือ เขตภาษีเจริญ กรุงเทพฯ 02 487 1221
URL:https://thaibloodcentre.redcross.or.th/event/%e0%b8%a8%e0%b8%b9%e0%b8%99%e0%b8%a2%e0%b9%8c%e0%b8%81%e0%b8%b2%e0%b8%a3%e0%b8%84%e0%b9%89%e0%b8%b2%e0%b9%80%e0%b8%94%e0%b8%ad%e0%b8%b0%e0%b8%a1%e0%b8%ad%e0%b8%a5%e0%b8%a5%e0%b9%8c%e0%b9%84-1155/
LOCATION:ศูนย์การค้าเดอะมอลล์ไลฟ์สโตร์ บางแค\, ศูนย์การค้าเดอะมอลล์ไลฟ์สโตร์ บางแค
CATEGORIES:ปฏิทินตารางหน่วยเคลื่อนที่
END:VEVENT
BEGIN:VEVENT
DTSTART;TZID=Asia/Krasnoyarsk:20251214T120000
DTEND;TZID=Asia/Krasnoyarsk:20251214T180000
DTSTAMP:20260425T200038
CREATED:20251208T073348Z
LAST-MODIFIED:20251208T073348Z
UID:10004670-1765713600-1765735200@thaibloodcentre.redcross.or.th
SUMMARY:ศูนย์การค้าเดอะมอลล์ไลฟ์สโตร์ บางกะปิ []
DESCRIPTION:สถานที่เจาะ : ชั้น 2 ทางออกลานจอดรถ \nที่อยู่ : ถนนลาดพร้าว แขวงคลองจั่น เขตบางกะปิ กรุงเทพฯ 0 2310 2278
URL:https://thaibloodcentre.redcross.or.th/event/%e0%b8%a8%e0%b8%b9%e0%b8%99%e0%b8%a2%e0%b9%8c%e0%b8%81%e0%b8%b2%e0%b8%a3%e0%b8%84%e0%b9%89%e0%b8%b2%e0%b9%80%e0%b8%94%e0%b8%ad%e0%b8%b0%e0%b8%a1%e0%b8%ad%e0%b8%a5%e0%b8%a5%e0%b9%8c%e0%b9%84-1156/
LOCATION:ศูนย์การค้าเดอะมอลล์ไลฟ์สโตร์ บางกะปิ\, เดอะมอลล์ไลฟ์สโตร์ บางกะปิ 3522 ถ. ลาดพร้าว แขวงคลองจั่น เขตบางกะปิ กรุงเทพมหานคร 10240
CATEGORIES:ปฏิทินตารางหน่วยเคลื่อนที่
END:VEVENT
BEGIN:VEVENT
DTSTART;TZID=Asia/Krasnoyarsk:20251214T120000
DTEND;TZID=Asia/Krasnoyarsk:20251214T180000
DTSTAMP:20260425T200038
CREATED:20251208T073358Z
LAST-MODIFIED:20251208T073358Z
UID:10004671-1765713600-1765735200@thaibloodcentre.redcross.or.th
SUMMARY:ศูนย์การค้าเดอะมอลล์ไลฟ์สโตร์ งามวงศ์วาน []
DESCRIPTION:สถานที่เจาะ : ชั้น 5 โซน Government Center \nที่อยู่ : ถนนงามวงศ์วาน ต.บางเขน อ.เมือง จ.นนทบุรี 0 2555 1550
URL:https://thaibloodcentre.redcross.or.th/event/%e0%b8%a8%e0%b8%b9%e0%b8%99%e0%b8%a2%e0%b9%8c%e0%b8%81%e0%b8%b2%e0%b8%a3%e0%b8%84%e0%b9%89%e0%b8%b2%e0%b9%80%e0%b8%94%e0%b8%ad%e0%b8%b0%e0%b8%a1%e0%b8%ad%e0%b8%a5%e0%b8%a5%e0%b9%8c%e0%b9%84-1157/
LOCATION:ศูนย์การค้าเดอะมอลล์ไลฟ์สโตร์ งามวงศ์วาน\, เดอะมอลล์ ไลฟ์สโตร์ งามวงศ์วาน 430 ถนน งามวงศ์วาน ตำบลบางเขน อำเภอเมืองนนทบุรี นนทบุรี 11000
CATEGORIES:ปฏิทินตารางหน่วยเคลื่อนที่
END:VEVENT
BEGIN:VEVENT
DTSTART;TZID=Asia/Krasnoyarsk:20251214T120000
DTEND;TZID=Asia/Krasnoyarsk:20251214T180000
DTSTAMP:20260425T200039
CREATED:20251208T073407Z
LAST-MODIFIED:20251208T073407Z
UID:10004672-1765713600-1765735200@thaibloodcentre.redcross.or.th
SUMMARY:ศูนย์การค้า เอ็มโพเรียม []
DESCRIPTION:สถานที่เจาะ : ชั้น M ศูนย์การค้า ดิ เอ็มโพเรียม เชื่อมลานจอดรถอาคาร B \nที่อยู่ : 622 ถนนสุขุมวิท แขวงคลองตัน เขตคลองเตย กรุงเทพฯ 0 2269 1515
URL:https://thaibloodcentre.redcross.or.th/event/%e0%b8%a8%e0%b8%b9%e0%b8%99%e0%b8%a2%e0%b9%8c%e0%b8%81%e0%b8%b2%e0%b8%a3%e0%b8%84%e0%b9%89%e0%b8%b2-%e0%b9%80%e0%b8%ad%e0%b9%87%e0%b8%a1%e0%b9%82%e0%b8%9e%e0%b9%80%e0%b8%a3%e0%b8%b5%e0%b8%a2-285/
LOCATION:ศูนย์การค้า เอ็มโพเรียม\, เอ็มโพเรียม 622 ถ. สุขุมวิท แขวงคลองตัน เขตคลองเตย กรุงเทพมหานคร 10110
CATEGORIES:ปฏิทินตารางหน่วยเคลื่อนที่
END:VEVENT
BEGIN:VEVENT
DTSTART;TZID=Asia/Krasnoyarsk:20251214T120000
DTEND;TZID=Asia/Krasnoyarsk:20251214T180000
DTSTAMP:20260425T200039
CREATED:20251208T073411Z
LAST-MODIFIED:20251208T073411Z
UID:10004673-1765713600-1765735200@thaibloodcentre.redcross.or.th
SUMMARY:ศูนย์การค้าเดอะมอลล์ไลฟ์สโตร์ ท่าพระ []
DESCRIPTION:สถานที่เจาะ : ชั้น 1 (ติดลานจอดรถ) \nที่อยู่ : 99 ถนนรัชดาท่าพระตัดใหม่ แขวงบุคคโล เขตธนบุรี กรุงเทพฯ 0 2469-1000
URL:https://thaibloodcentre.redcross.or.th/event/%e0%b8%a8%e0%b8%b9%e0%b8%99%e0%b8%a2%e0%b9%8c%e0%b8%81%e0%b8%b2%e0%b8%a3%e0%b8%84%e0%b9%89%e0%b8%b2%e0%b9%80%e0%b8%94%e0%b8%ad%e0%b8%b0%e0%b8%a1%e0%b8%ad%e0%b8%a5%e0%b8%a5%e0%b9%8c%e0%b9%84-1158/
LOCATION:ศูนย์การค้าเดอะมอลล์ไลฟ์สโตร์ ท่าพระ\, เดอะมอลล์ไลฟ์สโตร์ ท่าพระ 129 ถ. รัชดาภิเษก แขวงบุคคโล เขตธนบุรี กรุงเทพมหานคร 10600
CATEGORIES:ปฏิทินตารางหน่วยเคลื่อนที่
END:VEVENT
BEGIN:VEVENT
DTSTART;TZID=Asia/Krasnoyarsk:20251214T170000
DTEND;TZID=Asia/Krasnoyarsk:20251214T210000
DTSTAMP:20260425T200039
CREATED:20251208T073438Z
LAST-MODIFIED:20251208T073438Z
UID:10004676-1765731600-1765746000@thaibloodcentre.redcross.or.th
SUMMARY:งานกาชาด []
DESCRIPTION:สถานที่เจาะ : ฝั่งตรงข้ามบูทกองทัพบก  \nที่อยู่ : สวนลุมพินี ถนนพระรามที่ 4 แขวงลุมพินี เขตปทุมวัน กรุงเทพฯ
URL:https://thaibloodcentre.redcross.or.th/event/%e0%b8%87%e0%b8%b2%e0%b8%99%e0%b8%81%e0%b8%b2%e0%b8%8a%e0%b8%b2%e0%b8%94-3/
LOCATION:งานกาชาด\, งานกาชาด สวนลุมพินี ถนนพระรามที่ 4 แขวงลุมพินี เขตปทุมวัน กรุงเทพฯ 10330
CATEGORIES:ปฏิทินตารางหน่วยเคลื่อนที่
END:VEVENT
BEGIN:VEVENT
DTSTART;TZID=Asia/Krasnoyarsk:20251215T073000
DTEND;TZID=Asia/Krasnoyarsk:20251215T193000
DTSTAMP:20260425T200039
CREATED:20251208T073446Z
LAST-MODIFIED:20251208T073446Z
UID:10004679-1765783800-1765827000@thaibloodcentre.redcross.or.th
SUMMARY:ศูนย์บริการโลหิตแห่งชาติ สภากาชาดไทย []
DESCRIPTION:ที่อยู่ : 1871 ถ. อังรีดูนังต์ แขวงปทุมวัน เขตปทุมวัน
URL:https://thaibloodcentre.redcross.or.th/event/%e0%b8%a8%e0%b8%b9%e0%b8%99%e0%b8%a2%e0%b9%8c%e0%b8%9a%e0%b8%a3%e0%b8%b4%e0%b8%81%e0%b8%b2%e0%b8%a3%e0%b9%82%e0%b8%a5%e0%b8%ab%e0%b8%b4%e0%b8%95%e0%b9%81%e0%b8%ab%e0%b9%88%e0%b8%87%e0%b8%8a-370/
LOCATION:ศูนย์บริการโลหิตแห่งชาติ สภากาชาดไทย\, ศูนย์บริการโลหิตแห่งชาติ สภากาชาดไทย 1871 ถ. อังรีดูนังต์ แขวงปทุมวัน เขตปทุมวัน กรุงเทพมหานคร 10330
CATEGORIES:ปฏิทินตารางหน่วยเคลื่อนที่
END:VEVENT
BEGIN:VEVENT
DTSTART;TZID=Asia/Krasnoyarsk:20251215T083000
DTEND;TZID=Asia/Krasnoyarsk:20251215T193000
DTSTAMP:20260425T200039
CREATED:20251208T073541Z
LAST-MODIFIED:20251208T073541Z
UID:10004685-1765787400-1765827000@thaibloodcentre.redcross.or.th
SUMMARY:สถานีกาชาด 11 วิเศษนิยม []
DESCRIPTION:สถานที่เจาะ : ชั้น 3 \nที่อยู่ : 33/3 ถนนเพชรเกษม แขวงบางหว้า เขตภาษีเจริญ กรุงเทพฯ 0633450711
URL:https://thaibloodcentre.redcross.or.th/event/%e0%b8%aa%e0%b8%96%e0%b8%b2%e0%b8%99%e0%b8%b5%e0%b8%81%e0%b8%b2%e0%b8%8a%e0%b8%b2%e0%b8%94-11-%e0%b8%a7%e0%b8%b4%e0%b9%80%e0%b8%a8%e0%b8%a9%e0%b8%99%e0%b8%b4%e0%b8%a2%e0%b8%a1-119/
LOCATION:สถานีกาชาด 11 วิเศษนิยม\, สถานีกาชาด 11 วิเศษนิยม 605 ถ.เพชรเกษม แขวงบางหว้า เขตภาษีเจริญ กรุงเทพมหานคร 10160
CATEGORIES:ปฏิทินตารางหน่วยเคลื่อนที่
END:VEVENT
BEGIN:VEVENT
DTSTART;TZID=Asia/Krasnoyarsk:20251215T090000
DTEND;TZID=Asia/Krasnoyarsk:20251215T110000
DTSTAMP:20260425T200039
CREATED:20251208T073609Z
LAST-MODIFIED:20251208T073609Z
UID:10004694-1765789200-1765796400@thaibloodcentre.redcross.or.th
SUMMARY:บริษัท วิทยุการบินแห่งประเทศไทย จำกัด []
DESCRIPTION:สถานที่เจาะ : ข้างห้องปฐมพยาบาล \nที่อยู่ : 102 ซอยงามดูพลี ถนนนางลิ้นจี่ แขวงทุ่งมหาเมฆ เขตสาทร กรุงเทพฯ 0 2287 8567
URL:https://thaibloodcentre.redcross.or.th/event/%e0%b8%9a%e0%b8%a3%e0%b8%b4%e0%b8%a9%e0%b8%b1%e0%b8%97-%e0%b8%a7%e0%b8%b4%e0%b8%97%e0%b8%a2%e0%b8%b8%e0%b8%81%e0%b8%b2%e0%b8%a3%e0%b8%9a%e0%b8%b4%e0%b8%99%e0%b9%81%e0%b8%ab%e0%b9%88%e0%b8%87-4/
LOCATION:บริษัท วิทยุการบินแห่งประเทศไทย จำกัด\, บริษัท วิทยุการบินแห่งประเทศไทย จำกัด 102 ซอยงามดูพลี ถนนนางลิ้นจี่ แขวงทุ่งมหาเมฆ เขตสาทร กรุงเทพฯ 10120
CATEGORIES:ปฏิทินตารางหน่วยเคลื่อนที่
END:VEVENT
BEGIN:VEVENT
DTSTART;TZID=Asia/Krasnoyarsk:20251215T090000
DTEND;TZID=Asia/Krasnoyarsk:20251215T140000
DTSTAMP:20260425T200039
CREATED:20251208T073605Z
LAST-MODIFIED:20251209T014018Z
UID:10004692-1765789200-1765807200@thaibloodcentre.redcross.or.th
SUMMARY:กระทรวงคมนาคม []
DESCRIPTION:สถานที่เจาะ : สโมสร ชั้น 3 (พัก 11.30 – 12.30 น.) \nที่อยู่ : 38 ถนนราชดำเนินนอก แขวงวัดโสมนัส เขตป้อมปราบฯ กรุงเทพฯ 0 2283 3244
URL:https://thaibloodcentre.redcross.or.th/event/%e0%b8%81%e0%b8%a3%e0%b8%b0%e0%b8%97%e0%b8%a3%e0%b8%a7%e0%b8%87%e0%b8%84%e0%b8%a1%e0%b8%99%e0%b8%b2%e0%b8%84%e0%b8%a1-2/
LOCATION:กระทรวงคมนาคม\, กระทรวงคมนาคม 38 ถนนราชดำเนินนอก แขวงวัดโสมนัส เขตป้อมปราบศัตรูพ่าย กรุงเทพมหานคร 10100
CATEGORIES:ปฏิทินตารางหน่วยเคลื่อนที่
END:VEVENT
BEGIN:VEVENT
DTSTART;TZID=Asia/Krasnoyarsk:20251215T090000
DTEND;TZID=Asia/Krasnoyarsk:20251215T150000
DTSTAMP:20260425T200039
CREATED:20251208T073545Z
LAST-MODIFIED:20251208T073545Z
UID:10004686-1765789200-1765810800@thaibloodcentre.redcross.or.th
SUMMARY:บ้านทรงไทย (ย่านวงศ์สว่าง) []
DESCRIPTION:สถานที่เจาะ : (พัก 12.30-13.00 น.) \nที่อยู่ : 1423 ถนนกรุงเทพ – นนทบุรี แขวงวงศ์สว่าง เขตบางซื่อ กรุงเทพฯ 0 2256 4300
URL:https://thaibloodcentre.redcross.or.th/event/%e0%b8%9a%e0%b9%89%e0%b8%b2%e0%b8%99%e0%b8%97%e0%b8%a3%e0%b8%87%e0%b9%84%e0%b8%97%e0%b8%a2-%e0%b8%a2%e0%b9%88%e0%b8%b2%e0%b8%99%e0%b8%a7%e0%b8%87%e0%b8%a8%e0%b9%8c%e0%b8%aa%e0%b8%a7%e0%b9%88-288/
LOCATION:บ้านทรงไทย (ย่านวงศ์สว่าง)\, หน่วยรับบริจาคโลหิต บ้านทรงไทย(ย่านวงศ์สว่าง) 1423 ถนนกรุงเทพ-นนทบุรี แขวงวงศ์สว่าง เขตบางซื่อ กรุงเทพมหานคร 10800
CATEGORIES:ปฏิทินตารางหน่วยเคลื่อนที่
END:VEVENT
BEGIN:VEVENT
DTSTART;TZID=Asia/Krasnoyarsk:20251215T090000
DTEND;TZID=Asia/Krasnoyarsk:20251215T150000
DTSTAMP:20260425T200039
CREATED:20251208T073607Z
LAST-MODIFIED:20251208T073607Z
UID:10004693-1765789200-1765810800@thaibloodcentre.redcross.or.th
SUMMARY:เขตประกอบการอุตสาหกรรมที่ปลอดภาระภาษี บางกอก ฟรีเทรด โซน []
DESCRIPTION:สถานที่เจาะ : หน้าสำนักงานขาย FTZ (พัก 12.00-13.00 น.) \nที่อยู่ : 71 หมู่ที่ 15 ต.บางเสาธง จ.สมุทรปราการ
URL:https://thaibloodcentre.redcross.or.th/event/%e0%b9%80%e0%b8%82%e0%b8%95%e0%b8%9b%e0%b8%a3%e0%b8%b0%e0%b8%81%e0%b8%ad%e0%b8%9a%e0%b8%81%e0%b8%b2%e0%b8%a3%e0%b8%ad%e0%b8%b8%e0%b8%95%e0%b8%aa%e0%b8%b2%e0%b8%ab%e0%b8%81%e0%b8%a3%e0%b8%a3%e0%b8%a1-3/
LOCATION:เขตประกอบการอุตสาหกรรมที่ปลอดภาระภาษี บางกอก ฟรีเทรด โซน\, เขตประกอบการอุตสาหกรรมที่ปลอดภาระภาษี บางกอก ฟรีเทรด โซน 71 ม.15 ต.บางเสาธง จ.สมุทรปราการ 10570
CATEGORIES:ปฏิทินตารางหน่วยเคลื่อนที่
END:VEVENT
BEGIN:VEVENT
DTSTART;TZID=Asia/Krasnoyarsk:20251215T090000
DTEND;TZID=Asia/Krasnoyarsk:20251215T190000
DTSTAMP:20260425T200039
CREATED:20251208T073551Z
LAST-MODIFIED:20251208T073551Z
UID:10004688-1765789200-1765825200@thaibloodcentre.redcross.or.th
SUMMARY:สามย่านมิตรทาวน์ []
DESCRIPTION:สถานที่เจาะ : ชั้น G ลานโปรโมชั่น หน้าร้าน Muji \nที่อยู่ : 944 ถนนพระรามที่ 4 แขวงวังใหม่  เขตปทุมวัน กรุงเทพฯ 0 2483 0000
URL:https://thaibloodcentre.redcross.or.th/event/%e0%b8%aa%e0%b8%b2%e0%b8%a1%e0%b8%a2%e0%b9%88%e0%b8%b2%e0%b8%99%e0%b8%a1%e0%b8%b4%e0%b8%95%e0%b8%a3%e0%b8%97%e0%b8%b2%e0%b8%a7%e0%b8%99%e0%b9%8c-3/
LOCATION:สามย่านมิตรทาวน์\, สามย่านมิตรทาวน์ 944 ถนนพระรามที่ 4 แขวงวังใหม่ เขตปทุมวัน กรุงเทพมหานคร 10330
CATEGORIES:ปฏิทินตารางหน่วยเคลื่อนที่
END:VEVENT
BEGIN:VEVENT
DTSTART;TZID=Asia/Krasnoyarsk:20251215T110000
DTEND;TZID=Asia/Krasnoyarsk:20251215T150000
DTSTAMP:20260425T200039
CREATED:20251208T073553Z
LAST-MODIFIED:20251208T073553Z
UID:10004689-1765796400-1765810800@thaibloodcentre.redcross.or.th
SUMMARY:ศูนย์การค้าสุพรีม []
DESCRIPTION:สถานที่เจาะ : Bell Hall 3 ลานชั้น 1 \nที่อยู่ : 1024 ถนนสามเสน แขวงถนนนครไชยศรี เขตดุสิต กรุงเทพฯ 0 2669 5999
URL:https://thaibloodcentre.redcross.or.th/event/%e0%b8%a8%e0%b8%b9%e0%b8%99%e0%b8%a2%e0%b9%8c%e0%b8%81%e0%b8%b2%e0%b8%a3%e0%b8%84%e0%b9%89%e0%b8%b2%e0%b8%aa%e0%b8%b8%e0%b8%9e%e0%b8%a3%e0%b8%b5%e0%b8%a1/
LOCATION:ศูนย์การค้าสุพรีม\, ศูนย์การค้าสุพรีม 1024 ถนนสามเสน แขวงถนนนครไชยศรี เขตดุสิต กรุงเทพมหานคร 10300
CATEGORIES:ปฏิทินตารางหน่วยเคลื่อนที่
END:VEVENT
BEGIN:VEVENT
DTSTART;TZID=Asia/Krasnoyarsk:20251215T110000
DTEND;TZID=Asia/Krasnoyarsk:20251215T150000
DTSTAMP:20260425T200039
CREATED:20251208T073603Z
LAST-MODIFIED:20251215T014833Z
UID:10004691-1765796400-1765810800@thaibloodcentre.redcross.or.th
SUMMARY:บริษัท ซี.พี.แลนด์ จำกัด (มหาชน) []
DESCRIPTION:สถานที่เจาะ : ชั้น 4 ข้างบันไดเลื่อน ศูนย์การค้าฟอร์จูนทาวน์ \nที่อยู่ : 1\,3\,5\,7 ถนนรัชดาภิเษก แขวงดินแดง เขตดินแดง กรุงเทพฯ 0 2247 3737
URL:https://thaibloodcentre.redcross.or.th/event/%e0%b8%9a%e0%b8%a3%e0%b8%b4%e0%b8%a9%e0%b8%b1%e0%b8%97-%e0%b8%8b%e0%b8%b5-%e0%b8%9e%e0%b8%b5-%e0%b9%81%e0%b8%a5%e0%b8%99%e0%b8%94%e0%b9%8c-%e0%b8%88%e0%b8%b3%e0%b8%81%e0%b8%b1%e0%b8%94-%e0%b8%a1-6/
LOCATION:บริษัท ซี.พี.แลนด์ จำกัด (มหาชน)\, อาคารฟอร์จูนทาวน์ ถนนรัชดาภิเษก แขวงดินแดง เขตดินแดง กรุงเทพมหานคร 10400
CATEGORIES:ปฏิทินตารางหน่วยเคลื่อนที่
END:VEVENT
BEGIN:VEVENT
DTSTART;TZID=Asia/Krasnoyarsk:20251215T120000
DTEND;TZID=Asia/Krasnoyarsk:20251215T150000
DTSTAMP:20260425T200039
CREATED:20251208T073615Z
LAST-MODIFIED:20251208T073615Z
UID:10004695-1765800000-1765810800@thaibloodcentre.redcross.or.th
SUMMARY:โรงพยาบาลเซนต์หลุยส์ []
DESCRIPTION:สถานที่เจาะ : ด้านหน้าอาคารปิยะการุญ \nที่อยู่ : 27 ถนนสาทรใต้ แขวงยานนาวา เขตสาทร กรุงเทพฯ 0 2838 5555
URL:https://thaibloodcentre.redcross.or.th/event/%e0%b9%82%e0%b8%a3%e0%b8%87%e0%b8%9e%e0%b8%a2%e0%b8%b2%e0%b8%9a%e0%b8%b2%e0%b8%a5%e0%b9%80%e0%b8%8b%e0%b8%99%e0%b8%95%e0%b9%8c%e0%b8%ab%e0%b8%a5%e0%b8%b8%e0%b8%a2%e0%b8%aa%e0%b9%8c-2/
LOCATION:โรงพยาบาลเซนต์หลุยส์\, โรงพยาบาลเซนต์หลุยส์ 27 ถนนสาทรใต้ แขวงยานนาวา เขตสาทร กรุงเทพฯ 10120
CATEGORIES:ปฏิทินตารางหน่วยเคลื่อนที่
END:VEVENT
BEGIN:VEVENT
DTSTART;TZID=Asia/Krasnoyarsk:20251215T120000
DTEND;TZID=Asia/Krasnoyarsk:20251215T180000
DTSTAMP:20260425T200039
CREATED:20251208T073457Z
LAST-MODIFIED:20251208T073457Z
UID:10004680-1765800000-1765821600@thaibloodcentre.redcross.or.th
SUMMARY:ศูนย์การค้าเดอะมอลล์ไลฟ์สโตร์ บางแค []
DESCRIPTION:สถานที่เจาะ : ชั้น 3 ตรงข้ามร้านโอ้กะจู๋ \nที่อยู่ : ถนนเพชรเกษม แขวงบางแคเหนือ เขตภาษีเจริญ กรุงเทพฯ 02 487 1221
URL:https://thaibloodcentre.redcross.or.th/event/%e0%b8%a8%e0%b8%b9%e0%b8%99%e0%b8%a2%e0%b9%8c%e0%b8%81%e0%b8%b2%e0%b8%a3%e0%b8%84%e0%b9%89%e0%b8%b2%e0%b9%80%e0%b8%94%e0%b8%ad%e0%b8%b0%e0%b8%a1%e0%b8%ad%e0%b8%a5%e0%b8%a5%e0%b9%8c%e0%b9%84-1159/
LOCATION:ศูนย์การค้าเดอะมอลล์ไลฟ์สโตร์ บางแค\, ศูนย์การค้าเดอะมอลล์ไลฟ์สโตร์ บางแค
CATEGORIES:ปฏิทินตารางหน่วยเคลื่อนที่
END:VEVENT
END:VCALENDAR