BEGIN:VCALENDAR
VERSION:2.0
PRODID:-//เว็บไซต์ศูนย์บริการโลหิตแห่งชาติ - ECPv6.11.2.1//NONSGML v1.0//EN
CALSCALE:GREGORIAN
METHOD:PUBLISH
X-ORIGINAL-URL:https://thaibloodcentre.redcross.or.th
X-WR-CALDESC:Events for เว็บไซต์ศูนย์บริการโลหิตแห่งชาติ
REFRESH-INTERVAL;VALUE=DURATION:PT1H
X-Robots-Tag:noindex
X-PUBLISHED-TTL:PT1H
BEGIN:VTIMEZONE
TZID:Asia/Krasnoyarsk
BEGIN:STANDARD
TZOFFSETFROM:+0700
TZOFFSETTO:+0700
TZNAME:+07
DTSTART:20260101T000000
END:STANDARD
END:VTIMEZONE
BEGIN:VEVENT
DTSTART;TZID=Asia/Krasnoyarsk:20260418T083000
DTEND;TZID=Asia/Krasnoyarsk:20260418T153000
DTSTAMP:20260420T141930
CREATED:20260416T101119Z
LAST-MODIFIED:20260416T101119Z
UID:10006497-1776501000-1776526200@thaibloodcentre.redcross.or.th
SUMMARY:ศูนย์บริการโลหิตแห่งชาติ สภากาชาดไทย []
DESCRIPTION:ที่อยู่ : 1871 ถ. อังรีดูนังต์ แขวงปทุมวัน เขตปทุมวัน
URL:https://thaibloodcentre.redcross.or.th/event/%e0%b8%a8%e0%b8%b9%e0%b8%99%e0%b8%a2%e0%b9%8c%e0%b8%9a%e0%b8%a3%e0%b8%b4%e0%b8%81%e0%b8%b2%e0%b8%a3%e0%b9%82%e0%b8%a5%e0%b8%ab%e0%b8%b4%e0%b8%95%e0%b9%81%e0%b8%ab%e0%b9%88%e0%b8%87%e0%b8%8a-505/
LOCATION:ศูนย์บริการโลหิตแห่งชาติ สภากาชาดไทย\, ศูนย์บริการโลหิตแห่งชาติ สภากาชาดไทย 1871 ถ. อังรีดูนังต์ แขวงปทุมวัน เขตปทุมวัน กรุงเทพมหานคร 10330
CATEGORIES:ปฏิทินตารางหน่วยเคลื่อนที่
END:VEVENT
BEGIN:VEVENT
DTSTART;TZID=Asia/Krasnoyarsk:20260418T083000
DTEND;TZID=Asia/Krasnoyarsk:20260418T153000
DTSTAMP:20260420T141930
CREATED:20260416T101335Z
LAST-MODIFIED:20260416T101335Z
UID:10006503-1776501000-1776526200@thaibloodcentre.redcross.or.th
SUMMARY:สถานีกาชาด 11 วิเศษนิยม []
DESCRIPTION:สถานที่เจาะ : ชั้น 3 \nที่อยู่ : 33/3 ถนนเพชรเกษม แขวงบางหว้า เขตภาษีเจริญ กรุงเทพฯ 0633450711
URL:https://thaibloodcentre.redcross.or.th/event/%e0%b8%aa%e0%b8%96%e0%b8%b2%e0%b8%99%e0%b8%b5%e0%b8%81%e0%b8%b2%e0%b8%8a%e0%b8%b2%e0%b8%94-11-%e0%b8%a7%e0%b8%b4%e0%b9%80%e0%b8%a8%e0%b8%a9%e0%b8%99%e0%b8%b4%e0%b8%a2%e0%b8%a1-216/
LOCATION:สถานีกาชาด 11 วิเศษนิยม\, สถานีกาชาด 11 วิเศษนิยม 605 ถ.เพชรเกษม แขวงบางหว้า เขตภาษีเจริญ กรุงเทพมหานคร 10160
CATEGORIES:ปฏิทินตารางหน่วยเคลื่อนที่
END:VEVENT
BEGIN:VEVENT
DTSTART;TZID=Asia/Krasnoyarsk:20260418T090000
DTEND;TZID=Asia/Krasnoyarsk:20260418T150000
DTSTAMP:20260420T141930
CREATED:20260416T101338Z
LAST-MODIFIED:20260416T101338Z
UID:10006504-1776502800-1776524400@thaibloodcentre.redcross.or.th
SUMMARY:บ้านทรงไทย (ย่านวงศ์สว่าง) []
DESCRIPTION:สถานที่เจาะ : (พัก 12.30-13.00 น.) \nที่อยู่ : 1423 ถนนกรุงเทพ – นนทบุรี แขวงวงศ์สว่าง เขตบางซื่อ กรุงเทพฯ 0 2256 4300
URL:https://thaibloodcentre.redcross.or.th/event/%e0%b8%9a%e0%b9%89%e0%b8%b2%e0%b8%99%e0%b8%97%e0%b8%a3%e0%b8%87%e0%b9%84%e0%b8%97%e0%b8%a2-%e0%b8%a2%e0%b9%88%e0%b8%b2%e0%b8%99%e0%b8%a7%e0%b8%87%e0%b8%a8%e0%b9%8c%e0%b8%aa%e0%b8%a7%e0%b9%88-417/
LOCATION:บ้านทรงไทย (ย่านวงศ์สว่าง)\, หน่วยรับบริจาคโลหิต บ้านทรงไทย(ย่านวงศ์สว่าง) 1423 ถนนกรุงเทพ-นนทบุรี แขวงวงศ์สว่าง เขตบางซื่อ กรุงเทพมหานคร 10800
CATEGORIES:ปฏิทินตารางหน่วยเคลื่อนที่
END:VEVENT
BEGIN:VEVENT
DTSTART;TZID=Asia/Krasnoyarsk:20260418T110000
DTEND;TZID=Asia/Krasnoyarsk:20260418T150000
DTSTAMP:20260420T141930
CREATED:20260416T101343Z
LAST-MODIFIED:20260416T101343Z
UID:10006505-1776510000-1776524400@thaibloodcentre.redcross.or.th
SUMMARY:เซ็นทรัลพลาซา บางนา []
DESCRIPTION:สถานที่เจาะ : ด้านหน้า KFC \nที่อยู่ : 1090 ถนนบางนา-ตราด แขวงบางนา เขตบางนา กรุงเทพฯ 0 2763 6000
URL:https://thaibloodcentre.redcross.or.th/event/%e0%b9%80%e0%b8%8b%e0%b9%87%e0%b8%99%e0%b8%97%e0%b8%a3%e0%b8%b1%e0%b8%a5%e0%b8%9e%e0%b8%a5%e0%b8%b2%e0%b8%8b%e0%b8%b2-%e0%b8%9a%e0%b8%b2%e0%b8%87%e0%b8%99%e0%b8%b2-36/
LOCATION:เซ็นทรัลพลาซา บางนา\, เซ็นทรัล บางนา ทางคู่ขนาน ถนนบางนา-ตราด แขวงบางนาเหนือ เขตบางนา กรุงเทพมหานคร 10260
CATEGORIES:ปฏิทินตารางหน่วยเคลื่อนที่
END:VEVENT
BEGIN:VEVENT
DTSTART;TZID=Asia/Krasnoyarsk:20260418T110000
DTEND;TZID=Asia/Krasnoyarsk:20260418T150000
DTSTAMP:20260420T141930
CREATED:20260416T101345Z
LAST-MODIFIED:20260416T101345Z
UID:10006506-1776510000-1776524400@thaibloodcentre.redcross.or.th
SUMMARY:ลุมพินี เมกะซิตี้ บางนา []
DESCRIPTION:สถานที่เจาะ : หน้าคอนโด \nที่อยู่ : 78 ม.13 ถ.บางนา-ตราด กม.7 ต.บางแก้ว อ.บางพลี จ.สมุทรปราการ 0 2285 5011-16
URL:https://thaibloodcentre.redcross.or.th/event/%e0%b8%a5%e0%b8%b8%e0%b8%a1%e0%b8%9e%e0%b8%b4%e0%b8%99%e0%b8%b5-%e0%b9%80%e0%b8%a1%e0%b8%81%e0%b8%b0%e0%b8%8b%e0%b8%b4%e0%b8%95%e0%b8%b5%e0%b9%89-%e0%b8%9a%e0%b8%b2%e0%b8%87%e0%b8%99%e0%b8%b2-4/
LOCATION:ลุมพินี เมกะซิตี้ บางนา\, ลุมพินี เมกะซิตี้ บางนา ทางคู่ขนาน ถนนบางนา-ตราด ตำบล บางแก้ว อำเภอบางพลี สมุทรปราการ 10540
CATEGORIES:ปฏิทินตารางหน่วยเคลื่อนที่
END:VEVENT
BEGIN:VEVENT
DTSTART;TZID=Asia/Krasnoyarsk:20260418T110000
DTEND;TZID=Asia/Krasnoyarsk:20260418T150000
DTSTAMP:20260420T141930
CREATED:20260416T101521Z
LAST-MODIFIED:20260416T101521Z
UID:10006507-1776510000-1776524400@thaibloodcentre.redcross.or.th
SUMMARY:ศูนย์สรรพสินค้าซีคอนสแควร์ []
DESCRIPTION:สถานที่เจาะ : ชั้น 3 โซนโลตัส หน้าร้าน MR.DIY \nที่อยู่ : 55 ถนนศรีนครินทร์ แขวงหนองบอน เขตประเวศ กรุงเทพฯ 0 2721 8888
URL:https://thaibloodcentre.redcross.or.th/event/%e0%b8%a8%e0%b8%b9%e0%b8%99%e0%b8%a2%e0%b9%8c%e0%b8%aa%e0%b8%a3%e0%b8%a3%e0%b8%9e%e0%b8%aa%e0%b8%b4%e0%b8%99%e0%b8%84%e0%b9%89%e0%b8%b2%e0%b8%8b%e0%b8%b5%e0%b8%84%e0%b8%ad%e0%b8%99%e0%b8%aa-18/
LOCATION:ศูนย์สรรพสินค้าซีคอนสแควร์\, ศูนย์สรรพสินค้าซีคอนสแควร์ 55 ถ.ศรีนครินทร์ แขวงหนองบอน เขตประเวศ กรุงเทพมหานคร 10250
CATEGORIES:ปฏิทินตารางหน่วยเคลื่อนที่
END:VEVENT
BEGIN:VEVENT
DTSTART;TZID=Asia/Krasnoyarsk:20260418T110000
DTEND;TZID=Asia/Krasnoyarsk:20260418T150000
DTSTAMP:20260420T141930
CREATED:20260416T101523Z
LAST-MODIFIED:20260416T101523Z
UID:10006508-1776510000-1776524400@thaibloodcentre.redcross.or.th
SUMMARY:ศูนย์สรรพสินค้าซีคอน บางแค []
DESCRIPTION:สถานที่เจาะ : ชั้น 3 โซนธนาคารกรุงศรีอยุธยา \nที่อยู่ : 607 ถนนเพชรเกษม แขวงบางหว้า เขตภาษีเจริญ กรุงเทพฯ 0 2454 7777
URL:https://thaibloodcentre.redcross.or.th/event/%e0%b8%a8%e0%b8%b9%e0%b8%99%e0%b8%a2%e0%b9%8c%e0%b8%aa%e0%b8%a3%e0%b8%a3%e0%b8%9e%e0%b8%aa%e0%b8%b4%e0%b8%99%e0%b8%84%e0%b9%89%e0%b8%b2%e0%b8%8b%e0%b8%b5%e0%b8%84%e0%b8%ad%e0%b8%99-%e0%b8%9a-17/
LOCATION:ศูนย์สรรพสินค้าซีคอน บางแค
CATEGORIES:ปฏิทินตารางหน่วยเคลื่อนที่
END:VEVENT
BEGIN:VEVENT
DTSTART;TZID=Asia/Krasnoyarsk:20260418T120000
DTEND;TZID=Asia/Krasnoyarsk:20260418T180000
DTSTAMP:20260420T141930
CREATED:20260416T101125Z
LAST-MODIFIED:20260416T101125Z
UID:10006498-1776513600-1776535200@thaibloodcentre.redcross.or.th
SUMMARY:ศูนย์การค้าเดอะมอลล์ไลฟ์สโตร์ บางแค []
DESCRIPTION:สถานที่เจาะ : ชั้น 3 ตรงข้ามร้านโอ้กะจู๋ \nที่อยู่ : ถนนเพชรเกษม แขวงบางแคเหนือ เขตภาษีเจริญ กรุงเทพฯ 02 487 1221
URL:https://thaibloodcentre.redcross.or.th/event/%e0%b8%a8%e0%b8%b9%e0%b8%99%e0%b8%a2%e0%b9%8c%e0%b8%81%e0%b8%b2%e0%b8%a3%e0%b8%84%e0%b9%89%e0%b8%b2%e0%b9%80%e0%b8%94%e0%b8%ad%e0%b8%b0%e0%b8%a1%e0%b8%ad%e0%b8%a5%e0%b8%a5%e0%b9%8c%e0%b9%84-1689/
LOCATION:ศูนย์การค้าเดอะมอลล์ไลฟ์สโตร์ บางแค\, ศูนย์การค้าเดอะมอลล์ไลฟ์สโตร์ บางแค
CATEGORIES:ปฏิทินตารางหน่วยเคลื่อนที่
END:VEVENT
BEGIN:VEVENT
DTSTART;TZID=Asia/Krasnoyarsk:20260418T120000
DTEND;TZID=Asia/Krasnoyarsk:20260418T180000
DTSTAMP:20260420T141930
CREATED:20260416T101139Z
LAST-MODIFIED:20260416T101139Z
UID:10006499-1776513600-1776535200@thaibloodcentre.redcross.or.th
SUMMARY:ศูนย์การค้าเดอะมอลล์ไลฟ์สโตร์ บางกะปิ []
DESCRIPTION:สถานที่เจาะ : ชั้น 2 ทางออกลานจอดรถ \nที่อยู่ : ถนนลาดพร้าว แขวงคลองจั่น เขตบางกะปิ กรุงเทพฯ 0 2310 2278
URL:https://thaibloodcentre.redcross.or.th/event/%e0%b8%a8%e0%b8%b9%e0%b8%99%e0%b8%a2%e0%b9%8c%e0%b8%81%e0%b8%b2%e0%b8%a3%e0%b8%84%e0%b9%89%e0%b8%b2%e0%b9%80%e0%b8%94%e0%b8%ad%e0%b8%b0%e0%b8%a1%e0%b8%ad%e0%b8%a5%e0%b8%a5%e0%b9%8c%e0%b9%84-1690/
LOCATION:ศูนย์การค้าเดอะมอลล์ไลฟ์สโตร์ บางกะปิ\, เดอะมอลล์ไลฟ์สโตร์ บางกะปิ 3522 ถ. ลาดพร้าว แขวงคลองจั่น เขตบางกะปิ กรุงเทพมหานคร 10240
CATEGORIES:ปฏิทินตารางหน่วยเคลื่อนที่
END:VEVENT
BEGIN:VEVENT
DTSTART;TZID=Asia/Krasnoyarsk:20260418T120000
DTEND;TZID=Asia/Krasnoyarsk:20260418T180000
DTSTAMP:20260420T141930
CREATED:20260416T101154Z
LAST-MODIFIED:20260416T101154Z
UID:10006500-1776513600-1776535200@thaibloodcentre.redcross.or.th
SUMMARY:ศูนย์การค้าเดอะมอลล์ไลฟ์สโตร์ งามวงศ์วาน []
DESCRIPTION:สถานที่เจาะ : ชั้น 5 โซน Government Center \nที่อยู่ : ถนนงามวงศ์วาน ต.บางเขน อ.เมือง จ.นนทบุรี 0 2555 1550
URL:https://thaibloodcentre.redcross.or.th/event/%e0%b8%a8%e0%b8%b9%e0%b8%99%e0%b8%a2%e0%b9%8c%e0%b8%81%e0%b8%b2%e0%b8%a3%e0%b8%84%e0%b9%89%e0%b8%b2%e0%b9%80%e0%b8%94%e0%b8%ad%e0%b8%b0%e0%b8%a1%e0%b8%ad%e0%b8%a5%e0%b8%a5%e0%b9%8c%e0%b9%84-1691/
LOCATION:ศูนย์การค้าเดอะมอลล์ไลฟ์สโตร์ งามวงศ์วาน\, เดอะมอลล์ ไลฟ์สโตร์ งามวงศ์วาน 430 ถนน งามวงศ์วาน ตำบลบางเขน อำเภอเมืองนนทบุรี นนทบุรี 11000
CATEGORIES:ปฏิทินตารางหน่วยเคลื่อนที่
END:VEVENT
BEGIN:VEVENT
DTSTART;TZID=Asia/Krasnoyarsk:20260418T120000
DTEND;TZID=Asia/Krasnoyarsk:20260418T180000
DTSTAMP:20260420T141930
CREATED:20260416T101208Z
LAST-MODIFIED:20260416T101208Z
UID:10006501-1776513600-1776535200@thaibloodcentre.redcross.or.th
SUMMARY:ศูนย์การค้า เอ็มโพเรียม []
DESCRIPTION:สถานที่เจาะ : ชั้น M ศูนย์การค้า ดิ เอ็มโพเรียม เชื่อมลานจอดรถอาคาร B \nที่อยู่ : 622 ถนนสุขุมวิท แขวงคลองตัน เขตคลองเตย กรุงเทพฯ 0 2269 1515
URL:https://thaibloodcentre.redcross.or.th/event/%e0%b8%a8%e0%b8%b9%e0%b8%99%e0%b8%a2%e0%b9%8c%e0%b8%81%e0%b8%b2%e0%b8%a3%e0%b8%84%e0%b9%89%e0%b8%b2-%e0%b9%80%e0%b8%ad%e0%b9%87%e0%b8%a1%e0%b9%82%e0%b8%9e%e0%b9%80%e0%b8%a3%e0%b8%b5%e0%b8%a2-419/
LOCATION:ศูนย์การค้า เอ็มโพเรียม\, เอ็มโพเรียม 622 ถ. สุขุมวิท แขวงคลองตัน เขตคลองเตย กรุงเทพมหานคร 10110
CATEGORIES:ปฏิทินตารางหน่วยเคลื่อนที่
END:VEVENT
BEGIN:VEVENT
DTSTART;TZID=Asia/Krasnoyarsk:20260418T120000
DTEND;TZID=Asia/Krasnoyarsk:20260418T180000
DTSTAMP:20260420T141930
CREATED:20260416T101320Z
LAST-MODIFIED:20260416T101320Z
UID:10006502-1776513600-1776535200@thaibloodcentre.redcross.or.th
SUMMARY:ศูนย์การค้าเดอะมอลล์ไลฟ์สโตร์ ท่าพระ []
DESCRIPTION:สถานที่เจาะ : ชั้น 1 (ติดลานจอดรถ) \nที่อยู่ : 99 ถนนรัชดาท่าพระตัดใหม่ แขวงบุคคโล เขตธนบุรี กรุงเทพฯ 0 2469-1000
URL:https://thaibloodcentre.redcross.or.th/event/%e0%b8%a8%e0%b8%b9%e0%b8%99%e0%b8%a2%e0%b9%8c%e0%b8%81%e0%b8%b2%e0%b8%a3%e0%b8%84%e0%b9%89%e0%b8%b2%e0%b9%80%e0%b8%94%e0%b8%ad%e0%b8%b0%e0%b8%a1%e0%b8%ad%e0%b8%a5%e0%b8%a5%e0%b9%8c%e0%b9%84-1692/
LOCATION:ศูนย์การค้าเดอะมอลล์ไลฟ์สโตร์ ท่าพระ\, เดอะมอลล์ไลฟ์สโตร์ ท่าพระ 129 ถ. รัชดาภิเษก แขวงบุคคโล เขตธนบุรี กรุงเทพมหานคร 10600
CATEGORIES:ปฏิทินตารางหน่วยเคลื่อนที่
END:VEVENT
BEGIN:VEVENT
DTSTART;TZID=Asia/Krasnoyarsk:20260419T083000
DTEND;TZID=Asia/Krasnoyarsk:20260419T153000
DTSTAMP:20260420T141930
CREATED:20260416T101526Z
LAST-MODIFIED:20260416T101526Z
UID:10006509-1776587400-1776612600@thaibloodcentre.redcross.or.th
SUMMARY:ศูนย์บริการโลหิตแห่งชาติ สภากาชาดไทย []
DESCRIPTION:ที่อยู่ : 1871 ถ. อังรีดูนังต์ แขวงปทุมวัน เขตปทุมวัน
URL:https://thaibloodcentre.redcross.or.th/event/%e0%b8%a8%e0%b8%b9%e0%b8%99%e0%b8%a2%e0%b9%8c%e0%b8%9a%e0%b8%a3%e0%b8%b4%e0%b8%81%e0%b8%b2%e0%b8%a3%e0%b9%82%e0%b8%a5%e0%b8%ab%e0%b8%b4%e0%b8%95%e0%b9%81%e0%b8%ab%e0%b9%88%e0%b8%87%e0%b8%8a-506/
LOCATION:ศูนย์บริการโลหิตแห่งชาติ สภากาชาดไทย\, ศูนย์บริการโลหิตแห่งชาติ สภากาชาดไทย 1871 ถ. อังรีดูนังต์ แขวงปทุมวัน เขตปทุมวัน กรุงเทพมหานคร 10330
CATEGORIES:ปฏิทินตารางหน่วยเคลื่อนที่
END:VEVENT
BEGIN:VEVENT
DTSTART;TZID=Asia/Krasnoyarsk:20260419T120000
DTEND;TZID=Asia/Krasnoyarsk:20260419T180000
DTSTAMP:20260420T141930
CREATED:20260416T101530Z
LAST-MODIFIED:20260416T101530Z
UID:10006510-1776600000-1776621600@thaibloodcentre.redcross.or.th
SUMMARY:ศูนย์การค้าเดอะมอลล์ไลฟ์สโตร์ บางแค []
DESCRIPTION:สถานที่เจาะ : ชั้น 3 ตรงข้ามร้านโอ้กะจู๋ \nที่อยู่ : ถนนเพชรเกษม แขวงบางแคเหนือ เขตภาษีเจริญ กรุงเทพฯ 02 487 1221
URL:https://thaibloodcentre.redcross.or.th/event/%e0%b8%a8%e0%b8%b9%e0%b8%99%e0%b8%a2%e0%b9%8c%e0%b8%81%e0%b8%b2%e0%b8%a3%e0%b8%84%e0%b9%89%e0%b8%b2%e0%b9%80%e0%b8%94%e0%b8%ad%e0%b8%b0%e0%b8%a1%e0%b8%ad%e0%b8%a5%e0%b8%a5%e0%b9%8c%e0%b9%84-1693/
LOCATION:ศูนย์การค้าเดอะมอลล์ไลฟ์สโตร์ บางแค\, ศูนย์การค้าเดอะมอลล์ไลฟ์สโตร์ บางแค
CATEGORIES:ปฏิทินตารางหน่วยเคลื่อนที่
END:VEVENT
BEGIN:VEVENT
DTSTART;TZID=Asia/Krasnoyarsk:20260419T120000
DTEND;TZID=Asia/Krasnoyarsk:20260419T180000
DTSTAMP:20260420T141930
CREATED:20260416T101544Z
LAST-MODIFIED:20260416T101544Z
UID:10006511-1776600000-1776621600@thaibloodcentre.redcross.or.th
SUMMARY:ศูนย์การค้าเดอะมอลล์ไลฟ์สโตร์ บางกะปิ []
DESCRIPTION:สถานที่เจาะ : ชั้น 2 ทางออกลานจอดรถ \nที่อยู่ : ถนนลาดพร้าว แขวงคลองจั่น เขตบางกะปิ กรุงเทพฯ 0 2310 2278
URL:https://thaibloodcentre.redcross.or.th/event/%e0%b8%a8%e0%b8%b9%e0%b8%99%e0%b8%a2%e0%b9%8c%e0%b8%81%e0%b8%b2%e0%b8%a3%e0%b8%84%e0%b9%89%e0%b8%b2%e0%b9%80%e0%b8%94%e0%b8%ad%e0%b8%b0%e0%b8%a1%e0%b8%ad%e0%b8%a5%e0%b8%a5%e0%b9%8c%e0%b9%84-1694/
LOCATION:ศูนย์การค้าเดอะมอลล์ไลฟ์สโตร์ บางกะปิ\, เดอะมอลล์ไลฟ์สโตร์ บางกะปิ 3522 ถ. ลาดพร้าว แขวงคลองจั่น เขตบางกะปิ กรุงเทพมหานคร 10240
CATEGORIES:ปฏิทินตารางหน่วยเคลื่อนที่
END:VEVENT
BEGIN:VEVENT
DTSTART;TZID=Asia/Krasnoyarsk:20260420T073000
DTEND;TZID=Asia/Krasnoyarsk:20260420T193000
DTSTAMP:20260420T141930
CREATED:20260420T061908Z
LAST-MODIFIED:20260420T064758Z
UID:10006618-1776670200-1776713400@thaibloodcentre.redcross.or.th
SUMMARY:ศูนย์บริการโลหิตแห่งชาติ สภากาชาดไทย []
DESCRIPTION:ที่อยู่ : 1871 ถ. อังรีดูนังต์ แขวงปทุมวัน เขตปทุมวัน
URL:https://thaibloodcentre.redcross.or.th/event/%e0%b8%a8%e0%b8%b9%e0%b8%99%e0%b8%a2%e0%b9%8c%e0%b8%9a%e0%b8%a3%e0%b8%b4%e0%b8%81%e0%b8%b2%e0%b8%a3%e0%b9%82%e0%b8%a5%e0%b8%ab%e0%b8%b4%e0%b8%95%e0%b9%81%e0%b8%ab%e0%b9%88%e0%b8%87%e0%b8%8a-510/
LOCATION:ศูนย์บริการโลหิตแห่งชาติ สภากาชาดไทย\, ศูนย์บริการโลหิตแห่งชาติ สภากาชาดไทย 1871 ถ. อังรีดูนังต์ แขวงปทุมวัน เขตปทุมวัน กรุงเทพมหานคร 10330
CATEGORIES:ปฏิทินตารางหน่วยเคลื่อนที่
END:VEVENT
BEGIN:VEVENT
DTSTART;TZID=Asia/Krasnoyarsk:20260420T083000
DTEND;TZID=Asia/Krasnoyarsk:20260420T193000
DTSTAMP:20260420T141930
CREATED:20260420T064821Z
LAST-MODIFIED:20260420T064821Z
UID:10006624-1776673800-1776713400@thaibloodcentre.redcross.or.th
SUMMARY:สถานีกาชาด 11 วิเศษนิยม []
DESCRIPTION:สถานที่เจาะ : ชั้น 3 \nที่อยู่ : 33/3 ถนนเพชรเกษม แขวงบางหว้า เขตภาษีเจริญ กรุงเทพฯ 0633450711
URL:https://thaibloodcentre.redcross.or.th/event/%e0%b8%aa%e0%b8%96%e0%b8%b2%e0%b8%99%e0%b8%b5%e0%b8%81%e0%b8%b2%e0%b8%8a%e0%b8%b2%e0%b8%94-11-%e0%b8%a7%e0%b8%b4%e0%b9%80%e0%b8%a8%e0%b8%a9%e0%b8%99%e0%b8%b4%e0%b8%a2%e0%b8%a1-224/
LOCATION:สถานีกาชาด 11 วิเศษนิยม\, สถานีกาชาด 11 วิเศษนิยม 605 ถ.เพชรเกษม แขวงบางหว้า เขตภาษีเจริญ กรุงเทพมหานคร 10160
CATEGORIES:ปฏิทินตารางหน่วยเคลื่อนที่
END:VEVENT
BEGIN:VEVENT
DTSTART;TZID=Asia/Krasnoyarsk:20260420T090000
DTEND;TZID=Asia/Krasnoyarsk:20260420T150000
DTSTAMP:20260420T141930
CREATED:20260420T064824Z
LAST-MODIFIED:20260420T064824Z
UID:10006625-1776675600-1776697200@thaibloodcentre.redcross.or.th
SUMMARY:บ้านทรงไทย (ย่านวงศ์สว่าง) []
DESCRIPTION:สถานที่เจาะ : (พัก 12.30-13.00 น.) \nที่อยู่ : 1423 ถนนกรุงเทพ – นนทบุรี แขวงวงศ์สว่าง เขตบางซื่อ กรุงเทพฯ 0 2256 4300
URL:https://thaibloodcentre.redcross.or.th/event/%e0%b8%9a%e0%b9%89%e0%b8%b2%e0%b8%99%e0%b8%97%e0%b8%a3%e0%b8%87%e0%b9%84%e0%b8%97%e0%b8%a2-%e0%b8%a2%e0%b9%88%e0%b8%b2%e0%b8%99%e0%b8%a7%e0%b8%87%e0%b8%a8%e0%b9%8c%e0%b8%aa%e0%b8%a7%e0%b9%88-425/
LOCATION:บ้านทรงไทย (ย่านวงศ์สว่าง)\, หน่วยรับบริจาคโลหิต บ้านทรงไทย(ย่านวงศ์สว่าง) 1423 ถนนกรุงเทพ-นนทบุรี แขวงวงศ์สว่าง เขตบางซื่อ กรุงเทพมหานคร 10800
CATEGORIES:ปฏิทินตารางหน่วยเคลื่อนที่
END:VEVENT
BEGIN:VEVENT
DTSTART;TZID=Asia/Krasnoyarsk:20260420T090000
DTEND;TZID=Asia/Krasnoyarsk:20260420T150000
DTSTAMP:20260420T141930
CREATED:20260420T064830Z
LAST-MODIFIED:20260420T064830Z
UID:10006626-1776675600-1776697200@thaibloodcentre.redcross.or.th
SUMMARY:บริษัท ธนารักษ์พัฒนาสินทรัพย์ จำกัด []
DESCRIPTION:สถานที่เจาะ : อาคาร A ชั้น 2 (พัก 11.00-12.00 น.) \nที่อยู่ : 120 ชั้น 1 อาคารศูนย์ประชุมฯ ถนนแจ้งวัฒนะ 7 แขวงทุ่งสองห้อง  เขตหลักสี่ กรุงเทพฯ 0 2142 2204
URL:https://thaibloodcentre.redcross.or.th/event/%e0%b8%9a%e0%b8%a3%e0%b8%b4%e0%b8%a9%e0%b8%b1%e0%b8%97-%e0%b8%98%e0%b8%99%e0%b8%b2%e0%b8%a3%e0%b8%b1%e0%b8%81%e0%b8%a9%e0%b9%8c%e0%b8%9e%e0%b8%b1%e0%b8%92%e0%b8%99%e0%b8%b2%e0%b8%aa%e0%b8%b4-20/
LOCATION:บริษัท ธนารักษ์พัฒนาสินทรัพย์ จำกัด\, ศูนย์ราชการฯ แจ้งวัฒนะ 120 หมู่ที่ 3 ถนนแจ้งวัฒนะ แขวงทุ่งสองห้อง เขตหลักสี่ กรุงเทพมหานคร 10210
CATEGORIES:ปฏิทินตารางหน่วยเคลื่อนที่
END:VEVENT
BEGIN:VEVENT
DTSTART;TZID=Asia/Krasnoyarsk:20260420T090000
DTEND;TZID=Asia/Krasnoyarsk:20260420T150000
DTSTAMP:20260420T141930
CREATED:20260420T064832Z
LAST-MODIFIED:20260420T064832Z
UID:10006627-1776675600-1776697200@thaibloodcentre.redcross.or.th
SUMMARY:บริษัท วันไทยอุตสาหกรรมอาหาร จำกัด []
DESCRIPTION:สถานที่เจาะ : ด้านข้างอาคาร (พัก 12.00-13.00 น.) \nที่อยู่ : 2/4 ซอยเสรีไทย 58 แขวงมีนบุรี เขตมีนบุรี กรุงเทพฯ 0 2517 0944
URL:https://thaibloodcentre.redcross.or.th/event/%e0%b8%9a%e0%b8%a3%e0%b8%b4%e0%b8%a9%e0%b8%b1%e0%b8%97-%e0%b8%a7%e0%b8%b1%e0%b8%99%e0%b9%84%e0%b8%97%e0%b8%a2%e0%b8%ad%e0%b8%b8%e0%b8%95%e0%b8%aa%e0%b8%b2%e0%b8%ab%e0%b8%81%e0%b8%a3%e0%b8%a3-3/
LOCATION:บริษัท วันไทยอุตสาหกรรมอาหาร จำกัด\, บจก. วันไทยอุตสาหกรรมอาหาร (1) 2/4 ซอยเสรีไทย 58 แขวงมีนบุรี เขตมีนบุรี กรุงเทพฯ 10510
CATEGORIES:ปฏิทินตารางหน่วยเคลื่อนที่
END:VEVENT
BEGIN:VEVENT
DTSTART;TZID=Asia/Krasnoyarsk:20260420T090000
DTEND;TZID=Asia/Krasnoyarsk:20260420T150000
DTSTAMP:20260420T141930
CREATED:20260420T065008Z
LAST-MODIFIED:20260420T065008Z
UID:10006628-1776675600-1776697200@thaibloodcentre.redcross.or.th
SUMMARY:นิติบุคคลอาคารชุดโอเชี่ยนทาวเวอร์ 2 []
DESCRIPTION:สถานที่เจาะ : หน้าอาคาร (พัก 12.00-13.00 น.) \nที่อยู่ : 75 ซอยสุขุมวิท 19 ถนนสุขุมวิท 21 แขวงคลองเตยเหนือ เขตวัฒนา กรุงเทพฯ 0 2260 5226-9
URL:https://thaibloodcentre.redcross.or.th/event/%e0%b8%99%e0%b8%b4%e0%b8%95%e0%b8%b4%e0%b8%9a%e0%b8%b8%e0%b8%84%e0%b8%84%e0%b8%a5%e0%b8%ad%e0%b8%b2%e0%b8%84%e0%b8%b2%e0%b8%a3%e0%b8%8a%e0%b8%b8%e0%b8%94%e0%b9%82%e0%b8%ad%e0%b9%80%e0%b8%8a%e0%b8%b5-4/
LOCATION:นิติบุคคลอาคารชุดโอเชี่ยนทาวเวอร์ 2\, โอเชี่ยน ทาวเวอร์ 2 75 ซอยสุขุมวิท 19 ถนนสุขุมวิท 21 แขวงคลองเตยเหนือ เขตวัฒนา กรุงเทพมหานคร 10110
CATEGORIES:ปฏิทินตารางหน่วยเคลื่อนที่
END:VEVENT
BEGIN:VEVENT
DTSTART;TZID=Asia/Krasnoyarsk:20260420T090000
DTEND;TZID=Asia/Krasnoyarsk:20260420T150000
DTSTAMP:20260420T141930
CREATED:20260420T065012Z
LAST-MODIFIED:20260420T065012Z
UID:10006630-1776675600-1776697200@thaibloodcentre.redcross.or.th
SUMMARY:กองสถานพักผ่อน กรมพลาธิการทหารบก []
DESCRIPTION:สถานที่เจาะ : ห้องบางปู 3 (พัก 12.00-13.00 น.) \nที่อยู่ : 164 ม. 2 ถ.สุขุมวิท ต.บางปูใหม่ อ.เมือง จ.สมุทรปราการ 0 2323 1213
URL:https://thaibloodcentre.redcross.or.th/event/%e0%b8%81%e0%b8%ad%e0%b8%87%e0%b8%aa%e0%b8%96%e0%b8%b2%e0%b8%99%e0%b8%9e%e0%b8%b1%e0%b8%81%e0%b8%9c%e0%b9%88%e0%b8%ad%e0%b8%99-%e0%b8%81%e0%b8%a3%e0%b8%a1%e0%b8%9e%e0%b8%a5%e0%b8%b2%e0%b8%98-4/
LOCATION:กองสถานพักผ่อน กรมพลาธิการทหารบก\, กองสถานพักผ่อน กรมพลาธิการทหารบก 164 ม.2 ถ.สุขุมวิทต.บางปูใหม่ อ.เมือง จ.สมุทรปราการ 10280
CATEGORIES:ปฏิทินตารางหน่วยเคลื่อนที่
END:VEVENT
BEGIN:VEVENT
DTSTART;TZID=Asia/Krasnoyarsk:20260420T090000
DTEND;TZID=Asia/Krasnoyarsk:20260420T150000
DTSTAMP:20260420T141930
CREATED:20260420T065014Z
LAST-MODIFIED:20260420T065014Z
UID:10006631-1776675600-1776697200@thaibloodcentre.redcross.or.th
SUMMARY:สำนักงานเขตหนองจอก []
DESCRIPTION:สถานที่เจาะ : ในศาลาประชาคม (พัก 12.00-13.00 น.) \nที่อยู่ : 16 ถนนเชื่อมสัมพันธ์ แขวงกระทุ่มราย เขตหนองจอก กรุงเทพฯ 0 2543 1144
URL:https://thaibloodcentre.redcross.or.th/event/%e0%b8%aa%e0%b8%b3%e0%b8%99%e0%b8%b1%e0%b8%81%e0%b8%87%e0%b8%b2%e0%b8%99%e0%b9%80%e0%b8%82%e0%b8%95%e0%b8%ab%e0%b8%99%e0%b8%ad%e0%b8%87%e0%b8%88%e0%b8%ad%e0%b8%81-2/
LOCATION:สำนักงานเขตหนองจอก\, สำนักงานเขตหนองจอก สำนักงานเขตหนองจอก 16 ถนน เชื่อมสัมพันธ์ แขวงกระทุ่มราย เขตหนองจอก กรุงเทพมหานคร 10530
CATEGORIES:ปฏิทินตารางหน่วยเคลื่อนที่
END:VEVENT
BEGIN:VEVENT
DTSTART;TZID=Asia/Krasnoyarsk:20260420T090000
DTEND;TZID=Asia/Krasnoyarsk:20260420T150000
DTSTAMP:20260420T141931
CREATED:20260420T065016Z
LAST-MODIFIED:20260420T065016Z
UID:10006632-1776675600-1776697200@thaibloodcentre.redcross.or.th
SUMMARY:นิติบุคคลอาคารชุดเลครัชดา []
DESCRIPTION:สถานที่เจาะ : จุด Drop Off ของอาคาร (พัก 12.00-13.00 น.) \nที่อยู่ : 193-195 ถนนรัชดาภิเษก แขวงคลองเตย เขตคลองเตย กรุงเทพฯ 0 2264 0009-16
URL:https://thaibloodcentre.redcross.or.th/event/%e0%b8%99%e0%b8%b4%e0%b8%95%e0%b8%b4%e0%b8%9a%e0%b8%b8%e0%b8%84%e0%b8%84%e0%b8%a5%e0%b8%ad%e0%b8%b2%e0%b8%84%e0%b8%b2%e0%b8%a3%e0%b8%8a%e0%b8%b8%e0%b8%94%e0%b9%80%e0%b8%a5%e0%b8%84%e0%b8%a3%e0%b8%b1-5/
LOCATION:นิติบุคคลอาคารชุดเลครัชดา\, อาคารเลครัชดา คอมเพล็กซ์ 193-195 ถ.รัชดาภิเษก แขวงคลองเตย เขตคลองเตย กรุงเทพมหานคร 10110
CATEGORIES:ปฏิทินตารางหน่วยเคลื่อนที่
END:VEVENT
BEGIN:VEVENT
DTSTART;TZID=Asia/Krasnoyarsk:20260420T090000
DTEND;TZID=Asia/Krasnoyarsk:20260420T150000
DTSTAMP:20260420T141931
CREATED:20260420T065209Z
LAST-MODIFIED:20260420T065209Z
UID:10006633-1776675600-1776697200@thaibloodcentre.redcross.or.th
SUMMARY:กรมการขนส่งทางบก []
DESCRIPTION:สถานที่เจาะ : หน้าอาคาร 1 (พัก 12.00-13.00 น.) \nที่อยู่ : 1032 ถนนพหลโยธิน แขวงลาดยาว เขตจตุจักร กรุงเทพฯ 0 2271 8802
URL:https://thaibloodcentre.redcross.or.th/event/%e0%b8%81%e0%b8%a3%e0%b8%a1%e0%b8%81%e0%b8%b2%e0%b8%a3%e0%b8%82%e0%b8%99%e0%b8%aa%e0%b9%88%e0%b8%87%e0%b8%97%e0%b8%b2%e0%b8%87%e0%b8%9a%e0%b8%81-3/
LOCATION:กรมการขนส่งทางบก\, กรมการขนส่งทางบก 1032 ถ.พหลโยธิน แขวงจอมพล เขตจตุจักร กรุงเทพมหานคร 10900
CATEGORIES:ปฏิทินตารางหน่วยเคลื่อนที่
END:VEVENT
BEGIN:VEVENT
DTSTART;TZID=Asia/Krasnoyarsk:20260420T110000
DTEND;TZID=Asia/Krasnoyarsk:20260420T150000
DTSTAMP:20260420T141931
CREATED:20260420T065010Z
LAST-MODIFIED:20260420T065010Z
UID:10006629-1776682800-1776697200@thaibloodcentre.redcross.or.th
SUMMARY:บริษัท เมเจอร์ ซีนีเพล็กซ์ กรุ้ป จำกัด (มหาชน) []
DESCRIPTION:สถานที่เจาะ : อาคารอเวนิวชั้น 14 เมเจอร์ รัชโยธิน \nที่อยู่ : 1839 ถนนพหลโยธิน แขวงลาดยาว เขตจตุจักร กรุงเทพฯ 0 2515 5300
URL:https://thaibloodcentre.redcross.or.th/event/%e0%b8%9a%e0%b8%a3%e0%b8%b4%e0%b8%a9%e0%b8%b1%e0%b8%97-%e0%b9%80%e0%b8%a1%e0%b9%80%e0%b8%88%e0%b8%ad%e0%b8%a3%e0%b9%8c-%e0%b8%8b%e0%b8%b5%e0%b8%99%e0%b8%b5%e0%b9%80%e0%b8%9e%e0%b8%a5%e0%b9%87-6/
LOCATION:บริษัท เมเจอร์ ซีนีเพล็กซ์ กรุ้ป จำกัด (มหาชน)\, บริษัท เมเจอร์ ซีนีเพล็กซ์ กรุ้ป จำกัด (มหาชน) 1839\,1839/1-1839/6 ถนนพหลโยธิน แขวงลาดยาว เขตจตุจักร กรุงเทพมหานคร 10900
CATEGORIES:ปฏิทินตารางหน่วยเคลื่อนที่
END:VEVENT
BEGIN:VEVENT
DTSTART;TZID=Asia/Krasnoyarsk:20260420T120000
DTEND;TZID=Asia/Krasnoyarsk:20260420T180000
DTSTAMP:20260420T141931
CREATED:20260420T061913Z
LAST-MODIFIED:20260420T064759Z
UID:10006619-1776686400-1776708000@thaibloodcentre.redcross.or.th
SUMMARY:ศูนย์การค้าเดอะมอลล์ไลฟ์สโตร์ บางแค []
DESCRIPTION:สถานที่เจาะ : ชั้น 3 ตรงข้ามร้านโอ้กะจู๋ \nที่อยู่ : ถนนเพชรเกษม แขวงบางแคเหนือ เขตภาษีเจริญ กรุงเทพฯ 02 487 1221
URL:https://thaibloodcentre.redcross.or.th/event/%e0%b8%a8%e0%b8%b9%e0%b8%99%e0%b8%a2%e0%b9%8c%e0%b8%81%e0%b8%b2%e0%b8%a3%e0%b8%84%e0%b9%89%e0%b8%b2%e0%b9%80%e0%b8%94%e0%b8%ad%e0%b8%b0%e0%b8%a1%e0%b8%ad%e0%b8%a5%e0%b8%a5%e0%b9%8c%e0%b9%84-1700/
LOCATION:ศูนย์การค้าเดอะมอลล์ไลฟ์สโตร์ บางแค\, ศูนย์การค้าเดอะมอลล์ไลฟ์สโตร์ บางแค
CATEGORIES:ปฏิทินตารางหน่วยเคลื่อนที่
END:VEVENT
BEGIN:VEVENT
DTSTART;TZID=Asia/Krasnoyarsk:20260420T120000
DTEND;TZID=Asia/Krasnoyarsk:20260420T180000
DTSTAMP:20260420T141931
CREATED:20260420T061928Z
LAST-MODIFIED:20260420T064800Z
UID:10006620-1776686400-1776708000@thaibloodcentre.redcross.or.th
SUMMARY:ศูนย์การค้าเดอะมอลล์ไลฟ์สโตร์ บางกะปิ []
DESCRIPTION:สถานที่เจาะ : ชั้น 2 ทางออกลานจอดรถ \nที่อยู่ : ถนนลาดพร้าว แขวงคลองจั่น เขตบางกะปิ กรุงเทพฯ 0 2310 2278
URL:https://thaibloodcentre.redcross.or.th/event/%e0%b8%a8%e0%b8%b9%e0%b8%99%e0%b8%a2%e0%b9%8c%e0%b8%81%e0%b8%b2%e0%b8%a3%e0%b8%84%e0%b9%89%e0%b8%b2%e0%b9%80%e0%b8%94%e0%b8%ad%e0%b8%b0%e0%b8%a1%e0%b8%ad%e0%b8%a5%e0%b8%a5%e0%b9%8c%e0%b9%84-1702/
LOCATION:ศูนย์การค้าเดอะมอลล์ไลฟ์สโตร์ บางกะปิ\, เดอะมอลล์ไลฟ์สโตร์ บางกะปิ 3522 ถ. ลาดพร้าว แขวงคลองจั่น เขตบางกะปิ กรุงเทพมหานคร 10240
CATEGORIES:ปฏิทินตารางหน่วยเคลื่อนที่
END:VEVENT
BEGIN:VEVENT
DTSTART;TZID=Asia/Krasnoyarsk:20260420T120000
DTEND;TZID=Asia/Krasnoyarsk:20260420T180000
DTSTAMP:20260420T141931
CREATED:20260420T061943Z
LAST-MODIFIED:20260420T064800Z
UID:10006621-1776686400-1776708000@thaibloodcentre.redcross.or.th
SUMMARY:ศูนย์การค้าเดอะมอลล์ไลฟ์สโตร์ งามวงศ์วาน []
DESCRIPTION:สถานที่เจาะ : ชั้น 5 โซน Government Center \nที่อยู่ : ถนนงามวงศ์วาน ต.บางเขน อ.เมือง จ.นนทบุรี 0 2555 1550
URL:https://thaibloodcentre.redcross.or.th/event/%e0%b8%a8%e0%b8%b9%e0%b8%99%e0%b8%a2%e0%b9%8c%e0%b8%81%e0%b8%b2%e0%b8%a3%e0%b8%84%e0%b9%89%e0%b8%b2%e0%b9%80%e0%b8%94%e0%b8%ad%e0%b8%b0%e0%b8%a1%e0%b8%ad%e0%b8%a5%e0%b8%a5%e0%b9%8c%e0%b9%84-1704/
LOCATION:ศูนย์การค้าเดอะมอลล์ไลฟ์สโตร์ งามวงศ์วาน\, เดอะมอลล์ ไลฟ์สโตร์ งามวงศ์วาน 430 ถนน งามวงศ์วาน ตำบลบางเขน อำเภอเมืองนนทบุรี นนทบุรี 11000
CATEGORIES:ปฏิทินตารางหน่วยเคลื่อนที่
END:VEVENT
BEGIN:VEVENT
DTSTART;TZID=Asia/Krasnoyarsk:20260420T120000
DTEND;TZID=Asia/Krasnoyarsk:20260420T180000
DTSTAMP:20260420T141931
CREATED:20260420T061958Z
LAST-MODIFIED:20260420T064801Z
UID:10006622-1776686400-1776708000@thaibloodcentre.redcross.or.th
SUMMARY:ศูนย์การค้า เอ็มโพเรียม []
DESCRIPTION:สถานที่เจาะ : ชั้น M ศูนย์การค้า ดิ เอ็มโพเรียม เชื่อมลานจอดรถอาคาร B \nที่อยู่ : 622 ถนนสุขุมวิท แขวงคลองตัน เขตคลองเตย กรุงเทพฯ 0 2269 1515
URL:https://thaibloodcentre.redcross.or.th/event/%e0%b8%a8%e0%b8%b9%e0%b8%99%e0%b8%a2%e0%b9%8c%e0%b8%81%e0%b8%b2%e0%b8%a3%e0%b8%84%e0%b9%89%e0%b8%b2-%e0%b9%80%e0%b8%ad%e0%b9%87%e0%b8%a1%e0%b9%82%e0%b8%9e%e0%b9%80%e0%b8%a3%e0%b8%b5%e0%b8%a2-422/
LOCATION:ศูนย์การค้า เอ็มโพเรียม\, เอ็มโพเรียม 622 ถ. สุขุมวิท แขวงคลองตัน เขตคลองเตย กรุงเทพมหานคร 10110
CATEGORIES:ปฏิทินตารางหน่วยเคลื่อนที่
END:VEVENT
END:VCALENDAR