BEGIN:VCALENDAR
VERSION:2.0
PRODID:-//เว็บไซต์ศูนย์บริการโลหิตแห่งชาติ - ECPv6.11.2.1//NONSGML v1.0//EN
CALSCALE:GREGORIAN
METHOD:PUBLISH
X-ORIGINAL-URL:https://thaibloodcentre.redcross.or.th
X-WR-CALDESC:Events for เว็บไซต์ศูนย์บริการโลหิตแห่งชาติ
REFRESH-INTERVAL;VALUE=DURATION:PT1H
X-Robots-Tag:noindex
X-PUBLISHED-TTL:PT1H
BEGIN:VTIMEZONE
TZID:Asia/Krasnoyarsk
BEGIN:STANDARD
TZOFFSETFROM:+0700
TZOFFSETTO:+0700
TZNAME:+07
DTSTART:20250101T000000
END:STANDARD
END:VTIMEZONE
BEGIN:VEVENT
DTSTART;TZID=Asia/Krasnoyarsk:20251108T120000
DTEND;TZID=Asia/Krasnoyarsk:20251108T120000
DTSTAMP:20260426T105003
CREATED:20251104T074304Z
LAST-MODIFIED:20251104T074304Z
UID:10004035-1762603200-1762603200@thaibloodcentre.redcross.or.th
SUMMARY:โรงเรียนซางตาครู้สคอนแวนท์ [โรงเรียนซางตาครู้สคอนแวนท์]
DESCRIPTION:สถานที่เจาะ : 146 ถนนเทศบาลสาย 1 \nที่อยู่ : แขวงวัดกัลยาณ์ เขตธนบุรี กรุงเทพฯ 0 2465 0954
URL:https://thaibloodcentre.redcross.or.th/event/%e0%b9%82%e0%b8%a3%e0%b8%87%e0%b9%80%e0%b8%a3%e0%b8%b5%e0%b8%a2%e0%b8%99%e0%b8%8b%e0%b8%b2%e0%b8%87%e0%b8%95%e0%b8%b2%e0%b8%84%e0%b8%a3%e0%b8%b9%e0%b9%89%e0%b8%aa%e0%b8%84%e0%b8%ad%e0%b8%99%e0%b9%81/
LOCATION:โรงเรียนซางตาครู้สคอนแวนท์\, 146 ซอยกุฎีจีน แขวงวัดกัลยา เขตธนบุรี กรุงเทพมหานคร 10600 0.35416666666667
CATEGORIES:ปฏิทินตารางหน่วยเคลื่อนที่
END:VEVENT
BEGIN:VEVENT
DTSTART;TZID=Asia/Krasnoyarsk:20251108T123000
DTEND;TZID=Asia/Krasnoyarsk:20251108T123000
DTSTAMP:20260426T105003
CREATED:20251104T074202Z
LAST-MODIFIED:20251104T074202Z
UID:10004023-1762605000-1762605000@thaibloodcentre.redcross.or.th
SUMMARY:ศูนย์บริการโลหิตแห่งชาติ สภากาชาดไทย [ศูนย์บริการโลหิตแห่งชาติ สภากาชาดไทย]
DESCRIPTION:สถานที่เจาะ : 1871 ถ. อังรีดูนังต์ แขวงปทุมวัน เขตปทุมวัน
URL:https://thaibloodcentre.redcross.or.th/event/%e0%b8%a8%e0%b8%b9%e0%b8%99%e0%b8%a2%e0%b9%8c%e0%b8%9a%e0%b8%a3%e0%b8%b4%e0%b8%81%e0%b8%b2%e0%b8%a3%e0%b9%82%e0%b8%a5%e0%b8%ab%e0%b8%b4%e0%b8%95%e0%b9%81%e0%b8%ab%e0%b9%88%e0%b8%87%e0%b8%8a-321/
LOCATION:ศูนย์บริการโลหิตแห่งชาติ สภากาชาดไทย\, ศูนย์บริการโลหิตแห่งชาติ สภากาชาดไทย 1871 ถ. อังรีดูนังต์ แขวงปทุมวัน เขตปทุมวัน กรุงเทพมหานคร 10330
CATEGORIES:ปฏิทินตารางหน่วยเคลื่อนที่
END:VEVENT
BEGIN:VEVENT
DTSTART;TZID=Asia/Krasnoyarsk:20251108T150000
DTEND;TZID=Asia/Krasnoyarsk:20251108T150000
DTSTAMP:20260426T105003
CREATED:20251104T074245Z
LAST-MODIFIED:20251104T074245Z
UID:10004031-1762614000-1762614000@thaibloodcentre.redcross.or.th
SUMMARY:หน่วยรับบริจาคโลหิต บ้านทรงไทย(ย่านวงศ์สว่าง) [บ้านทรงไทย (ย่านวงศ์สว่าง)]
DESCRIPTION:สถานที่เจาะ : 1423 ถนนกรุงเทพ – นนทบุรี \nที่อยู่ : แขวงวงศ์สว่าง เขตบางซื่อ กรุงเทพฯ 0 2256 4300
URL:https://thaibloodcentre.redcross.or.th/event/%e0%b8%ab%e0%b8%99%e0%b9%88%e0%b8%a7%e0%b8%a2%e0%b8%a3%e0%b8%b1%e0%b8%9a%e0%b8%9a%e0%b8%a3%e0%b8%b4%e0%b8%88%e0%b8%b2%e0%b8%84%e0%b9%82%e0%b8%a5%e0%b8%ab%e0%b8%b4%e0%b8%95-%e0%b8%9a%e0%b9%89-19/
LOCATION:หน่วยรับบริจาคโลหิต บ้านทรงไทย(ย่านวงศ์สว่าง)\, 1423 ถนนกรุงเทพ-นนทบุรี แขวงวงศ์สว่าง เขตบางซื่อ กรุงเทพมหานคร 10800 0.375
CATEGORIES:ปฏิทินตารางหน่วยเคลื่อนที่
END:VEVENT
BEGIN:VEVENT
DTSTART;TZID=Asia/Krasnoyarsk:20251108T150000
DTEND;TZID=Asia/Krasnoyarsk:20251108T150000
DTSTAMP:20260426T105003
CREATED:20251104T074248Z
LAST-MODIFIED:20251104T074248Z
UID:10004032-1762614000-1762614000@thaibloodcentre.redcross.or.th
SUMMARY:เซ็นทรัล บางนา [เซ็นทรัลพลาซา บางนา]
DESCRIPTION:สถานที่เจาะ : 1090 ถนนบางนา-ตราด \nที่อยู่ : แขวงบางนา เขตบางนา กรุงเทพฯ 0 2763 6000
URL:https://thaibloodcentre.redcross.or.th/event/%e0%b9%80%e0%b8%8b%e0%b9%87%e0%b8%99%e0%b8%97%e0%b8%a3%e0%b8%b1%e0%b8%a5-%e0%b8%9a%e0%b8%b2%e0%b8%87%e0%b8%99%e0%b8%b2-%e0%b9%80%e0%b8%8b%e0%b9%87%e0%b8%99%e0%b8%97%e0%b8%a3%e0%b8%b1%e0%b8%a5-3/
LOCATION:เซ็นทรัล บางนา\, ทางคู่ขนาน ถนนบางนา-ตราด แขวงบางนาเหนือ เขตบางนา กรุงเทพมหานคร 10260 0.45833333333333
CATEGORIES:ปฏิทินตารางหน่วยเคลื่อนที่
END:VEVENT
BEGIN:VEVENT
DTSTART;TZID=Asia/Krasnoyarsk:20251108T150000
DTEND;TZID=Asia/Krasnoyarsk:20251108T150000
DTSTAMP:20260426T105003
CREATED:20251104T074252Z
LAST-MODIFIED:20251104T074252Z
UID:10004033-1762614000-1762614000@thaibloodcentre.redcross.or.th
SUMMARY:ศูนย์การค้าเดอะพรอมานาด [ศูนย์การค้าเดอะพรอมานาด]
DESCRIPTION:สถานที่เจาะ : 587\,589\,589/7-9 ถนนรามอินทรา \nที่อยู่ : แขวงคันนายาว เขตคันนายาว กรุงเทพฯ 0 2947 5000
URL:https://thaibloodcentre.redcross.or.th/event/%e0%b8%a8%e0%b8%b9%e0%b8%99%e0%b8%a2%e0%b9%8c%e0%b8%81%e0%b8%b2%e0%b8%a3%e0%b8%84%e0%b9%89%e0%b8%b2%e0%b9%80%e0%b8%94%e0%b8%ad%e0%b8%b0%e0%b8%9e%e0%b8%a3%e0%b8%ad%e0%b8%a1%e0%b8%b2%e0%b8%99-19/
LOCATION:ศูนย์การค้าเดอะพรอมานาด\, ศูนย์การค้าเดอะพรอมานาด 587\,589 589/7-9 ถ.รามอินทรา แขวงคันนายาว เขตคันนายาว กรุงเทพมหานคร 10230
CATEGORIES:ปฏิทินตารางหน่วยเคลื่อนที่
END:VEVENT
BEGIN:VEVENT
DTSTART;TZID=Asia/Krasnoyarsk:20251108T150000
DTEND;TZID=Asia/Krasnoyarsk:20251108T150000
DTSTAMP:20260426T105003
CREATED:20251104T074301Z
LAST-MODIFIED:20251104T074301Z
UID:10004034-1762614000-1762614000@thaibloodcentre.redcross.or.th
SUMMARY:หมู่บ้านนันทวัน ศรีนครินทร์-วงแหวน [หมู่บ้านนันทวัน ศรีนครินทร์-วงแหวน]
DESCRIPTION:สถานที่เจาะ : 233/7 ม.6 \nที่อยู่ : ต.บางเมือง อ.เมือง จ.สมุทรปราการ
URL:https://thaibloodcentre.redcross.or.th/event/%e0%b8%ab%e0%b8%a1%e0%b8%b9%e0%b9%88%e0%b8%9a%e0%b9%89%e0%b8%b2%e0%b8%99%e0%b8%99%e0%b8%b1%e0%b8%99%e0%b8%97%e0%b8%a7%e0%b8%b1%e0%b8%99-%e0%b8%a8%e0%b8%a3%e0%b8%b5%e0%b8%99%e0%b8%84%e0%b8%a3-4/
LOCATION:หมู่บ้านนันทวัน ศรีนครินทร์-วงแหวน
CATEGORIES:ปฏิทินตารางหน่วยเคลื่อนที่
END:VEVENT
BEGIN:VEVENT
DTSTART;TZID=Asia/Krasnoyarsk:20251108T153000
DTEND;TZID=Asia/Krasnoyarsk:20251108T153000
DTSTAMP:20260426T105003
CREATED:20251104T074218Z
LAST-MODIFIED:20251104T074218Z
UID:10004024-1762615800-1762615800@thaibloodcentre.redcross.or.th
SUMMARY:ศูนย์บริการโลหิตแห่งชาติ สภากาชาดไทย [ศูนย์บริการโลหิตแห่งชาติ สภากาชาดไทย]
DESCRIPTION:สถานที่เจาะ : 1871 ถ. อังรีดูนังต์ แขวงปทุมวัน เขตปทุมวัน
URL:https://thaibloodcentre.redcross.or.th/event/%e0%b8%a8%e0%b8%b9%e0%b8%99%e0%b8%a2%e0%b9%8c%e0%b8%9a%e0%b8%a3%e0%b8%b4%e0%b8%81%e0%b8%b2%e0%b8%a3%e0%b9%82%e0%b8%a5%e0%b8%ab%e0%b8%b4%e0%b8%95%e0%b9%81%e0%b8%ab%e0%b9%88%e0%b8%87%e0%b8%8a-322/
LOCATION:ศูนย์บริการโลหิตแห่งชาติ สภากาชาดไทย\, ศูนย์บริการโลหิตแห่งชาติ สภากาชาดไทย 1871 ถ. อังรีดูนังต์ แขวงปทุมวัน เขตปทุมวัน กรุงเทพมหานคร 10330
CATEGORIES:ปฏิทินตารางหน่วยเคลื่อนที่
END:VEVENT
BEGIN:VEVENT
DTSTART;TZID=Asia/Krasnoyarsk:20251108T153000
DTEND;TZID=Asia/Krasnoyarsk:20251108T153000
DTSTAMP:20260426T105003
CREATED:20251104T074242Z
LAST-MODIFIED:20251104T074242Z
UID:10004030-1762615800-1762615800@thaibloodcentre.redcross.or.th
SUMMARY:สถานีกาชาดที่ 11 วิเศษนิยม สภากาชาดไทย [สถานีกาชาด 11 วิเศษนิยม]
DESCRIPTION:สถานที่เจาะ : 33/3 ถนนเพชรเกษม \nที่อยู่ : แขวงบางหว้า เขตภาษีเจริญ กรุงเทพฯ 0633450711
URL:https://thaibloodcentre.redcross.or.th/event/%e0%b8%aa%e0%b8%96%e0%b8%b2%e0%b8%99%e0%b8%b5%e0%b8%81%e0%b8%b2%e0%b8%8a%e0%b8%b2%e0%b8%94%e0%b8%97%e0%b8%b5%e0%b9%88-11-%e0%b8%a7%e0%b8%b4%e0%b9%80%e0%b8%a8%e0%b8%a9%e0%b8%99%e0%b8%b4%e0%b8%a2-19/
LOCATION:สถานีกาชาดที่ 11 วิเศษนิยม สภากาชาดไทย\, 605 ถ.เพชรเกษม แขวงบางหว้า เขตภาษีเจริญ กรุงเทพมหานคร 10160 0.35416666666667
CATEGORIES:ปฏิทินตารางหน่วยเคลื่อนที่
END:VEVENT
BEGIN:VEVENT
DTSTART;TZID=Asia/Krasnoyarsk:20251108T180000
DTEND;TZID=Asia/Krasnoyarsk:20251108T180000
DTSTAMP:20260426T105003
CREATED:20251104T074224Z
LAST-MODIFIED:20251104T074224Z
UID:10004025-1762624800-1762624800@thaibloodcentre.redcross.or.th
SUMMARY:เดอะมอลล์ไลฟ์สโตร์ บางแค [ศูนย์การค้าเดอะมอลล์ไลฟ์สโตร์ บางแค]
DESCRIPTION:สถานที่เจาะ : ถนนเพชรเกษม \nที่อยู่ : แขวงบางแคเหนือ เขตภาษีเจริญ กรุงเทพฯ 02 487 1221
URL:https://thaibloodcentre.redcross.or.th/event/%e0%b9%80%e0%b8%94%e0%b8%ad%e0%b8%b0%e0%b8%a1%e0%b8%ad%e0%b8%a5%e0%b8%a5%e0%b9%8c%e0%b9%84%e0%b8%a5%e0%b8%9f%e0%b9%8c%e0%b8%aa%e0%b9%82%e0%b8%95%e0%b8%a3%e0%b9%8c-%e0%b8%9a%e0%b8%b2%e0%b8%87-36/
LOCATION:เดอะมอลล์ไลฟ์สโตร์ บางแค\, 518 ถ.เพชรเกษม แขวงบางแคเหนือ เขตบางแค กรุงเทพมหานคร 10160 0.5
CATEGORIES:ปฏิทินตารางหน่วยเคลื่อนที่
END:VEVENT
BEGIN:VEVENT
DTSTART;TZID=Asia/Krasnoyarsk:20251108T180000
DTEND;TZID=Asia/Krasnoyarsk:20251108T180000
DTSTAMP:20260426T105003
CREATED:20251104T074226Z
LAST-MODIFIED:20251104T074226Z
UID:10004026-1762624800-1762624800@thaibloodcentre.redcross.or.th
SUMMARY:เดอะมอลล์ไลฟ์สโตร์ บางกะปิ [ศูนย์การค้าเดอะมอลล์ไลฟ์สโตร์ บางกะปิ]
DESCRIPTION:สถานที่เจาะ : ถนนลาดพร้าว \nที่อยู่ : แขวงคลองจั่น เขตบางกะปิ กรุงเทพฯ 0 2310 2278
URL:https://thaibloodcentre.redcross.or.th/event/%e0%b9%80%e0%b8%94%e0%b8%ad%e0%b8%b0%e0%b8%a1%e0%b8%ad%e0%b8%a5%e0%b8%a5%e0%b9%8c%e0%b9%84%e0%b8%a5%e0%b8%9f%e0%b9%8c%e0%b8%aa%e0%b9%82%e0%b8%95%e0%b8%a3%e0%b9%8c-%e0%b8%9a%e0%b8%b2%e0%b8%87-37/
LOCATION:เดอะมอลล์ไลฟ์สโตร์ บางกะปิ\, 3522 ถ. ลาดพร้าว แขวงคลองจั่น เขตบางกะปิ กรุงเทพมหานคร 10240 0.5
CATEGORIES:ปฏิทินตารางหน่วยเคลื่อนที่
END:VEVENT
BEGIN:VEVENT
DTSTART;TZID=Asia/Krasnoyarsk:20251108T180000
DTEND;TZID=Asia/Krasnoyarsk:20251108T180000
DTSTAMP:20260426T105003
CREATED:20251104T074228Z
LAST-MODIFIED:20251104T074228Z
UID:10004027-1762624800-1762624800@thaibloodcentre.redcross.or.th
SUMMARY:เดอะมอลล์ ไลฟ์สโตร์ งามวงศ์วาน [ศูนย์การค้าเดอะมอลล์ไลฟ์สโตร์ งามวงศ์วาน]
DESCRIPTION:สถานที่เจาะ : ถนนงามวงศ์วาน \nที่อยู่ : ต.บางเขน อ.เมือง จ.นนทบุรี 0 2555 1550
URL:https://thaibloodcentre.redcross.or.th/event/%e0%b9%80%e0%b8%94%e0%b8%ad%e0%b8%b0%e0%b8%a1%e0%b8%ad%e0%b8%a5%e0%b8%a5%e0%b9%8c-%e0%b9%84%e0%b8%a5%e0%b8%9f%e0%b9%8c%e0%b8%aa%e0%b9%82%e0%b8%95%e0%b8%a3%e0%b9%8c-%e0%b8%87%e0%b8%b2%e0%b8%a1-19/
LOCATION:เดอะมอลล์ ไลฟ์สโตร์ งามวงศ์วาน\, 430 ถนน งามวงศ์วาน ตำบลบางเขน อำเภอเมืองนนทบุรี นนทบุรี 11000 0.5
CATEGORIES:ปฏิทินตารางหน่วยเคลื่อนที่
END:VEVENT
BEGIN:VEVENT
DTSTART;TZID=Asia/Krasnoyarsk:20251108T180000
DTEND;TZID=Asia/Krasnoyarsk:20251108T180000
DTSTAMP:20260426T105003
CREATED:20251104T074231Z
LAST-MODIFIED:20251104T074231Z
UID:10004028-1762624800-1762624800@thaibloodcentre.redcross.or.th
SUMMARY:เอ็มโพเรียม [ศูนย์การค้า เอ็มโพเรียม]
DESCRIPTION:สถานที่เจาะ : 622 ถนนสุขุมวิท \nที่อยู่ : แขวงคลองตัน เขตคลองเตย กรุงเทพฯ 0 2269 1515
URL:https://thaibloodcentre.redcross.or.th/event/%e0%b9%80%e0%b8%ad%e0%b9%87%e0%b8%a1%e0%b9%82%e0%b8%9e%e0%b9%80%e0%b8%a3%e0%b8%b5%e0%b8%a2%e0%b8%a1-%e0%b8%a8%e0%b8%b9%e0%b8%99%e0%b8%a2%e0%b9%8c%e0%b8%81%e0%b8%b2%e0%b8%a3%e0%b8%84%e0%b9%89-19/
LOCATION:เอ็มโพเรียม\, 622 ถ. สุขุมวิท แขวงคลองตัน เขตคลองเตย กรุงเทพมหานคร 10110 0.5
CATEGORIES:ปฏิทินตารางหน่วยเคลื่อนที่
END:VEVENT
BEGIN:VEVENT
DTSTART;TZID=Asia/Krasnoyarsk:20251108T180000
DTEND;TZID=Asia/Krasnoyarsk:20251108T180000
DTSTAMP:20260426T105004
CREATED:20251104T074239Z
LAST-MODIFIED:20251104T074239Z
UID:10004029-1762624800-1762624800@thaibloodcentre.redcross.or.th
SUMMARY:เดอะมอลล์ไลฟ์สโตร์ ท่าพระ [ศูนย์การค้าเดอะมอลล์ไลฟ์สโตร์ ท่าพระ]
DESCRIPTION:สถานที่เจาะ : 99 ถนนรัชดาท่าพระตัดใหม่ \nที่อยู่ : แขวงบุคคโล เขตธนบุรี กรุงเทพฯ 0 2469-1000
URL:https://thaibloodcentre.redcross.or.th/event/%e0%b9%80%e0%b8%94%e0%b8%ad%e0%b8%b0%e0%b8%a1%e0%b8%ad%e0%b8%a5%e0%b8%a5%e0%b9%8c%e0%b9%84%e0%b8%a5%e0%b8%9f%e0%b9%8c%e0%b8%aa%e0%b9%82%e0%b8%95%e0%b8%a3%e0%b9%8c-%e0%b8%97%e0%b9%88%e0%b8%b2-20/
LOCATION:เดอะมอลล์ไลฟ์สโตร์ ท่าพระ\, 129 ถ. รัชดาภิเษก แขวงบุคคโล เขตธนบุรี กรุงเทพมหานคร 10600 0.5
CATEGORIES:ปฏิทินตารางหน่วยเคลื่อนที่
END:VEVENT
BEGIN:VEVENT
DTSTART;TZID=Asia/Krasnoyarsk:20251109T120000
DTEND;TZID=Asia/Krasnoyarsk:20251109T120000
DTSTAMP:20260426T105004
CREATED:20251101T063022Z
LAST-MODIFIED:20251101T063337Z
UID:10003943-1762689600-1762689600@thaibloodcentre.redcross.or.th
SUMMARY:Tiger Sport Club ตลาดชานนท์ [ชุมชนตำบลคลองด่าน]
DESCRIPTION:สถานที่เจาะ : 444 Tiger Sport Club Klongdan \nที่อยู่ : ต.คลองด่าน อ.บางบ่อ จ.สมุทรปราการ 0 2707 3900
URL:https://thaibloodcentre.redcross.or.th/event/tiger-sport-club-%e0%b8%95%e0%b8%a5%e0%b8%b2%e0%b8%94%e0%b8%8a%e0%b8%b2%e0%b8%99%e0%b8%99%e0%b8%97%e0%b9%8c-%e0%b8%8a%e0%b8%b8%e0%b8%a1%e0%b8%8a%e0%b8%99%e0%b8%95%e0%b8%b3%e0%b8%9a%e0%b8%a5%e0%b8%84/
LOCATION:Tiger Sport Club ตลาดชานนท์\, 444 ต.คลองด่าน อ.บางบ่อ จ.สมุทรปราการ 10550 0.375
CATEGORIES:ปฏิทินตารางหน่วยเคลื่อนที่
END:VEVENT
BEGIN:VEVENT
DTSTART;TZID=Asia/Krasnoyarsk:20251109T150000
DTEND;TZID=Asia/Krasnoyarsk:20251109T150000
DTSTAMP:20260426T105004
CREATED:20251101T063020Z
LAST-MODIFIED:20251101T063337Z
UID:10003942-1762700400-1762700400@thaibloodcentre.redcross.or.th
SUMMARY:หน่วยรับบริจาคโลหิต บ้านทรงไทย(ย่านวงศ์สว่าง) [บ้านทรงไทย (ย่านวงศ์สว่าง)]
DESCRIPTION:สถานที่เจาะ : 1423 ถนนกรุงเทพ – นนทบุรี \nที่อยู่ : แขวงวงศ์สว่าง เขตบางซื่อ กรุงเทพฯ 0 2256 4300
URL:https://thaibloodcentre.redcross.or.th/event/%e0%b8%ab%e0%b8%99%e0%b9%88%e0%b8%a7%e0%b8%a2%e0%b8%a3%e0%b8%b1%e0%b8%9a%e0%b8%9a%e0%b8%a3%e0%b8%b4%e0%b8%88%e0%b8%b2%e0%b8%84%e0%b9%82%e0%b8%a5%e0%b8%ab%e0%b8%b4%e0%b8%95-%e0%b8%9a%e0%b9%89-13/
LOCATION:หน่วยรับบริจาคโลหิต บ้านทรงไทย(ย่านวงศ์สว่าง)\, 1423 ถนนกรุงเทพ-นนทบุรี แขวงวงศ์สว่าง เขตบางซื่อ กรุงเทพมหานคร 10800 0.375
CATEGORIES:ปฏิทินตารางหน่วยเคลื่อนที่
END:VEVENT
BEGIN:VEVENT
DTSTART;TZID=Asia/Krasnoyarsk:20251109T150000
DTEND;TZID=Asia/Krasnoyarsk:20251109T150000
DTSTAMP:20260426T105004
CREATED:20251101T063024Z
LAST-MODIFIED:20251101T063339Z
UID:10003944-1762700400-1762700400@thaibloodcentre.redcross.or.th
SUMMARY:ลุมพินี คอนโดทาวน์ บดินทรเดชา-รามคำแหง [ลุมพินี คอนโดทาวน์ บดินทรเดชา-รามคำแหง]
DESCRIPTION:สถานที่เจาะ : 120 รามคำแหง 43/1 \nที่อยู่ : แขวงพลับพลา เขตวังทองหลาง กรุงเทพฯ 0 2285 5011-16
URL:https://thaibloodcentre.redcross.or.th/event/%e0%b8%a5%e0%b8%b8%e0%b8%a1%e0%b8%9e%e0%b8%b4%e0%b8%99%e0%b8%b5-%e0%b8%84%e0%b8%ad%e0%b8%99%e0%b9%82%e0%b8%94%e0%b8%97%e0%b8%b2%e0%b8%a7%e0%b8%99%e0%b9%8c-%e0%b8%9a%e0%b8%94%e0%b8%b4%e0%b8%99-4/
LOCATION:ลุมพินี คอนโดทาวน์ บดินทรเดชา-รามคำแหง\, ลุมพินี คอนโดทาวน์ บดินทรเดชา-รามคำแหง ซอยรามคำแหง 43/1 แขวงวังทองหลาง เขตวังทองหลาง กรุงเทพมหานคร 10310
CATEGORIES:ปฏิทินตารางหน่วยเคลื่อนที่
END:VEVENT
BEGIN:VEVENT
DTSTART;TZID=Asia/Krasnoyarsk:20251109T153000
DTEND;TZID=Asia/Krasnoyarsk:20251109T153000
DTSTAMP:20260426T105004
CREATED:20251101T062957Z
LAST-MODIFIED:20251101T063327Z
UID:10003935-1762702200-1762702200@thaibloodcentre.redcross.or.th
SUMMARY:ศูนย์บริการโลหิตแห่งชาติ สภากาชาดไทย [ศูนย์บริการโลหิตแห่งชาติ สภากาชาดไทย]
DESCRIPTION:สถานที่เจาะ : 1871 ถ. อังรีดูนังต์ แขวงปทุมวัน เขตปทุมวัน
URL:https://thaibloodcentre.redcross.or.th/event/%e0%b8%a8%e0%b8%b9%e0%b8%99%e0%b8%a2%e0%b9%8c%e0%b8%9a%e0%b8%a3%e0%b8%b4%e0%b8%81%e0%b8%b2%e0%b8%a3%e0%b9%82%e0%b8%a5%e0%b8%ab%e0%b8%b4%e0%b8%95%e0%b9%81%e0%b8%ab%e0%b9%88%e0%b8%87%e0%b8%8a-314/
LOCATION:ศูนย์บริการโลหิตแห่งชาติ สภากาชาดไทย\, ศูนย์บริการโลหิตแห่งชาติ สภากาชาดไทย 1871 ถ. อังรีดูนังต์ แขวงปทุมวัน เขตปทุมวัน กรุงเทพมหานคร 10330
CATEGORIES:ปฏิทินตารางหน่วยเคลื่อนที่
END:VEVENT
BEGIN:VEVENT
DTSTART;TZID=Asia/Krasnoyarsk:20251109T153000
DTEND;TZID=Asia/Krasnoyarsk:20251109T153000
DTSTAMP:20260426T105004
CREATED:20251101T063018Z
LAST-MODIFIED:20251101T063336Z
UID:10003941-1762702200-1762702200@thaibloodcentre.redcross.or.th
SUMMARY:สถานีกาชาดที่ 11 วิเศษนิยม สภากาชาดไทย [สถานีกาชาด 11 วิเศษนิยม]
DESCRIPTION:สถานที่เจาะ : 33/3 ถนนเพชรเกษม \nที่อยู่ : แขวงบางหว้า เขตภาษีเจริญ กรุงเทพฯ 0633450711
URL:https://thaibloodcentre.redcross.or.th/event/%e0%b8%aa%e0%b8%96%e0%b8%b2%e0%b8%99%e0%b8%b5%e0%b8%81%e0%b8%b2%e0%b8%8a%e0%b8%b2%e0%b8%94%e0%b8%97%e0%b8%b5%e0%b9%88-11-%e0%b8%a7%e0%b8%b4%e0%b9%80%e0%b8%a8%e0%b8%a9%e0%b8%99%e0%b8%b4%e0%b8%a2-13/
LOCATION:สถานีกาชาดที่ 11 วิเศษนิยม สภากาชาดไทย\, 605 ถ.เพชรเกษม แขวงบางหว้า เขตภาษีเจริญ กรุงเทพมหานคร 10160 0.35416666666667
CATEGORIES:ปฏิทินตารางหน่วยเคลื่อนที่
END:VEVENT
BEGIN:VEVENT
DTSTART;TZID=Asia/Krasnoyarsk:20251109T180000
DTEND;TZID=Asia/Krasnoyarsk:20251109T180000
DTSTAMP:20260426T105004
CREATED:20251101T063001Z
LAST-MODIFIED:20251101T063328Z
UID:10003936-1762711200-1762711200@thaibloodcentre.redcross.or.th
SUMMARY:เดอะมอลล์ไลฟ์สโตร์ บางแค [ศูนย์การค้าเดอะมอลล์ไลฟ์สโตร์ บางแค]
DESCRIPTION:สถานที่เจาะ : ถนนเพชรเกษม \nที่อยู่ : แขวงบางแคเหนือ เขตภาษีเจริญ กรุงเทพฯ 02 487 1221
URL:https://thaibloodcentre.redcross.or.th/event/%e0%b9%80%e0%b8%94%e0%b8%ad%e0%b8%b0%e0%b8%a1%e0%b8%ad%e0%b8%a5%e0%b8%a5%e0%b9%8c%e0%b9%84%e0%b8%a5%e0%b8%9f%e0%b9%8c%e0%b8%aa%e0%b9%82%e0%b8%95%e0%b8%a3%e0%b9%8c-%e0%b8%9a%e0%b8%b2%e0%b8%87-24/
LOCATION:เดอะมอลล์ไลฟ์สโตร์ บางแค\, 518 ถ.เพชรเกษม แขวงบางแคเหนือ เขตบางแค กรุงเทพมหานคร 10160 0.5
CATEGORIES:ปฏิทินตารางหน่วยเคลื่อนที่
END:VEVENT
BEGIN:VEVENT
DTSTART;TZID=Asia/Krasnoyarsk:20251109T180000
DTEND;TZID=Asia/Krasnoyarsk:20251109T180000
DTSTAMP:20260426T105004
CREATED:20251101T063004Z
LAST-MODIFIED:20251101T063328Z
UID:10003937-1762711200-1762711200@thaibloodcentre.redcross.or.th
SUMMARY:เดอะมอลล์ไลฟ์สโตร์ บางกะปิ [ศูนย์การค้าเดอะมอลล์ไลฟ์สโตร์ บางกะปิ]
DESCRIPTION:สถานที่เจาะ : ถนนลาดพร้าว \nที่อยู่ : แขวงคลองจั่น เขตบางกะปิ กรุงเทพฯ 0 2310 2278
URL:https://thaibloodcentre.redcross.or.th/event/%e0%b9%80%e0%b8%94%e0%b8%ad%e0%b8%b0%e0%b8%a1%e0%b8%ad%e0%b8%a5%e0%b8%a5%e0%b9%8c%e0%b9%84%e0%b8%a5%e0%b8%9f%e0%b9%8c%e0%b8%aa%e0%b9%82%e0%b8%95%e0%b8%a3%e0%b9%8c-%e0%b8%9a%e0%b8%b2%e0%b8%87-25/
LOCATION:เดอะมอลล์ไลฟ์สโตร์ บางกะปิ\, 3522 ถ. ลาดพร้าว แขวงคลองจั่น เขตบางกะปิ กรุงเทพมหานคร 10240 0.5
CATEGORIES:ปฏิทินตารางหน่วยเคลื่อนที่
END:VEVENT
BEGIN:VEVENT
DTSTART;TZID=Asia/Krasnoyarsk:20251109T180000
DTEND;TZID=Asia/Krasnoyarsk:20251109T180000
DTSTAMP:20260426T105004
CREATED:20251101T063007Z
LAST-MODIFIED:20251101T063329Z
UID:10003938-1762711200-1762711200@thaibloodcentre.redcross.or.th
SUMMARY:เดอะมอลล์ ไลฟ์สโตร์ งามวงศ์วาน [ศูนย์การค้าเดอะมอลล์ไลฟ์สโตร์ งามวงศ์วาน]
DESCRIPTION:สถานที่เจาะ : ถนนงามวงศ์วาน \nที่อยู่ : ต.บางเขน อ.เมือง จ.นนทบุรี 0 2555 1550
URL:https://thaibloodcentre.redcross.or.th/event/%e0%b9%80%e0%b8%94%e0%b8%ad%e0%b8%b0%e0%b8%a1%e0%b8%ad%e0%b8%a5%e0%b8%a5%e0%b9%8c-%e0%b9%84%e0%b8%a5%e0%b8%9f%e0%b9%8c%e0%b8%aa%e0%b9%82%e0%b8%95%e0%b8%a3%e0%b9%8c-%e0%b8%87%e0%b8%b2%e0%b8%a1-13/
LOCATION:เดอะมอลล์ ไลฟ์สโตร์ งามวงศ์วาน\, 430 ถนน งามวงศ์วาน ตำบลบางเขน อำเภอเมืองนนทบุรี นนทบุรี 11000 0.5
CATEGORIES:ปฏิทินตารางหน่วยเคลื่อนที่
END:VEVENT
BEGIN:VEVENT
DTSTART;TZID=Asia/Krasnoyarsk:20251109T180000
DTEND;TZID=Asia/Krasnoyarsk:20251109T180000
DTSTAMP:20260426T105004
CREATED:20251101T063009Z
LAST-MODIFIED:20251101T063330Z
UID:10003939-1762711200-1762711200@thaibloodcentre.redcross.or.th
SUMMARY:เอ็มโพเรียม [ศูนย์การค้า เอ็มโพเรียม]
DESCRIPTION:สถานที่เจาะ : 622 ถนนสุขุมวิท \nที่อยู่ : แขวงคลองตัน เขตคลองเตย กรุงเทพฯ 0 2269 1515
URL:https://thaibloodcentre.redcross.or.th/event/%e0%b9%80%e0%b8%ad%e0%b9%87%e0%b8%a1%e0%b9%82%e0%b8%9e%e0%b9%80%e0%b8%a3%e0%b8%b5%e0%b8%a2%e0%b8%a1-%e0%b8%a8%e0%b8%b9%e0%b8%99%e0%b8%a2%e0%b9%8c%e0%b8%81%e0%b8%b2%e0%b8%a3%e0%b8%84%e0%b9%89-13/
LOCATION:เอ็มโพเรียม\, 622 ถ. สุขุมวิท แขวงคลองตัน เขตคลองเตย กรุงเทพมหานคร 10110 0.5
CATEGORIES:ปฏิทินตารางหน่วยเคลื่อนที่
END:VEVENT
BEGIN:VEVENT
DTSTART;TZID=Asia/Krasnoyarsk:20251109T180000
DTEND;TZID=Asia/Krasnoyarsk:20251109T180000
DTSTAMP:20260426T105004
CREATED:20251101T063015Z
LAST-MODIFIED:20251101T063335Z
UID:10003940-1762711200-1762711200@thaibloodcentre.redcross.or.th
SUMMARY:เดอะมอลล์ไลฟ์สโตร์ ท่าพระ [ศูนย์การค้าเดอะมอลล์ไลฟ์สโตร์ ท่าพระ]
DESCRIPTION:สถานที่เจาะ : 99 ถนนรัชดาท่าพระตัดใหม่ \nที่อยู่ : แขวงบุคคโล เขตธนบุรี กรุงเทพฯ 0 2469-1000
URL:https://thaibloodcentre.redcross.or.th/event/%e0%b9%80%e0%b8%94%e0%b8%ad%e0%b8%b0%e0%b8%a1%e0%b8%ad%e0%b8%a5%e0%b8%a5%e0%b9%8c%e0%b9%84%e0%b8%a5%e0%b8%9f%e0%b9%8c%e0%b8%aa%e0%b9%82%e0%b8%95%e0%b8%a3%e0%b9%8c-%e0%b8%97%e0%b9%88%e0%b8%b2-14/
LOCATION:เดอะมอลล์ไลฟ์สโตร์ ท่าพระ\, 129 ถ. รัชดาภิเษก แขวงบุคคโล เขตธนบุรี กรุงเทพมหานคร 10600 0.5
CATEGORIES:ปฏิทินตารางหน่วยเคลื่อนที่
END:VEVENT
BEGIN:VEVENT
DTSTART;TZID=Asia/Krasnoyarsk:20251110T110000
DTEND;TZID=Asia/Krasnoyarsk:20251110T150000
DTSTAMP:20260426T105004
CREATED:20251104T072749Z
LAST-MODIFIED:20251104T072749Z
UID:10004006-1762772400-1762786800@thaibloodcentre.redcross.or.th
SUMMARY:เซ็นทรัลพลาซา บางนา [0E0641]
DESCRIPTION:สถานที่เจาะ : บริเวณด้านข้างประตูจอดรถ KFC \nที่อยู่ : 1090 ถนนบางนา-ตราด แขวงบางนา เขตบางนา กรุงเทพฯ 0 2763 6000
URL:https://thaibloodcentre.redcross.or.th/event/%e0%b9%80%e0%b8%8b%e0%b9%87%e0%b8%99%e0%b8%97%e0%b8%a3%e0%b8%b1%e0%b8%a5%e0%b8%9e%e0%b8%a5%e0%b8%b2%e0%b8%8b%e0%b8%b2-%e0%b8%9a%e0%b8%b2%e0%b8%87%e0%b8%99%e0%b8%b2-0e0641-33/
LOCATION:เซ็นทรัลพลาซา บางนา\, เซ็นทรัล บางนา ทางคู่ขนาน ถนนบางนา-ตราด แขวงบางนาเหนือ เขตบางนา กรุงเทพมหานคร 10260
CATEGORIES:ปฏิทินตารางหน่วยเคลื่อนที่
END:VEVENT
BEGIN:VEVENT
DTSTART;TZID=Asia/Krasnoyarsk:20251110T110000
DTEND;TZID=Asia/Krasnoyarsk:20251110T150000
DTSTAMP:20260426T105004
CREATED:20251104T073516Z
LAST-MODIFIED:20251107T041548Z
UID:10004008-1762772400-1762786800@thaibloodcentre.redcross.or.th
SUMMARY:เซ็นทรัลพลาซา เวสต์เกต [0M0744]
DESCRIPTION:สถานที่เจาะ : จุดจอดรถประตูยูนิโคล่ \nที่อยู่ : 199\,199/1\,199/2 ถ.กาญจนาภิเษก ต.เสาธงหิน อ.บางใหญ่ จ.นนทบุรี 0 2101 7999
URL:https://thaibloodcentre.redcross.or.th/event/%e0%b9%80%e0%b8%8b%e0%b9%87%e0%b8%99%e0%b8%97%e0%b8%a3%e0%b8%b1%e0%b8%a5%e0%b8%9e%e0%b8%a5%e0%b8%b2%e0%b8%8b%e0%b8%b2-%e0%b9%80%e0%b8%a7%e0%b8%aa%e0%b8%95%e0%b9%8c%e0%b9%80%e0%b8%81%e0%b8%95-0m0744-14/
LOCATION:เซ็นทรัลพลาซา เวสต์เกต\, เซ็นทรัลพลาซา เวสต์เกต 199\, 199/1 199/2 ถ. กาญจนาภิเษก ตำบล เสาธงหิน อำเภอบางใหญ่ นนทบุรี 11140
CATEGORIES:ปฏิทินตารางหน่วยเคลื่อนที่
END:VEVENT
BEGIN:VEVENT
DTSTART;TZID=Asia/Krasnoyarsk:20251110T120000
DTEND;TZID=Asia/Krasnoyarsk:20251110T120000
DTSTAMP:20260426T105004
CREATED:20251101T063150Z
LAST-MODIFIED:20251101T063442Z
UID:10003958-1762776000-1762776000@thaibloodcentre.redcross.or.th
SUMMARY:บริษัท ซีพีเอฟ (ประเทศไทย) จำกัด (มหาชน) (มีนบุรี 2 ) [บริษัท ซีพีเอฟ (ประเทศไทย) จำกัด (มหาชน) (มีนบุรี 2 )]
DESCRIPTION:สถานที่เจาะ : 20/2 ถนนสุวินทวงศ์ \nที่อยู่ : แขวงแสนแสบ เขตมีนบุรี กรุงเทพฯ 0 2919 5947
URL:https://thaibloodcentre.redcross.or.th/event/%e0%b8%9a%e0%b8%a3%e0%b8%b4%e0%b8%a9%e0%b8%b1%e0%b8%97-%e0%b8%8b%e0%b8%b5%e0%b8%9e%e0%b8%b5%e0%b9%80%e0%b8%ad%e0%b8%9f-%e0%b8%9b%e0%b8%a3%e0%b8%b0%e0%b9%80%e0%b8%97%e0%b8%a8%e0%b9%84%e0%b8%97-9/
LOCATION:บริษัท ซีพีเอฟ (ประเทศไทย) จำกัด (มหาชน) (มีนบุรี 2 )\, บริษัท ซีพีเอฟ (ประเทศไทย) จำกัด (มหาชน) (มีนบุรี 2 ) 20 ถ.สุวินทวงศ์ แขวงแสนแสบ เขตมีนบุรี กรุงเทพมหานคร 10510
CATEGORIES:ปฏิทินตารางหน่วยเคลื่อนที่
END:VEVENT
BEGIN:VEVENT
DTSTART;TZID=Asia/Krasnoyarsk:20251110T150000
DTEND;TZID=Asia/Krasnoyarsk:20251110T150000
DTSTAMP:20260426T105004
CREATED:20251101T063132Z
LAST-MODIFIED:20251101T063410Z
UID:10003952-1762786800-1762786800@thaibloodcentre.redcross.or.th
SUMMARY:หน่วยรับบริจาคโลหิต บ้านทรงไทย(ย่านวงศ์สว่าง) [บ้านทรงไทย (ย่านวงศ์สว่าง)]
DESCRIPTION:สถานที่เจาะ : 1423 ถนนกรุงเทพ – นนทบุรี \nที่อยู่ : แขวงวงศ์สว่าง เขตบางซื่อ กรุงเทพฯ 0 2256 4300
URL:https://thaibloodcentre.redcross.or.th/event/%e0%b8%ab%e0%b8%99%e0%b9%88%e0%b8%a7%e0%b8%a2%e0%b8%a3%e0%b8%b1%e0%b8%9a%e0%b8%9a%e0%b8%a3%e0%b8%b4%e0%b8%88%e0%b8%b2%e0%b8%84%e0%b9%82%e0%b8%a5%e0%b8%ab%e0%b8%b4%e0%b8%95-%e0%b8%9a%e0%b9%89-14/
LOCATION:หน่วยรับบริจาคโลหิต บ้านทรงไทย(ย่านวงศ์สว่าง)\, 1423 ถนนกรุงเทพ-นนทบุรี แขวงวงศ์สว่าง เขตบางซื่อ กรุงเทพมหานคร 10800 0.375
CATEGORIES:ปฏิทินตารางหน่วยเคลื่อนที่
END:VEVENT
BEGIN:VEVENT
DTSTART;TZID=Asia/Krasnoyarsk:20251110T150000
DTEND;TZID=Asia/Krasnoyarsk:20251110T150000
DTSTAMP:20260426T105004
CREATED:20251101T063134Z
LAST-MODIFIED:20251101T063411Z
UID:10003953-1762786800-1762786800@thaibloodcentre.redcross.or.th
SUMMARY:ศูนย์การค้า ธัญญาพาร์ค ศรีนครินทร์ [ศูนย์การค้า ธัญญาพาร์ค ศรีนครินทร์]
DESCRIPTION:สถานที่เจาะ : บริษัท ธัญวิลล์ จำกัด 735\,735/1-8 ถนนศรีนครินทร์ \nที่อยู่ : แขวงพัฒนาการ เขตสวนหลวง กรุงเทพฯ 0 2108 6000
URL:https://thaibloodcentre.redcross.or.th/event/%e0%b8%a8%e0%b8%b9%e0%b8%99%e0%b8%a2%e0%b9%8c%e0%b8%81%e0%b8%b2%e0%b8%a3%e0%b8%84%e0%b9%89%e0%b8%b2-%e0%b8%98%e0%b8%b1%e0%b8%8d%e0%b8%8d%e0%b8%b2%e0%b8%9e%e0%b8%b2%e0%b8%a3%e0%b9%8c%e0%b8%84-10/
LOCATION:ศูนย์การค้า ธัญญาพาร์ค ศรีนครินทร์\, ศูนย์การค้า ธัญญาพาร์ค ศรีนครินทร์ 735\,1-8 ถ.ศรีนครินทร์ แขวงพัฒนาการ เขตสวนหลวง กรุงเทพมหานคร 10250
CATEGORIES:ปฏิทินตารางหน่วยเคลื่อนที่
END:VEVENT
BEGIN:VEVENT
DTSTART;TZID=Asia/Krasnoyarsk:20251110T150000
DTEND;TZID=Asia/Krasnoyarsk:20251110T150000
DTSTAMP:20260426T105004
CREATED:20251101T063137Z
LAST-MODIFIED:20251101T063412Z
UID:10003954-1762786800-1762786800@thaibloodcentre.redcross.or.th
SUMMARY:เซ็นทรัลพลาซา ลาดพร้าว [เซ็นทรัลพลาซา ลาดพร้าว]
DESCRIPTION:สถานที่เจาะ : 1691 ถนนพหลโยธิน \nที่อยู่ : แขวงจตุจักร เขตจตุจักร กรุงเทพฯ 0 2793 6000
URL:https://thaibloodcentre.redcross.or.th/event/%e0%b9%80%e0%b8%8b%e0%b9%87%e0%b8%99%e0%b8%97%e0%b8%a3%e0%b8%b1%e0%b8%a5%e0%b8%9e%e0%b8%a5%e0%b8%b2%e0%b8%8b%e0%b8%b2-%e0%b8%a5%e0%b8%b2%e0%b8%94%e0%b8%9e%e0%b8%a3%e0%b9%89%e0%b8%b2%e0%b8%a7-4/
LOCATION:เซ็นทรัลพลาซา ลาดพร้าว\, เซ็นทรัลพลาซา ลาดพร้าว 1693 ถ.พหลโยธิน แขวงจตุจักร เขตจตุจักร กรุงเทพมหานคร 10900
CATEGORIES:ปฏิทินตารางหน่วยเคลื่อนที่
END:VEVENT
BEGIN:VEVENT
DTSTART;TZID=Asia/Krasnoyarsk:20251110T150000
DTEND;TZID=Asia/Krasnoyarsk:20251110T150000
DTSTAMP:20260426T105004
CREATED:20251101T063144Z
LAST-MODIFIED:20251101T063440Z
UID:10003955-1762786800-1762786800@thaibloodcentre.redcross.or.th
SUMMARY:บริษัท มิตซูบิชิ อีเล็คทริค ออโตเมชั่น (ประเทศไทย) จำกัด [บริษัท มิตซูบิชิ อีเล็คทริค ออโตเมชั่น (ประเทศไทย) จำกัด]
DESCRIPTION:สถานที่เจาะ : 111 เสรีไทย 54 \nที่อยู่ : แขวงคันนายาว เขตคันนายาว กรุงเทพฯ 0 2517 1326-7
URL:https://thaibloodcentre.redcross.or.th/event/%e0%b8%9a%e0%b8%a3%e0%b8%b4%e0%b8%a9%e0%b8%b1%e0%b8%97-%e0%b8%a1%e0%b8%b4%e0%b8%95%e0%b8%8b%e0%b8%b9%e0%b8%9a%e0%b8%b4%e0%b8%8a%e0%b8%b4-%e0%b8%ad%e0%b8%b5%e0%b9%80%e0%b8%a5%e0%b9%87%e0%b8%84-4/
LOCATION:บริษัท มิตซูบิชิ อีเล็คทริค ออโตเมชั่น (ประเทศไทย) จำกัด\, บริษัท มิตซูบิชิ อีเล็คทริค ออโตเมชั่น (ประเทศไทย) จำกัด 111 นิคมอุตสาหกรรมบางชัน ซอยเสรีไทย 54 แขวงคันนายาว เขตคันนายาว กรุงเทพมหานคร 10230
CATEGORIES:ปฏิทินตารางหน่วยเคลื่อนที่
END:VEVENT
END:VCALENDAR