BEGIN:VCALENDAR
VERSION:2.0
PRODID:-//เว็บไซต์ศูนย์บริการโลหิตแห่งชาติ - ECPv6.11.2.1//NONSGML v1.0//EN
CALSCALE:GREGORIAN
METHOD:PUBLISH
X-WR-CALNAME:เว็บไซต์ศูนย์บริการโลหิตแห่งชาติ
X-ORIGINAL-URL:https://thaibloodcentre.redcross.or.th
X-WR-CALDESC:Events for เว็บไซต์ศูนย์บริการโลหิตแห่งชาติ
REFRESH-INTERVAL;VALUE=DURATION:PT1H
X-Robots-Tag:noindex
X-PUBLISHED-TTL:PT1H
BEGIN:VTIMEZONE
TZID:Asia/Krasnoyarsk
BEGIN:STANDARD
TZOFFSETFROM:+0700
TZOFFSETTO:+0700
TZNAME:+07
DTSTART:20250101T000000
END:STANDARD
END:VTIMEZONE
BEGIN:VEVENT
DTSTART;TZID=Asia/Krasnoyarsk:20251120T073000
DTEND;TZID=Asia/Krasnoyarsk:20251120T193000
DTSTAMP:20260425T230129
CREATED:20251117T023124Z
LAST-MODIFIED:20251117T023154Z
UID:10004308-1763623800-1763667000@thaibloodcentre.redcross.or.th
SUMMARY:ศูนย์บริการโลหิตแห่งชาติ สภากาชาดไทย []
DESCRIPTION:ที่อยู่ : 1871 ถ. อังรีดูนังต์ แขวงปทุมวัน เขตปทุมวัน
URL:https://thaibloodcentre.redcross.or.th/event/%e0%b8%a8%e0%b8%b9%e0%b8%99%e0%b8%a2%e0%b9%8c%e0%b8%9a%e0%b8%a3%e0%b8%b4%e0%b8%81%e0%b8%b2%e0%b8%a3%e0%b9%82%e0%b8%a5%e0%b8%ab%e0%b8%b4%e0%b8%95%e0%b9%81%e0%b8%ab%e0%b9%88%e0%b8%87%e0%b8%8a-345/
LOCATION:ศูนย์บริการโลหิตแห่งชาติ สภากาชาดไทย\, ศูนย์บริการโลหิตแห่งชาติ สภากาชาดไทย 1871 ถ. อังรีดูนังต์ แขวงปทุมวัน เขตปทุมวัน กรุงเทพมหานคร 10330
CATEGORIES:ปฏิทินตารางหน่วยเคลื่อนที่
END:VEVENT
BEGIN:VEVENT
DTSTART;TZID=Asia/Krasnoyarsk:20251120T083000
DTEND;TZID=Asia/Krasnoyarsk:20251120T193000
DTSTAMP:20260425T230129
CREATED:20251117T023224Z
LAST-MODIFIED:20251117T023224Z
UID:10004314-1763627400-1763667000@thaibloodcentre.redcross.or.th
SUMMARY:สถานีกาชาด 11 วิเศษนิยม []
DESCRIPTION:สถานที่เจาะ : ชั้น 3 \nที่อยู่ : 33/3 ถนนเพชรเกษม แขวงบางหว้า เขตภาษีเจริญ กรุงเทพฯ 0633450711
URL:https://thaibloodcentre.redcross.or.th/event/%e0%b8%aa%e0%b8%96%e0%b8%b2%e0%b8%99%e0%b8%b5%e0%b8%81%e0%b8%b2%e0%b8%8a%e0%b8%b2%e0%b8%94-11-%e0%b8%a7%e0%b8%b4%e0%b9%80%e0%b8%a8%e0%b8%a9%e0%b8%99%e0%b8%b4%e0%b8%a2%e0%b8%a1-94/
LOCATION:สถานีกาชาด 11 วิเศษนิยม\, สถานีกาชาด 11 วิเศษนิยม 605 ถ.เพชรเกษม แขวงบางหว้า เขตภาษีเจริญ กรุงเทพมหานคร 10160
CATEGORIES:ปฏิทินตารางหน่วยเคลื่อนที่
END:VEVENT
BEGIN:VEVENT
DTSTART;TZID=Asia/Krasnoyarsk:20251120T090000
DTEND;TZID=Asia/Krasnoyarsk:20251120T110000
DTSTAMP:20260425T230129
CREATED:20251117T023245Z
LAST-MODIFIED:20251117T023245Z
UID:10004321-1763629200-1763636400@thaibloodcentre.redcross.or.th
SUMMARY:สำนักงานตลาดกรุงเทพมหานคร []
DESCRIPTION:สถานที่เจาะ : หน้าตลาดประชานิเวศน์ 1 \nที่อยู่ : ถนนเทศบาลสงเคราะห์ เขตจตุจักร กรุงเทพฯ 0 2158 0740-42
URL:https://thaibloodcentre.redcross.or.th/event/%e0%b8%aa%e0%b8%b3%e0%b8%99%e0%b8%b1%e0%b8%81%e0%b8%87%e0%b8%b2%e0%b8%99%e0%b8%95%e0%b8%a5%e0%b8%b2%e0%b8%94%e0%b8%81%e0%b8%a3%e0%b8%b8%e0%b8%87%e0%b9%80%e0%b8%97%e0%b8%9e%e0%b8%a1%e0%b8%ab%e0%b8%b2-4/
LOCATION:สำนักงานตลาดกรุงเทพมหานคร\, อาคารโกลด์มาร์เก็ต 8 ถนนเทศบาลสงเคราะห์ แขวงลาดยาว เขตจตุจักร กรุงเทพมหานคร 10900
CATEGORIES:ปฏิทินตารางหน่วยเคลื่อนที่
END:VEVENT
BEGIN:VEVENT
DTSTART;TZID=Asia/Krasnoyarsk:20251120T090000
DTEND;TZID=Asia/Krasnoyarsk:20251120T150000
DTSTAMP:20260425T230129
CREATED:20251117T023226Z
LAST-MODIFIED:20251117T023226Z
UID:10004315-1763629200-1763650800@thaibloodcentre.redcross.or.th
SUMMARY:บ้านทรงไทย (ย่านวงศ์สว่าง) []
DESCRIPTION:สถานที่เจาะ : (พัก 12.30-13.00 น.) \nที่อยู่ : 1423 ถนนกรุงเทพ – นนทบุรี แขวงวงศ์สว่าง เขตบางซื่อ กรุงเทพฯ 0 2256 4300
URL:https://thaibloodcentre.redcross.or.th/event/%e0%b8%9a%e0%b9%89%e0%b8%b2%e0%b8%99%e0%b8%97%e0%b8%a3%e0%b8%87%e0%b9%84%e0%b8%97%e0%b8%a2-%e0%b8%a2%e0%b9%88%e0%b8%b2%e0%b8%99%e0%b8%a7%e0%b8%87%e0%b8%a8%e0%b9%8c%e0%b8%aa%e0%b8%a7%e0%b9%88-263/
LOCATION:บ้านทรงไทย (ย่านวงศ์สว่าง)\, หน่วยรับบริจาคโลหิต บ้านทรงไทย(ย่านวงศ์สว่าง) 1423 ถนนกรุงเทพ-นนทบุรี แขวงวงศ์สว่าง เขตบางซื่อ กรุงเทพมหานคร 10800
CATEGORIES:ปฏิทินตารางหน่วยเคลื่อนที่
END:VEVENT
BEGIN:VEVENT
DTSTART;TZID=Asia/Krasnoyarsk:20251120T090000
DTEND;TZID=Asia/Krasnoyarsk:20251120T150000
DTSTAMP:20260425T230129
CREATED:20251117T023230Z
LAST-MODIFIED:20251118T114506Z
UID:10004316-1763629200-1763650800@thaibloodcentre.redcross.or.th
SUMMARY:ธนาคาร ซีไอเอ็มบี ไทย จำกัด (มหาชน) []
DESCRIPTION:สถานที่เจาะ : ห้อง 1701B ชั้น 17 (พัก 11.30-12.30 น.) \nที่อยู่ : 44 ถนนหลังสวน แขวงลุมพินี เขตปทุมวัน กรุงเทพฯ 0 2638 8265
URL:https://thaibloodcentre.redcross.or.th/event/%e0%b8%98%e0%b8%99%e0%b8%b2%e0%b8%84%e0%b8%b2%e0%b8%a3-%e0%b8%8b%e0%b8%b5%e0%b9%84%e0%b8%ad%e0%b9%80%e0%b8%ad%e0%b9%87%e0%b8%a1%e0%b8%9a%e0%b8%b5-%e0%b9%84%e0%b8%97%e0%b8%a2-%e0%b8%88%e0%b8%b3-10/
LOCATION:ธนาคาร ซีไอเอ็มบี ไทย จำกัด (มหาชน)\, ธนาคาร ซีไอเอ็มบี ไทย จำกัด (มหาชน) 44 ถ.หลังสวน แขวงลุมพินี เขตปทุมวัน กรุงเทพมหานคร 10330
CATEGORIES:ปฏิทินตารางหน่วยเคลื่อนที่
END:VEVENT
BEGIN:VEVENT
DTSTART;TZID=Asia/Krasnoyarsk:20251120T090000
DTEND;TZID=Asia/Krasnoyarsk:20251120T150000
DTSTAMP:20260425T230129
CREATED:20251117T023238Z
LAST-MODIFIED:20251117T023238Z
UID:10004318-1763629200-1763650800@thaibloodcentre.redcross.or.th
SUMMARY:ธนาคารกสิกรไทย จำกัด (มหาชน) อาคารแจ้งวัฒนะ []
DESCRIPTION:สถานที่เจาะ : ห้องประชุมจิตสามัคคีชั้น 11 \nที่อยู่ : 47/7 ม. 3 ถ.ป๊อปปูล่า ต.บ้านใหม่ อ.ปากเกร็ด จ.นนทบุรี 0 2470 1686
URL:https://thaibloodcentre.redcross.or.th/event/%e0%b8%98%e0%b8%99%e0%b8%b2%e0%b8%84%e0%b8%b2%e0%b8%a3%e0%b8%81%e0%b8%aa%e0%b8%b4%e0%b8%81%e0%b8%a3%e0%b9%84%e0%b8%97%e0%b8%a2-%e0%b8%88%e0%b8%b3%e0%b8%81%e0%b8%b1%e0%b8%94-%e0%b8%a1%e0%b8%ab-7/
LOCATION:ธนาคารกสิกรไทย จำกัด (มหาชน) อาคารแจ้งวัฒนะ\, ธนาคารกสิกรไทย จำกัด (มหาชน) อาคารแจ้งวัฒนะ 47/7 ม.3 ถ.ป๊อปปูล่า ต.บ้านใหม่ อ.ปากเกร็ด จ.นนทบุรี 11120
CATEGORIES:ปฏิทินตารางหน่วยเคลื่อนที่
END:VEVENT
BEGIN:VEVENT
DTSTART;TZID=Asia/Krasnoyarsk:20251120T090000
DTEND;TZID=Asia/Krasnoyarsk:20251120T150000
DTSTAMP:20260425T230129
CREATED:20251117T023243Z
LAST-MODIFIED:20251117T023243Z
UID:10004320-1763629200-1763650800@thaibloodcentre.redcross.or.th
SUMMARY:อาคารแอทธินี ทาวเวอร์ []
DESCRIPTION:สถานที่เจาะ : ด้านหน้า (พัก 11.30-12.30 น.) \nที่อยู่ : 63 ถนนวิทยุ แขวงลุมพินี เขตปทุมวัน กรุงเทพฯ 0 2168 8886-8
URL:https://thaibloodcentre.redcross.or.th/event/%e0%b8%ad%e0%b8%b2%e0%b8%84%e0%b8%b2%e0%b8%a3%e0%b9%81%e0%b8%ad%e0%b8%97%e0%b8%98%e0%b8%b4%e0%b8%99%e0%b8%b5-%e0%b8%97%e0%b8%b2%e0%b8%a7%e0%b9%80%e0%b8%a7%e0%b8%ad%e0%b8%a3%e0%b9%8c-2/
LOCATION:อาคารแอทธินี ทาวเวอร์\, อาคารแอทธินี ทาวเวอร์ 63 ถ.วิทยุ แขวงลุมพินี เขตปทุมวัน กรุงเทพมหานคร 10330
CATEGORIES:ปฏิทินตารางหน่วยเคลื่อนที่
END:VEVENT
BEGIN:VEVENT
DTSTART;TZID=Asia/Krasnoyarsk:20251120T090000
DTEND;TZID=Asia/Krasnoyarsk:20251120T150000
DTSTAMP:20260425T230129
CREATED:20251117T023259Z
LAST-MODIFIED:20251117T023259Z
UID:10004323-1763629200-1763650800@thaibloodcentre.redcross.or.th
SUMMARY:โรงพยาบาลนวมินทร์ 9 []
DESCRIPTION:สถานที่เจาะ : ทางเข้าด้านข้างเซเว่น อาคารพลาซ่า (พัก 12.00-13.00 น.) \nที่อยู่ : 96 ถนนสีหบุรานุกิจ แขวงมีนบุรี เขตมีนบุรี กรุงเทพฯ 0 2518 1818
URL:https://thaibloodcentre.redcross.or.th/event/%e0%b9%82%e0%b8%a3%e0%b8%87%e0%b8%9e%e0%b8%a2%e0%b8%b2%e0%b8%9a%e0%b8%b2%e0%b8%a5%e0%b8%99%e0%b8%a7%e0%b8%a1%e0%b8%b4%e0%b8%99%e0%b8%97%e0%b8%a3%e0%b9%8c-9-2/
LOCATION:โรงพยาบาลนวมินทร์ 9\, โรงพยาบาลนวมินทร์ 9 96 ถ.สีหบุรานุกิจ แขวงมีนบุรี เขตมีนบุรี กรุงเทพมหานคร 10510
CATEGORIES:ปฏิทินตารางหน่วยเคลื่อนที่
END:VEVENT
BEGIN:VEVENT
DTSTART;TZID=Asia/Krasnoyarsk:20251120T093000
DTEND;TZID=Asia/Krasnoyarsk:20251120T150000
DTSTAMP:20260425T230129
CREATED:20251117T023301Z
LAST-MODIFIED:20251117T023301Z
UID:10004324-1763631000-1763650800@thaibloodcentre.redcross.or.th
SUMMARY:อาคารอินเตอร์ลิ้งค์ทาวเวอร์ บางนา []
DESCRIPTION:สถานที่เจาะ : ชั้น 9 ห้อง 9C (พัก 12.00-13.00 น.) \nที่อยู่ : 1854 ถนนบางนา-ตราด แขวงบางนา เขตบางนา กรุงเทพฯ 0 2751 4000
URL:https://thaibloodcentre.redcross.or.th/event/%e0%b8%ad%e0%b8%b2%e0%b8%84%e0%b8%b2%e0%b8%a3%e0%b8%ad%e0%b8%b4%e0%b8%99%e0%b9%80%e0%b8%95%e0%b8%ad%e0%b8%a3%e0%b9%8c%e0%b8%a5%e0%b8%b4%e0%b9%89%e0%b8%87%e0%b8%84%e0%b9%8c%e0%b8%97%e0%b8%b2%e0%b8%a7-4/
LOCATION:อาคารอินเตอร์ลิ้งค์ทาวเวอร์ บางนา\, อินเตอร์ลิ้งค์ ทาวเวอร์ บางนา 1858 ถ.เทพรัตน แขวงบางนาใต้ เขตบางนา กรุงเทพมหานคร 10260
CATEGORIES:ปฏิทินตารางหน่วยเคลื่อนที่
END:VEVENT
BEGIN:VEVENT
DTSTART;TZID=Asia/Krasnoyarsk:20251120T100000
DTEND;TZID=Asia/Krasnoyarsk:20251120T150000
DTSTAMP:20260425T230129
CREATED:20251117T023241Z
LAST-MODIFIED:20251117T023241Z
UID:10004319-1763632800-1763650800@thaibloodcentre.redcross.or.th
SUMMARY:บริษัท อาหารยอดคุณ จำกัด []
DESCRIPTION:สถานที่เจาะ : ห้องประชุมใหญ่ (25 ปี) (พัก 12.00-13.00 น.) \nที่อยู่ : 9 ถนนนิมิตใหม่ แขวงมีนบุรี เขตมีนบุรี กรุงเทพฯ 0 2181 0039-45
URL:https://thaibloodcentre.redcross.or.th/event/%e0%b8%9a%e0%b8%a3%e0%b8%b4%e0%b8%a9%e0%b8%b1%e0%b8%97-%e0%b8%ad%e0%b8%b2%e0%b8%ab%e0%b8%b2%e0%b8%a3%e0%b8%a2%e0%b8%ad%e0%b8%94%e0%b8%84%e0%b8%b8%e0%b8%93-%e0%b8%88%e0%b8%b3%e0%b8%81%e0%b8%b1-5/
LOCATION:บริษัท อาหารยอดคุณ จำกัด\, บริษัท อาหารยอดคุณ จำกัด 9 ถ.นิมิตใหม่ แขวงมีนบุรี เขตมีนบุรี กรุงเทพมหานคร 10510
CATEGORIES:ปฏิทินตารางหน่วยเคลื่อนที่
END:VEVENT
BEGIN:VEVENT
DTSTART;TZID=Asia/Krasnoyarsk:20251120T110000
DTEND;TZID=Asia/Krasnoyarsk:20251120T150000
DTSTAMP:20260425T230129
CREATED:20251117T023236Z
LAST-MODIFIED:20251117T023236Z
UID:10004317-1763636400-1763650800@thaibloodcentre.redcross.or.th
SUMMARY:คณะศึกษาศาสตร์ มหาวิทยาลัยศรีนครินทรวิโรฒประสานมิตร []
DESCRIPTION:สถานที่เจาะ : อาคารนวัตกรรม ศ.ดร.สาโรช บัวศรี ชั้น 2 \nที่อยู่ : 114 ถนนสุขุมวิท 23 เขตวัฒนา กรุงเทพฯ
URL:https://thaibloodcentre.redcross.or.th/event/%e0%b8%84%e0%b8%93%e0%b8%b0%e0%b8%a8%e0%b8%b6%e0%b8%81%e0%b8%a9%e0%b8%b2%e0%b8%a8%e0%b8%b2%e0%b8%aa%e0%b8%95%e0%b8%a3%e0%b9%8c-%e0%b8%a1%e0%b8%ab%e0%b8%b2%e0%b8%a7%e0%b8%b4%e0%b8%97%e0%b8%a2-5/
LOCATION:คณะศึกษาศาสตร์ มหาวิทยาลัยศรีนครินทรวิโรฒประสานมิตร\, คณะศึกษาศาสตร์ มหาวิทยาลัยศรีนครินทรวิโรฒประสานมิตร 114 ซ.สุขุมวิท 23 แขวงคลองเตยเหนือ เขตวัฒนา กรุงเทพมหานคร 10110
CATEGORIES:ปฏิทินตารางหน่วยเคลื่อนที่
END:VEVENT
BEGIN:VEVENT
DTSTART;TZID=Asia/Krasnoyarsk:20251120T120000
DTEND;TZID=Asia/Krasnoyarsk:20251120T150000
DTSTAMP:20260425T230129
CREATED:20251117T023257Z
LAST-MODIFIED:20251117T023257Z
UID:10004322-1763640000-1763650800@thaibloodcentre.redcross.or.th
SUMMARY:บริษัท ธรรมนิติ จำกัด (มหาชน) []
DESCRIPTION:สถานที่เจาะ : ลานจอดรถ (ข้างเต้นท์) \nที่อยู่ : 178 ซอยเพิ่มทรัพย์ (ประชาชื่น 20) ถนนประชาชื่น แขวงบางซื่อ เขตบางซื่อ กรุงเทพฯ 0 2596 0500
URL:https://thaibloodcentre.redcross.or.th/event/%e0%b8%9a%e0%b8%a3%e0%b8%b4%e0%b8%a9%e0%b8%b1%e0%b8%97-%e0%b8%98%e0%b8%a3%e0%b8%a3%e0%b8%a1%e0%b8%99%e0%b8%b4%e0%b8%95%e0%b8%b4-%e0%b8%88%e0%b8%b3%e0%b8%81%e0%b8%b1%e0%b8%94-%e0%b8%a1%e0%b8%ab-5/
LOCATION:บริษัท ธรรมนิติ จำกัด (มหาชน)\, บริษัท ธรรมนิติ จำกัด (มหาชน) 178 อาคารธรรมนิติ ชั้น 3 ซอย ประชาชื่น 20 แขวงบางซื่อ เขตบางซื่อ กรุงเทพมหานคร 10800
CATEGORIES:ปฏิทินตารางหน่วยเคลื่อนที่
END:VEVENT
BEGIN:VEVENT
DTSTART;TZID=Asia/Krasnoyarsk:20251120T120000
DTEND;TZID=Asia/Krasnoyarsk:20251120T180000
DTSTAMP:20260425T230129
CREATED:20251117T023129Z
LAST-MODIFIED:20251117T023155Z
UID:10004309-1763640000-1763661600@thaibloodcentre.redcross.or.th
SUMMARY:ศูนย์การค้าเดอะมอลล์ไลฟ์สโตร์ บางแค []
DESCRIPTION:สถานที่เจาะ : ชั้น 3 ตรงข้ามร้านโอ้กะจู๋ \nที่อยู่ : ถนนเพชรเกษม แขวงบางแคเหนือ เขตภาษีเจริญ กรุงเทพฯ 02 487 1221
URL:https://thaibloodcentre.redcross.or.th/event/%e0%b8%a8%e0%b8%b9%e0%b8%99%e0%b8%a2%e0%b9%8c%e0%b8%81%e0%b8%b2%e0%b8%a3%e0%b8%84%e0%b9%89%e0%b8%b2%e0%b9%80%e0%b8%94%e0%b8%ad%e0%b8%b0%e0%b8%a1%e0%b8%ad%e0%b8%a5%e0%b8%a5%e0%b9%8c%e0%b9%84-1059/
LOCATION:ศูนย์การค้าเดอะมอลล์ไลฟ์สโตร์ บางแค\, ศูนย์การค้าเดอะมอลล์ไลฟ์สโตร์ บางแค
CATEGORIES:ปฏิทินตารางหน่วยเคลื่อนที่
END:VEVENT
BEGIN:VEVENT
DTSTART;TZID=Asia/Krasnoyarsk:20251120T120000
DTEND;TZID=Asia/Krasnoyarsk:20251120T180000
DTSTAMP:20260425T230129
CREATED:20251117T023137Z
LAST-MODIFIED:20251117T023156Z
UID:10004310-1763640000-1763661600@thaibloodcentre.redcross.or.th
SUMMARY:ศูนย์การค้าเดอะมอลล์ไลฟ์สโตร์ บางกะปิ []
DESCRIPTION:สถานที่เจาะ : ชั้น 2 ทางออกลานจอดรถ \nที่อยู่ : ถนนลาดพร้าว แขวงคลองจั่น เขตบางกะปิ กรุงเทพฯ 0 2310 2278
URL:https://thaibloodcentre.redcross.or.th/event/%e0%b8%a8%e0%b8%b9%e0%b8%99%e0%b8%a2%e0%b9%8c%e0%b8%81%e0%b8%b2%e0%b8%a3%e0%b8%84%e0%b9%89%e0%b8%b2%e0%b9%80%e0%b8%94%e0%b8%ad%e0%b8%b0%e0%b8%a1%e0%b8%ad%e0%b8%a5%e0%b8%a5%e0%b9%8c%e0%b9%84-1060/
LOCATION:ศูนย์การค้าเดอะมอลล์ไลฟ์สโตร์ บางกะปิ\, เดอะมอลล์ไลฟ์สโตร์ บางกะปิ 3522 ถ. ลาดพร้าว แขวงคลองจั่น เขตบางกะปิ กรุงเทพมหานคร 10240
CATEGORIES:ปฏิทินตารางหน่วยเคลื่อนที่
END:VEVENT
BEGIN:VEVENT
DTSTART;TZID=Asia/Krasnoyarsk:20251120T120000
DTEND;TZID=Asia/Krasnoyarsk:20251120T180000
DTSTAMP:20260425T230129
CREATED:20251117T023144Z
LAST-MODIFIED:20251117T023157Z
UID:10004311-1763640000-1763661600@thaibloodcentre.redcross.or.th
SUMMARY:ศูนย์การค้าเดอะมอลล์ไลฟ์สโตร์ งามวงศ์วาน []
DESCRIPTION:สถานที่เจาะ : ชั้น 5 โซน Government Center \nที่อยู่ : ถนนงามวงศ์วาน ต.บางเขน อ.เมือง จ.นนทบุรี 0 2555 1550
URL:https://thaibloodcentre.redcross.or.th/event/%e0%b8%a8%e0%b8%b9%e0%b8%99%e0%b8%a2%e0%b9%8c%e0%b8%81%e0%b8%b2%e0%b8%a3%e0%b8%84%e0%b9%89%e0%b8%b2%e0%b9%80%e0%b8%94%e0%b8%ad%e0%b8%b0%e0%b8%a1%e0%b8%ad%e0%b8%a5%e0%b8%a5%e0%b9%8c%e0%b9%84-1061/
LOCATION:ศูนย์การค้าเดอะมอลล์ไลฟ์สโตร์ งามวงศ์วาน\, เดอะมอลล์ ไลฟ์สโตร์ งามวงศ์วาน 430 ถนน งามวงศ์วาน ตำบลบางเขน อำเภอเมืองนนทบุรี นนทบุรี 11000
CATEGORIES:ปฏิทินตารางหน่วยเคลื่อนที่
END:VEVENT
BEGIN:VEVENT
DTSTART;TZID=Asia/Krasnoyarsk:20251120T120000
DTEND;TZID=Asia/Krasnoyarsk:20251120T180000
DTSTAMP:20260425T230129
CREATED:20251117T023212Z
LAST-MODIFIED:20251117T023212Z
UID:10004312-1763640000-1763661600@thaibloodcentre.redcross.or.th
SUMMARY:ศูนย์การค้า เอ็มโพเรียม []
DESCRIPTION:สถานที่เจาะ : ชั้น M ศูนย์การค้า ดิ เอ็มโพเรียม เชื่อมลานจอดรถอาคาร B \nที่อยู่ : 622 ถนนสุขุมวิท แขวงคลองตัน เขตคลองเตย กรุงเทพฯ 0 2269 1515
URL:https://thaibloodcentre.redcross.or.th/event/%e0%b8%a8%e0%b8%b9%e0%b8%99%e0%b8%a2%e0%b9%8c%e0%b8%81%e0%b8%b2%e0%b8%a3%e0%b8%84%e0%b9%89%e0%b8%b2-%e0%b9%80%e0%b8%ad%e0%b9%87%e0%b8%a1%e0%b9%82%e0%b8%9e%e0%b9%80%e0%b8%a3%e0%b8%b5%e0%b8%a2-261/
LOCATION:ศูนย์การค้า เอ็มโพเรียม\, เอ็มโพเรียม 622 ถ. สุขุมวิท แขวงคลองตัน เขตคลองเตย กรุงเทพมหานคร 10110
CATEGORIES:ปฏิทินตารางหน่วยเคลื่อนที่
END:VEVENT
BEGIN:VEVENT
DTSTART;TZID=Asia/Krasnoyarsk:20251120T120000
DTEND;TZID=Asia/Krasnoyarsk:20251120T180000
DTSTAMP:20260425T230129
CREATED:20251117T023216Z
LAST-MODIFIED:20251117T023216Z
UID:10004313-1763640000-1763661600@thaibloodcentre.redcross.or.th
SUMMARY:ศูนย์การค้าเดอะมอลล์ไลฟ์สโตร์ ท่าพระ []
DESCRIPTION:สถานที่เจาะ : ชั้น 1 (ติดลานจอดรถ) \nที่อยู่ : 99 ถนนรัชดาท่าพระตัดใหม่ แขวงบุคคโล เขตธนบุรี กรุงเทพฯ 0 2469-1000
URL:https://thaibloodcentre.redcross.or.th/event/%e0%b8%a8%e0%b8%b9%e0%b8%99%e0%b8%a2%e0%b9%8c%e0%b8%81%e0%b8%b2%e0%b8%a3%e0%b8%84%e0%b9%89%e0%b8%b2%e0%b9%80%e0%b8%94%e0%b8%ad%e0%b8%b0%e0%b8%a1%e0%b8%ad%e0%b8%a5%e0%b8%a5%e0%b9%8c%e0%b9%84-1062/
LOCATION:ศูนย์การค้าเดอะมอลล์ไลฟ์สโตร์ ท่าพระ\, เดอะมอลล์ไลฟ์สโตร์ ท่าพระ 129 ถ. รัชดาภิเษก แขวงบุคคโล เขตธนบุรี กรุงเทพมหานคร 10600
CATEGORIES:ปฏิทินตารางหน่วยเคลื่อนที่
END:VEVENT
BEGIN:VEVENT
DTSTART;TZID=Asia/Krasnoyarsk:20251121T073000
DTEND;TZID=Asia/Krasnoyarsk:20251121T193000
DTSTAMP:20260425T230129
CREATED:20251117T023304Z
LAST-MODIFIED:20251117T023304Z
UID:10004325-1763710200-1763753400@thaibloodcentre.redcross.or.th
SUMMARY:ศูนย์บริการโลหิตแห่งชาติ สภากาชาดไทย []
DESCRIPTION:ที่อยู่ : 1871 ถ. อังรีดูนังต์ แขวงปทุมวัน เขตปทุมวัน
URL:https://thaibloodcentre.redcross.or.th/event/%e0%b8%a8%e0%b8%b9%e0%b8%99%e0%b8%a2%e0%b9%8c%e0%b8%9a%e0%b8%a3%e0%b8%b4%e0%b8%81%e0%b8%b2%e0%b8%a3%e0%b9%82%e0%b8%a5%e0%b8%ab%e0%b8%b4%e0%b8%95%e0%b9%81%e0%b8%ab%e0%b9%88%e0%b8%87%e0%b8%8a-346/
LOCATION:ศูนย์บริการโลหิตแห่งชาติ สภากาชาดไทย\, ศูนย์บริการโลหิตแห่งชาติ สภากาชาดไทย 1871 ถ. อังรีดูนังต์ แขวงปทุมวัน เขตปทุมวัน กรุงเทพมหานคร 10330
CATEGORIES:ปฏิทินตารางหน่วยเคลื่อนที่
END:VEVENT
BEGIN:VEVENT
DTSTART;TZID=Asia/Krasnoyarsk:20251121T083000
DTEND;TZID=Asia/Krasnoyarsk:20251121T193000
DTSTAMP:20260425T230129
CREATED:20251117T023352Z
LAST-MODIFIED:20251117T023352Z
UID:10004331-1763713800-1763753400@thaibloodcentre.redcross.or.th
SUMMARY:สถานีกาชาด 11 วิเศษนิยม []
DESCRIPTION:สถานที่เจาะ : ชั้น 3 \nที่อยู่ : 33/3 ถนนเพชรเกษม แขวงบางหว้า เขตภาษีเจริญ กรุงเทพฯ 0633450711
URL:https://thaibloodcentre.redcross.or.th/event/%e0%b8%aa%e0%b8%96%e0%b8%b2%e0%b8%99%e0%b8%b5%e0%b8%81%e0%b8%b2%e0%b8%8a%e0%b8%b2%e0%b8%94-11-%e0%b8%a7%e0%b8%b4%e0%b9%80%e0%b8%a8%e0%b8%a9%e0%b8%99%e0%b8%b4%e0%b8%a2%e0%b8%a1-95/
LOCATION:สถานีกาชาด 11 วิเศษนิยม\, สถานีกาชาด 11 วิเศษนิยม 605 ถ.เพชรเกษม แขวงบางหว้า เขตภาษีเจริญ กรุงเทพมหานคร 10160
CATEGORIES:ปฏิทินตารางหน่วยเคลื่อนที่
END:VEVENT
BEGIN:VEVENT
DTSTART;TZID=Asia/Krasnoyarsk:20251121T090000
DTEND;TZID=Asia/Krasnoyarsk:20251121T120000
DTSTAMP:20260425T230129
CREATED:20251117T023436Z
LAST-MODIFIED:20251117T023436Z
UID:10004337-1763715600-1763726400@thaibloodcentre.redcross.or.th
SUMMARY:สำนักงานไปรษณีย์นครหลวง 3 []
DESCRIPTION:สถานที่เจาะ : หน้าอาคารไปรษณีย์กลาง \nที่อยู่ : 4 เจริญกรุง 32 แขวงสี่พระยา เขตบางรัก กรุงเทพฯ 0 2614 7439
URL:https://thaibloodcentre.redcross.or.th/event/%e0%b8%aa%e0%b8%b3%e0%b8%99%e0%b8%b1%e0%b8%81%e0%b8%87%e0%b8%b2%e0%b8%99%e0%b9%84%e0%b8%9b%e0%b8%a3%e0%b8%a9%e0%b8%93%e0%b8%b5%e0%b8%a2%e0%b9%8c%e0%b8%99%e0%b8%84%e0%b8%a3%e0%b8%ab%e0%b8%a5%e0%b8%a7-4/
LOCATION:สำนักงานไปรษณีย์นครหลวง 3\, สำนักงานไปรษณีย์นครหลวง 3 4 ซอยเจริญกรุง 32 แขวงบางรัก เขตบางรัก กรุงเทพมหานคร 10500
CATEGORIES:ปฏิทินตารางหน่วยเคลื่อนที่
END:VEVENT
BEGIN:VEVENT
DTSTART;TZID=Asia/Krasnoyarsk:20251121T090000
DTEND;TZID=Asia/Krasnoyarsk:20251121T150000
DTSTAMP:20260425T230129
CREATED:20251117T023402Z
LAST-MODIFIED:20251117T023402Z
UID:10004332-1763715600-1763737200@thaibloodcentre.redcross.or.th
SUMMARY:บ้านทรงไทย (ย่านวงศ์สว่าง) []
DESCRIPTION:สถานที่เจาะ : (พัก 12.30-13.00 น.) \nที่อยู่ : 1423 ถนนกรุงเทพ – นนทบุรี แขวงวงศ์สว่าง เขตบางซื่อ กรุงเทพฯ 0 2256 4300
URL:https://thaibloodcentre.redcross.or.th/event/%e0%b8%9a%e0%b9%89%e0%b8%b2%e0%b8%99%e0%b8%97%e0%b8%a3%e0%b8%87%e0%b9%84%e0%b8%97%e0%b8%a2-%e0%b8%a2%e0%b9%88%e0%b8%b2%e0%b8%99%e0%b8%a7%e0%b8%87%e0%b8%a8%e0%b9%8c%e0%b8%aa%e0%b8%a7%e0%b9%88-264/
LOCATION:บ้านทรงไทย (ย่านวงศ์สว่าง)\, หน่วยรับบริจาคโลหิต บ้านทรงไทย(ย่านวงศ์สว่าง) 1423 ถนนกรุงเทพ-นนทบุรี แขวงวงศ์สว่าง เขตบางซื่อ กรุงเทพมหานคร 10800
CATEGORIES:ปฏิทินตารางหน่วยเคลื่อนที่
END:VEVENT
BEGIN:VEVENT
DTSTART;TZID=Asia/Krasnoyarsk:20251121T090000
DTEND;TZID=Asia/Krasnoyarsk:20251121T150000
DTSTAMP:20260425T230129
CREATED:20251117T023408Z
LAST-MODIFIED:20251117T023408Z
UID:10004333-1763715600-1763737200@thaibloodcentre.redcross.or.th
SUMMARY:บริษัท ธานยานยนต์ พี.เอ็น.ที.จำกัด []
DESCRIPTION:สถานที่เจาะ : บริเวณด้านหน้าบริษัท (พัก 12.00-13.00 น.) \nที่อยู่ : 663/3-5 ถนนนครไชยศรี แขวงถนนนครไชยศรี เขตดุสิต กรุงเทพฯ 0 2669 1030
URL:https://thaibloodcentre.redcross.or.th/event/%e0%b8%9a%e0%b8%a3%e0%b8%b4%e0%b8%a9%e0%b8%b1%e0%b8%97-%e0%b8%98%e0%b8%b2%e0%b8%99%e0%b8%a2%e0%b8%b2%e0%b8%99%e0%b8%a2%e0%b8%99%e0%b8%95%e0%b9%8c-%e0%b8%9e%e0%b8%b5-%e0%b9%80%e0%b8%ad%e0%b9%87-4/
LOCATION:บริษัท ธานยานยนต์ พี.เอ็น.ที.จำกัด\, บริษัท ธานยานยนต์ พี.เอ็น.ที.จำกัด 663/3-5 ถ.นครไชยศรี แขวงถนนนครไชยศรี เขตดุสิต กรุงเทพมหานคร 10300
CATEGORIES:ปฏิทินตารางหน่วยเคลื่อนที่
END:VEVENT
BEGIN:VEVENT
DTSTART;TZID=Asia/Krasnoyarsk:20251121T090000
DTEND;TZID=Asia/Krasnoyarsk:20251121T150000
DTSTAMP:20260425T230129
CREATED:20251117T023411Z
LAST-MODIFIED:20251117T023411Z
UID:10004334-1763715600-1763737200@thaibloodcentre.redcross.or.th
SUMMARY:บริษัท โตโยต้า แอท ยูไนเต็ด จำกัด สาขาบางนา []
DESCRIPTION:สถานที่เจาะ : หน้าโชว์รูม (พัก 11.00-12.00 น.) \nที่อยู่ : 8/88 ม.12 ถ.บางนา-ตราด กม.6 ต.บางแก้ว อ.บางพลี จ.สมุทรปราการ 0 2020 8811
URL:https://thaibloodcentre.redcross.or.th/event/%e0%b8%9a%e0%b8%a3%e0%b8%b4%e0%b8%a9%e0%b8%b1%e0%b8%97-%e0%b9%82%e0%b8%95%e0%b9%82%e0%b8%a2%e0%b8%95%e0%b9%89%e0%b8%b2-%e0%b9%81%e0%b8%ad%e0%b8%97-%e0%b8%a2%e0%b8%b9%e0%b9%84%e0%b8%99%e0%b9%80-4/
LOCATION:บริษัท โตโยต้า แอท ยูไนเต็ด จำกัด สาขาบางนา\, บริษัท โตโยต้า แอท ยูไนเต็ด จำกัด สาขาบางนา 8/88 ม.12 ถ.บางนา-ตราด กม.6 ต.บางแก้ว อ.บางพลี จ.สมุทรปราการ 10540
CATEGORIES:ปฏิทินตารางหน่วยเคลื่อนที่
END:VEVENT
BEGIN:VEVENT
DTSTART;TZID=Asia/Krasnoyarsk:20251121T090000
DTEND;TZID=Asia/Krasnoyarsk:20251121T150000
DTSTAMP:20260425T230129
CREATED:20251117T023418Z
LAST-MODIFIED:20251117T023418Z
UID:10004336-1763715600-1763737200@thaibloodcentre.redcross.or.th
SUMMARY:กรมศุลกากร []
DESCRIPTION:สถานที่เจาะ : อาคารสโมสรกรมศุลกากร ชั้น 1 (พัก 12.00-13.00 น.) \nที่อยู่ : 1 ถนนสุนทรโกษา แขวงคลองเตย เขตคลองเตย กรุงเทพฯ 0 2667 7779
URL:https://thaibloodcentre.redcross.or.th/event/%e0%b8%81%e0%b8%a3%e0%b8%a1%e0%b8%a8%e0%b8%b8%e0%b8%a5%e0%b8%81%e0%b8%b2%e0%b8%81%e0%b8%a3-2/
LOCATION:กรมศุลกากร\, กรมศุลกากร 1 ถ.สุนทรโกษา แขวงคลองเตย เขตคลองเตย กรุงเทพมหานคร 10110
CATEGORIES:ปฏิทินตารางหน่วยเคลื่อนที่
END:VEVENT
BEGIN:VEVENT
DTSTART;TZID=Asia/Krasnoyarsk:20251121T090000
DTEND;TZID=Asia/Krasnoyarsk:20251121T150000
DTSTAMP:20260425T230130
CREATED:20251117T023450Z
LAST-MODIFIED:20251117T023450Z
UID:10004340-1763715600-1763737200@thaibloodcentre.redcross.or.th
SUMMARY:โรงพยาบาลวิภาวดี []
DESCRIPTION:สถานที่เจาะ : โถงหน้าห้องประชุมชั้น 9 อาคาร 4 (พัก 12.00-13.00 น.) \nที่อยู่ : 51/3 ถนนงามวงศ์วาน แขวงลาดยาว เขตจตุจักร กรุงเทพฯ 0 2561 1111
URL:https://thaibloodcentre.redcross.or.th/event/%e0%b9%82%e0%b8%a3%e0%b8%87%e0%b8%9e%e0%b8%a2%e0%b8%b2%e0%b8%9a%e0%b8%b2%e0%b8%a5%e0%b8%a7%e0%b8%b4%e0%b8%a0%e0%b8%b2%e0%b8%a7%e0%b8%94%e0%b8%b5-2/
LOCATION:โรงพยาบาลวิภาวดี\, โรงพยาบาลวิภาวดี 51/3 ถนนงามวงศ์วาน แขวงลาดยาว เขตจตุจักร กรุงเทพมหานคร 10900
CATEGORIES:ปฏิทินตารางหน่วยเคลื่อนที่
END:VEVENT
BEGIN:VEVENT
DTSTART;TZID=Asia/Krasnoyarsk:20251121T090000
DTEND;TZID=Asia/Krasnoyarsk:20251121T150000
DTSTAMP:20260425T230130
CREATED:20251117T023453Z
LAST-MODIFIED:20251117T023453Z
UID:10004341-1763715600-1763737200@thaibloodcentre.redcross.or.th
SUMMARY:อาคารเอ็มไพร์ทาวเวอร์ []
DESCRIPTION:สถานที่เจาะ : ห้องประชุม The Sathorn ชั้น M (พัก 12.00-13.00 น.) \nที่อยู่ : 195 ถนนสาธรใต้ แขวงยานนาวา เขตสาทร กรุงเทพฯ 0 2670 2000
URL:https://thaibloodcentre.redcross.or.th/event/%e0%b8%ad%e0%b8%b2%e0%b8%84%e0%b8%b2%e0%b8%a3%e0%b9%80%e0%b8%ad%e0%b9%87%e0%b8%a1%e0%b9%84%e0%b8%9e%e0%b8%a3%e0%b9%8c%e0%b8%97%e0%b8%b2%e0%b8%a7%e0%b9%80%e0%b8%a7%e0%b8%ad%e0%b8%a3%e0%b9%8c-2/
LOCATION:อาคารเอ็มไพร์ทาวเวอร์\, อาคารเอ็มไพร์ทาวเวอร์ 195 ถ.สาทรใต้ แขวงยานนาวา เขตสาทร กรุงเทพมหานคร 10120
CATEGORIES:ปฏิทินตารางหน่วยเคลื่อนที่
END:VEVENT
BEGIN:VEVENT
DTSTART;TZID=Asia/Krasnoyarsk:20251121T090000
DTEND;TZID=Asia/Krasnoyarsk:20251121T150000
DTSTAMP:20260425T230130
CREATED:20251117T023501Z
LAST-MODIFIED:20251117T023501Z
UID:10004342-1763715600-1763737200@thaibloodcentre.redcross.or.th
SUMMARY:กระทรวงมหาดไทย []
DESCRIPTION:สถานที่เจาะ : อาคารดำรงราชานุสรณ์ ชั้น 5 ห้องประชุมอัษฎางค์ (พัก 12.00-13.00 น.) \nที่อยู่ : สำนักงานปลัดกระทรวงมหาดไทย ถนนอัษฎางค์ แขวงราชบพิธ เขตพระนคร กรุงเทพฯ 0 2223 2216
URL:https://thaibloodcentre.redcross.or.th/event/%e0%b8%81%e0%b8%a3%e0%b8%b0%e0%b8%97%e0%b8%a3%e0%b8%a7%e0%b8%87%e0%b8%a1%e0%b8%ab%e0%b8%b2%e0%b8%94%e0%b9%84%e0%b8%97%e0%b8%a2-2/
LOCATION:กระทรวงมหาดไทย\, กระทรวงมหาดไทย 93 ถนนอัษฎางค์ แขวงวัดราชบพิธ เขตพระนคร กรุงเทพมหานคร 10200
CATEGORIES:ปฏิทินตารางหน่วยเคลื่อนที่
END:VEVENT
BEGIN:VEVENT
DTSTART;TZID=Asia/Krasnoyarsk:20251121T090000
DTEND;TZID=Asia/Krasnoyarsk:20251121T150000
DTSTAMP:20260425T230130
CREATED:20251117T023535Z
LAST-MODIFIED:20251117T023535Z
UID:10004347-1763715600-1763737200@thaibloodcentre.redcross.or.th
SUMMARY:กระทรวงมหาดไทย []
DESCRIPTION:สถานที่เจาะ : อาคารดำรงราชานุสรณ์ ชั้น 5 ห้องประชุมอัษฎางค์ (พัก 12.00-13.00 น.) \nที่อยู่ : สำนักงานปลัดกระทรวงมหาดไทย ถนนอัษฎางค์ แขวงราชบพิธ เขตพระนคร กรุงเทพฯ 0 2223 2216
URL:https://thaibloodcentre.redcross.or.th/event/%e0%b8%81%e0%b8%a3%e0%b8%b0%e0%b8%97%e0%b8%a3%e0%b8%a7%e0%b8%87%e0%b8%a1%e0%b8%ab%e0%b8%b2%e0%b8%94%e0%b9%84%e0%b8%97%e0%b8%a2-3/
LOCATION:กระทรวงมหาดไทย\, กระทรวงมหาดไทย 93 ถนนอัษฎางค์ แขวงวัดราชบพิธ เขตพระนคร กรุงเทพมหานคร 10200
CATEGORIES:ปฏิทินตารางหน่วยเคลื่อนที่
END:VEVENT
BEGIN:VEVENT
DTSTART;TZID=Asia/Krasnoyarsk:20251121T110000
DTEND;TZID=Asia/Krasnoyarsk:20251121T150000
DTSTAMP:20260425T230130
CREATED:20251117T023448Z
LAST-MODIFIED:20251117T023448Z
UID:10004339-1763722800-1763737200@thaibloodcentre.redcross.or.th
SUMMARY:มหาวิทยาลัยหัวเฉียวเฉลิมพระเกียรติ []
DESCRIPTION:สถานที่เจาะ : ด้านหน้าอาคารอัฒจันทร์ \nที่อยู่ : 18/18 ม.7 ถ.บางนา – ตราด ต.บางโฉลง อ.บางพลี จ.สมุทรปราการ 0 2713 8128
URL:https://thaibloodcentre.redcross.or.th/event/%e0%b8%a1%e0%b8%ab%e0%b8%b2%e0%b8%a7%e0%b8%b4%e0%b8%97%e0%b8%a2%e0%b8%b2%e0%b8%a5%e0%b8%b1%e0%b8%a2%e0%b8%ab%e0%b8%b1%e0%b8%a7%e0%b9%80%e0%b8%89%e0%b8%b5%e0%b8%a2%e0%b8%a7%e0%b9%80%e0%b8%89%e0%b8%a5-4/
LOCATION:มหาวิทยาลัยหัวเฉียวเฉลิมพระเกียรติ\, มหาวิทยาลัยหัวเฉียวเฉลิมพระเกียรติ 18/18 ม.7 ถ.บางนา-ตราด ต.บางโฉลง อ.บางพลี สมุทรปราการ 10540
CATEGORIES:ปฏิทินตารางหน่วยเคลื่อนที่
END:VEVENT
BEGIN:VEVENT
DTSTART;TZID=Asia/Krasnoyarsk:20251121T120000
DTEND;TZID=Asia/Krasnoyarsk:20251121T153000
DTSTAMP:20260425T230130
CREATED:20251117T023415Z
LAST-MODIFIED:20251117T023415Z
UID:10004335-1763726400-1763739000@thaibloodcentre.redcross.or.th
SUMMARY:กองกษาปณ์ []
DESCRIPTION:สถานที่เจาะ : ห้องปทุมบงกช ชั้น 3 \nที่อยู่ : 13/1 ม. 2 ถ.พหลโยธิน ต.คลองหนึ่ง อ.คลองหลวง ปทุมธานี 0 2834 8300-50
URL:https://thaibloodcentre.redcross.or.th/event/%e0%b8%81%e0%b8%ad%e0%b8%87%e0%b8%81%e0%b8%a9%e0%b8%b2%e0%b8%9b%e0%b8%93%e0%b9%8c-2/
LOCATION:กองกษาปณ์\, กองกษาปณ์ 13/1 ม.2 ถนนพหลโยธิน ต.คลองหนึ่ง อ.คลองหลวง จังหวัดปทุมธานี 12120
CATEGORIES:ปฏิทินตารางหน่วยเคลื่อนที่
END:VEVENT
END:VCALENDAR