BEGIN:VCALENDAR
VERSION:2.0
PRODID:-//เว็บไซต์ศูนย์บริการโลหิตแห่งชาติ - ECPv6.11.2.1//NONSGML v1.0//EN
CALSCALE:GREGORIAN
METHOD:PUBLISH
X-WR-CALNAME:เว็บไซต์ศูนย์บริการโลหิตแห่งชาติ
X-ORIGINAL-URL:https://thaibloodcentre.redcross.or.th
X-WR-CALDESC:Events for เว็บไซต์ศูนย์บริการโลหิตแห่งชาติ
REFRESH-INTERVAL;VALUE=DURATION:PT1H
X-Robots-Tag:noindex
X-PUBLISHED-TTL:PT1H
BEGIN:VTIMEZONE
TZID:Asia/Krasnoyarsk
BEGIN:STANDARD
TZOFFSETFROM:+0700
TZOFFSETTO:+0700
TZNAME:+07
DTSTART:20260101T000000
END:STANDARD
END:VTIMEZONE
BEGIN:VEVENT
DTSTART;TZID=Asia/Krasnoyarsk:20260408T120000
DTEND;TZID=Asia/Krasnoyarsk:20260408T180000
DTSTAMP:20260420T142813
CREATED:20260401T021929Z
LAST-MODIFIED:20260401T021929Z
UID:10006406-1775649600-1775671200@thaibloodcentre.redcross.or.th
SUMMARY:ศูนย์การค้าเดอะมอลล์ไลฟ์สโตร์ ท่าพระ [0E0344]
DESCRIPTION:สถานที่เจาะ : ชั้น 1 (ติดลานจอดรถ) \nที่อยู่ : 99 ถนนรัชดาท่าพระตัดใหม่ แขวงบุคคโล เขตธนบุรี กรุงเทพฯ  \nโทร : 0 2469-1000
URL:https://thaibloodcentre.redcross.or.th/event/%e0%b8%a8%e0%b8%b9%e0%b8%99%e0%b8%a2%e0%b9%8c%e0%b8%81%e0%b8%b2%e0%b8%a3%e0%b8%84%e0%b9%89%e0%b8%b2%e0%b9%80%e0%b8%94%e0%b8%ad%e0%b8%b0%e0%b8%a1%e0%b8%ad%e0%b8%a5%e0%b8%a5%e0%b9%8c%e0%b9%84-1652/
LOCATION:ศูนย์การค้าเดอะมอลล์ไลฟ์สโตร์ ท่าพระ\, เดอะมอลล์ไลฟ์สโตร์ ท่าพระ 129 ถ. รัชดาภิเษก แขวงบุคคโล เขตธนบุรี กรุงเทพมหานคร 10600
CATEGORIES:ปฏิทินตารางหน่วยเคลื่อนที่
END:VEVENT
BEGIN:VEVENT
DTSTART;TZID=Asia/Krasnoyarsk:20260408T120000
DTEND;TZID=Asia/Krasnoyarsk:20260408T180000
DTSTAMP:20260420T142814
CREATED:20260401T021923Z
LAST-MODIFIED:20260401T021923Z
UID:10006405-1775649600-1775671200@thaibloodcentre.redcross.or.th
SUMMARY:ศูนย์การค้า เอ็มโพเรียม [0E0947]
DESCRIPTION:สถานที่เจาะ : ชั้น M ศูนย์การค้า ดิ เอ็มโพเรียม เชื่อมลานจอดรถอาคาร B \nที่อยู่ : 622 ถนนสุขุมวิท แขวงคลองตัน เขตคลองเตย กรุงเทพฯ  \nโทร : 0 2269 1515
URL:https://thaibloodcentre.redcross.or.th/event/%e0%b8%a8%e0%b8%b9%e0%b8%99%e0%b8%a2%e0%b9%8c%e0%b8%81%e0%b8%b2%e0%b8%a3%e0%b8%84%e0%b9%89%e0%b8%b2-%e0%b9%80%e0%b8%ad%e0%b9%87%e0%b8%a1%e0%b9%82%e0%b8%9e%e0%b9%80%e0%b8%a3%e0%b8%b5%e0%b8%a2-409/
LOCATION:ศูนย์การค้า เอ็มโพเรียม\, เอ็มโพเรียม 622 ถ. สุขุมวิท แขวงคลองตัน เขตคลองเตย กรุงเทพมหานคร 10110
CATEGORIES:ปฏิทินตารางหน่วยเคลื่อนที่
END:VEVENT
BEGIN:VEVENT
DTSTART;TZID=Asia/Krasnoyarsk:20260408T120000
DTEND;TZID=Asia/Krasnoyarsk:20260408T180000
DTSTAMP:20260420T142814
CREATED:20260401T021908Z
LAST-MODIFIED:20260401T021908Z
UID:10006404-1775649600-1775671200@thaibloodcentre.redcross.or.th
SUMMARY:ศูนย์การค้าเดอะมอลล์ไลฟ์สโตร์ งามวงศ์วาน [0E0948]
DESCRIPTION:สถานที่เจาะ : ชั้น 5 โซน Government Center \nที่อยู่ : ถนนงามวงศ์วาน ต.บางเขน อ.เมือง จ.นนทบุรี  \nโทร : 0 2555 1550
URL:https://thaibloodcentre.redcross.or.th/event/%e0%b8%a8%e0%b8%b9%e0%b8%99%e0%b8%a2%e0%b9%8c%e0%b8%81%e0%b8%b2%e0%b8%a3%e0%b8%84%e0%b9%89%e0%b8%b2%e0%b9%80%e0%b8%94%e0%b8%ad%e0%b8%b0%e0%b8%a1%e0%b8%ad%e0%b8%a5%e0%b8%a5%e0%b9%8c%e0%b9%84-1651/
LOCATION:ศูนย์การค้าเดอะมอลล์ไลฟ์สโตร์ งามวงศ์วาน\, เดอะมอลล์ ไลฟ์สโตร์ งามวงศ์วาน 430 ถนน งามวงศ์วาน ตำบลบางเขน อำเภอเมืองนนทบุรี นนทบุรี 11000
CATEGORIES:ปฏิทินตารางหน่วยเคลื่อนที่
END:VEVENT
BEGIN:VEVENT
DTSTART;TZID=Asia/Krasnoyarsk:20260408T120000
DTEND;TZID=Asia/Krasnoyarsk:20260408T180000
DTSTAMP:20260420T142814
CREATED:20260401T021848Z
LAST-MODIFIED:20260401T021848Z
UID:10006403-1775649600-1775671200@thaibloodcentre.redcross.or.th
SUMMARY:ศูนย์การค้าเดอะมอลล์ไลฟ์สโตร์ บางกะปิ [0E0941]
DESCRIPTION:สถานที่เจาะ : ชั้น 2 ทางออกลานจอดรถ \nที่อยู่ : ถนนลาดพร้าว แขวงคลองจั่น เขตบางกะปิ กรุงเทพฯ  \nโทร : 0 2310 2278
URL:https://thaibloodcentre.redcross.or.th/event/%e0%b8%a8%e0%b8%b9%e0%b8%99%e0%b8%a2%e0%b9%8c%e0%b8%81%e0%b8%b2%e0%b8%a3%e0%b8%84%e0%b9%89%e0%b8%b2%e0%b9%80%e0%b8%94%e0%b8%ad%e0%b8%b0%e0%b8%a1%e0%b8%ad%e0%b8%a5%e0%b8%a5%e0%b9%8c%e0%b9%84-1650/
LOCATION:ศูนย์การค้าเดอะมอลล์ไลฟ์สโตร์ บางกะปิ\, เดอะมอลล์ไลฟ์สโตร์ บางกะปิ 3522 ถ. ลาดพร้าว แขวงคลองจั่น เขตบางกะปิ กรุงเทพมหานคร 10240
CATEGORIES:ปฏิทินตารางหน่วยเคลื่อนที่
END:VEVENT
BEGIN:VEVENT
DTSTART;TZID=Asia/Krasnoyarsk:20260408T120000
DTEND;TZID=Asia/Krasnoyarsk:20260408T180000
DTSTAMP:20260420T142814
CREATED:20260401T021834Z
LAST-MODIFIED:20260401T021834Z
UID:10006402-1775649600-1775671200@thaibloodcentre.redcross.or.th
SUMMARY:ศูนย์การค้าเดอะมอลล์ไลฟ์สโตร์ บางแค [0E0942]
DESCRIPTION:สถานที่เจาะ : ชั้น 3 ตรงข้ามร้านโอ้กะจู๋ \nที่อยู่ : ถนนเพชรเกษม แขวงบางแคเหนือ เขตภาษีเจริญ กรุงเทพฯ  \nโทร : 02 487 1221
URL:https://thaibloodcentre.redcross.or.th/event/%e0%b8%a8%e0%b8%b9%e0%b8%99%e0%b8%a2%e0%b9%8c%e0%b8%81%e0%b8%b2%e0%b8%a3%e0%b8%84%e0%b9%89%e0%b8%b2%e0%b9%80%e0%b8%94%e0%b8%ad%e0%b8%b0%e0%b8%a1%e0%b8%ad%e0%b8%a5%e0%b8%a5%e0%b9%8c%e0%b9%84-1649/
LOCATION:ศูนย์การค้าเดอะมอลล์ไลฟ์สโตร์ บางแค\, ศูนย์การค้าเดอะมอลล์ไลฟ์สโตร์ บางแค
CATEGORIES:ปฏิทินตารางหน่วยเคลื่อนที่
END:VEVENT
BEGIN:VEVENT
DTSTART;TZID=Asia/Krasnoyarsk:20260408T110000
DTEND;TZID=Asia/Krasnoyarsk:20260408T150000
DTSTAMP:20260420T142814
CREATED:20260401T022314Z
LAST-MODIFIED:20260401T022314Z
UID:10006416-1775646000-1775660400@thaibloodcentre.redcross.or.th
SUMMARY:บริษัท รถไฟฟ้า ร.ฟ.ท. จำกัด (สำนักงานใหญ่) [0M1021]
DESCRIPTION:สถานที่เจาะ : จุดจำหน่ายตั๋วรถไฟสายสีแดง สถานีกลางบางซื่อ \nที่อยู่ : สถานีกลางบางซื่อ 10 ถนนกำแพงเพชร แขวงจตุจักร เขตจตุจักร กรุงเทพฯ
URL:https://thaibloodcentre.redcross.or.th/event/%e0%b8%9a%e0%b8%a3%e0%b8%b4%e0%b8%a9%e0%b8%b1%e0%b8%97-%e0%b8%a3%e0%b8%96%e0%b9%84%e0%b8%9f%e0%b8%9f%e0%b9%89%e0%b8%b2-%e0%b8%a3-%e0%b8%9f-%e0%b8%97-%e0%b8%88%e0%b8%b3%e0%b8%81%e0%b8%b1%e0%b8%94-5/
LOCATION:บริษัท รถไฟฟ้า ร.ฟ.ท. จำกัด (สำนักงานใหญ่)\, บริษัท รถไฟฟ้า ร.ฟ.ท. จำกัด (สำนักงานใหญ่) PHWP+8X6 แขวงบางกะปิ เขตห้วยขวาง กรุงเทพมหานคร 10310
CATEGORIES:ปฏิทินตารางหน่วยเคลื่อนที่
END:VEVENT
BEGIN:VEVENT
DTSTART;TZID=Asia/Krasnoyarsk:20260408T110000
DTEND;TZID=Asia/Krasnoyarsk:20260408T150000
DTSTAMP:20260420T142814
CREATED:20260401T022109Z
LAST-MODIFIED:20260401T022109Z
UID:10006409-1775646000-1775660400@thaibloodcentre.redcross.or.th
SUMMARY:เซ็นทรัลพลาซา แจ้งวัฒนะ [0M0488]
DESCRIPTION:สถานที่เจาะ : ชั้น 7 Education Zone \nที่อยู่ : 99/99 ม.2 ถ.แจ้งวัฒนะ ต.บางตลาด อ.ปากเกร็ด จ.นนทบุรี  \nโทร : 0 2101 0000
URL:https://thaibloodcentre.redcross.or.th/event/%e0%b9%80%e0%b8%8b%e0%b9%87%e0%b8%99%e0%b8%97%e0%b8%a3%e0%b8%b1%e0%b8%a5%e0%b8%9e%e0%b8%a5%e0%b8%b2%e0%b8%8b%e0%b8%b2-%e0%b9%81%e0%b8%88%e0%b9%89%e0%b8%87%e0%b8%a7%e0%b8%b1%e0%b8%92%e0%b8%99-18/
LOCATION:เซ็นทรัลพลาซา แจ้งวัฒนะ\, เซ็นทรัลพลาซา แจ้งวัฒนะ 99-99/9 หมู่ที่ 2 ถ. แจ้งวัฒนะ ตำบลบางตลาด อำเภอปากเกร็ด นนทบุรี 11120
CATEGORIES:ปฏิทินตารางหน่วยเคลื่อนที่
END:VEVENT
BEGIN:VEVENT
DTSTART;TZID=Asia/Krasnoyarsk:20260408T090000
DTEND;TZID=Asia/Krasnoyarsk:20260408T150000
DTSTAMP:20260420T142814
CREATED:20260401T022312Z
LAST-MODIFIED:20260401T022312Z
UID:10006415-1775638800-1775660400@thaibloodcentre.redcross.or.th
SUMMARY:การไฟฟ้าส่วนภูมิภาค [0D0015]
DESCRIPTION:สถานที่เจาะ : ห้องสุวรรณภูมิ ชั้น 6 อาคาร 4 (LED) \nที่อยู่ : 200 ถนนงามวงศ์วาน แขวงลาดยาว เขตจตุจักร กรุงเทพฯ  \nโทร : 0 2590 5238
URL:https://thaibloodcentre.redcross.or.th/event/%e0%b8%81%e0%b8%b2%e0%b8%a3%e0%b9%84%e0%b8%9f%e0%b8%9f%e0%b9%89%e0%b8%b2%e0%b8%aa%e0%b9%88%e0%b8%a7%e0%b8%99%e0%b8%a0%e0%b8%b9%e0%b8%a1%e0%b8%b4%e0%b8%a0%e0%b8%b2%e0%b8%84-0d0015-3/
LOCATION:การไฟฟ้าส่วนภูมิภาค\, การไฟฟ้าส่วนภูมิภาค สำนักงานใหญ่ 200 ถนนงามวงศ์วาน ลาดยาว จตุจักร กรุงเทพ 10900
CATEGORIES:ปฏิทินตารางหน่วยเคลื่อนที่
END:VEVENT
BEGIN:VEVENT
DTSTART;TZID=Asia/Krasnoyarsk:20260408T090000
DTEND;TZID=Asia/Krasnoyarsk:20260408T150000
DTSTAMP:20260420T142814
CREATED:20260401T022310Z
LAST-MODIFIED:20260401T022310Z
UID:10006414-1775638800-1775660400@thaibloodcentre.redcross.or.th
SUMMARY:บริษัท ขนส่ง จำกัด [0E0620]
DESCRIPTION:สถานที่เจาะ : ชั้น 1 อาคารขนส่งผู้โดยสาร (พัก 12-13 น.) \nที่อยู่ : 999 ถนนกำแพงเพชร 2 แขวงจตุจักร เขตจตุจักร กรุงเทพฯ  \nโทร : 0 2936 2785
URL:https://thaibloodcentre.redcross.or.th/event/%e0%b8%9a%e0%b8%a3%e0%b8%b4%e0%b8%a9%e0%b8%b1%e0%b8%97-%e0%b8%82%e0%b8%99%e0%b8%aa%e0%b9%88%e0%b8%87-%e0%b8%88%e0%b8%b3%e0%b8%81%e0%b8%b1%e0%b8%94-0e0620-3/
LOCATION:บริษัท ขนส่ง จำกัด\, บริษัท ขนส่ง จำกัด 999 ถนนกำแพงเพชร2 แขวงจตุจักร เขตจตุจักร กทม. 10900
CATEGORIES:ปฏิทินตารางหน่วยเคลื่อนที่
END:VEVENT
BEGIN:VEVENT
DTSTART;TZID=Asia/Krasnoyarsk:20260408T090000
DTEND;TZID=Asia/Krasnoyarsk:20260408T150000
DTSTAMP:20260420T142814
CREATED:20260401T022122Z
LAST-MODIFIED:20260401T022122Z
UID:10006413-1775638800-1775660400@thaibloodcentre.redcross.or.th
SUMMARY:สำนักงานพระคลังข้างที่ [0D0209]
DESCRIPTION:สถานที่เจาะ : บริเวณด้านหน้าอาคาร 5  (พัก 11.30-12.30 น.) \nที่อยู่ : 173 ถนนนครราชสีมา แขวงดุสิต เขตดุสิต กรุงเทพฯ  \nโทร : 0 2787 6940
URL:https://thaibloodcentre.redcross.or.th/event/%e0%b8%aa%e0%b8%b3%e0%b8%99%e0%b8%b1%e0%b8%81%e0%b8%87%e0%b8%b2%e0%b8%99%e0%b8%9e%e0%b8%a3%e0%b8%b0%e0%b8%84%e0%b8%a5%e0%b8%b1%e0%b8%87%e0%b8%82%e0%b9%89%e0%b8%b2%e0%b8%87%e0%b8%97%e0%b8%b5%e0%b9%88-3/
LOCATION:สำนักงานพระคลังข้างที่\, สำนักงานทรัพย์สินพระมหากษัตริย์ 173 ถนน นครราชสีมา แขวงดุสิต เขตดุสิต กรุงเทพมหานคร 10300
CATEGORIES:ปฏิทินตารางหน่วยเคลื่อนที่
END:VEVENT
BEGIN:VEVENT
DTSTART;TZID=Asia/Krasnoyarsk:20260408T090000
DTEND;TZID=Asia/Krasnoyarsk:20260408T150000
DTSTAMP:20260420T142814
CREATED:20260401T022118Z
LAST-MODIFIED:20260401T022118Z
UID:10006412-1775638800-1775660400@thaibloodcentre.redcross.or.th
SUMMARY:ธนาคารไทยพาณิชย์ จำกัด (มหาชน) สาขาอ้อมใหญ่ [0G0064]
DESCRIPTION:สถานที่เจาะ : ซอยด้านข้างธนาคาร (พัก 11.30-12.30 น.) \nที่อยู่ : 10/84 ม. 8 ถ.เพชรเกษม ต.อ้อมใหญ่ อ.สามพราน นครปฐม  \nโทร : 0 2420 1117-9
URL:https://thaibloodcentre.redcross.or.th/event/%e0%b8%98%e0%b8%99%e0%b8%b2%e0%b8%84%e0%b8%b2%e0%b8%a3%e0%b9%84%e0%b8%97%e0%b8%a2%e0%b8%9e%e0%b8%b2%e0%b8%93%e0%b8%b4%e0%b8%8a%e0%b8%a2%e0%b9%8c-%e0%b8%88%e0%b8%b3%e0%b8%81%e0%b8%b1%e0%b8%94-23/
LOCATION:ธนาคารไทยพาณิชย์ จำกัด (มหาชน) สาขาอ้อมใหญ่\, ธนาคารไทยพาณิชย์ จำกัด (มหาชน) สาขาอ้อมใหญ่ 10/84 ม.8 เพชรเกษม สามพราน อ้อมใหญ่ นครปฐม 73160
CATEGORIES:ปฏิทินตารางหน่วยเคลื่อนที่
END:VEVENT
BEGIN:VEVENT
DTSTART;TZID=Asia/Krasnoyarsk:20260408T090000
DTEND;TZID=Asia/Krasnoyarsk:20260408T150000
DTSTAMP:20260420T142814
CREATED:20260401T022114Z
LAST-MODIFIED:20260401T022114Z
UID:10006411-1775638800-1775660400@thaibloodcentre.redcross.or.th
SUMMARY:ธนาคารไทยพาณิชย์ จำกัด (มหาชน) สาขาถนนเสรีไทย (สวนสยาม) [0G0059]
DESCRIPTION:สถานที่เจาะ : บริเวณลานจอดรถ (พัก 11.30-12.30 น.) \nที่อยู่ : 99/2 ถนนเสรีไทย แขวงคันนายาว เขตคันนายาว กรุงเทพฯ  \nโทร : 0 2906 0515
URL:https://thaibloodcentre.redcross.or.th/event/%e0%b8%98%e0%b8%99%e0%b8%b2%e0%b8%84%e0%b8%b2%e0%b8%a3%e0%b9%84%e0%b8%97%e0%b8%a2%e0%b8%9e%e0%b8%b2%e0%b8%93%e0%b8%b4%e0%b8%8a%e0%b8%a2%e0%b9%8c-%e0%b8%88%e0%b8%b3%e0%b8%81%e0%b8%b1%e0%b8%94-22/
LOCATION:ธนาคารไทยพาณิชย์ จำกัด (มหาชน) สาขาถนนเสรีไทย (สวนสยาม)\, ธนาคารไทยพาณิชย์ จำกัด (มหาชน) สาขาถนนเสรีไทย (สวนสยาม) เลขที่ 137 หมู่ที่ 3 ถ.เสรีไทย แขวงคันนายาว เขตคันนายาว กรุงเทพมหานคร 10230
CATEGORIES:ปฏิทินตารางหน่วยเคลื่อนที่
END:VEVENT
BEGIN:VEVENT
DTSTART;TZID=Asia/Krasnoyarsk:20260408T090000
DTEND;TZID=Asia/Krasnoyarsk:20260408T150000
DTSTAMP:20260420T142814
CREATED:20260401T022111Z
LAST-MODIFIED:20260401T022111Z
UID:10006410-1775638800-1775660400@thaibloodcentre.redcross.or.th
SUMMARY:ธนาคารไทยพาณิชย์ จำกัด (มหาชน) สาขาถนนนวลจันทร์ [0G0063]
DESCRIPTION:สถานที่เจาะ : ด้านหน้าธนาคารฯ (พัก 11.30-12.30 น.) \nที่อยู่ : 16/29 ถนนนวลจันทร์ แขวงคลองกุ่ม เขตบึงกุ่ม กรุงเทพฯ  \nโทร : 0 2944 4836
URL:https://thaibloodcentre.redcross.or.th/event/%e0%b8%98%e0%b8%99%e0%b8%b2%e0%b8%84%e0%b8%b2%e0%b8%a3%e0%b9%84%e0%b8%97%e0%b8%a2%e0%b8%9e%e0%b8%b2%e0%b8%93%e0%b8%b4%e0%b8%8a%e0%b8%a2%e0%b9%8c-%e0%b8%88%e0%b8%b3%e0%b8%81%e0%b8%b1%e0%b8%94-21/
LOCATION:ธนาคารไทยพาณิชย์ จำกัด (มหาชน) สาขาถนนนวลจันทร์\, ธนาคารไทยพาณิชย์ จำกัด (มหาชน) สาขาถนนนวลจันทร์ 16/29 หมู่ที่ 11 ถนน นวลจันทร์ แขวงนวลจันทร์ เขตบึงกุ่ม กรุงเทพมหานคร 10230
CATEGORIES:ปฏิทินตารางหน่วยเคลื่อนที่
END:VEVENT
BEGIN:VEVENT
DTSTART;TZID=Asia/Krasnoyarsk:20260408T090000
DTEND;TZID=Asia/Krasnoyarsk:20260408T150000
DTSTAMP:20260420T142814
CREATED:20260401T021948Z
LAST-MODIFIED:20260401T021948Z
UID:10006408-1775638800-1775660400@thaibloodcentre.redcross.or.th
SUMMARY:บ้านทรงไทย (ย่านวงศ์สว่าง) [0J0463]
DESCRIPTION:สถานที่เจาะ : (พัก 12.30-13.00 น.) \nที่อยู่ : 1423 ถนนกรุงเทพ – นนทบุรี แขวงวงศ์สว่าง เขตบางซื่อ กรุงเทพฯ  \nโทร : 0 2256 4300
URL:https://thaibloodcentre.redcross.or.th/event/%e0%b8%9a%e0%b9%89%e0%b8%b2%e0%b8%99%e0%b8%97%e0%b8%a3%e0%b8%87%e0%b9%84%e0%b8%97%e0%b8%a2-%e0%b8%a2%e0%b9%88%e0%b8%b2%e0%b8%99%e0%b8%a7%e0%b8%87%e0%b8%a8%e0%b9%8c%e0%b8%aa%e0%b8%a7%e0%b9%88-409/
LOCATION:บ้านทรงไทย (ย่านวงศ์สว่าง)\, หน่วยรับบริจาคโลหิต บ้านทรงไทย(ย่านวงศ์สว่าง) 1423 ถนนกรุงเทพ-นนทบุรี แขวงวงศ์สว่าง เขตบางซื่อ กรุงเทพมหานคร 10800
CATEGORIES:ปฏิทินตารางหน่วยเคลื่อนที่
END:VEVENT
BEGIN:VEVENT
DTSTART;TZID=Asia/Krasnoyarsk:20260408T083000
DTEND;TZID=Asia/Krasnoyarsk:20260408T193000
DTSTAMP:20260420T142814
CREATED:20260401T021944Z
LAST-MODIFIED:20260401T021944Z
UID:10006407-1775637000-1775676600@thaibloodcentre.redcross.or.th
SUMMARY:สถานีกาชาด 11 วิเศษนิยม [0D0200]
DESCRIPTION:สถานที่เจาะ : ชั้น 3 \nที่อยู่ : 33/3 ถนนเพชรเกษม แขวงบางหว้า เขตภาษีเจริญ กรุงเทพฯ  \nโทร : 633450711
URL:https://thaibloodcentre.redcross.or.th/event/%e0%b8%aa%e0%b8%96%e0%b8%b2%e0%b8%99%e0%b8%b5%e0%b8%81%e0%b8%b2%e0%b8%8a%e0%b8%b2%e0%b8%94-11-%e0%b8%a7%e0%b8%b4%e0%b9%80%e0%b8%a8%e0%b8%a9%e0%b8%99%e0%b8%b4%e0%b8%a2%e0%b8%a1-0d0200-196/
LOCATION:สถานีกาชาด 11 วิเศษนิยม\, สถานีกาชาด 11 วิเศษนิยม 605 ถ.เพชรเกษม แขวงบางหว้า เขตภาษีเจริญ กรุงเทพมหานคร 10160
CATEGORIES:ปฏิทินตารางหน่วยเคลื่อนที่
END:VEVENT
BEGIN:VEVENT
DTSTART;TZID=Asia/Krasnoyarsk:20260408T073000
DTEND;TZID=Asia/Krasnoyarsk:20260408T193000
DTSTAMP:20260420T142814
CREATED:20260401T021829Z
LAST-MODIFIED:20260401T021829Z
UID:10006401-1775633400-1775676600@thaibloodcentre.redcross.or.th
SUMMARY:ศูนย์บริการโลหิตแห่งชาติ สภากาชาดไทย [0A0000]
DESCRIPTION:ที่อยู่ : 1871 ถ. อังรีดูนังต์ แขวงปทุมวัน เขตปทุมวัน
URL:https://thaibloodcentre.redcross.or.th/event/%e0%b8%a8%e0%b8%b9%e0%b8%99%e0%b8%a2%e0%b9%8c%e0%b8%9a%e0%b8%a3%e0%b8%b4%e0%b8%81%e0%b8%b2%e0%b8%a3%e0%b9%82%e0%b8%a5%e0%b8%ab%e0%b8%b4%e0%b8%95%e0%b9%81%e0%b8%ab%e0%b9%88%e0%b8%87%e0%b8%8a-494/
LOCATION:ศูนย์บริการโลหิตแห่งชาติ สภากาชาดไทย\, ศูนย์บริการโลหิตแห่งชาติ สภากาชาดไทย 1871 ถ. อังรีดูนังต์ แขวงปทุมวัน เขตปทุมวัน กรุงเทพมหานคร 10330
CATEGORIES:ปฏิทินตารางหน่วยเคลื่อนที่
END:VEVENT
BEGIN:VEVENT
DTSTART;TZID=Asia/Krasnoyarsk:20260407T120000
DTEND;TZID=Asia/Krasnoyarsk:20260407T180000
DTSTAMP:20260420T142814
CREATED:20260401T021523Z
LAST-MODIFIED:20260401T021523Z
UID:10006392-1775563200-1775584800@thaibloodcentre.redcross.or.th
SUMMARY:ศูนย์การค้าเดอะมอลล์ไลฟ์สโตร์ ท่าพระ [0E0344]
DESCRIPTION:สถานที่เจาะ : ชั้น 1 (ติดลานจอดรถ) \nที่อยู่ : 99 ถนนรัชดาท่าพระตัดใหม่ แขวงบุคคโล เขตธนบุรี กรุงเทพฯ  \nโทร : 0 2469-1000
URL:https://thaibloodcentre.redcross.or.th/event/%e0%b8%a8%e0%b8%b9%e0%b8%99%e0%b8%a2%e0%b9%8c%e0%b8%81%e0%b8%b2%e0%b8%a3%e0%b8%84%e0%b9%89%e0%b8%b2%e0%b9%80%e0%b8%94%e0%b8%ad%e0%b8%b0%e0%b8%a1%e0%b8%ad%e0%b8%a5%e0%b8%a5%e0%b9%8c%e0%b9%84-1648/
LOCATION:ศูนย์การค้าเดอะมอลล์ไลฟ์สโตร์ ท่าพระ\, เดอะมอลล์ไลฟ์สโตร์ ท่าพระ 129 ถ. รัชดาภิเษก แขวงบุคคโล เขตธนบุรี กรุงเทพมหานคร 10600
CATEGORIES:ปฏิทินตารางหน่วยเคลื่อนที่
END:VEVENT
BEGIN:VEVENT
DTSTART;TZID=Asia/Krasnoyarsk:20260407T120000
DTEND;TZID=Asia/Krasnoyarsk:20260407T180000
DTSTAMP:20260420T142814
CREATED:20260401T021518Z
LAST-MODIFIED:20260401T021518Z
UID:10006391-1775563200-1775584800@thaibloodcentre.redcross.or.th
SUMMARY:ศูนย์การค้า เอ็มโพเรียม [0E0947]
DESCRIPTION:สถานที่เจาะ : ชั้น M ศูนย์การค้า ดิ เอ็มโพเรียม เชื่อมลานจอดรถอาคาร B \nที่อยู่ : 622 ถนนสุขุมวิท แขวงคลองตัน เขตคลองเตย กรุงเทพฯ  \nโทร : 0 2269 1515
URL:https://thaibloodcentre.redcross.or.th/event/%e0%b8%a8%e0%b8%b9%e0%b8%99%e0%b8%a2%e0%b9%8c%e0%b8%81%e0%b8%b2%e0%b8%a3%e0%b8%84%e0%b9%89%e0%b8%b2-%e0%b9%80%e0%b8%ad%e0%b9%87%e0%b8%a1%e0%b9%82%e0%b8%9e%e0%b9%80%e0%b8%a3%e0%b8%b5%e0%b8%a2-408/
LOCATION:ศูนย์การค้า เอ็มโพเรียม\, เอ็มโพเรียม 622 ถ. สุขุมวิท แขวงคลองตัน เขตคลองเตย กรุงเทพมหานคร 10110
CATEGORIES:ปฏิทินตารางหน่วยเคลื่อนที่
END:VEVENT
BEGIN:VEVENT
DTSTART;TZID=Asia/Krasnoyarsk:20260407T120000
DTEND;TZID=Asia/Krasnoyarsk:20260407T180000
DTSTAMP:20260420T142814
CREATED:20260401T021505Z
LAST-MODIFIED:20260401T021505Z
UID:10006390-1775563200-1775584800@thaibloodcentre.redcross.or.th
SUMMARY:ศูนย์การค้าเดอะมอลล์ไลฟ์สโตร์ งามวงศ์วาน [0E0948]
DESCRIPTION:สถานที่เจาะ : ชั้น 5 โซน Government Center \nที่อยู่ : ถนนงามวงศ์วาน ต.บางเขน อ.เมือง จ.นนทบุรี  \nโทร : 0 2555 1550
URL:https://thaibloodcentre.redcross.or.th/event/%e0%b8%a8%e0%b8%b9%e0%b8%99%e0%b8%a2%e0%b9%8c%e0%b8%81%e0%b8%b2%e0%b8%a3%e0%b8%84%e0%b9%89%e0%b8%b2%e0%b9%80%e0%b8%94%e0%b8%ad%e0%b8%b0%e0%b8%a1%e0%b8%ad%e0%b8%a5%e0%b8%a5%e0%b9%8c%e0%b9%84-1647/
LOCATION:ศูนย์การค้าเดอะมอลล์ไลฟ์สโตร์ งามวงศ์วาน\, เดอะมอลล์ ไลฟ์สโตร์ งามวงศ์วาน 430 ถนน งามวงศ์วาน ตำบลบางเขน อำเภอเมืองนนทบุรี นนทบุรี 11000
CATEGORIES:ปฏิทินตารางหน่วยเคลื่อนที่
END:VEVENT
BEGIN:VEVENT
DTSTART;TZID=Asia/Krasnoyarsk:20260407T120000
DTEND;TZID=Asia/Krasnoyarsk:20260407T180000
DTSTAMP:20260420T142814
CREATED:20260401T021450Z
LAST-MODIFIED:20260401T021450Z
UID:10006389-1775563200-1775584800@thaibloodcentre.redcross.or.th
SUMMARY:ศูนย์การค้าเดอะมอลล์ไลฟ์สโตร์ บางกะปิ [0E0941]
DESCRIPTION:สถานที่เจาะ : ชั้น 2 ทางออกลานจอดรถ \nที่อยู่ : ถนนลาดพร้าว แขวงคลองจั่น เขตบางกะปิ กรุงเทพฯ  \nโทร : 0 2310 2278
URL:https://thaibloodcentre.redcross.or.th/event/%e0%b8%a8%e0%b8%b9%e0%b8%99%e0%b8%a2%e0%b9%8c%e0%b8%81%e0%b8%b2%e0%b8%a3%e0%b8%84%e0%b9%89%e0%b8%b2%e0%b9%80%e0%b8%94%e0%b8%ad%e0%b8%b0%e0%b8%a1%e0%b8%ad%e0%b8%a5%e0%b8%a5%e0%b9%8c%e0%b9%84-1646/
LOCATION:ศูนย์การค้าเดอะมอลล์ไลฟ์สโตร์ บางกะปิ\, เดอะมอลล์ไลฟ์สโตร์ บางกะปิ 3522 ถ. ลาดพร้าว แขวงคลองจั่น เขตบางกะปิ กรุงเทพมหานคร 10240
CATEGORIES:ปฏิทินตารางหน่วยเคลื่อนที่
END:VEVENT
BEGIN:VEVENT
DTSTART;TZID=Asia/Krasnoyarsk:20260407T120000
DTEND;TZID=Asia/Krasnoyarsk:20260407T180000
DTSTAMP:20260420T142814
CREATED:20260401T021430Z
LAST-MODIFIED:20260401T021430Z
UID:10006388-1775563200-1775584800@thaibloodcentre.redcross.or.th
SUMMARY:ศูนย์การค้าเดอะมอลล์ไลฟ์สโตร์ บางแค [0E0942]
DESCRIPTION:สถานที่เจาะ : ชั้น 3 ตรงข้ามร้านโอ้กะจู๋ \nที่อยู่ : ถนนเพชรเกษม แขวงบางแคเหนือ เขตภาษีเจริญ กรุงเทพฯ  \nโทร : 02 487 1221
URL:https://thaibloodcentre.redcross.or.th/event/%e0%b8%a8%e0%b8%b9%e0%b8%99%e0%b8%a2%e0%b9%8c%e0%b8%81%e0%b8%b2%e0%b8%a3%e0%b8%84%e0%b9%89%e0%b8%b2%e0%b9%80%e0%b8%94%e0%b8%ad%e0%b8%b0%e0%b8%a1%e0%b8%ad%e0%b8%a5%e0%b8%a5%e0%b9%8c%e0%b9%84-1645/
LOCATION:ศูนย์การค้าเดอะมอลล์ไลฟ์สโตร์ บางแค\, ศูนย์การค้าเดอะมอลล์ไลฟ์สโตร์ บางแค
CATEGORIES:ปฏิทินตารางหน่วยเคลื่อนที่
END:VEVENT
BEGIN:VEVENT
DTSTART;TZID=Asia/Krasnoyarsk:20260407T110000
DTEND;TZID=Asia/Krasnoyarsk:20260407T150000
DTSTAMP:20260420T142814
CREATED:20260401T021631Z
LAST-MODIFIED:20260401T021631Z
UID:10006397-1775559600-1775574000@thaibloodcentre.redcross.or.th
SUMMARY:อาคารเสริมมิตรทาวเวอร์ [0E0724]
DESCRIPTION:สถานที่เจาะ : หน้าธนาคารกรุงศรีฯ \nที่อยู่ : 159/47 สุขุมวิท 21 แขวงคลองเตยเหนือ เขตวัฒนา กรุงเทพฯ  \nโทร : 0 2260 6666
URL:https://thaibloodcentre.redcross.or.th/event/%e0%b8%ad%e0%b8%b2%e0%b8%84%e0%b8%b2%e0%b8%a3%e0%b9%80%e0%b8%aa%e0%b8%a3%e0%b8%b4%e0%b8%a1%e0%b8%a1%e0%b8%b4%e0%b8%95%e0%b8%a3%e0%b8%97%e0%b8%b2%e0%b8%a7%e0%b9%80%e0%b8%a7%e0%b8%ad%e0%b8%a3%e0%b9%8c-5/
LOCATION:อาคารเสริมมิตรทาวเวอร์\, อาคารเสริมมิตรทาวเวอร์ 159 ซอยสุขุมวิท 21 แขวงคลองเตยเหนือ เขตวัฒนา กรุงเทพมหานคร 10110
CATEGORIES:ปฏิทินตารางหน่วยเคลื่อนที่
END:VEVENT
BEGIN:VEVENT
DTSTART;TZID=Asia/Krasnoyarsk:20260407T093000
DTEND;TZID=Asia/Krasnoyarsk:20260407T150000
DTSTAMP:20260420T142814
CREATED:20260401T021822Z
LAST-MODIFIED:20260401T021822Z
UID:10006399-1775554200-1775574000@thaibloodcentre.redcross.or.th
SUMMARY:โรงพยาบาลเปาโล พระประแดง [0D0477]
DESCRIPTION:สถานที่เจาะ : ห้องประชุมชั้น 2 (พัก 11-12 น.) \nที่อยู่ : 288 ม.1 ถ.สุขสวัสดิ์ ต.ปากคลองบางปลากด อ.พระประแดง จ.สมุทรปราการ  \nโทร : 0 2818 9000
URL:https://thaibloodcentre.redcross.or.th/event/%e0%b9%82%e0%b8%a3%e0%b8%87%e0%b8%9e%e0%b8%a2%e0%b8%b2%e0%b8%9a%e0%b8%b2%e0%b8%a5%e0%b9%80%e0%b8%9b%e0%b8%b2%e0%b9%82%e0%b8%a5-%e0%b8%9e%e0%b8%a3%e0%b8%b0%e0%b8%9b%e0%b8%a3%e0%b8%b0%e0%b9%81-6/
LOCATION:โรงพยาบาลเปาโล พระประแดง\, โรงพยาบาลเปาโล พระประแดง 288 หมู่ที่ 1 ถ.สุขสวัสดิ์ ตำบลปากคลองบางปลากด อำเภอพระสมุทรเจดีย์ สมุทรปราการ 10290
CATEGORIES:ปฏิทินตารางหน่วยเคลื่อนที่
END:VEVENT
BEGIN:VEVENT
DTSTART;TZID=Asia/Krasnoyarsk:20260407T090000
DTEND;TZID=Asia/Krasnoyarsk:20260407T150000
DTSTAMP:20260420T142814
CREATED:20260401T021825Z
LAST-MODIFIED:20260401T021825Z
UID:10006400-1775552400-1775574000@thaibloodcentre.redcross.or.th
SUMMARY:โรงพยาบาลสินแพทย์เสรีรักษ์ [0D0397]
DESCRIPTION:สถานที่เจาะ : อาคารสำนักงานชั้น 1 (ตึกสีเทา) (พัก 12-13 น.) \nที่อยู่ : 44 ถนนเสรีไทย แขวงมีนบุรี เขตมีนบุรี กรุงเทพฯ  \nโทร : 0 2761 9888
URL:https://thaibloodcentre.redcross.or.th/event/%e0%b9%82%e0%b8%a3%e0%b8%87%e0%b8%9e%e0%b8%a2%e0%b8%b2%e0%b8%9a%e0%b8%b2%e0%b8%a5%e0%b8%aa%e0%b8%b4%e0%b8%99%e0%b9%81%e0%b8%9e%e0%b8%97%e0%b8%a2%e0%b9%8c%e0%b9%80%e0%b8%aa%e0%b8%a3%e0%b8%b5%e0%b8%a3-6/
LOCATION:โรงพยาบาลสินแพทย์เสรีรักษ์\, โรงพยาบาลสินแพทย์เสรีรักษ์ 44 ถนนเสรีไทย แขวงมีนบุรี เขตมีนบุรี กรุงเทพมหานคร 10510
CATEGORIES:ปฏิทินตารางหน่วยเคลื่อนที่
END:VEVENT
BEGIN:VEVENT
DTSTART;TZID=Asia/Krasnoyarsk:20260407T090000
DTEND;TZID=Asia/Krasnoyarsk:20260407T150000
DTSTAMP:20260420T142814
CREATED:20260401T021634Z
LAST-MODIFIED:20260401T021634Z
UID:10006398-1775552400-1775574000@thaibloodcentre.redcross.or.th
SUMMARY:โรงเรียนนานาชาติแอสคอต [0B0567]
DESCRIPTION:สถานที่เจาะ : ที่จอดรถหน้าโรงเรียน (พัก 12-13 น.) \nที่อยู่ : 9 รามคำแหง 118 แขวงสะพานสูง เขตสะพานสูง กรุงเทพฯ
URL:https://thaibloodcentre.redcross.or.th/event/%e0%b9%82%e0%b8%a3%e0%b8%87%e0%b9%80%e0%b8%a3%e0%b8%b5%e0%b8%a2%e0%b8%99%e0%b8%99%e0%b8%b2%e0%b8%99%e0%b8%b2%e0%b8%8a%e0%b8%b2%e0%b8%95%e0%b8%b4%e0%b9%81%e0%b8%ad%e0%b8%aa%e0%b8%84%e0%b8%ad%e0%b8%95-5/
LOCATION:โรงเรียนนานาชาติแอสคอต\, Ascot International School Bangkok 9 ซอยรามคำแหง 118 แยก 46-4 แขวงสะพานสูง เขตสะพานสูง กรุงเทพมหานคร 10240
CATEGORIES:ปฏิทินตารางหน่วยเคลื่อนที่
END:VEVENT
BEGIN:VEVENT
DTSTART;TZID=Asia/Krasnoyarsk:20260407T090000
DTEND;TZID=Asia/Krasnoyarsk:20260407T150000
DTSTAMP:20260420T142814
CREATED:20260401T021629Z
LAST-MODIFIED:20260401T021629Z
UID:10006396-1775552400-1775574000@thaibloodcentre.redcross.or.th
SUMMARY:บริษัท ดีเอชแอลซัพพลายเชน (ประเทศไทย) จำกัด [0M0840]
DESCRIPTION:สถานที่เจาะ : หน้าตึกสำนักงาน (พัก 12-13 น.) \nที่อยู่ : 2/26 ม.1 ถ.บางนา-ตราด กม. 16 ต.บางโฉลง อ.บางพลี จ.สมุทรปราการ  \nโทร : 0 2048 6489
URL:https://thaibloodcentre.redcross.or.th/event/%e0%b8%9a%e0%b8%a3%e0%b8%b4%e0%b8%a9%e0%b8%b1%e0%b8%97-%e0%b8%94%e0%b8%b5%e0%b9%80%e0%b8%ad%e0%b8%8a%e0%b9%81%e0%b8%ad%e0%b8%a5%e0%b8%8b%e0%b8%b1%e0%b8%9e%e0%b8%9e%e0%b8%a5%e0%b8%b2%e0%b8%a2-5/
LOCATION:บริษัท ดีเอชแอลซัพพลายเชน (ประเทศไทย) จำกัด\, บริษัท ดีเอชแอลซัพพลายเชน (ประเทศไทย) จำกัด สาขาที่ 00019 ประตูที่ (24-25) เลขที่ 2/26 หมู่ที่ 1 ถนนบางนา-ตราด กม.16.5 ตำบลบางโฉลง อำเภอบางพลี จ.สมุทรปราการ 10540
CATEGORIES:ปฏิทินตารางหน่วยเคลื่อนที่
END:VEVENT
BEGIN:VEVENT
DTSTART;TZID=Asia/Krasnoyarsk:20260407T090000
DTEND;TZID=Asia/Krasnoyarsk:20260407T150000
DTSTAMP:20260420T142814
CREATED:20260401T021627Z
LAST-MODIFIED:20260401T021627Z
UID:10006395-1775552400-1775574000@thaibloodcentre.redcross.or.th
SUMMARY:มหาวิทยาลัยเทคโนโลยีราชมงคลธัญบุรี [0B0351]
DESCRIPTION:สถานที่เจาะ : ห้องประชุมสงค์ธนาพิทักษ์ อาคารอธิการบดี \nที่อยู่ : 39 ม.1 ถ.รังสิต – นครนายก ต.คลองหก อ.ธัญบุรี ปทุมธานี  \nโทร : 0 2549 4010
URL:https://thaibloodcentre.redcross.or.th/event/%e0%b8%a1%e0%b8%ab%e0%b8%b2%e0%b8%a7%e0%b8%b4%e0%b8%97%e0%b8%a2%e0%b8%b2%e0%b8%a5%e0%b8%b1%e0%b8%a2%e0%b9%80%e0%b8%97%e0%b8%84%e0%b9%82%e0%b8%99%e0%b9%82%e0%b8%a5%e0%b8%a2%e0%b8%b5%e0%b8%a3%e0%b8%b2-8/
LOCATION:มหาวิทยาลัยเทคโนโลยีราชมงคลธัญบุรี\, มหาวิทยาลัยเทคโนโลยีราชมงคลธัญบุรี 39 หมู่ที่ 1 ถนนรังสิต - นครนายก ตำบล คลองหก อำเภอคลองหลวง ปทุมธานี 12110
CATEGORIES:ปฏิทินตารางหน่วยเคลื่อนที่
END:VEVENT
BEGIN:VEVENT
DTSTART;TZID=Asia/Krasnoyarsk:20260407T090000
DTEND;TZID=Asia/Krasnoyarsk:20260407T150000
DTSTAMP:20260420T142814
CREATED:20260401T021621Z
LAST-MODIFIED:20260401T021621Z
UID:10006394-1775552400-1775574000@thaibloodcentre.redcross.or.th
SUMMARY:บ้านทรงไทย (ย่านวงศ์สว่าง) [0J0463]
DESCRIPTION:สถานที่เจาะ : (พัก 12.30-13.00 น.) \nที่อยู่ : 1423 ถนนกรุงเทพ – นนทบุรี แขวงวงศ์สว่าง เขตบางซื่อ กรุงเทพฯ  \nโทร : 0 2256 4300
URL:https://thaibloodcentre.redcross.or.th/event/%e0%b8%9a%e0%b9%89%e0%b8%b2%e0%b8%99%e0%b8%97%e0%b8%a3%e0%b8%87%e0%b9%84%e0%b8%97%e0%b8%a2-%e0%b8%a2%e0%b9%88%e0%b8%b2%e0%b8%99%e0%b8%a7%e0%b8%87%e0%b8%a8%e0%b9%8c%e0%b8%aa%e0%b8%a7%e0%b9%88-408/
LOCATION:บ้านทรงไทย (ย่านวงศ์สว่าง)\, หน่วยรับบริจาคโลหิต บ้านทรงไทย(ย่านวงศ์สว่าง) 1423 ถนนกรุงเทพ-นนทบุรี แขวงวงศ์สว่าง เขตบางซื่อ กรุงเทพมหานคร 10800
CATEGORIES:ปฏิทินตารางหน่วยเคลื่อนที่
END:VEVENT
BEGIN:VEVENT
DTSTART;TZID=Asia/Krasnoyarsk:20260407T083000
DTEND;TZID=Asia/Krasnoyarsk:20260407T193000
DTSTAMP:20260420T142814
CREATED:20260401T021536Z
LAST-MODIFIED:20260401T021536Z
UID:10006393-1775550600-1775590200@thaibloodcentre.redcross.or.th
SUMMARY:สถานีกาชาด 11 วิเศษนิยม [0D0200]
DESCRIPTION:สถานที่เจาะ : ชั้น 3 \nที่อยู่ : 33/3 ถนนเพชรเกษม แขวงบางหว้า เขตภาษีเจริญ กรุงเทพฯ  \nโทร : 633450711
URL:https://thaibloodcentre.redcross.or.th/event/%e0%b8%aa%e0%b8%96%e0%b8%b2%e0%b8%99%e0%b8%b5%e0%b8%81%e0%b8%b2%e0%b8%8a%e0%b8%b2%e0%b8%94-11-%e0%b8%a7%e0%b8%b4%e0%b9%80%e0%b8%a8%e0%b8%a9%e0%b8%99%e0%b8%b4%e0%b8%a2%e0%b8%a1-0d0200-195/
LOCATION:สถานีกาชาด 11 วิเศษนิยม\, สถานีกาชาด 11 วิเศษนิยม 605 ถ.เพชรเกษม แขวงบางหว้า เขตภาษีเจริญ กรุงเทพมหานคร 10160
CATEGORIES:ปฏิทินตารางหน่วยเคลื่อนที่
END:VEVENT
BEGIN:VEVENT
DTSTART;TZID=Asia/Krasnoyarsk:20260407T073000
DTEND;TZID=Asia/Krasnoyarsk:20260407T193000
DTSTAMP:20260420T142814
CREATED:20260401T021426Z
LAST-MODIFIED:20260401T021426Z
UID:10006387-1775547000-1775590200@thaibloodcentre.redcross.or.th
SUMMARY:ศูนย์บริการโลหิตแห่งชาติ สภากาชาดไทย [0A0000]
DESCRIPTION:ที่อยู่ : 1871 ถ. อังรีดูนังต์ แขวงปทุมวัน เขตปทุมวัน
URL:https://thaibloodcentre.redcross.or.th/event/%e0%b8%a8%e0%b8%b9%e0%b8%99%e0%b8%a2%e0%b9%8c%e0%b8%9a%e0%b8%a3%e0%b8%b4%e0%b8%81%e0%b8%b2%e0%b8%a3%e0%b9%82%e0%b8%a5%e0%b8%ab%e0%b8%b4%e0%b8%95%e0%b9%81%e0%b8%ab%e0%b9%88%e0%b8%87%e0%b8%8a-493/
LOCATION:ศูนย์บริการโลหิตแห่งชาติ สภากาชาดไทย\, ศูนย์บริการโลหิตแห่งชาติ สภากาชาดไทย 1871 ถ. อังรีดูนังต์ แขวงปทุมวัน เขตปทุมวัน กรุงเทพมหานคร 10330
CATEGORIES:ปฏิทินตารางหน่วยเคลื่อนที่
END:VEVENT
END:VCALENDAR