BEGIN:VCALENDAR
VERSION:2.0
PRODID:-//เว็บไซต์ศูนย์บริการโลหิตแห่งชาติ - ECPv6.11.2.1//NONSGML v1.0//EN
CALSCALE:GREGORIAN
METHOD:PUBLISH
X-WR-CALNAME:เว็บไซต์ศูนย์บริการโลหิตแห่งชาติ
X-ORIGINAL-URL:https://thaibloodcentre.redcross.or.th
X-WR-CALDESC:Events for เว็บไซต์ศูนย์บริการโลหิตแห่งชาติ
REFRESH-INTERVAL;VALUE=DURATION:PT1H
X-Robots-Tag:noindex
X-PUBLISHED-TTL:PT1H
BEGIN:VTIMEZONE
TZID:Asia/Krasnoyarsk
BEGIN:STANDARD
TZOFFSETFROM:+0700
TZOFFSETTO:+0700
TZNAME:+07
DTSTART:20260101T000000
END:STANDARD
END:VTIMEZONE
BEGIN:VEVENT
DTSTART;TZID=Asia/Krasnoyarsk:20260330T130000
DTEND;TZID=Asia/Krasnoyarsk:20260330T150000
DTSTAMP:20260420T113058
CREATED:20260325T043028Z
LAST-MODIFIED:20260325T043028Z
UID:10006281-1774875600-1774882800@thaibloodcentre.redcross.or.th
SUMMARY:บริษัท แอล เอ็ม อี จำกัด [0M0587]
DESCRIPTION:สถานที่เจาะ : ลานจอดรถ หน้าอาคาร 1 \nที่อยู่ : 357\,359 สาธุประดิษฐ์ 58 ถนนรัชดาภิเษก แขวงบางโพงพาง เขตยานนาวา กรุงเทพฯ  \nโทร : 0 2683 9300
URL:https://thaibloodcentre.redcross.or.th/event/%e0%b8%9a%e0%b8%a3%e0%b8%b4%e0%b8%a9%e0%b8%b1%e0%b8%97-%e0%b9%81%e0%b8%ad%e0%b8%a5-%e0%b9%80%e0%b8%ad%e0%b9%87%e0%b8%a1-%e0%b8%ad%e0%b8%b5-%e0%b8%88%e0%b8%b3%e0%b8%81%e0%b8%b1%e0%b8%94-0m0587-4/
LOCATION:บริษัท แอล เอ็ม อี จำกัด\, บริษัท แอล เอ็ม อี จำกัด 357\,359 สาธุประดิษฐ์ 58 ถนนรัชดาภิเษก แขวงบางโพงพาง เขตยานนาวา กรุงเทพฯ 10120
CATEGORIES:ปฏิทินตารางหน่วยเคลื่อนที่
END:VEVENT
BEGIN:VEVENT
DTSTART;TZID=Asia/Krasnoyarsk:20260330T120000
DTEND;TZID=Asia/Krasnoyarsk:20260330T180000
DTSTAMP:20260420T113058
CREATED:20260325T042950Z
LAST-MODIFIED:20260325T042950Z
UID:10006277-1774872000-1774893600@thaibloodcentre.redcross.or.th
SUMMARY:ศูนย์การค้าเดอะมอลล์ไลฟ์สโตร์ ท่าพระ [0E0344]
DESCRIPTION:สถานที่เจาะ : ชั้น 1 (ติดลานจอดรถ) \nที่อยู่ : 99 ถนนรัชดาท่าพระตัดใหม่ แขวงบุคคโล เขตธนบุรี กรุงเทพฯ  \nโทร : 0 2469-1000
URL:https://thaibloodcentre.redcross.or.th/event/%e0%b8%a8%e0%b8%b9%e0%b8%99%e0%b8%a2%e0%b9%8c%e0%b8%81%e0%b8%b2%e0%b8%a3%e0%b8%84%e0%b9%89%e0%b8%b2%e0%b9%80%e0%b8%94%e0%b8%ad%e0%b8%b0%e0%b8%a1%e0%b8%ad%e0%b8%a5%e0%b8%a5%e0%b9%8c%e0%b9%84-1616/
LOCATION:ศูนย์การค้าเดอะมอลล์ไลฟ์สโตร์ ท่าพระ\, เดอะมอลล์ไลฟ์สโตร์ ท่าพระ 129 ถ. รัชดาภิเษก แขวงบุคคโล เขตธนบุรี กรุงเทพมหานคร 10600
CATEGORIES:ปฏิทินตารางหน่วยเคลื่อนที่
END:VEVENT
BEGIN:VEVENT
DTSTART;TZID=Asia/Krasnoyarsk:20260330T120000
DTEND;TZID=Asia/Krasnoyarsk:20260330T180000
DTSTAMP:20260420T113058
CREATED:20260325T042944Z
LAST-MODIFIED:20260325T042944Z
UID:10006276-1774872000-1774893600@thaibloodcentre.redcross.or.th
SUMMARY:ศูนย์การค้า เอ็มโพเรียม [0E0947]
DESCRIPTION:สถานที่เจาะ : ชั้น M ศูนย์การค้า ดิ เอ็มโพเรียม เชื่อมลานจอดรถอาคาร B \nที่อยู่ : 622 ถนนสุขุมวิท แขวงคลองตัน เขตคลองเตย กรุงเทพฯ  \nโทร : 0 2269 1515
URL:https://thaibloodcentre.redcross.or.th/event/%e0%b8%a8%e0%b8%b9%e0%b8%99%e0%b8%a2%e0%b9%8c%e0%b8%81%e0%b8%b2%e0%b8%a3%e0%b8%84%e0%b9%89%e0%b8%b2-%e0%b9%80%e0%b8%ad%e0%b9%87%e0%b8%a1%e0%b9%82%e0%b8%9e%e0%b9%80%e0%b8%a3%e0%b8%b5%e0%b8%a2-400/
LOCATION:ศูนย์การค้า เอ็มโพเรียม\, เอ็มโพเรียม 622 ถ. สุขุมวิท แขวงคลองตัน เขตคลองเตย กรุงเทพมหานคร 10110
CATEGORIES:ปฏิทินตารางหน่วยเคลื่อนที่
END:VEVENT
BEGIN:VEVENT
DTSTART;TZID=Asia/Krasnoyarsk:20260330T120000
DTEND;TZID=Asia/Krasnoyarsk:20260330T180000
DTSTAMP:20260420T113058
CREATED:20260325T042929Z
LAST-MODIFIED:20260325T042929Z
UID:10006275-1774872000-1774893600@thaibloodcentre.redcross.or.th
SUMMARY:ศูนย์การค้าเดอะมอลล์ไลฟ์สโตร์ งามวงศ์วาน [0E0948]
DESCRIPTION:สถานที่เจาะ : ชั้น 5 โซน Government Center \nที่อยู่ : ถนนงามวงศ์วาน ต.บางเขน อ.เมือง จ.นนทบุรี  \nโทร : 0 2555 1550
URL:https://thaibloodcentre.redcross.or.th/event/%e0%b8%a8%e0%b8%b9%e0%b8%99%e0%b8%a2%e0%b9%8c%e0%b8%81%e0%b8%b2%e0%b8%a3%e0%b8%84%e0%b9%89%e0%b8%b2%e0%b9%80%e0%b8%94%e0%b8%ad%e0%b8%b0%e0%b8%a1%e0%b8%ad%e0%b8%a5%e0%b8%a5%e0%b9%8c%e0%b9%84-1615/
LOCATION:ศูนย์การค้าเดอะมอลล์ไลฟ์สโตร์ งามวงศ์วาน\, เดอะมอลล์ ไลฟ์สโตร์ งามวงศ์วาน 430 ถนน งามวงศ์วาน ตำบลบางเขน อำเภอเมืองนนทบุรี นนทบุรี 11000
CATEGORIES:ปฏิทินตารางหน่วยเคลื่อนที่
END:VEVENT
BEGIN:VEVENT
DTSTART;TZID=Asia/Krasnoyarsk:20260330T120000
DTEND;TZID=Asia/Krasnoyarsk:20260330T180000
DTSTAMP:20260420T113058
CREATED:20260325T042914Z
LAST-MODIFIED:20260325T042914Z
UID:10006274-1774872000-1774893600@thaibloodcentre.redcross.or.th
SUMMARY:ศูนย์การค้าเดอะมอลล์ไลฟ์สโตร์ บางกะปิ [0E0941]
DESCRIPTION:สถานที่เจาะ : ชั้น 2 ทางออกลานจอดรถ \nที่อยู่ : ถนนลาดพร้าว แขวงคลองจั่น เขตบางกะปิ กรุงเทพฯ  \nโทร : 0 2310 2278
URL:https://thaibloodcentre.redcross.or.th/event/%e0%b8%a8%e0%b8%b9%e0%b8%99%e0%b8%a2%e0%b9%8c%e0%b8%81%e0%b8%b2%e0%b8%a3%e0%b8%84%e0%b9%89%e0%b8%b2%e0%b9%80%e0%b8%94%e0%b8%ad%e0%b8%b0%e0%b8%a1%e0%b8%ad%e0%b8%a5%e0%b8%a5%e0%b9%8c%e0%b9%84-1614/
LOCATION:ศูนย์การค้าเดอะมอลล์ไลฟ์สโตร์ บางกะปิ\, เดอะมอลล์ไลฟ์สโตร์ บางกะปิ 3522 ถ. ลาดพร้าว แขวงคลองจั่น เขตบางกะปิ กรุงเทพมหานคร 10240
CATEGORIES:ปฏิทินตารางหน่วยเคลื่อนที่
END:VEVENT
BEGIN:VEVENT
DTSTART;TZID=Asia/Krasnoyarsk:20260330T120000
DTEND;TZID=Asia/Krasnoyarsk:20260330T180000
DTSTAMP:20260420T113058
CREATED:20260325T042854Z
LAST-MODIFIED:20260325T042854Z
UID:10006273-1774872000-1774893600@thaibloodcentre.redcross.or.th
SUMMARY:ศูนย์การค้าเดอะมอลล์ไลฟ์สโตร์ บางแค [0E0942]
DESCRIPTION:สถานที่เจาะ : ชั้น 3 ตรงข้ามร้านโอ้กะจู๋ \nที่อยู่ : ถนนเพชรเกษม แขวงบางแคเหนือ เขตภาษีเจริญ กรุงเทพฯ  \nโทร : 02 487 1221
URL:https://thaibloodcentre.redcross.or.th/event/%e0%b8%a8%e0%b8%b9%e0%b8%99%e0%b8%a2%e0%b9%8c%e0%b8%81%e0%b8%b2%e0%b8%a3%e0%b8%84%e0%b9%89%e0%b8%b2%e0%b9%80%e0%b8%94%e0%b8%ad%e0%b8%b0%e0%b8%a1%e0%b8%ad%e0%b8%a5%e0%b8%a5%e0%b9%8c%e0%b9%84-1613/
LOCATION:ศูนย์การค้าเดอะมอลล์ไลฟ์สโตร์ บางแค\, ศูนย์การค้าเดอะมอลล์ไลฟ์สโตร์ บางแค
CATEGORIES:ปฏิทินตารางหน่วยเคลื่อนที่
END:VEVENT
BEGIN:VEVENT
DTSTART;TZID=Asia/Krasnoyarsk:20260330T110000
DTEND;TZID=Asia/Krasnoyarsk:20260330T150000
DTSTAMP:20260420T113058
CREATED:20260325T043100Z
LAST-MODIFIED:20260325T043100Z
UID:10006286-1774868400-1774882800@thaibloodcentre.redcross.or.th
SUMMARY:ศูนย์การค้าแอมไชน่าทาวน์ [0N0044]
DESCRIPTION:สถานที่เจาะ : ชั้น 3 ฝั่ง ร้าน The sense nail (ร้านสปาทำเล็บ) \nที่อยู่ : 531 ถนนเจริญกรุง แขวงป้อมปราบศัตรูพ่าย  เขตป้อมปราบศัตรูพ่าย กรุงเทพฯ  \nโทร : 0 2225 4245
URL:https://thaibloodcentre.redcross.or.th/event/%e0%b8%a8%e0%b8%b9%e0%b8%99%e0%b8%a2%e0%b9%8c%e0%b8%81%e0%b8%b2%e0%b8%a3%e0%b8%84%e0%b9%89%e0%b8%b2%e0%b9%81%e0%b8%ad%e0%b8%a1%e0%b9%84%e0%b8%8a%e0%b8%99%e0%b9%88%e0%b8%b2%e0%b8%97%e0%b8%b2%e0%b8%a7/
LOCATION:ศูนย์การค้าแอมไชน่าทาวน์\, แอมไชน่าทาวน์ 531 ถนนเจริญกรุง แขวงป้อมปราบศัตรูพ่าย เขตป้อมปราบศัตรูพ่าย กรุงเทพฯ 10100
CATEGORIES:ปฏิทินตารางหน่วยเคลื่อนที่
END:VEVENT
BEGIN:VEVENT
DTSTART;TZID=Asia/Krasnoyarsk:20260330T110000
DTEND;TZID=Asia/Krasnoyarsk:20260330T150000
DTSTAMP:20260420T113058
CREATED:20260325T043054Z
LAST-MODIFIED:20260325T043054Z
UID:10006284-1774868400-1774882800@thaibloodcentre.redcross.or.th
SUMMARY:บิ๊กซี เพลส รัชดา [0M0146]
DESCRIPTION:สถานที่เจาะ : หน้าร้านแว่นชั้น 2 \nที่อยู่ : 125 ถนนรัชดาภิเษก แขวงดินแดง เขตดินแดง กรุงเทพฯ  \nโทร : 0 2354 0570
URL:https://thaibloodcentre.redcross.or.th/event/%e0%b8%9a%e0%b8%b4%e0%b9%8a%e0%b8%81%e0%b8%8b%e0%b8%b5-%e0%b9%80%e0%b8%9e%e0%b8%a5%e0%b8%aa-%e0%b8%a3%e0%b8%b1%e0%b8%8a%e0%b8%94%e0%b8%b2-0m0146-3/
LOCATION:บิ๊กซี เพลส รัชดา\, บิ๊กซี เพลส รัชดาภิเษก 125 ถนนรัชดาภิเษก แขวงดินแดง เขตดินแดง กรุงเทพมหานคร 10400
CATEGORIES:ปฏิทินตารางหน่วยเคลื่อนที่
END:VEVENT
BEGIN:VEVENT
DTSTART;TZID=Asia/Krasnoyarsk:20260330T110000
DTEND;TZID=Asia/Krasnoyarsk:20260330T150000
DTSTAMP:20260420T113058
CREATED:20260325T043025Z
LAST-MODIFIED:20260325T043025Z
UID:10006280-1774868400-1774882800@thaibloodcentre.redcross.or.th
SUMMARY:บริษัท พาราไดซ์ พาร์ค จำกัด [0M0577]
DESCRIPTION:สถานที่เจาะ : โซน Beauty&Health ชั้น 3 \nที่อยู่ : 59/5 ถนนศรีนครินทร์ แขวงหนองบอน เขตประเวศ กรุงเทพฯ  \nโทร : 0 2780 1000
URL:https://thaibloodcentre.redcross.or.th/event/%e0%b8%9a%e0%b8%a3%e0%b8%b4%e0%b8%a9%e0%b8%b1%e0%b8%97-%e0%b8%9e%e0%b8%b2%e0%b8%a3%e0%b8%b2%e0%b9%84%e0%b8%94%e0%b8%8b%e0%b9%8c-%e0%b8%9e%e0%b8%b2%e0%b8%a3%e0%b9%8c%e0%b8%84-%e0%b8%88%e0%b8%b3-13/
LOCATION:บริษัท พาราไดซ์ พาร์ค จำกัด\, บริษัท พาราไดซ์ พาร์ค จำกัด 61 ศรีนครินทร์ ซอย ศรีนครินทร์ 61 แขวงหนองบอน เขตประเวศ กรุงเทพมหานคร 10250
CATEGORIES:ปฏิทินตารางหน่วยเคลื่อนที่
END:VEVENT
BEGIN:VEVENT
DTSTART;TZID=Asia/Krasnoyarsk:20260330T090000
DTEND;TZID=Asia/Krasnoyarsk:20260330T150000
DTSTAMP:20260420T113058
CREATED:20260325T043106Z
LAST-MODIFIED:20260325T043106Z
UID:10006288-1774861200-1774882800@thaibloodcentre.redcross.or.th
SUMMARY:บริษัท มูราโมโต้ อิเล็คตรอน (ประเทศไทย) จำกัด (มหาชน) (โรง 2) [0M0977]
DESCRIPTION:สถานที่เจาะ : ข้างโรงอาหาร (พัก 12-13 น.) \nที่อยู่ : 1 ม.6 ถ.บางนา-ตราด กม.25 ต.บางเสาธง อ.บางเสาธง จ.สมุทรปราการ  \nโทร : 0 2338 1535
URL:https://thaibloodcentre.redcross.or.th/event/%e0%b8%9a%e0%b8%a3%e0%b8%b4%e0%b8%a9%e0%b8%b1%e0%b8%97-%e0%b8%a1%e0%b8%b9%e0%b8%a3%e0%b8%b2%e0%b9%82%e0%b8%a1%e0%b9%82%e0%b8%95%e0%b9%89-%e0%b8%ad%e0%b8%b4%e0%b9%80%e0%b8%a5%e0%b9%87%e0%b8%84-6/
LOCATION:บริษัท มูราโมโต้ อิเล็คตรอน (ประเทศไทย) จำกัด (มหาชน) (โรง 2)\, METCO 2 เลขที่ 1 ม.6 ถ.บางนา-ตราด กม.25 ต.บางเสาธง อ.บางเสาธง จ.สมุทรปราการ 10570
CATEGORIES:ปฏิทินตารางหน่วยเคลื่อนที่
END:VEVENT
BEGIN:VEVENT
DTSTART;TZID=Asia/Krasnoyarsk:20260330T090000
DTEND;TZID=Asia/Krasnoyarsk:20260330T150000
DTSTAMP:20260420T113058
CREATED:20260325T043103Z
LAST-MODIFIED:20260325T043103Z
UID:10006287-1774861200-1774882800@thaibloodcentre.redcross.or.th
SUMMARY:บริษัท ไทยออพติคอลกรุ๊ป จำกัด (มหาชน) [0M0340]
DESCRIPTION:สถานที่เจาะ : ห้องประชุม Tog hall (พัก 12-13 น.) \nที่อยู่ : 15 ม.6 ถ.บางบัวทอง-สุพรรณบุรี ต.ละหาร อ.บางบัวทอง จ.นนทบุรี  \nโทร : 0 2194 1145-50
URL:https://thaibloodcentre.redcross.or.th/event/%e0%b8%9a%e0%b8%a3%e0%b8%b4%e0%b8%a9%e0%b8%b1%e0%b8%97-%e0%b9%84%e0%b8%97%e0%b8%a2%e0%b8%ad%e0%b8%ad%e0%b8%9e%e0%b8%95%e0%b8%b4%e0%b8%84%e0%b8%ad%e0%b8%a5%e0%b8%81%e0%b8%a3%e0%b8%b8%e0%b9%8a-5/
LOCATION:บริษัท ไทยออพติคอลกรุ๊ป จำกัด (มหาชน)
CATEGORIES:ปฏิทินตารางหน่วยเคลื่อนที่
END:VEVENT
BEGIN:VEVENT
DTSTART;TZID=Asia/Krasnoyarsk:20260330T090000
DTEND;TZID=Asia/Krasnoyarsk:20260330T150000
DTSTAMP:20260420T113058
CREATED:20260325T043057Z
LAST-MODIFIED:20260325T043057Z
UID:10006285-1774861200-1774882800@thaibloodcentre.redcross.or.th
SUMMARY:อาคารเอไอเอ อีสต์ เกตเวย์ [0M1072]
DESCRIPTION:สถานที่เจาะ : Food Hall ชั้น 3 \nที่อยู่ : 989 ถนนเทพรัตน์ แขวงบางนาเหนือ เขตบางนา กรุงเทพฯ  \nโทร : 0 2170 8399
URL:https://thaibloodcentre.redcross.or.th/event/%e0%b8%ad%e0%b8%b2%e0%b8%84%e0%b8%b2%e0%b8%a3%e0%b9%80%e0%b8%ad%e0%b9%84%e0%b8%ad%e0%b9%80%e0%b8%ad-%e0%b8%ad%e0%b8%b5%e0%b8%aa%e0%b8%95%e0%b9%8c-%e0%b9%80%e0%b8%81%e0%b8%95%e0%b9%80%e0%b8%a7%e0%b8%a2/
LOCATION:อาคารเอไอเอ อีสต์ เกตเวย์\, AIA East Gateway - Office Building 989 ถ. เทพรัตน แขวงบางนาเหนือ เขตบางนา กรุงเทพมหานคร 10260
CATEGORIES:ปฏิทินตารางหน่วยเคลื่อนที่
END:VEVENT
BEGIN:VEVENT
DTSTART;TZID=Asia/Krasnoyarsk:20260330T090000
DTEND;TZID=Asia/Krasnoyarsk:20260330T150000
DTSTAMP:20260420T113058
CREATED:20260325T043032Z
LAST-MODIFIED:20260325T043032Z
UID:10006283-1774861200-1774882800@thaibloodcentre.redcross.or.th
SUMMARY:โรงพยาบาลเปาโล โชคชัย 4 [0D0456]
DESCRIPTION:สถานที่เจาะ : ห้องประชุม 7A อาคาร 1 ชั้น 7 (พัก 12-13 น.) \nที่อยู่ : 1 ถนนโชคชัย 4 แขวงลาดพร้าว เขตลาดพร้าว กรุงเทพฯ  \nโทร : 0 2514 4141
URL:https://thaibloodcentre.redcross.or.th/event/%e0%b9%82%e0%b8%a3%e0%b8%87%e0%b8%9e%e0%b8%a2%e0%b8%b2%e0%b8%9a%e0%b8%b2%e0%b8%a5%e0%b9%80%e0%b8%9b%e0%b8%b2%e0%b9%82%e0%b8%a5-%e0%b9%82%e0%b8%8a%e0%b8%84%e0%b8%8a%e0%b8%b1%e0%b8%a2-4-0d0456-2/
LOCATION:โรงพยาบาลเปาโล โชคชัย 4\, โรงพยาบาลเปาโล โชคชัย 4 1 ถนนโชคชัย 4 แขวงลาดพร้าว เขตลาดพร้าว กรุงเทพมหานคร 10230
CATEGORIES:ปฏิทินตารางหน่วยเคลื่อนที่
END:VEVENT
BEGIN:VEVENT
DTSTART;TZID=Asia/Krasnoyarsk:20260330T090000
DTEND;TZID=Asia/Krasnoyarsk:20260330T150000
DTSTAMP:20260420T113058
CREATED:20260325T043030Z
LAST-MODIFIED:20260325T043030Z
UID:10006282-1774861200-1774882800@thaibloodcentre.redcross.or.th
SUMMARY:โรงพยาบาลหัวเฉียว [0D0051]
DESCRIPTION:สถานที่เจาะ : อาคาร 1 ชั้น 1 (พัก 11.30-12.30 น.) \nที่อยู่ : 665 ถนนบำรุงเมือง แขวงคลองมหานาค เขตป้อมปราบฯ กรุงเทพฯ  \nโทร : 0 2223 1351
URL:https://thaibloodcentre.redcross.or.th/event/%e0%b9%82%e0%b8%a3%e0%b8%87%e0%b8%9e%e0%b8%a2%e0%b8%b2%e0%b8%9a%e0%b8%b2%e0%b8%a5%e0%b8%ab%e0%b8%b1%e0%b8%a7%e0%b9%80%e0%b8%89%e0%b8%b5%e0%b8%a2%e0%b8%a7-0d0051-3/
LOCATION:โรงพยาบาลหัวเฉียว
CATEGORIES:ปฏิทินตารางหน่วยเคลื่อนที่
END:VEVENT
BEGIN:VEVENT
DTSTART;TZID=Asia/Krasnoyarsk:20260330T090000
DTEND;TZID=Asia/Krasnoyarsk:20260330T150000
DTSTAMP:20260420T113058
CREATED:20260325T043020Z
LAST-MODIFIED:20260325T043020Z
UID:10006279-1774861200-1774882800@thaibloodcentre.redcross.or.th
SUMMARY:บ้านทรงไทย (ย่านวงศ์สว่าง) [0J0463]
DESCRIPTION:สถานที่เจาะ : (พัก 12.30-13.00 น.) \nที่อยู่ : 1423 ถนนกรุงเทพ – นนทบุรี แขวงวงศ์สว่าง เขตบางซื่อ กรุงเทพฯ  \nโทร : 0 2256 4300
URL:https://thaibloodcentre.redcross.or.th/event/%e0%b8%9a%e0%b9%89%e0%b8%b2%e0%b8%99%e0%b8%97%e0%b8%a3%e0%b8%87%e0%b9%84%e0%b8%97%e0%b8%a2-%e0%b8%a2%e0%b9%88%e0%b8%b2%e0%b8%99%e0%b8%a7%e0%b8%87%e0%b8%a8%e0%b9%8c%e0%b8%aa%e0%b8%a7%e0%b9%88-400/
LOCATION:บ้านทรงไทย (ย่านวงศ์สว่าง)\, หน่วยรับบริจาคโลหิต บ้านทรงไทย(ย่านวงศ์สว่าง) 1423 ถนนกรุงเทพ-นนทบุรี แขวงวงศ์สว่าง เขตบางซื่อ กรุงเทพมหานคร 10800
CATEGORIES:ปฏิทินตารางหน่วยเคลื่อนที่
END:VEVENT
BEGIN:VEVENT
DTSTART;TZID=Asia/Krasnoyarsk:20260330T083000
DTEND;TZID=Asia/Krasnoyarsk:20260330T193000
DTSTAMP:20260420T113058
CREATED:20260325T043005Z
LAST-MODIFIED:20260325T043005Z
UID:10006278-1774859400-1774899000@thaibloodcentre.redcross.or.th
SUMMARY:สถานีกาชาด 11 วิเศษนิยม [0D0200]
DESCRIPTION:สถานที่เจาะ : ชั้น 3 \nที่อยู่ : 33/3 ถนนเพชรเกษม แขวงบางหว้า เขตภาษีเจริญ กรุงเทพฯ  \nโทร : 633450711
URL:https://thaibloodcentre.redcross.or.th/event/%e0%b8%aa%e0%b8%96%e0%b8%b2%e0%b8%99%e0%b8%b5%e0%b8%81%e0%b8%b2%e0%b8%8a%e0%b8%b2%e0%b8%94-11-%e0%b8%a7%e0%b8%b4%e0%b9%80%e0%b8%a8%e0%b8%a9%e0%b8%99%e0%b8%b4%e0%b8%a2%e0%b8%a1-0d0200-187/
LOCATION:สถานีกาชาด 11 วิเศษนิยม\, สถานีกาชาด 11 วิเศษนิยม 605 ถ.เพชรเกษม แขวงบางหว้า เขตภาษีเจริญ กรุงเทพมหานคร 10160
CATEGORIES:ปฏิทินตารางหน่วยเคลื่อนที่
END:VEVENT
BEGIN:VEVENT
DTSTART;TZID=Asia/Krasnoyarsk:20260330T073000
DTEND;TZID=Asia/Krasnoyarsk:20260330T193000
DTSTAMP:20260420T113058
CREATED:20260325T042848Z
LAST-MODIFIED:20260325T042848Z
UID:10006272-1774855800-1774899000@thaibloodcentre.redcross.or.th
SUMMARY:ศูนย์บริการโลหิตแห่งชาติ สภากาชาดไทย [0A0000]
DESCRIPTION:ที่อยู่ : 1871 ถ. อังรีดูนังต์ แขวงปทุมวัน เขตปทุมวัน
URL:https://thaibloodcentre.redcross.or.th/event/%e0%b8%a8%e0%b8%b9%e0%b8%99%e0%b8%a2%e0%b9%8c%e0%b8%9a%e0%b8%a3%e0%b8%b4%e0%b8%81%e0%b8%b2%e0%b8%a3%e0%b9%82%e0%b8%a5%e0%b8%ab%e0%b8%b4%e0%b8%95%e0%b9%81%e0%b8%ab%e0%b9%88%e0%b8%87%e0%b8%8a-485/
LOCATION:ศูนย์บริการโลหิตแห่งชาติ สภากาชาดไทย\, ศูนย์บริการโลหิตแห่งชาติ สภากาชาดไทย 1871 ถ. อังรีดูนังต์ แขวงปทุมวัน เขตปทุมวัน กรุงเทพมหานคร 10330
CATEGORIES:ปฏิทินตารางหน่วยเคลื่อนที่
END:VEVENT
BEGIN:VEVENT
DTSTART;TZID=Asia/Krasnoyarsk:20260329T120000
DTEND;TZID=Asia/Krasnoyarsk:20260329T180000
DTSTAMP:20260420T113058
CREATED:20260325T042808Z
LAST-MODIFIED:20260325T042808Z
UID:10006265-1774785600-1774807200@thaibloodcentre.redcross.or.th
SUMMARY:ศูนย์การค้าเดอะมอลล์ไลฟ์สโตร์ ท่าพระ [0E0344]
DESCRIPTION:สถานที่เจาะ : ชั้น 1 (ติดลานจอดรถ) \nที่อยู่ : 99 ถนนรัชดาท่าพระตัดใหม่ แขวงบุคคโล เขตธนบุรี กรุงเทพฯ  \nโทร : 0 2469-1000
URL:https://thaibloodcentre.redcross.or.th/event/%e0%b8%a8%e0%b8%b9%e0%b8%99%e0%b8%a2%e0%b9%8c%e0%b8%81%e0%b8%b2%e0%b8%a3%e0%b8%84%e0%b9%89%e0%b8%b2%e0%b9%80%e0%b8%94%e0%b8%ad%e0%b8%b0%e0%b8%a1%e0%b8%ad%e0%b8%a5%e0%b8%a5%e0%b9%8c%e0%b9%84-1612/
LOCATION:ศูนย์การค้าเดอะมอลล์ไลฟ์สโตร์ ท่าพระ\, เดอะมอลล์ไลฟ์สโตร์ ท่าพระ 129 ถ. รัชดาภิเษก แขวงบุคคโล เขตธนบุรี กรุงเทพมหานคร 10600
CATEGORIES:ปฏิทินตารางหน่วยเคลื่อนที่
END:VEVENT
BEGIN:VEVENT
DTSTART;TZID=Asia/Krasnoyarsk:20260329T120000
DTEND;TZID=Asia/Krasnoyarsk:20260329T180000
DTSTAMP:20260420T113058
CREATED:20260325T042803Z
LAST-MODIFIED:20260325T042803Z
UID:10006264-1774785600-1774807200@thaibloodcentre.redcross.or.th
SUMMARY:ศูนย์การค้า เอ็มโพเรียม [0E0947]
DESCRIPTION:สถานที่เจาะ : ชั้น M ศูนย์การค้า ดิ เอ็มโพเรียม เชื่อมลานจอดรถอาคาร B \nที่อยู่ : 622 ถนนสุขุมวิท แขวงคลองตัน เขตคลองเตย กรุงเทพฯ  \nโทร : 0 2269 1515
URL:https://thaibloodcentre.redcross.or.th/event/%e0%b8%a8%e0%b8%b9%e0%b8%99%e0%b8%a2%e0%b9%8c%e0%b8%81%e0%b8%b2%e0%b8%a3%e0%b8%84%e0%b9%89%e0%b8%b2-%e0%b9%80%e0%b8%ad%e0%b9%87%e0%b8%a1%e0%b9%82%e0%b8%9e%e0%b9%80%e0%b8%a3%e0%b8%b5%e0%b8%a2-399/
LOCATION:ศูนย์การค้า เอ็มโพเรียม\, เอ็มโพเรียม 622 ถ. สุขุมวิท แขวงคลองตัน เขตคลองเตย กรุงเทพมหานคร 10110
CATEGORIES:ปฏิทินตารางหน่วยเคลื่อนที่
END:VEVENT
BEGIN:VEVENT
DTSTART;TZID=Asia/Krasnoyarsk:20260329T120000
DTEND;TZID=Asia/Krasnoyarsk:20260329T180000
DTSTAMP:20260420T113058
CREATED:20260325T042733Z
LAST-MODIFIED:20260325T042751Z
UID:10006263-1774785600-1774807200@thaibloodcentre.redcross.or.th
SUMMARY:ศูนย์การค้าเดอะมอลล์ไลฟ์สโตร์ งามวงศ์วาน [0E0948]
DESCRIPTION:สถานที่เจาะ : ชั้น 5 โซน Government Center \nที่อยู่ : ถนนงามวงศ์วาน ต.บางเขน อ.เมือง จ.นนทบุรี  \nโทร : 0 2555 1550
URL:https://thaibloodcentre.redcross.or.th/event/%e0%b8%a8%e0%b8%b9%e0%b8%99%e0%b8%a2%e0%b9%8c%e0%b8%81%e0%b8%b2%e0%b8%a3%e0%b8%84%e0%b9%89%e0%b8%b2%e0%b9%80%e0%b8%94%e0%b8%ad%e0%b8%b0%e0%b8%a1%e0%b8%ad%e0%b8%a5%e0%b8%a5%e0%b9%8c%e0%b9%84-1611/
LOCATION:ศูนย์การค้าเดอะมอลล์ไลฟ์สโตร์ งามวงศ์วาน\, เดอะมอลล์ ไลฟ์สโตร์ งามวงศ์วาน 430 ถนน งามวงศ์วาน ตำบลบางเขน อำเภอเมืองนนทบุรี นนทบุรี 11000
CATEGORIES:ปฏิทินตารางหน่วยเคลื่อนที่
END:VEVENT
BEGIN:VEVENT
DTSTART;TZID=Asia/Krasnoyarsk:20260329T120000
DTEND;TZID=Asia/Krasnoyarsk:20260329T180000
DTSTAMP:20260420T113058
CREATED:20260325T042719Z
LAST-MODIFIED:20260325T042751Z
UID:10006262-1774785600-1774807200@thaibloodcentre.redcross.or.th
SUMMARY:ศูนย์การค้าเดอะมอลล์ไลฟ์สโตร์ บางกะปิ [0E0941]
DESCRIPTION:สถานที่เจาะ : ชั้น 2 ทางออกลานจอดรถ \nที่อยู่ : ถนนลาดพร้าว แขวงคลองจั่น เขตบางกะปิ กรุงเทพฯ  \nโทร : 0 2310 2278
URL:https://thaibloodcentre.redcross.or.th/event/%e0%b8%a8%e0%b8%b9%e0%b8%99%e0%b8%a2%e0%b9%8c%e0%b8%81%e0%b8%b2%e0%b8%a3%e0%b8%84%e0%b9%89%e0%b8%b2%e0%b9%80%e0%b8%94%e0%b8%ad%e0%b8%b0%e0%b8%a1%e0%b8%ad%e0%b8%a5%e0%b8%a5%e0%b9%8c%e0%b9%84-1610/
LOCATION:ศูนย์การค้าเดอะมอลล์ไลฟ์สโตร์ บางกะปิ\, เดอะมอลล์ไลฟ์สโตร์ บางกะปิ 3522 ถ. ลาดพร้าว แขวงคลองจั่น เขตบางกะปิ กรุงเทพมหานคร 10240
CATEGORIES:ปฏิทินตารางหน่วยเคลื่อนที่
END:VEVENT
BEGIN:VEVENT
DTSTART;TZID=Asia/Krasnoyarsk:20260329T120000
DTEND;TZID=Asia/Krasnoyarsk:20260329T180000
DTSTAMP:20260420T113058
CREATED:20260325T042704Z
LAST-MODIFIED:20260325T042750Z
UID:10006261-1774785600-1774807200@thaibloodcentre.redcross.or.th
SUMMARY:ศูนย์การค้าเดอะมอลล์ไลฟ์สโตร์ บางแค [0E0942]
DESCRIPTION:สถานที่เจาะ : ชั้น 3 ตรงข้ามร้านโอ้กะจู๋ \nที่อยู่ : ถนนเพชรเกษม แขวงบางแคเหนือ เขตภาษีเจริญ กรุงเทพฯ  \nโทร : 02 487 1221
URL:https://thaibloodcentre.redcross.or.th/event/%e0%b8%a8%e0%b8%b9%e0%b8%99%e0%b8%a2%e0%b9%8c%e0%b8%81%e0%b8%b2%e0%b8%a3%e0%b8%84%e0%b9%89%e0%b8%b2%e0%b9%80%e0%b8%94%e0%b8%ad%e0%b8%b0%e0%b8%a1%e0%b8%ad%e0%b8%a5%e0%b8%a5%e0%b9%8c%e0%b9%84-1609/
LOCATION:ศูนย์การค้าเดอะมอลล์ไลฟ์สโตร์ บางแค\, ศูนย์การค้าเดอะมอลล์ไลฟ์สโตร์ บางแค
CATEGORIES:ปฏิทินตารางหน่วยเคลื่อนที่
END:VEVENT
BEGIN:VEVENT
DTSTART;TZID=Asia/Krasnoyarsk:20260329T110000
DTEND;TZID=Asia/Krasnoyarsk:20260329T150000
DTSTAMP:20260420T113058
CREATED:20260325T042846Z
LAST-MODIFIED:20260325T042846Z
UID:10006271-1774782000-1774796400@thaibloodcentre.redcross.or.th
SUMMARY:บิ๊กซี ซูเปอร์เซ็นเตอร์ สาขาบางพลี [0M0071]
DESCRIPTION:สถานที่เจาะ : หน้าห้างตรงข้ามจุดจอดแท็กซี่ \nที่อยู่ : 89 ม.9 ต.บางพลีใหญ่ อ.บางพลี จ.สมุทรปราการ  \nโทร : 0 2750 7600
URL:https://thaibloodcentre.redcross.or.th/event/%e0%b8%9a%e0%b8%b4%e0%b9%8a%e0%b8%81%e0%b8%8b%e0%b8%b5-%e0%b8%8b%e0%b8%b9%e0%b9%80%e0%b8%9b%e0%b8%ad%e0%b8%a3%e0%b9%8c%e0%b9%80%e0%b8%8b%e0%b9%87%e0%b8%99%e0%b9%80%e0%b8%95%e0%b8%ad%e0%b8%a3-40/
LOCATION:บิ๊กซี ซูเปอร์เซ็นเตอร์ สาขาบางพลี\, บิ๊กซี ซูเปอร์เซ็นเตอร์ สาขาบางพลี 89 ม.9 ถ.เทพารักษ์ ต.บางพลีใหญ่ อ.บางพลี จ.สมุทรปราการ 10540
CATEGORIES:ปฏิทินตารางหน่วยเคลื่อนที่
END:VEVENT
BEGIN:VEVENT
DTSTART;TZID=Asia/Krasnoyarsk:20260329T110000
DTEND;TZID=Asia/Krasnoyarsk:20260329T150000
DTSTAMP:20260420T113058
CREATED:20260325T042844Z
LAST-MODIFIED:20260325T042844Z
UID:10006270-1774782000-1774796400@thaibloodcentre.redcross.or.th
SUMMARY:บริษัท ซีพี แอ็กซ์ตร้า จำกัด (มหาชน) สาขารามอินทรา [0M0763]
DESCRIPTION:สถานที่เจาะ : ทางเข้าลูกค้า \nที่อยู่ : 904 ถนนรามอินทรา แขวงคันนายาว เขตคันนายาว กรุงเทพฯ  \nโทร : 0 2000 7592
URL:https://thaibloodcentre.redcross.or.th/event/%e0%b8%9a%e0%b8%a3%e0%b8%b4%e0%b8%a9%e0%b8%b1%e0%b8%97-%e0%b8%8b%e0%b8%b5%e0%b8%9e%e0%b8%b5-%e0%b9%81%e0%b8%ad%e0%b9%87%e0%b8%81%e0%b8%8b%e0%b9%8c%e0%b8%95%e0%b8%a3%e0%b9%89%e0%b8%b2-%e0%b8%88-52/
LOCATION:บริษัท ซีพี แอ็กซ์ตร้า จำกัด (มหาชน) สาขารามอินทรา\, แม็คโคร รามอินทรา 904 ถนนรามอินทรา แขวงคันนายาว เขตคันนายาว กรุงเทพมหานคร 10230
CATEGORIES:ปฏิทินตารางหน่วยเคลื่อนที่
END:VEVENT
BEGIN:VEVENT
DTSTART;TZID=Asia/Krasnoyarsk:20260329T110000
DTEND;TZID=Asia/Krasnoyarsk:20260329T150000
DTSTAMP:20260420T113059
CREATED:20260325T042842Z
LAST-MODIFIED:20260325T042842Z
UID:10006269-1774782000-1774796400@thaibloodcentre.redcross.or.th
SUMMARY:บิ๊กซี เอ็กซ์ตร้า สาขาบางใหญ่ [0E0904]
DESCRIPTION:สถานที่เจาะ : ชั้น 1 ด้านหน้าร้าน Watsons \nที่อยู่ : 9/9 ม.11 ถ.ตลิ่งชัน-สุพรรณบุรี ต.บางรักพัฒนา อ.บางบัวทอง จ.นนทบุรี  \nโทร : 0 2903 1116
URL:https://thaibloodcentre.redcross.or.th/event/%e0%b8%9a%e0%b8%b4%e0%b9%8a%e0%b8%81%e0%b8%8b%e0%b8%b5-%e0%b9%80%e0%b8%ad%e0%b9%87%e0%b8%81%e0%b8%8b%e0%b9%8c%e0%b8%95%e0%b8%a3%e0%b9%89%e0%b8%b2-%e0%b8%aa%e0%b8%b2%e0%b8%82%e0%b8%b2%e0%b8%9a-5/
LOCATION:บิ๊กซี เอ็กซ์ตร้า สาขาบางใหญ่\, บิ๊กซี เอ็กซ์ตร้า บางใหญ่ 9/9 ถ.ตลิ่งชัน - สุพรรณบุรี ต.บางรักพัฒนา อ.บางบัวทอง จ.นนทบุรี 11110
CATEGORIES:ปฏิทินตารางหน่วยเคลื่อนที่
END:VEVENT
BEGIN:VEVENT
DTSTART;TZID=Asia/Krasnoyarsk:20260329T110000
DTEND;TZID=Asia/Krasnoyarsk:20260329T150000
DTSTAMP:20260420T113059
CREATED:20260325T042831Z
LAST-MODIFIED:20260325T042831Z
UID:10006268-1774782000-1774796400@thaibloodcentre.redcross.or.th
SUMMARY:บิ๊กซี ซูเปอร์เซ็นเตอร์ สาขาธนบุรี-ปากท่อ [0M0145]
DESCRIPTION:สถานที่เจาะ : ด้านหน้าห้าง \nที่อยู่ : 127 ถนนพระราม 2 แขวงแสมดำ เขตบางขุนเทียน กรุงเทพฯ  \nโทร : 0 2895 7600
URL:https://thaibloodcentre.redcross.or.th/event/%e0%b8%9a%e0%b8%b4%e0%b9%8a%e0%b8%81%e0%b8%8b%e0%b8%b5-%e0%b8%8b%e0%b8%b9%e0%b9%80%e0%b8%9b%e0%b8%ad%e0%b8%a3%e0%b9%8c%e0%b9%80%e0%b8%8b%e0%b9%87%e0%b8%99%e0%b9%80%e0%b8%95%e0%b8%ad%e0%b8%a3-39/
LOCATION:บิ๊กซี ซูเปอร์เซ็นเตอร์ สาขาธนบุรี-ปากท่อ\, บิ๊กซี ซูเปอร์เซ็นเตอร์ สาขาธนบุรี-ปากท่อ 127 ถนนพระรามที่ 2 แขวงแสมดำ เขตบางขุนเทียน กรุงเทพมหานคร 10150
CATEGORIES:ปฏิทินตารางหน่วยเคลื่อนที่
END:VEVENT
BEGIN:VEVENT
DTSTART;TZID=Asia/Krasnoyarsk:20260329T090000
DTEND;TZID=Asia/Krasnoyarsk:20260329T150000
DTSTAMP:20260420T113059
CREATED:20260325T042826Z
LAST-MODIFIED:20260325T042826Z
UID:10006267-1774774800-1774796400@thaibloodcentre.redcross.or.th
SUMMARY:บ้านทรงไทย (ย่านวงศ์สว่าง) [0J0463]
DESCRIPTION:สถานที่เจาะ : (พัก 12.30-13.00 น.) \nที่อยู่ : 1423 ถนนกรุงเทพ – นนทบุรี แขวงวงศ์สว่าง เขตบางซื่อ กรุงเทพฯ  \nโทร : 0 2256 4300
URL:https://thaibloodcentre.redcross.or.th/event/%e0%b8%9a%e0%b9%89%e0%b8%b2%e0%b8%99%e0%b8%97%e0%b8%a3%e0%b8%87%e0%b9%84%e0%b8%97%e0%b8%a2-%e0%b8%a2%e0%b9%88%e0%b8%b2%e0%b8%99%e0%b8%a7%e0%b8%87%e0%b8%a8%e0%b9%8c%e0%b8%aa%e0%b8%a7%e0%b9%88-399/
LOCATION:บ้านทรงไทย (ย่านวงศ์สว่าง)\, หน่วยรับบริจาคโลหิต บ้านทรงไทย(ย่านวงศ์สว่าง) 1423 ถนนกรุงเทพ-นนทบุรี แขวงวงศ์สว่าง เขตบางซื่อ กรุงเทพมหานคร 10800
CATEGORIES:ปฏิทินตารางหน่วยเคลื่อนที่
END:VEVENT
BEGIN:VEVENT
DTSTART;TZID=Asia/Krasnoyarsk:20260329T083000
DTEND;TZID=Asia/Krasnoyarsk:20260329T153000
DTSTAMP:20260420T113059
CREATED:20260325T042823Z
LAST-MODIFIED:20260325T042823Z
UID:10006266-1774773000-1774798200@thaibloodcentre.redcross.or.th
SUMMARY:สถานีกาชาด 11 วิเศษนิยม [0D0200]
DESCRIPTION:สถานที่เจาะ : ชั้น 3 \nที่อยู่ : 33/3 ถนนเพชรเกษม แขวงบางหว้า เขตภาษีเจริญ กรุงเทพฯ  \nโทร : 633450711
URL:https://thaibloodcentre.redcross.or.th/event/%e0%b8%aa%e0%b8%96%e0%b8%b2%e0%b8%99%e0%b8%b5%e0%b8%81%e0%b8%b2%e0%b8%8a%e0%b8%b2%e0%b8%94-11-%e0%b8%a7%e0%b8%b4%e0%b9%80%e0%b8%a8%e0%b8%a9%e0%b8%99%e0%b8%b4%e0%b8%a2%e0%b8%a1-0d0200-186/
LOCATION:สถานีกาชาด 11 วิเศษนิยม\, สถานีกาชาด 11 วิเศษนิยม 605 ถ.เพชรเกษม แขวงบางหว้า เขตภาษีเจริญ กรุงเทพมหานคร 10160
CATEGORIES:ปฏิทินตารางหน่วยเคลื่อนที่
END:VEVENT
BEGIN:VEVENT
DTSTART;TZID=Asia/Krasnoyarsk:20260329T083000
DTEND;TZID=Asia/Krasnoyarsk:20260329T153000
DTSTAMP:20260420T113059
CREATED:20260325T042658Z
LAST-MODIFIED:20260325T042749Z
UID:10006260-1774773000-1774798200@thaibloodcentre.redcross.or.th
SUMMARY:ศูนย์บริการโลหิตแห่งชาติ สภากาชาดไทย [0A0000]
DESCRIPTION:ที่อยู่ : 1871 ถ. อังรีดูนังต์ แขวงปทุมวัน เขตปทุมวัน
URL:https://thaibloodcentre.redcross.or.th/event/%e0%b8%a8%e0%b8%b9%e0%b8%99%e0%b8%a2%e0%b9%8c%e0%b8%9a%e0%b8%a3%e0%b8%b4%e0%b8%81%e0%b8%b2%e0%b8%a3%e0%b9%82%e0%b8%a5%e0%b8%ab%e0%b8%b4%e0%b8%95%e0%b9%81%e0%b8%ab%e0%b9%88%e0%b8%87%e0%b8%8a-484/
LOCATION:ศูนย์บริการโลหิตแห่งชาติ สภากาชาดไทย\, ศูนย์บริการโลหิตแห่งชาติ สภากาชาดไทย 1871 ถ. อังรีดูนังต์ แขวงปทุมวัน เขตปทุมวัน กรุงเทพมหานคร 10330
CATEGORIES:ปฏิทินตารางหน่วยเคลื่อนที่
END:VEVENT
BEGIN:VEVENT
DTSTART;TZID=Asia/Krasnoyarsk:20260328T120000
DTEND;TZID=Asia/Krasnoyarsk:20260328T180000
DTSTAMP:20260420T113059
CREATED:20260325T042556Z
LAST-MODIFIED:20260325T042556Z
UID:10006253-1774699200-1774720800@thaibloodcentre.redcross.or.th
SUMMARY:ศูนย์การค้าเดอะมอลล์ไลฟ์สโตร์ ท่าพระ [0E0344]
DESCRIPTION:สถานที่เจาะ : ชั้น 1 (ติดลานจอดรถ) \nที่อยู่ : 99 ถนนรัชดาท่าพระตัดใหม่ แขวงบุคคโล เขตธนบุรี กรุงเทพฯ  \nโทร : 0 2469-1000
URL:https://thaibloodcentre.redcross.or.th/event/%e0%b8%a8%e0%b8%b9%e0%b8%99%e0%b8%a2%e0%b9%8c%e0%b8%81%e0%b8%b2%e0%b8%a3%e0%b8%84%e0%b9%89%e0%b8%b2%e0%b9%80%e0%b8%94%e0%b8%ad%e0%b8%b0%e0%b8%a1%e0%b8%ad%e0%b8%a5%e0%b8%a5%e0%b9%8c%e0%b9%84-1608/
LOCATION:ศูนย์การค้าเดอะมอลล์ไลฟ์สโตร์ ท่าพระ\, เดอะมอลล์ไลฟ์สโตร์ ท่าพระ 129 ถ. รัชดาภิเษก แขวงบุคคโล เขตธนบุรี กรุงเทพมหานคร 10600
CATEGORIES:ปฏิทินตารางหน่วยเคลื่อนที่
END:VEVENT
END:VCALENDAR