BEGIN:VCALENDAR
VERSION:2.0
PRODID:-//เว็บไซต์ศูนย์บริการโลหิตแห่งชาติ - ECPv6.11.2.1//NONSGML v1.0//EN
CALSCALE:GREGORIAN
METHOD:PUBLISH
X-WR-CALNAME:เว็บไซต์ศูนย์บริการโลหิตแห่งชาติ
X-ORIGINAL-URL:https://thaibloodcentre.redcross.or.th
X-WR-CALDESC:Events for เว็บไซต์ศูนย์บริการโลหิตแห่งชาติ
REFRESH-INTERVAL;VALUE=DURATION:PT1H
X-Robots-Tag:noindex
X-PUBLISHED-TTL:PT1H
BEGIN:VTIMEZONE
TZID:Asia/Krasnoyarsk
BEGIN:STANDARD
TZOFFSETFROM:+0700
TZOFFSETTO:+0700
TZNAME:+07
DTSTART:20260101T000000
END:STANDARD
END:VTIMEZONE
BEGIN:VEVENT
DTSTART;TZID=Asia/Krasnoyarsk:20260329T120000
DTEND;TZID=Asia/Krasnoyarsk:20260329T180000
DTSTAMP:20260420T071859
CREATED:20260325T042808Z
LAST-MODIFIED:20260325T042808Z
UID:10006265-1774785600-1774807200@thaibloodcentre.redcross.or.th
SUMMARY:ศูนย์การค้าเดอะมอลล์ไลฟ์สโตร์ ท่าพระ [0E0344]
DESCRIPTION:สถานที่เจาะ : ชั้น 1 (ติดลานจอดรถ) \nที่อยู่ : 99 ถนนรัชดาท่าพระตัดใหม่ แขวงบุคคโล เขตธนบุรี กรุงเทพฯ  \nโทร : 0 2469-1000
URL:https://thaibloodcentre.redcross.or.th/event/%e0%b8%a8%e0%b8%b9%e0%b8%99%e0%b8%a2%e0%b9%8c%e0%b8%81%e0%b8%b2%e0%b8%a3%e0%b8%84%e0%b9%89%e0%b8%b2%e0%b9%80%e0%b8%94%e0%b8%ad%e0%b8%b0%e0%b8%a1%e0%b8%ad%e0%b8%a5%e0%b8%a5%e0%b9%8c%e0%b9%84-1612/
LOCATION:ศูนย์การค้าเดอะมอลล์ไลฟ์สโตร์ ท่าพระ\, เดอะมอลล์ไลฟ์สโตร์ ท่าพระ 129 ถ. รัชดาภิเษก แขวงบุคคโล เขตธนบุรี กรุงเทพมหานคร 10600
CATEGORIES:ปฏิทินตารางหน่วยเคลื่อนที่
END:VEVENT
BEGIN:VEVENT
DTSTART;TZID=Asia/Krasnoyarsk:20260329T120000
DTEND;TZID=Asia/Krasnoyarsk:20260329T180000
DTSTAMP:20260420T071859
CREATED:20260325T042803Z
LAST-MODIFIED:20260325T042803Z
UID:10006264-1774785600-1774807200@thaibloodcentre.redcross.or.th
SUMMARY:ศูนย์การค้า เอ็มโพเรียม [0E0947]
DESCRIPTION:สถานที่เจาะ : ชั้น M ศูนย์การค้า ดิ เอ็มโพเรียม เชื่อมลานจอดรถอาคาร B \nที่อยู่ : 622 ถนนสุขุมวิท แขวงคลองตัน เขตคลองเตย กรุงเทพฯ  \nโทร : 0 2269 1515
URL:https://thaibloodcentre.redcross.or.th/event/%e0%b8%a8%e0%b8%b9%e0%b8%99%e0%b8%a2%e0%b9%8c%e0%b8%81%e0%b8%b2%e0%b8%a3%e0%b8%84%e0%b9%89%e0%b8%b2-%e0%b9%80%e0%b8%ad%e0%b9%87%e0%b8%a1%e0%b9%82%e0%b8%9e%e0%b9%80%e0%b8%a3%e0%b8%b5%e0%b8%a2-399/
LOCATION:ศูนย์การค้า เอ็มโพเรียม\, เอ็มโพเรียม 622 ถ. สุขุมวิท แขวงคลองตัน เขตคลองเตย กรุงเทพมหานคร 10110
CATEGORIES:ปฏิทินตารางหน่วยเคลื่อนที่
END:VEVENT
BEGIN:VEVENT
DTSTART;TZID=Asia/Krasnoyarsk:20260329T120000
DTEND;TZID=Asia/Krasnoyarsk:20260329T180000
DTSTAMP:20260420T071859
CREATED:20260325T042733Z
LAST-MODIFIED:20260325T042751Z
UID:10006263-1774785600-1774807200@thaibloodcentre.redcross.or.th
SUMMARY:ศูนย์การค้าเดอะมอลล์ไลฟ์สโตร์ งามวงศ์วาน [0E0948]
DESCRIPTION:สถานที่เจาะ : ชั้น 5 โซน Government Center \nที่อยู่ : ถนนงามวงศ์วาน ต.บางเขน อ.เมือง จ.นนทบุรี  \nโทร : 0 2555 1550
URL:https://thaibloodcentre.redcross.or.th/event/%e0%b8%a8%e0%b8%b9%e0%b8%99%e0%b8%a2%e0%b9%8c%e0%b8%81%e0%b8%b2%e0%b8%a3%e0%b8%84%e0%b9%89%e0%b8%b2%e0%b9%80%e0%b8%94%e0%b8%ad%e0%b8%b0%e0%b8%a1%e0%b8%ad%e0%b8%a5%e0%b8%a5%e0%b9%8c%e0%b9%84-1611/
LOCATION:ศูนย์การค้าเดอะมอลล์ไลฟ์สโตร์ งามวงศ์วาน\, เดอะมอลล์ ไลฟ์สโตร์ งามวงศ์วาน 430 ถนน งามวงศ์วาน ตำบลบางเขน อำเภอเมืองนนทบุรี นนทบุรี 11000
CATEGORIES:ปฏิทินตารางหน่วยเคลื่อนที่
END:VEVENT
BEGIN:VEVENT
DTSTART;TZID=Asia/Krasnoyarsk:20260329T120000
DTEND;TZID=Asia/Krasnoyarsk:20260329T180000
DTSTAMP:20260420T071859
CREATED:20260325T042719Z
LAST-MODIFIED:20260325T042751Z
UID:10006262-1774785600-1774807200@thaibloodcentre.redcross.or.th
SUMMARY:ศูนย์การค้าเดอะมอลล์ไลฟ์สโตร์ บางกะปิ [0E0941]
DESCRIPTION:สถานที่เจาะ : ชั้น 2 ทางออกลานจอดรถ \nที่อยู่ : ถนนลาดพร้าว แขวงคลองจั่น เขตบางกะปิ กรุงเทพฯ  \nโทร : 0 2310 2278
URL:https://thaibloodcentre.redcross.or.th/event/%e0%b8%a8%e0%b8%b9%e0%b8%99%e0%b8%a2%e0%b9%8c%e0%b8%81%e0%b8%b2%e0%b8%a3%e0%b8%84%e0%b9%89%e0%b8%b2%e0%b9%80%e0%b8%94%e0%b8%ad%e0%b8%b0%e0%b8%a1%e0%b8%ad%e0%b8%a5%e0%b8%a5%e0%b9%8c%e0%b9%84-1610/
LOCATION:ศูนย์การค้าเดอะมอลล์ไลฟ์สโตร์ บางกะปิ\, เดอะมอลล์ไลฟ์สโตร์ บางกะปิ 3522 ถ. ลาดพร้าว แขวงคลองจั่น เขตบางกะปิ กรุงเทพมหานคร 10240
CATEGORIES:ปฏิทินตารางหน่วยเคลื่อนที่
END:VEVENT
BEGIN:VEVENT
DTSTART;TZID=Asia/Krasnoyarsk:20260329T120000
DTEND;TZID=Asia/Krasnoyarsk:20260329T180000
DTSTAMP:20260420T071859
CREATED:20260325T042704Z
LAST-MODIFIED:20260325T042750Z
UID:10006261-1774785600-1774807200@thaibloodcentre.redcross.or.th
SUMMARY:ศูนย์การค้าเดอะมอลล์ไลฟ์สโตร์ บางแค [0E0942]
DESCRIPTION:สถานที่เจาะ : ชั้น 3 ตรงข้ามร้านโอ้กะจู๋ \nที่อยู่ : ถนนเพชรเกษม แขวงบางแคเหนือ เขตภาษีเจริญ กรุงเทพฯ  \nโทร : 02 487 1221
URL:https://thaibloodcentre.redcross.or.th/event/%e0%b8%a8%e0%b8%b9%e0%b8%99%e0%b8%a2%e0%b9%8c%e0%b8%81%e0%b8%b2%e0%b8%a3%e0%b8%84%e0%b9%89%e0%b8%b2%e0%b9%80%e0%b8%94%e0%b8%ad%e0%b8%b0%e0%b8%a1%e0%b8%ad%e0%b8%a5%e0%b8%a5%e0%b9%8c%e0%b9%84-1609/
LOCATION:ศูนย์การค้าเดอะมอลล์ไลฟ์สโตร์ บางแค\, ศูนย์การค้าเดอะมอลล์ไลฟ์สโตร์ บางแค
CATEGORIES:ปฏิทินตารางหน่วยเคลื่อนที่
END:VEVENT
BEGIN:VEVENT
DTSTART;TZID=Asia/Krasnoyarsk:20260329T110000
DTEND;TZID=Asia/Krasnoyarsk:20260329T150000
DTSTAMP:20260420T071859
CREATED:20260325T042846Z
LAST-MODIFIED:20260325T042846Z
UID:10006271-1774782000-1774796400@thaibloodcentre.redcross.or.th
SUMMARY:บิ๊กซี ซูเปอร์เซ็นเตอร์ สาขาบางพลี [0M0071]
DESCRIPTION:สถานที่เจาะ : หน้าห้างตรงข้ามจุดจอดแท็กซี่ \nที่อยู่ : 89 ม.9 ต.บางพลีใหญ่ อ.บางพลี จ.สมุทรปราการ  \nโทร : 0 2750 7600
URL:https://thaibloodcentre.redcross.or.th/event/%e0%b8%9a%e0%b8%b4%e0%b9%8a%e0%b8%81%e0%b8%8b%e0%b8%b5-%e0%b8%8b%e0%b8%b9%e0%b9%80%e0%b8%9b%e0%b8%ad%e0%b8%a3%e0%b9%8c%e0%b9%80%e0%b8%8b%e0%b9%87%e0%b8%99%e0%b9%80%e0%b8%95%e0%b8%ad%e0%b8%a3-40/
LOCATION:บิ๊กซี ซูเปอร์เซ็นเตอร์ สาขาบางพลี\, บิ๊กซี ซูเปอร์เซ็นเตอร์ สาขาบางพลี 89 ม.9 ถ.เทพารักษ์ ต.บางพลีใหญ่ อ.บางพลี จ.สมุทรปราการ 10540
CATEGORIES:ปฏิทินตารางหน่วยเคลื่อนที่
END:VEVENT
BEGIN:VEVENT
DTSTART;TZID=Asia/Krasnoyarsk:20260329T110000
DTEND;TZID=Asia/Krasnoyarsk:20260329T150000
DTSTAMP:20260420T071859
CREATED:20260325T042844Z
LAST-MODIFIED:20260325T042844Z
UID:10006270-1774782000-1774796400@thaibloodcentre.redcross.or.th
SUMMARY:บริษัท ซีพี แอ็กซ์ตร้า จำกัด (มหาชน) สาขารามอินทรา [0M0763]
DESCRIPTION:สถานที่เจาะ : ทางเข้าลูกค้า \nที่อยู่ : 904 ถนนรามอินทรา แขวงคันนายาว เขตคันนายาว กรุงเทพฯ  \nโทร : 0 2000 7592
URL:https://thaibloodcentre.redcross.or.th/event/%e0%b8%9a%e0%b8%a3%e0%b8%b4%e0%b8%a9%e0%b8%b1%e0%b8%97-%e0%b8%8b%e0%b8%b5%e0%b8%9e%e0%b8%b5-%e0%b9%81%e0%b8%ad%e0%b9%87%e0%b8%81%e0%b8%8b%e0%b9%8c%e0%b8%95%e0%b8%a3%e0%b9%89%e0%b8%b2-%e0%b8%88-52/
LOCATION:บริษัท ซีพี แอ็กซ์ตร้า จำกัด (มหาชน) สาขารามอินทรา\, แม็คโคร รามอินทรา 904 ถนนรามอินทรา แขวงคันนายาว เขตคันนายาว กรุงเทพมหานคร 10230
CATEGORIES:ปฏิทินตารางหน่วยเคลื่อนที่
END:VEVENT
BEGIN:VEVENT
DTSTART;TZID=Asia/Krasnoyarsk:20260329T110000
DTEND;TZID=Asia/Krasnoyarsk:20260329T150000
DTSTAMP:20260420T071859
CREATED:20260325T042842Z
LAST-MODIFIED:20260325T042842Z
UID:10006269-1774782000-1774796400@thaibloodcentre.redcross.or.th
SUMMARY:บิ๊กซี เอ็กซ์ตร้า สาขาบางใหญ่ [0E0904]
DESCRIPTION:สถานที่เจาะ : ชั้น 1 ด้านหน้าร้าน Watsons \nที่อยู่ : 9/9 ม.11 ถ.ตลิ่งชัน-สุพรรณบุรี ต.บางรักพัฒนา อ.บางบัวทอง จ.นนทบุรี  \nโทร : 0 2903 1116
URL:https://thaibloodcentre.redcross.or.th/event/%e0%b8%9a%e0%b8%b4%e0%b9%8a%e0%b8%81%e0%b8%8b%e0%b8%b5-%e0%b9%80%e0%b8%ad%e0%b9%87%e0%b8%81%e0%b8%8b%e0%b9%8c%e0%b8%95%e0%b8%a3%e0%b9%89%e0%b8%b2-%e0%b8%aa%e0%b8%b2%e0%b8%82%e0%b8%b2%e0%b8%9a-5/
LOCATION:บิ๊กซี เอ็กซ์ตร้า สาขาบางใหญ่\, บิ๊กซี เอ็กซ์ตร้า บางใหญ่ 9/9 ถ.ตลิ่งชัน - สุพรรณบุรี ต.บางรักพัฒนา อ.บางบัวทอง จ.นนทบุรี 11110
CATEGORIES:ปฏิทินตารางหน่วยเคลื่อนที่
END:VEVENT
BEGIN:VEVENT
DTSTART;TZID=Asia/Krasnoyarsk:20260329T110000
DTEND;TZID=Asia/Krasnoyarsk:20260329T150000
DTSTAMP:20260420T071859
CREATED:20260325T042831Z
LAST-MODIFIED:20260325T042831Z
UID:10006268-1774782000-1774796400@thaibloodcentre.redcross.or.th
SUMMARY:บิ๊กซี ซูเปอร์เซ็นเตอร์ สาขาธนบุรี-ปากท่อ [0M0145]
DESCRIPTION:สถานที่เจาะ : ด้านหน้าห้าง \nที่อยู่ : 127 ถนนพระราม 2 แขวงแสมดำ เขตบางขุนเทียน กรุงเทพฯ  \nโทร : 0 2895 7600
URL:https://thaibloodcentre.redcross.or.th/event/%e0%b8%9a%e0%b8%b4%e0%b9%8a%e0%b8%81%e0%b8%8b%e0%b8%b5-%e0%b8%8b%e0%b8%b9%e0%b9%80%e0%b8%9b%e0%b8%ad%e0%b8%a3%e0%b9%8c%e0%b9%80%e0%b8%8b%e0%b9%87%e0%b8%99%e0%b9%80%e0%b8%95%e0%b8%ad%e0%b8%a3-39/
LOCATION:บิ๊กซี ซูเปอร์เซ็นเตอร์ สาขาธนบุรี-ปากท่อ\, บิ๊กซี ซูเปอร์เซ็นเตอร์ สาขาธนบุรี-ปากท่อ 127 ถนนพระรามที่ 2 แขวงแสมดำ เขตบางขุนเทียน กรุงเทพมหานคร 10150
CATEGORIES:ปฏิทินตารางหน่วยเคลื่อนที่
END:VEVENT
BEGIN:VEVENT
DTSTART;TZID=Asia/Krasnoyarsk:20260329T090000
DTEND;TZID=Asia/Krasnoyarsk:20260329T150000
DTSTAMP:20260420T071859
CREATED:20260325T042826Z
LAST-MODIFIED:20260325T042826Z
UID:10006267-1774774800-1774796400@thaibloodcentre.redcross.or.th
SUMMARY:บ้านทรงไทย (ย่านวงศ์สว่าง) [0J0463]
DESCRIPTION:สถานที่เจาะ : (พัก 12.30-13.00 น.) \nที่อยู่ : 1423 ถนนกรุงเทพ – นนทบุรี แขวงวงศ์สว่าง เขตบางซื่อ กรุงเทพฯ  \nโทร : 0 2256 4300
URL:https://thaibloodcentre.redcross.or.th/event/%e0%b8%9a%e0%b9%89%e0%b8%b2%e0%b8%99%e0%b8%97%e0%b8%a3%e0%b8%87%e0%b9%84%e0%b8%97%e0%b8%a2-%e0%b8%a2%e0%b9%88%e0%b8%b2%e0%b8%99%e0%b8%a7%e0%b8%87%e0%b8%a8%e0%b9%8c%e0%b8%aa%e0%b8%a7%e0%b9%88-399/
LOCATION:บ้านทรงไทย (ย่านวงศ์สว่าง)\, หน่วยรับบริจาคโลหิต บ้านทรงไทย(ย่านวงศ์สว่าง) 1423 ถนนกรุงเทพ-นนทบุรี แขวงวงศ์สว่าง เขตบางซื่อ กรุงเทพมหานคร 10800
CATEGORIES:ปฏิทินตารางหน่วยเคลื่อนที่
END:VEVENT
BEGIN:VEVENT
DTSTART;TZID=Asia/Krasnoyarsk:20260329T083000
DTEND;TZID=Asia/Krasnoyarsk:20260329T153000
DTSTAMP:20260420T071859
CREATED:20260325T042823Z
LAST-MODIFIED:20260325T042823Z
UID:10006266-1774773000-1774798200@thaibloodcentre.redcross.or.th
SUMMARY:สถานีกาชาด 11 วิเศษนิยม [0D0200]
DESCRIPTION:สถานที่เจาะ : ชั้น 3 \nที่อยู่ : 33/3 ถนนเพชรเกษม แขวงบางหว้า เขตภาษีเจริญ กรุงเทพฯ  \nโทร : 633450711
URL:https://thaibloodcentre.redcross.or.th/event/%e0%b8%aa%e0%b8%96%e0%b8%b2%e0%b8%99%e0%b8%b5%e0%b8%81%e0%b8%b2%e0%b8%8a%e0%b8%b2%e0%b8%94-11-%e0%b8%a7%e0%b8%b4%e0%b9%80%e0%b8%a8%e0%b8%a9%e0%b8%99%e0%b8%b4%e0%b8%a2%e0%b8%a1-0d0200-186/
LOCATION:สถานีกาชาด 11 วิเศษนิยม\, สถานีกาชาด 11 วิเศษนิยม 605 ถ.เพชรเกษม แขวงบางหว้า เขตภาษีเจริญ กรุงเทพมหานคร 10160
CATEGORIES:ปฏิทินตารางหน่วยเคลื่อนที่
END:VEVENT
BEGIN:VEVENT
DTSTART;TZID=Asia/Krasnoyarsk:20260329T083000
DTEND;TZID=Asia/Krasnoyarsk:20260329T153000
DTSTAMP:20260420T071859
CREATED:20260325T042658Z
LAST-MODIFIED:20260325T042749Z
UID:10006260-1774773000-1774798200@thaibloodcentre.redcross.or.th
SUMMARY:ศูนย์บริการโลหิตแห่งชาติ สภากาชาดไทย [0A0000]
DESCRIPTION:ที่อยู่ : 1871 ถ. อังรีดูนังต์ แขวงปทุมวัน เขตปทุมวัน
URL:https://thaibloodcentre.redcross.or.th/event/%e0%b8%a8%e0%b8%b9%e0%b8%99%e0%b8%a2%e0%b9%8c%e0%b8%9a%e0%b8%a3%e0%b8%b4%e0%b8%81%e0%b8%b2%e0%b8%a3%e0%b9%82%e0%b8%a5%e0%b8%ab%e0%b8%b4%e0%b8%95%e0%b9%81%e0%b8%ab%e0%b9%88%e0%b8%87%e0%b8%8a-484/
LOCATION:ศูนย์บริการโลหิตแห่งชาติ สภากาชาดไทย\, ศูนย์บริการโลหิตแห่งชาติ สภากาชาดไทย 1871 ถ. อังรีดูนังต์ แขวงปทุมวัน เขตปทุมวัน กรุงเทพมหานคร 10330
CATEGORIES:ปฏิทินตารางหน่วยเคลื่อนที่
END:VEVENT
BEGIN:VEVENT
DTSTART;TZID=Asia/Krasnoyarsk:20260328T120000
DTEND;TZID=Asia/Krasnoyarsk:20260328T180000
DTSTAMP:20260420T071859
CREATED:20260325T042556Z
LAST-MODIFIED:20260325T042556Z
UID:10006253-1774699200-1774720800@thaibloodcentre.redcross.or.th
SUMMARY:ศูนย์การค้าเดอะมอลล์ไลฟ์สโตร์ ท่าพระ [0E0344]
DESCRIPTION:สถานที่เจาะ : ชั้น 1 (ติดลานจอดรถ) \nที่อยู่ : 99 ถนนรัชดาท่าพระตัดใหม่ แขวงบุคคโล เขตธนบุรี กรุงเทพฯ  \nโทร : 0 2469-1000
URL:https://thaibloodcentre.redcross.or.th/event/%e0%b8%a8%e0%b8%b9%e0%b8%99%e0%b8%a2%e0%b9%8c%e0%b8%81%e0%b8%b2%e0%b8%a3%e0%b8%84%e0%b9%89%e0%b8%b2%e0%b9%80%e0%b8%94%e0%b8%ad%e0%b8%b0%e0%b8%a1%e0%b8%ad%e0%b8%a5%e0%b8%a5%e0%b9%8c%e0%b9%84-1608/
LOCATION:ศูนย์การค้าเดอะมอลล์ไลฟ์สโตร์ ท่าพระ\, เดอะมอลล์ไลฟ์สโตร์ ท่าพระ 129 ถ. รัชดาภิเษก แขวงบุคคโล เขตธนบุรี กรุงเทพมหานคร 10600
CATEGORIES:ปฏิทินตารางหน่วยเคลื่อนที่
END:VEVENT
BEGIN:VEVENT
DTSTART;TZID=Asia/Krasnoyarsk:20260328T120000
DTEND;TZID=Asia/Krasnoyarsk:20260328T180000
DTSTAMP:20260420T071859
CREATED:20260325T042550Z
LAST-MODIFIED:20260325T042550Z
UID:10006252-1774699200-1774720800@thaibloodcentre.redcross.or.th
SUMMARY:ศูนย์การค้า เอ็มโพเรียม [0E0947]
DESCRIPTION:สถานที่เจาะ : ชั้น M ศูนย์การค้า ดิ เอ็มโพเรียม เชื่อมลานจอดรถอาคาร B \nที่อยู่ : 622 ถนนสุขุมวิท แขวงคลองตัน เขตคลองเตย กรุงเทพฯ  \nโทร : 0 2269 1515
URL:https://thaibloodcentre.redcross.or.th/event/%e0%b8%a8%e0%b8%b9%e0%b8%99%e0%b8%a2%e0%b9%8c%e0%b8%81%e0%b8%b2%e0%b8%a3%e0%b8%84%e0%b9%89%e0%b8%b2-%e0%b9%80%e0%b8%ad%e0%b9%87%e0%b8%a1%e0%b9%82%e0%b8%9e%e0%b9%80%e0%b8%a3%e0%b8%b5%e0%b8%a2-398/
LOCATION:ศูนย์การค้า เอ็มโพเรียม\, เอ็มโพเรียม 622 ถ. สุขุมวิท แขวงคลองตัน เขตคลองเตย กรุงเทพมหานคร 10110
CATEGORIES:ปฏิทินตารางหน่วยเคลื่อนที่
END:VEVENT
BEGIN:VEVENT
DTSTART;TZID=Asia/Krasnoyarsk:20260328T120000
DTEND;TZID=Asia/Krasnoyarsk:20260328T180000
DTSTAMP:20260420T071859
CREATED:20260325T042535Z
LAST-MODIFIED:20260325T042535Z
UID:10006251-1774699200-1774720800@thaibloodcentre.redcross.or.th
SUMMARY:ศูนย์การค้าเดอะมอลล์ไลฟ์สโตร์ งามวงศ์วาน [0E0948]
DESCRIPTION:สถานที่เจาะ : ชั้น 5 โซน Government Center \nที่อยู่ : ถนนงามวงศ์วาน ต.บางเขน อ.เมือง จ.นนทบุรี  \nโทร : 0 2555 1550
URL:https://thaibloodcentre.redcross.or.th/event/%e0%b8%a8%e0%b8%b9%e0%b8%99%e0%b8%a2%e0%b9%8c%e0%b8%81%e0%b8%b2%e0%b8%a3%e0%b8%84%e0%b9%89%e0%b8%b2%e0%b9%80%e0%b8%94%e0%b8%ad%e0%b8%b0%e0%b8%a1%e0%b8%ad%e0%b8%a5%e0%b8%a5%e0%b9%8c%e0%b9%84-1607/
LOCATION:ศูนย์การค้าเดอะมอลล์ไลฟ์สโตร์ งามวงศ์วาน\, เดอะมอลล์ ไลฟ์สโตร์ งามวงศ์วาน 430 ถนน งามวงศ์วาน ตำบลบางเขน อำเภอเมืองนนทบุรี นนทบุรี 11000
CATEGORIES:ปฏิทินตารางหน่วยเคลื่อนที่
END:VEVENT
BEGIN:VEVENT
DTSTART;TZID=Asia/Krasnoyarsk:20260328T120000
DTEND;TZID=Asia/Krasnoyarsk:20260328T180000
DTSTAMP:20260420T071859
CREATED:20260325T042520Z
LAST-MODIFIED:20260325T042520Z
UID:10006250-1774699200-1774720800@thaibloodcentre.redcross.or.th
SUMMARY:ศูนย์การค้าเดอะมอลล์ไลฟ์สโตร์ บางกะปิ [0E0941]
DESCRIPTION:สถานที่เจาะ : ชั้น 2 ทางออกลานจอดรถ \nที่อยู่ : ถนนลาดพร้าว แขวงคลองจั่น เขตบางกะปิ กรุงเทพฯ  \nโทร : 0 2310 2278
URL:https://thaibloodcentre.redcross.or.th/event/%e0%b8%a8%e0%b8%b9%e0%b8%99%e0%b8%a2%e0%b9%8c%e0%b8%81%e0%b8%b2%e0%b8%a3%e0%b8%84%e0%b9%89%e0%b8%b2%e0%b9%80%e0%b8%94%e0%b8%ad%e0%b8%b0%e0%b8%a1%e0%b8%ad%e0%b8%a5%e0%b8%a5%e0%b9%8c%e0%b9%84-1606/
LOCATION:ศูนย์การค้าเดอะมอลล์ไลฟ์สโตร์ บางกะปิ\, เดอะมอลล์ไลฟ์สโตร์ บางกะปิ 3522 ถ. ลาดพร้าว แขวงคลองจั่น เขตบางกะปิ กรุงเทพมหานคร 10240
CATEGORIES:ปฏิทินตารางหน่วยเคลื่อนที่
END:VEVENT
BEGIN:VEVENT
DTSTART;TZID=Asia/Krasnoyarsk:20260328T120000
DTEND;TZID=Asia/Krasnoyarsk:20260328T180000
DTSTAMP:20260420T071859
CREATED:20260325T042505Z
LAST-MODIFIED:20260325T042505Z
UID:10006249-1774699200-1774720800@thaibloodcentre.redcross.or.th
SUMMARY:ศูนย์การค้าเดอะมอลล์ไลฟ์สโตร์ บางแค [0E0942]
DESCRIPTION:สถานที่เจาะ : ชั้น 3 ตรงข้ามร้านโอ้กะจู๋ \nที่อยู่ : ถนนเพชรเกษม แขวงบางแคเหนือ เขตภาษีเจริญ กรุงเทพฯ  \nโทร : 02 487 1221
URL:https://thaibloodcentre.redcross.or.th/event/%e0%b8%a8%e0%b8%b9%e0%b8%99%e0%b8%a2%e0%b9%8c%e0%b8%81%e0%b8%b2%e0%b8%a3%e0%b8%84%e0%b9%89%e0%b8%b2%e0%b9%80%e0%b8%94%e0%b8%ad%e0%b8%b0%e0%b8%a1%e0%b8%ad%e0%b8%a5%e0%b8%a5%e0%b9%8c%e0%b9%84-1605/
LOCATION:ศูนย์การค้าเดอะมอลล์ไลฟ์สโตร์ บางแค\, ศูนย์การค้าเดอะมอลล์ไลฟ์สโตร์ บางแค
CATEGORIES:ปฏิทินตารางหน่วยเคลื่อนที่
END:VEVENT
BEGIN:VEVENT
DTSTART;TZID=Asia/Krasnoyarsk:20260328T110000
DTEND;TZID=Asia/Krasnoyarsk:20260328T150000
DTSTAMP:20260420T071859
CREATED:20260325T042656Z
LAST-MODIFIED:20260325T042748Z
UID:10006259-1774695600-1774710000@thaibloodcentre.redcross.or.th
SUMMARY:เพอร์เฟค มาสเตอร์พีช รัตนาธิเบศร์ [0M0617]
DESCRIPTION:สถานที่เจาะ : หน้าสโมสร Master Club \nที่อยู่ : 124/9 ม. 3 ซ.ท่าอิฐ ถ.รัตนาธิเบศร์ ต.ไทรม้า อ.เมือง จ.นนทบุรี
URL:https://thaibloodcentre.redcross.or.th/event/%e0%b9%80%e0%b8%9e%e0%b8%ad%e0%b8%a3%e0%b9%8c%e0%b9%80%e0%b8%9f%e0%b8%84-%e0%b8%a1%e0%b8%b2%e0%b8%aa%e0%b9%80%e0%b8%95%e0%b8%ad%e0%b8%a3%e0%b9%8c%e0%b8%9e%e0%b8%b5%e0%b8%8a-%e0%b8%a3%e0%b8%b1-5/
LOCATION:เพอร์เฟค มาสเตอร์พีช รัตนาธิเบศร์\, เพอร์เฟค มาสเตอร์พีช รัตนาธิเบศร์ 3 ถ.รัตนาธิเบศร์ ต.บางรักน้อย อ.เมืองนนทบุรี จ.นนทบุรี 11000
CATEGORIES:ปฏิทินตารางหน่วยเคลื่อนที่
END:VEVENT
BEGIN:VEVENT
DTSTART;TZID=Asia/Krasnoyarsk:20260328T110000
DTEND;TZID=Asia/Krasnoyarsk:20260328T150000
DTSTAMP:20260420T071859
CREATED:20260325T042634Z
LAST-MODIFIED:20260325T042634Z
UID:10006258-1774695600-1774710000@thaibloodcentre.redcross.or.th
SUMMARY:บิ๊กซี ซูเปอร์เซ็นเตอร์ สาขาสุขสวัสดิ์ [0M0077]
DESCRIPTION:สถานที่เจาะ : หน้าห้าง \nที่อยู่ : 94 ม. 18 ถ.สุขสวัสดิ์ ต.บางผึ้ง อ.พระประแดง จ.สมุทรปราการ  \nโทร : 0 2464 4222
URL:https://thaibloodcentre.redcross.or.th/event/%e0%b8%9a%e0%b8%b4%e0%b9%8a%e0%b8%81%e0%b8%8b%e0%b8%b5-%e0%b8%8b%e0%b8%b9%e0%b9%80%e0%b8%9b%e0%b8%ad%e0%b8%a3%e0%b9%8c%e0%b9%80%e0%b8%8b%e0%b9%87%e0%b8%99%e0%b9%80%e0%b8%95%e0%b8%ad%e0%b8%a3-38/
LOCATION:บิ๊กซี ซูเปอร์เซ็นเตอร์ สาขาสุขสวัสดิ์\, บิ๊กซี ซุปเปอร์เซ็นเตอร์ สุขสวัสดิ์ 94 ม.18 ถ.สุขสวัสดิ์ ต.บางพึ่ง อ.พระประแดง จ.สมุทรปราการ 10130
CATEGORIES:ปฏิทินตารางหน่วยเคลื่อนที่
END:VEVENT
BEGIN:VEVENT
DTSTART;TZID=Asia/Krasnoyarsk:20260328T110000
DTEND;TZID=Asia/Krasnoyarsk:20260328T150000
DTSTAMP:20260420T071859
CREATED:20260325T042632Z
LAST-MODIFIED:20260325T042632Z
UID:10006257-1774695600-1774710000@thaibloodcentre.redcross.or.th
SUMMARY:ศูนย์การค้าเดอะพรอมานาด [0M0778]
DESCRIPTION:สถานที่เจาะ : ชั้น 4 ฝั่ง Fitness และมคลินทร์ฯ \nที่อยู่ : 587\,589\,589/7-9 ถนนรามอินทรา แขวงคันนายาว เขตคันนายาว กรุงเทพฯ  \nโทร : 0 2947 5000
URL:https://thaibloodcentre.redcross.or.th/event/%e0%b8%a8%e0%b8%b9%e0%b8%99%e0%b8%a2%e0%b9%8c%e0%b8%81%e0%b8%b2%e0%b8%a3%e0%b8%84%e0%b9%89%e0%b8%b2%e0%b9%80%e0%b8%94%e0%b8%ad%e0%b8%b0%e0%b8%9e%e0%b8%a3%e0%b8%ad%e0%b8%a1%e0%b8%b2%e0%b8%99-30/
LOCATION:ศูนย์การค้าเดอะพรอมานาด\, ศูนย์การค้าเดอะพรอมานาด 587\,589 589/7-9 ถ.รามอินทรา แขวงคันนายาว เขตคันนายาว กรุงเทพมหานคร 10230
CATEGORIES:ปฏิทินตารางหน่วยเคลื่อนที่
END:VEVENT
BEGIN:VEVENT
DTSTART;TZID=Asia/Krasnoyarsk:20260328T110000
DTEND;TZID=Asia/Krasnoyarsk:20260328T150000
DTSTAMP:20260420T071859
CREATED:20260325T042629Z
LAST-MODIFIED:20260325T042629Z
UID:10006256-1774695600-1774710000@thaibloodcentre.redcross.or.th
SUMMARY:เซ็นทรัลพลาซา บางนา [0E0641]
DESCRIPTION:สถานที่เจาะ : ด้านหน้า KFC \nที่อยู่ : 1090 ถนนบางนา-ตราด แขวงบางนา เขตบางนา กรุงเทพฯ  \nโทร : 0 2763 6000
URL:https://thaibloodcentre.redcross.or.th/event/%e0%b9%80%e0%b8%8b%e0%b9%87%e0%b8%99%e0%b8%97%e0%b8%a3%e0%b8%b1%e0%b8%a5%e0%b8%9e%e0%b8%a5%e0%b8%b2%e0%b8%8b%e0%b8%b2-%e0%b8%9a%e0%b8%b2%e0%b8%87%e0%b8%99%e0%b8%b2-0e0641-37/
LOCATION:เซ็นทรัลพลาซา บางนา\, เซ็นทรัล บางนา ทางคู่ขนาน ถนนบางนา-ตราด แขวงบางนาเหนือ เขตบางนา กรุงเทพมหานคร 10260
CATEGORIES:ปฏิทินตารางหน่วยเคลื่อนที่
END:VEVENT
BEGIN:VEVENT
DTSTART;TZID=Asia/Krasnoyarsk:20260328T090000
DTEND;TZID=Asia/Krasnoyarsk:20260328T150000
DTSTAMP:20260420T071859
CREATED:20260325T042624Z
LAST-MODIFIED:20260325T042624Z
UID:10006255-1774688400-1774710000@thaibloodcentre.redcross.or.th
SUMMARY:บ้านทรงไทย (ย่านวงศ์สว่าง) [0J0463]
DESCRIPTION:สถานที่เจาะ : (พัก 12.30-13.00 น.) \nที่อยู่ : 1423 ถนนกรุงเทพ – นนทบุรี แขวงวงศ์สว่าง เขตบางซื่อ กรุงเทพฯ  \nโทร : 0 2256 4300
URL:https://thaibloodcentre.redcross.or.th/event/%e0%b8%9a%e0%b9%89%e0%b8%b2%e0%b8%99%e0%b8%97%e0%b8%a3%e0%b8%87%e0%b9%84%e0%b8%97%e0%b8%a2-%e0%b8%a2%e0%b9%88%e0%b8%b2%e0%b8%99%e0%b8%a7%e0%b8%87%e0%b8%a8%e0%b9%8c%e0%b8%aa%e0%b8%a7%e0%b9%88-398/
LOCATION:บ้านทรงไทย (ย่านวงศ์สว่าง)\, หน่วยรับบริจาคโลหิต บ้านทรงไทย(ย่านวงศ์สว่าง) 1423 ถนนกรุงเทพ-นนทบุรี แขวงวงศ์สว่าง เขตบางซื่อ กรุงเทพมหานคร 10800
CATEGORIES:ปฏิทินตารางหน่วยเคลื่อนที่
END:VEVENT
BEGIN:VEVENT
DTSTART;TZID=Asia/Krasnoyarsk:20260328T083000
DTEND;TZID=Asia/Krasnoyarsk:20260328T153000
DTSTAMP:20260420T071859
CREATED:20260325T042621Z
LAST-MODIFIED:20260325T042621Z
UID:10006254-1774686600-1774711800@thaibloodcentre.redcross.or.th
SUMMARY:สถานีกาชาด 11 วิเศษนิยม [0D0200]
DESCRIPTION:สถานที่เจาะ : ชั้น 3 \nที่อยู่ : 33/3 ถนนเพชรเกษม แขวงบางหว้า เขตภาษีเจริญ กรุงเทพฯ  \nโทร : 633450711
URL:https://thaibloodcentre.redcross.or.th/event/%e0%b8%aa%e0%b8%96%e0%b8%b2%e0%b8%99%e0%b8%b5%e0%b8%81%e0%b8%b2%e0%b8%8a%e0%b8%b2%e0%b8%94-11-%e0%b8%a7%e0%b8%b4%e0%b9%80%e0%b8%a8%e0%b8%a9%e0%b8%99%e0%b8%b4%e0%b8%a2%e0%b8%a1-0d0200-185/
LOCATION:สถานีกาชาด 11 วิเศษนิยม\, สถานีกาชาด 11 วิเศษนิยม 605 ถ.เพชรเกษม แขวงบางหว้า เขตภาษีเจริญ กรุงเทพมหานคร 10160
CATEGORIES:ปฏิทินตารางหน่วยเคลื่อนที่
END:VEVENT
BEGIN:VEVENT
DTSTART;TZID=Asia/Krasnoyarsk:20260328T083000
DTEND;TZID=Asia/Krasnoyarsk:20260328T153000
DTSTAMP:20260420T071859
CREATED:20260325T042454Z
LAST-MODIFIED:20260325T042454Z
UID:10006248-1774686600-1774711800@thaibloodcentre.redcross.or.th
SUMMARY:ศูนย์บริการโลหิตแห่งชาติ สภากาชาดไทย [0A0000]
DESCRIPTION:ที่อยู่ : 1871 ถ. อังรีดูนังต์ แขวงปทุมวัน เขตปทุมวัน
URL:https://thaibloodcentre.redcross.or.th/event/%e0%b8%a8%e0%b8%b9%e0%b8%99%e0%b8%a2%e0%b9%8c%e0%b8%9a%e0%b8%a3%e0%b8%b4%e0%b8%81%e0%b8%b2%e0%b8%a3%e0%b9%82%e0%b8%a5%e0%b8%ab%e0%b8%b4%e0%b8%95%e0%b9%81%e0%b8%ab%e0%b9%88%e0%b8%87%e0%b8%8a-483/
LOCATION:ศูนย์บริการโลหิตแห่งชาติ สภากาชาดไทย\, ศูนย์บริการโลหิตแห่งชาติ สภากาชาดไทย 1871 ถ. อังรีดูนังต์ แขวงปทุมวัน เขตปทุมวัน กรุงเทพมหานคร 10330
CATEGORIES:ปฏิทินตารางหน่วยเคลื่อนที่
END:VEVENT
BEGIN:VEVENT
DTSTART;TZID=Asia/Krasnoyarsk:20260327T130000
DTEND;TZID=Asia/Krasnoyarsk:20260327T150000
DTSTAMP:20260420T071859
CREATED:20260325T042447Z
LAST-MODIFIED:20260325T042447Z
UID:10006245-1774616400-1774623600@thaibloodcentre.redcross.or.th
SUMMARY:บริษัท ซีพี แอ็กซ์ตร้า จำกัด (มหาชน) สาขาลาดพร้าว [0M0919]
DESCRIPTION:สถานที่เจาะ : ลานจอดรถ \nที่อยู่ : 3498 ถนนลาดพร้าว แขวงคลองจั่น เขตบางกะปิ กรุงเทพฯ  \nโทร : 0 2375 2781-8
URL:https://thaibloodcentre.redcross.or.th/event/%e0%b8%9a%e0%b8%a3%e0%b8%b4%e0%b8%a9%e0%b8%b1%e0%b8%97-%e0%b8%8b%e0%b8%b5%e0%b8%9e%e0%b8%b5-%e0%b9%81%e0%b8%ad%e0%b9%87%e0%b8%81%e0%b8%8b%e0%b9%8c%e0%b8%95%e0%b8%a3%e0%b9%89%e0%b8%b2-%e0%b8%88-51/
LOCATION:บริษัท ซีพี แอ็กซ์ตร้า จำกัด (มหาชน) สาขาลาดพร้าว\, แม็คโคร ลาดพร้าว 3498 ถนนลาดพร้าว แขวงคลองจั่น เขตบางกะปิ กรุงเทพมหานคร 10240
CATEGORIES:ปฏิทินตารางหน่วยเคลื่อนที่
END:VEVENT
BEGIN:VEVENT
DTSTART;TZID=Asia/Krasnoyarsk:20260327T120000
DTEND;TZID=Asia/Krasnoyarsk:20260327T180000
DTSTAMP:20260420T071859
CREATED:20260325T042106Z
LAST-MODIFIED:20260325T042106Z
UID:10006234-1774612800-1774634400@thaibloodcentre.redcross.or.th
SUMMARY:ศูนย์การค้าเดอะมอลล์ไลฟ์สโตร์ ท่าพระ [0E0344]
DESCRIPTION:สถานที่เจาะ : ชั้น 1 (ติดลานจอดรถ) \nที่อยู่ : 99 ถนนรัชดาท่าพระตัดใหม่ แขวงบุคคโล เขตธนบุรี กรุงเทพฯ  \nโทร : 0 2469-1000
URL:https://thaibloodcentre.redcross.or.th/event/%e0%b8%a8%e0%b8%b9%e0%b8%99%e0%b8%a2%e0%b9%8c%e0%b8%81%e0%b8%b2%e0%b8%a3%e0%b8%84%e0%b9%89%e0%b8%b2%e0%b9%80%e0%b8%94%e0%b8%ad%e0%b8%b0%e0%b8%a1%e0%b8%ad%e0%b8%a5%e0%b8%a5%e0%b9%8c%e0%b9%84-1604/
LOCATION:ศูนย์การค้าเดอะมอลล์ไลฟ์สโตร์ ท่าพระ\, เดอะมอลล์ไลฟ์สโตร์ ท่าพระ 129 ถ. รัชดาภิเษก แขวงบุคคโล เขตธนบุรี กรุงเทพมหานคร 10600
CATEGORIES:ปฏิทินตารางหน่วยเคลื่อนที่
END:VEVENT
BEGIN:VEVENT
DTSTART;TZID=Asia/Krasnoyarsk:20260327T120000
DTEND;TZID=Asia/Krasnoyarsk:20260327T180000
DTSTAMP:20260420T071859
CREATED:20260325T041951Z
LAST-MODIFIED:20260325T041951Z
UID:10006233-1774612800-1774634400@thaibloodcentre.redcross.or.th
SUMMARY:ศูนย์การค้า เอ็มโพเรียม [0E0947]
DESCRIPTION:สถานที่เจาะ : ชั้น M ศูนย์การค้า ดิ เอ็มโพเรียม เชื่อมลานจอดรถอาคาร B \nที่อยู่ : 622 ถนนสุขุมวิท แขวงคลองตัน เขตคลองเตย กรุงเทพฯ  \nโทร : 0 2269 1515
URL:https://thaibloodcentre.redcross.or.th/event/%e0%b8%a8%e0%b8%b9%e0%b8%99%e0%b8%a2%e0%b9%8c%e0%b8%81%e0%b8%b2%e0%b8%a3%e0%b8%84%e0%b9%89%e0%b8%b2-%e0%b9%80%e0%b8%ad%e0%b9%87%e0%b8%a1%e0%b9%82%e0%b8%9e%e0%b9%80%e0%b8%a3%e0%b8%b5%e0%b8%a2-397/
LOCATION:ศูนย์การค้า เอ็มโพเรียม\, เอ็มโพเรียม 622 ถ. สุขุมวิท แขวงคลองตัน เขตคลองเตย กรุงเทพมหานคร 10110
CATEGORIES:ปฏิทินตารางหน่วยเคลื่อนที่
END:VEVENT
BEGIN:VEVENT
DTSTART;TZID=Asia/Krasnoyarsk:20260327T120000
DTEND;TZID=Asia/Krasnoyarsk:20260327T180000
DTSTAMP:20260420T071859
CREATED:20260325T041938Z
LAST-MODIFIED:20260325T041938Z
UID:10006232-1774612800-1774634400@thaibloodcentre.redcross.or.th
SUMMARY:ศูนย์การค้าเดอะมอลล์ไลฟ์สโตร์ งามวงศ์วาน [0E0948]
DESCRIPTION:สถานที่เจาะ : ชั้น 5 โซน Government Center \nที่อยู่ : ถนนงามวงศ์วาน ต.บางเขน อ.เมือง จ.นนทบุรี  \nโทร : 0 2555 1550
URL:https://thaibloodcentre.redcross.or.th/event/%e0%b8%a8%e0%b8%b9%e0%b8%99%e0%b8%a2%e0%b9%8c%e0%b8%81%e0%b8%b2%e0%b8%a3%e0%b8%84%e0%b9%89%e0%b8%b2%e0%b9%80%e0%b8%94%e0%b8%ad%e0%b8%b0%e0%b8%a1%e0%b8%ad%e0%b8%a5%e0%b8%a5%e0%b9%8c%e0%b9%84-1603/
LOCATION:ศูนย์การค้าเดอะมอลล์ไลฟ์สโตร์ งามวงศ์วาน\, เดอะมอลล์ ไลฟ์สโตร์ งามวงศ์วาน 430 ถนน งามวงศ์วาน ตำบลบางเขน อำเภอเมืองนนทบุรี นนทบุรี 11000
CATEGORIES:ปฏิทินตารางหน่วยเคลื่อนที่
END:VEVENT
BEGIN:VEVENT
DTSTART;TZID=Asia/Krasnoyarsk:20260327T120000
DTEND;TZID=Asia/Krasnoyarsk:20260327T180000
DTSTAMP:20260420T071859
CREATED:20260325T041925Z
LAST-MODIFIED:20260325T041925Z
UID:10006231-1774612800-1774634400@thaibloodcentre.redcross.or.th
SUMMARY:ศูนย์การค้าเดอะมอลล์ไลฟ์สโตร์ บางกะปิ [0E0941]
DESCRIPTION:สถานที่เจาะ : ชั้น 2 ทางออกลานจอดรถ \nที่อยู่ : ถนนลาดพร้าว แขวงคลองจั่น เขตบางกะปิ กรุงเทพฯ  \nโทร : 0 2310 2278
URL:https://thaibloodcentre.redcross.or.th/event/%e0%b8%a8%e0%b8%b9%e0%b8%99%e0%b8%a2%e0%b9%8c%e0%b8%81%e0%b8%b2%e0%b8%a3%e0%b8%84%e0%b9%89%e0%b8%b2%e0%b9%80%e0%b8%94%e0%b8%ad%e0%b8%b0%e0%b8%a1%e0%b8%ad%e0%b8%a5%e0%b8%a5%e0%b9%8c%e0%b9%84-1602/
LOCATION:ศูนย์การค้าเดอะมอลล์ไลฟ์สโตร์ บางกะปิ\, เดอะมอลล์ไลฟ์สโตร์ บางกะปิ 3522 ถ. ลาดพร้าว แขวงคลองจั่น เขตบางกะปิ กรุงเทพมหานคร 10240
CATEGORIES:ปฏิทินตารางหน่วยเคลื่อนที่
END:VEVENT
BEGIN:VEVENT
DTSTART;TZID=Asia/Krasnoyarsk:20260327T120000
DTEND;TZID=Asia/Krasnoyarsk:20260327T180000
DTSTAMP:20260420T071859
CREATED:20260325T041910Z
LAST-MODIFIED:20260325T041910Z
UID:10006230-1774612800-1774634400@thaibloodcentre.redcross.or.th
SUMMARY:ศูนย์การค้าเดอะมอลล์ไลฟ์สโตร์ บางแค [0E0942]
DESCRIPTION:สถานที่เจาะ : ชั้น 3 ตรงข้ามร้านโอ้กะจู๋ \nที่อยู่ : ถนนเพชรเกษม แขวงบางแคเหนือ เขตภาษีเจริญ กรุงเทพฯ  \nโทร : 02 487 1221
URL:https://thaibloodcentre.redcross.or.th/event/%e0%b8%a8%e0%b8%b9%e0%b8%99%e0%b8%a2%e0%b9%8c%e0%b8%81%e0%b8%b2%e0%b8%a3%e0%b8%84%e0%b9%89%e0%b8%b2%e0%b9%80%e0%b8%94%e0%b8%ad%e0%b8%b0%e0%b8%a1%e0%b8%ad%e0%b8%a5%e0%b8%a5%e0%b9%8c%e0%b9%84-1601/
LOCATION:ศูนย์การค้าเดอะมอลล์ไลฟ์สโตร์ บางแค\, ศูนย์การค้าเดอะมอลล์ไลฟ์สโตร์ บางแค
CATEGORIES:ปฏิทินตารางหน่วยเคลื่อนที่
END:VEVENT
END:VCALENDAR