BEGIN:VCALENDAR
VERSION:2.0
PRODID:-//เว็บไซต์ศูนย์บริการโลหิตแห่งชาติ - ECPv6.11.2.1//NONSGML v1.0//EN
CALSCALE:GREGORIAN
METHOD:PUBLISH
X-WR-CALNAME:เว็บไซต์ศูนย์บริการโลหิตแห่งชาติ
X-ORIGINAL-URL:https://thaibloodcentre.redcross.or.th
X-WR-CALDESC:Events for เว็บไซต์ศูนย์บริการโลหิตแห่งชาติ
REFRESH-INTERVAL;VALUE=DURATION:PT1H
X-Robots-Tag:noindex
X-PUBLISHED-TTL:PT1H
BEGIN:VTIMEZONE
TZID:Asia/Krasnoyarsk
BEGIN:STANDARD
TZOFFSETFROM:+0700
TZOFFSETTO:+0700
TZNAME:+07
DTSTART:20250101T000000
END:STANDARD
END:VTIMEZONE
BEGIN:VEVENT
DTSTART;TZID=Asia/Krasnoyarsk:20251228T120000
DTEND;TZID=Asia/Krasnoyarsk:20251228T180000
DTSTAMP:20260426T105008
CREATED:20251223T144856Z
LAST-MODIFIED:20251224T082420Z
UID:10004891-1766923200-1766944800@thaibloodcentre.redcross.or.th
SUMMARY:ศูนย์การค้าเดอะมอลล์ไลฟ์สโตร์ ท่าพระ []
DESCRIPTION:สถานที่เจาะ : ชั้น 1 (ติดลานจอดรถ) \nที่อยู่ : 99 ถนนรัชดาท่าพระตัดใหม่ แขวงบุคคโล เขตธนบุรี กรุงเทพฯ 0 2469-1000
URL:https://thaibloodcentre.redcross.or.th/event/%e0%b8%a8%e0%b8%b9%e0%b8%99%e0%b8%a2%e0%b9%8c%e0%b8%81%e0%b8%b2%e0%b8%a3%e0%b8%84%e0%b9%89%e0%b8%b2%e0%b9%80%e0%b8%94%e0%b8%ad%e0%b8%b0%e0%b8%a1%e0%b8%ad%e0%b8%a5%e0%b8%a5%e0%b9%8c%e0%b9%84-1214/
LOCATION:ศูนย์การค้าเดอะมอลล์ไลฟ์สโตร์ ท่าพระ\, เดอะมอลล์ไลฟ์สโตร์ ท่าพระ 129 ถ. รัชดาภิเษก แขวงบุคคโล เขตธนบุรี กรุงเทพมหานคร 10600
CATEGORIES:ปฏิทินตารางหน่วยเคลื่อนที่
END:VEVENT
BEGIN:VEVENT
DTSTART;TZID=Asia/Krasnoyarsk:20251228T120000
DTEND;TZID=Asia/Krasnoyarsk:20251228T180000
DTSTAMP:20260426T105009
CREATED:20251223T144729Z
LAST-MODIFIED:20251224T082221Z
UID:10004890-1766923200-1766944800@thaibloodcentre.redcross.or.th
SUMMARY:ศูนย์การค้า เอ็มโพเรียม []
DESCRIPTION:สถานที่เจาะ : ชั้น M ศูนย์การค้า ดิ เอ็มโพเรียม เชื่อมลานจอดรถอาคาร B \nที่อยู่ : 622 ถนนสุขุมวิท แขวงคลองตัน เขตคลองเตย กรุงเทพฯ 0 2269 1515
URL:https://thaibloodcentre.redcross.or.th/event/%e0%b8%a8%e0%b8%b9%e0%b8%99%e0%b8%a2%e0%b9%8c%e0%b8%81%e0%b8%b2%e0%b8%a3%e0%b8%84%e0%b9%89%e0%b8%b2-%e0%b9%80%e0%b8%ad%e0%b9%87%e0%b8%a1%e0%b9%82%e0%b8%9e%e0%b9%80%e0%b8%a3%e0%b8%b5%e0%b8%a2-299/
LOCATION:ศูนย์การค้า เอ็มโพเรียม\, เอ็มโพเรียม 622 ถ. สุขุมวิท แขวงคลองตัน เขตคลองเตย กรุงเทพมหานคร 10110
CATEGORIES:ปฏิทินตารางหน่วยเคลื่อนที่
END:VEVENT
BEGIN:VEVENT
DTSTART;TZID=Asia/Krasnoyarsk:20251228T120000
DTEND;TZID=Asia/Krasnoyarsk:20251228T180000
DTSTAMP:20260426T105009
CREATED:20251223T144719Z
LAST-MODIFIED:20251224T082221Z
UID:10004889-1766923200-1766944800@thaibloodcentre.redcross.or.th
SUMMARY:ศูนย์การค้าเดอะมอลล์ไลฟ์สโตร์ งามวงศ์วาน []
DESCRIPTION:สถานที่เจาะ : ชั้น 5 โซน Government Center \nที่อยู่ : ถนนงามวงศ์วาน ต.บางเขน อ.เมือง จ.นนทบุรี 0 2555 1550
URL:https://thaibloodcentre.redcross.or.th/event/%e0%b8%a8%e0%b8%b9%e0%b8%99%e0%b8%a2%e0%b9%8c%e0%b8%81%e0%b8%b2%e0%b8%a3%e0%b8%84%e0%b9%89%e0%b8%b2%e0%b9%80%e0%b8%94%e0%b8%ad%e0%b8%b0%e0%b8%a1%e0%b8%ad%e0%b8%a5%e0%b8%a5%e0%b9%8c%e0%b9%84-1213/
LOCATION:ศูนย์การค้าเดอะมอลล์ไลฟ์สโตร์ งามวงศ์วาน\, เดอะมอลล์ ไลฟ์สโตร์ งามวงศ์วาน 430 ถนน งามวงศ์วาน ตำบลบางเขน อำเภอเมืองนนทบุรี นนทบุรี 11000
CATEGORIES:ปฏิทินตารางหน่วยเคลื่อนที่
END:VEVENT
BEGIN:VEVENT
DTSTART;TZID=Asia/Krasnoyarsk:20251228T120000
DTEND;TZID=Asia/Krasnoyarsk:20251228T180000
DTSTAMP:20260426T105009
CREATED:20251223T144710Z
LAST-MODIFIED:20251224T082220Z
UID:10004888-1766923200-1766944800@thaibloodcentre.redcross.or.th
SUMMARY:ศูนย์การค้าเดอะมอลล์ไลฟ์สโตร์ บางกะปิ []
DESCRIPTION:สถานที่เจาะ : ชั้น 2 ทางออกลานจอดรถ \nที่อยู่ : ถนนลาดพร้าว แขวงคลองจั่น เขตบางกะปิ กรุงเทพฯ 0 2310 2278
URL:https://thaibloodcentre.redcross.or.th/event/%e0%b8%a8%e0%b8%b9%e0%b8%99%e0%b8%a2%e0%b9%8c%e0%b8%81%e0%b8%b2%e0%b8%a3%e0%b8%84%e0%b9%89%e0%b8%b2%e0%b9%80%e0%b8%94%e0%b8%ad%e0%b8%b0%e0%b8%a1%e0%b8%ad%e0%b8%a5%e0%b8%a5%e0%b9%8c%e0%b9%84-1212/
LOCATION:ศูนย์การค้าเดอะมอลล์ไลฟ์สโตร์ บางกะปิ\, เดอะมอลล์ไลฟ์สโตร์ บางกะปิ 3522 ถ. ลาดพร้าว แขวงคลองจั่น เขตบางกะปิ กรุงเทพมหานคร 10240
CATEGORIES:ปฏิทินตารางหน่วยเคลื่อนที่
END:VEVENT
BEGIN:VEVENT
DTSTART;TZID=Asia/Krasnoyarsk:20251228T120000
DTEND;TZID=Asia/Krasnoyarsk:20251228T180000
DTSTAMP:20260426T105009
CREATED:20251223T144700Z
LAST-MODIFIED:20251224T082219Z
UID:10004887-1766923200-1766944800@thaibloodcentre.redcross.or.th
SUMMARY:ศูนย์การค้าเดอะมอลล์ไลฟ์สโตร์ บางแค []
DESCRIPTION:สถานที่เจาะ : ชั้น 3 ตรงข้ามร้านโอ้กะจู๋ \nที่อยู่ : ถนนเพชรเกษม แขวงบางแคเหนือ เขตภาษีเจริญ กรุงเทพฯ 02 487 1221
URL:https://thaibloodcentre.redcross.or.th/event/%e0%b8%a8%e0%b8%b9%e0%b8%99%e0%b8%a2%e0%b9%8c%e0%b8%81%e0%b8%b2%e0%b8%a3%e0%b8%84%e0%b9%89%e0%b8%b2%e0%b9%80%e0%b8%94%e0%b8%ad%e0%b8%b0%e0%b8%a1%e0%b8%ad%e0%b8%a5%e0%b8%a5%e0%b9%8c%e0%b9%84-1211/
LOCATION:ศูนย์การค้าเดอะมอลล์ไลฟ์สโตร์ บางแค\, ศูนย์การค้าเดอะมอลล์ไลฟ์สโตร์ บางแค
CATEGORIES:ปฏิทินตารางหน่วยเคลื่อนที่
END:VEVENT
BEGIN:VEVENT
DTSTART;TZID=Asia/Krasnoyarsk:20251228T110000
DTEND;TZID=Asia/Krasnoyarsk:20251228T150000
DTSTAMP:20260426T105009
CREATED:20251223T144914Z
LAST-MODIFIED:20251224T082422Z
UID:10004894-1766919600-1766934000@thaibloodcentre.redcross.or.th
SUMMARY:บิ๊กซี ซูเปอร์เซ็นเตอร์ สาขาธนบุรี-ปากท่อ []
DESCRIPTION:สถานที่เจาะ : ด้านหน้าห้าง \nที่อยู่ : 127 ถนนพระราม 2 แขวงแสมดำ เขตบางขุนเทียน กรุงเทพฯ 0 2895 7600
URL:https://thaibloodcentre.redcross.or.th/event/%e0%b8%9a%e0%b8%b4%e0%b9%8a%e0%b8%81%e0%b8%8b%e0%b8%b5-%e0%b8%8b%e0%b8%b9%e0%b9%80%e0%b8%9b%e0%b8%ad%e0%b8%a3%e0%b9%8c%e0%b9%80%e0%b8%8b%e0%b9%87%e0%b8%99%e0%b9%80%e0%b8%95%e0%b8%ad%e0%b8%a3-32/
LOCATION:บิ๊กซี ซูเปอร์เซ็นเตอร์ สาขาธนบุรี-ปากท่อ\, บิ๊กซี ซูเปอร์เซ็นเตอร์ สาขาธนบุรี-ปากท่อ 127 ถนนพระรามที่ 2 แขวงแสมดำ เขตบางขุนเทียน กรุงเทพมหานคร 10150
CATEGORIES:ปฏิทินตารางหน่วยเคลื่อนที่
END:VEVENT
BEGIN:VEVENT
DTSTART;TZID=Asia/Krasnoyarsk:20251228T090000
DTEND;TZID=Asia/Krasnoyarsk:20251228T150000
DTSTAMP:20260426T105009
CREATED:20251223T144909Z
LAST-MODIFIED:20251224T082421Z
UID:10004893-1766912400-1766934000@thaibloodcentre.redcross.or.th
SUMMARY:บ้านทรงไทย (ย่านวงศ์สว่าง) []
DESCRIPTION:สถานที่เจาะ : (พัก 12.30-13.00 น.) \nที่อยู่ : 1423 ถนนกรุงเทพ – นนทบุรี แขวงวงศ์สว่าง เขตบางซื่อ กรุงเทพฯ 0 2256 4300
URL:https://thaibloodcentre.redcross.or.th/event/%e0%b8%9a%e0%b9%89%e0%b8%b2%e0%b8%99%e0%b8%97%e0%b8%a3%e0%b8%87%e0%b9%84%e0%b8%97%e0%b8%a2-%e0%b8%a2%e0%b9%88%e0%b8%b2%e0%b8%99%e0%b8%a7%e0%b8%87%e0%b8%a8%e0%b9%8c%e0%b8%aa%e0%b8%a7%e0%b9%88-301/
LOCATION:บ้านทรงไทย (ย่านวงศ์สว่าง)\, หน่วยรับบริจาคโลหิต บ้านทรงไทย(ย่านวงศ์สว่าง) 1423 ถนนกรุงเทพ-นนทบุรี แขวงวงศ์สว่าง เขตบางซื่อ กรุงเทพมหานคร 10800
CATEGORIES:ปฏิทินตารางหน่วยเคลื่อนที่
END:VEVENT
BEGIN:VEVENT
DTSTART;TZID=Asia/Krasnoyarsk:20251228T083000
DTEND;TZID=Asia/Krasnoyarsk:20251228T153000
DTSTAMP:20260426T105009
CREATED:20251223T144907Z
LAST-MODIFIED:20251224T082421Z
UID:10004892-1766910600-1766935800@thaibloodcentre.redcross.or.th
SUMMARY:สถานีกาชาด 11 วิเศษนิยม []
DESCRIPTION:สถานที่เจาะ : ชั้น 3 \nที่อยู่ : 33/3 ถนนเพชรเกษม แขวงบางหว้า เขตภาษีเจริญ กรุงเทพฯ 0633450711
URL:https://thaibloodcentre.redcross.or.th/event/%e0%b8%aa%e0%b8%96%e0%b8%b2%e0%b8%99%e0%b8%b5%e0%b8%81%e0%b8%b2%e0%b8%8a%e0%b8%b2%e0%b8%94-11-%e0%b8%a7%e0%b8%b4%e0%b9%80%e0%b8%a8%e0%b8%a9%e0%b8%99%e0%b8%b4%e0%b8%a2%e0%b8%a1-125/
LOCATION:สถานีกาชาด 11 วิเศษนิยม\, สถานีกาชาด 11 วิเศษนิยม 605 ถ.เพชรเกษม แขวงบางหว้า เขตภาษีเจริญ กรุงเทพมหานคร 10160
CATEGORIES:ปฏิทินตารางหน่วยเคลื่อนที่
END:VEVENT
BEGIN:VEVENT
DTSTART;TZID=Asia/Krasnoyarsk:20251228T083000
DTEND;TZID=Asia/Krasnoyarsk:20251228T153000
DTSTAMP:20260426T105009
CREATED:20251223T144655Z
LAST-MODIFIED:20251224T082218Z
UID:10004886-1766910600-1766935800@thaibloodcentre.redcross.or.th
SUMMARY:ศูนย์บริการโลหิตแห่งชาติ สภากาชาดไทย []
DESCRIPTION:ที่อยู่ : 1871 ถ. อังรีดูนังต์ แขวงปทุมวัน เขตปทุมวัน
URL:https://thaibloodcentre.redcross.or.th/event/%e0%b8%a8%e0%b8%b9%e0%b8%99%e0%b8%a2%e0%b9%8c%e0%b8%9a%e0%b8%a3%e0%b8%b4%e0%b8%81%e0%b8%b2%e0%b8%a3%e0%b9%82%e0%b8%a5%e0%b8%ab%e0%b8%b4%e0%b8%95%e0%b9%81%e0%b8%ab%e0%b9%88%e0%b8%87%e0%b8%8a-383/
LOCATION:ศูนย์บริการโลหิตแห่งชาติ สภากาชาดไทย\, ศูนย์บริการโลหิตแห่งชาติ สภากาชาดไทย 1871 ถ. อังรีดูนังต์ แขวงปทุมวัน เขตปทุมวัน กรุงเทพมหานคร 10330
CATEGORIES:ปฏิทินตารางหน่วยเคลื่อนที่
END:VEVENT
BEGIN:VEVENT
DTSTART;TZID=Asia/Krasnoyarsk:20251228T083000
DTEND;TZID=Asia/Krasnoyarsk:20251228T140000
DTSTAMP:20260426T105009
CREATED:20251223T144916Z
LAST-MODIFIED:20251224T082423Z
UID:10004895-1766910600-1766930400@thaibloodcentre.redcross.or.th
SUMMARY:วัดหนามแดง []
DESCRIPTION:สถานที่เจาะ : หอประชุม \nที่อยู่ : 21 ม. 3 ซ.วัดหนามแดง ถ.เทพารักษ์ ต.บางแก้ว อ.บางพลี จ.สมุทรปราการ 0 2385 2738
URL:https://thaibloodcentre.redcross.or.th/event/%e0%b8%a7%e0%b8%b1%e0%b8%94%e0%b8%ab%e0%b8%99%e0%b8%b2%e0%b8%a1%e0%b9%81%e0%b8%94%e0%b8%87-2/
LOCATION:วัดหนามแดง\, วัดหนามแดง 21 ม.3 ซ.วัดหนามแดง ถ.เทพารักษ์ ต.บางแก้ว อ.บางพลี จ.สมุทรปราการ 10540
CATEGORIES:ปฏิทินตารางหน่วยเคลื่อนที่
END:VEVENT
BEGIN:VEVENT
DTSTART;TZID=Asia/Krasnoyarsk:20251227T120000
DTEND;TZID=Asia/Krasnoyarsk:20251227T180000
DTSTAMP:20260426T105009
CREATED:20251223T144315Z
LAST-MODIFIED:20251224T082134Z
UID:10004879-1766836800-1766858400@thaibloodcentre.redcross.or.th
SUMMARY:ศูนย์การค้าเดอะมอลล์ไลฟ์สโตร์ ท่าพระ []
DESCRIPTION:สถานที่เจาะ : ชั้น 1 (ติดลานจอดรถ) \nที่อยู่ : 99 ถนนรัชดาท่าพระตัดใหม่ แขวงบุคคโล เขตธนบุรี กรุงเทพฯ 0 2469-1000
URL:https://thaibloodcentre.redcross.or.th/event/%e0%b8%a8%e0%b8%b9%e0%b8%99%e0%b8%a2%e0%b9%8c%e0%b8%81%e0%b8%b2%e0%b8%a3%e0%b8%84%e0%b9%89%e0%b8%b2%e0%b9%80%e0%b8%94%e0%b8%ad%e0%b8%b0%e0%b8%a1%e0%b8%ad%e0%b8%a5%e0%b8%a5%e0%b9%8c%e0%b9%84-1210/
LOCATION:ศูนย์การค้าเดอะมอลล์ไลฟ์สโตร์ ท่าพระ\, เดอะมอลล์ไลฟ์สโตร์ ท่าพระ 129 ถ. รัชดาภิเษก แขวงบุคคโล เขตธนบุรี กรุงเทพมหานคร 10600
CATEGORIES:ปฏิทินตารางหน่วยเคลื่อนที่
END:VEVENT
BEGIN:VEVENT
DTSTART;TZID=Asia/Krasnoyarsk:20251227T120000
DTEND;TZID=Asia/Krasnoyarsk:20251227T180000
DTSTAMP:20260426T105009
CREATED:20251223T144311Z
LAST-MODIFIED:20251224T082133Z
UID:10004878-1766836800-1766858400@thaibloodcentre.redcross.or.th
SUMMARY:ศูนย์การค้า เอ็มโพเรียม []
DESCRIPTION:สถานที่เจาะ : ชั้น M ศูนย์การค้า ดิ เอ็มโพเรียม เชื่อมลานจอดรถอาคาร B \nที่อยู่ : 622 ถนนสุขุมวิท แขวงคลองตัน เขตคลองเตย กรุงเทพฯ 0 2269 1515
URL:https://thaibloodcentre.redcross.or.th/event/%e0%b8%a8%e0%b8%b9%e0%b8%99%e0%b8%a2%e0%b9%8c%e0%b8%81%e0%b8%b2%e0%b8%a3%e0%b8%84%e0%b9%89%e0%b8%b2-%e0%b9%80%e0%b8%ad%e0%b9%87%e0%b8%a1%e0%b9%82%e0%b8%9e%e0%b9%80%e0%b8%a3%e0%b8%b5%e0%b8%a2-298/
LOCATION:ศูนย์การค้า เอ็มโพเรียม\, เอ็มโพเรียม 622 ถ. สุขุมวิท แขวงคลองตัน เขตคลองเตย กรุงเทพมหานคร 10110
CATEGORIES:ปฏิทินตารางหน่วยเคลื่อนที่
END:VEVENT
BEGIN:VEVENT
DTSTART;TZID=Asia/Krasnoyarsk:20251227T120000
DTEND;TZID=Asia/Krasnoyarsk:20251227T180000
DTSTAMP:20260426T105009
CREATED:20251223T144302Z
LAST-MODIFIED:20251224T082132Z
UID:10004877-1766836800-1766858400@thaibloodcentre.redcross.or.th
SUMMARY:ศูนย์การค้าเดอะมอลล์ไลฟ์สโตร์ งามวงศ์วาน []
DESCRIPTION:สถานที่เจาะ : ชั้น 5 โซน Government Center \nที่อยู่ : ถนนงามวงศ์วาน ต.บางเขน อ.เมือง จ.นนทบุรี 0 2555 1550
URL:https://thaibloodcentre.redcross.or.th/event/%e0%b8%a8%e0%b8%b9%e0%b8%99%e0%b8%a2%e0%b9%8c%e0%b8%81%e0%b8%b2%e0%b8%a3%e0%b8%84%e0%b9%89%e0%b8%b2%e0%b9%80%e0%b8%94%e0%b8%ad%e0%b8%b0%e0%b8%a1%e0%b8%ad%e0%b8%a5%e0%b8%a5%e0%b9%8c%e0%b9%84-1209/
LOCATION:ศูนย์การค้าเดอะมอลล์ไลฟ์สโตร์ งามวงศ์วาน\, เดอะมอลล์ ไลฟ์สโตร์ งามวงศ์วาน 430 ถนน งามวงศ์วาน ตำบลบางเขน อำเภอเมืองนนทบุรี นนทบุรี 11000
CATEGORIES:ปฏิทินตารางหน่วยเคลื่อนที่
END:VEVENT
BEGIN:VEVENT
DTSTART;TZID=Asia/Krasnoyarsk:20251227T120000
DTEND;TZID=Asia/Krasnoyarsk:20251227T180000
DTSTAMP:20260426T105009
CREATED:20251223T144254Z
LAST-MODIFIED:20251224T082131Z
UID:10004876-1766836800-1766858400@thaibloodcentre.redcross.or.th
SUMMARY:ศูนย์การค้าเดอะมอลล์ไลฟ์สโตร์ บางกะปิ []
DESCRIPTION:สถานที่เจาะ : ชั้น 2 ทางออกลานจอดรถ \nที่อยู่ : ถนนลาดพร้าว แขวงคลองจั่น เขตบางกะปิ กรุงเทพฯ 0 2310 2278
URL:https://thaibloodcentre.redcross.or.th/event/%e0%b8%a8%e0%b8%b9%e0%b8%99%e0%b8%a2%e0%b9%8c%e0%b8%81%e0%b8%b2%e0%b8%a3%e0%b8%84%e0%b9%89%e0%b8%b2%e0%b9%80%e0%b8%94%e0%b8%ad%e0%b8%b0%e0%b8%a1%e0%b8%ad%e0%b8%a5%e0%b8%a5%e0%b9%8c%e0%b9%84-1208/
LOCATION:ศูนย์การค้าเดอะมอลล์ไลฟ์สโตร์ บางกะปิ\, เดอะมอลล์ไลฟ์สโตร์ บางกะปิ 3522 ถ. ลาดพร้าว แขวงคลองจั่น เขตบางกะปิ กรุงเทพมหานคร 10240
CATEGORIES:ปฏิทินตารางหน่วยเคลื่อนที่
END:VEVENT
BEGIN:VEVENT
DTSTART;TZID=Asia/Krasnoyarsk:20251227T120000
DTEND;TZID=Asia/Krasnoyarsk:20251227T180000
DTSTAMP:20260426T105009
CREATED:20251223T144237Z
LAST-MODIFIED:20251224T082120Z
UID:10004875-1766836800-1766858400@thaibloodcentre.redcross.or.th
SUMMARY:ศูนย์การค้าเดอะมอลล์ไลฟ์สโตร์ บางแค []
DESCRIPTION:สถานที่เจาะ : ชั้น 3 ตรงข้ามร้านโอ้กะจู๋ \nที่อยู่ : ถนนเพชรเกษม แขวงบางแคเหนือ เขตภาษีเจริญ กรุงเทพฯ 02 487 1221
URL:https://thaibloodcentre.redcross.or.th/event/%e0%b8%a8%e0%b8%b9%e0%b8%99%e0%b8%a2%e0%b9%8c%e0%b8%81%e0%b8%b2%e0%b8%a3%e0%b8%84%e0%b9%89%e0%b8%b2%e0%b9%80%e0%b8%94%e0%b8%ad%e0%b8%b0%e0%b8%a1%e0%b8%ad%e0%b8%a5%e0%b8%a5%e0%b9%8c%e0%b9%84-1207/
LOCATION:ศูนย์การค้าเดอะมอลล์ไลฟ์สโตร์ บางแค\, ศูนย์การค้าเดอะมอลล์ไลฟ์สโตร์ บางแค
CATEGORIES:ปฏิทินตารางหน่วยเคลื่อนที่
END:VEVENT
BEGIN:VEVENT
DTSTART;TZID=Asia/Krasnoyarsk:20251227T110000
DTEND;TZID=Asia/Krasnoyarsk:20251227T150000
DTSTAMP:20260426T105009
CREATED:20251223T144508Z
LAST-MODIFIED:20251224T082206Z
UID:10004885-1766833200-1766847600@thaibloodcentre.redcross.or.th
SUMMARY:บิ๊กซี ซูเปอร์เซ็นเตอร์ สาขาบางพลี []
DESCRIPTION:สถานที่เจาะ : หน้าห้างตรงข้ามจุดจอดแท็กซี่ \nที่อยู่ : 89 ม.9 ต.บางพลีใหญ่ อ.บางพลี จ.สมุทรปราการ 0 2750 7600
URL:https://thaibloodcentre.redcross.or.th/event/%e0%b8%9a%e0%b8%b4%e0%b9%8a%e0%b8%81%e0%b8%8b%e0%b8%b5-%e0%b8%8b%e0%b8%b9%e0%b9%80%e0%b8%9b%e0%b8%ad%e0%b8%a3%e0%b9%8c%e0%b9%80%e0%b8%8b%e0%b9%87%e0%b8%99%e0%b9%80%e0%b8%95%e0%b8%ad%e0%b8%a3-31/
LOCATION:บิ๊กซี ซูเปอร์เซ็นเตอร์ สาขาบางพลี\, บิ๊กซี ซูเปอร์เซ็นเตอร์ สาขาบางพลี 89 ม.9 ถ.เทพารักษ์ ต.บางพลีใหญ่ อ.บางพลี จ.สมุทรปราการ 10540
CATEGORIES:ปฏิทินตารางหน่วยเคลื่อนที่
END:VEVENT
BEGIN:VEVENT
DTSTART;TZID=Asia/Krasnoyarsk:20251227T110000
DTEND;TZID=Asia/Krasnoyarsk:20251227T150000
DTSTAMP:20260426T105009
CREATED:20251223T144505Z
LAST-MODIFIED:20251224T082206Z
UID:10004884-1766833200-1766847600@thaibloodcentre.redcross.or.th
SUMMARY:เพอร์เฟค มาสเตอร์พีซ รามคำแหง []
DESCRIPTION:สถานที่เจาะ : หน้าสโมสรมาสเตอร์คลับ รามคำแหง เฟส 4 \nที่อยู่ : 99 ถนนรามคำแหง 164 แขวงมีนบุรี เขตมีนบุรี กรุงเทพฯ
URL:https://thaibloodcentre.redcross.or.th/event/%e0%b9%80%e0%b8%9e%e0%b8%ad%e0%b8%a3%e0%b9%8c%e0%b9%80%e0%b8%9f%e0%b8%84-%e0%b8%a1%e0%b8%b2%e0%b8%aa%e0%b9%80%e0%b8%95%e0%b8%ad%e0%b8%a3%e0%b9%8c%e0%b8%9e%e0%b8%b5%e0%b8%8b-%e0%b8%a3%e0%b8%b2-4/
LOCATION:เพอร์เฟค มาสเตอร์พีซ รามคำแหง\, เพอร์เฟค มาสเตอร์พีซ เซ็นจูรี่ รามคำแหง 99 รามคำแหง164 แขวงสะพานสูง เขตสะพานสูง กรุงเทพมหานคร 10240
CATEGORIES:ปฏิทินตารางหน่วยเคลื่อนที่
END:VEVENT
BEGIN:VEVENT
DTSTART;TZID=Asia/Krasnoyarsk:20251227T110000
DTEND;TZID=Asia/Krasnoyarsk:20251227T150000
DTSTAMP:20260426T105009
CREATED:20251223T144502Z
LAST-MODIFIED:20251224T082205Z
UID:10004883-1766833200-1766847600@thaibloodcentre.redcross.or.th
SUMMARY:ศูนย์การค้าเดอะพรอมานาด []
DESCRIPTION:สถานที่เจาะ : ชั้น 4 ฝั่ง Fitness และมคลินทร์ฯ \nที่อยู่ : 587\,589\,589/7-9 ถนนรามอินทรา แขวงคันนายาว เขตคันนายาว กรุงเทพฯ 0 2947 5000
URL:https://thaibloodcentre.redcross.or.th/event/%e0%b8%a8%e0%b8%b9%e0%b8%99%e0%b8%a2%e0%b9%8c%e0%b8%81%e0%b8%b2%e0%b8%a3%e0%b8%84%e0%b9%89%e0%b8%b2%e0%b9%80%e0%b8%94%e0%b8%ad%e0%b8%b0%e0%b8%9e%e0%b8%a3%e0%b8%ad%e0%b8%a1%e0%b8%b2%e0%b8%99-23/
LOCATION:ศูนย์การค้าเดอะพรอมานาด\, ศูนย์การค้าเดอะพรอมานาด 587\,589 589/7-9 ถ.รามอินทรา แขวงคันนายาว เขตคันนายาว กรุงเทพมหานคร 10230
CATEGORIES:ปฏิทินตารางหน่วยเคลื่อนที่
END:VEVENT
BEGIN:VEVENT
DTSTART;TZID=Asia/Krasnoyarsk:20251227T110000
DTEND;TZID=Asia/Krasnoyarsk:20251227T150000
DTSTAMP:20260426T105009
CREATED:20251223T144459Z
LAST-MODIFIED:20251224T082204Z
UID:10004882-1766833200-1766847600@thaibloodcentre.redcross.or.th
SUMMARY:เซ็นทรัลพลาซา บางนา []
DESCRIPTION:สถานที่เจาะ : ด้านหน้า KFC \nที่อยู่ : 1090 ถนนบางนา-ตราด แขวงบางนา เขตบางนา กรุงเทพฯ 0 2763 6000
URL:https://thaibloodcentre.redcross.or.th/event/%e0%b9%80%e0%b8%8b%e0%b9%87%e0%b8%99%e0%b8%97%e0%b8%a3%e0%b8%b1%e0%b8%a5%e0%b8%9e%e0%b8%a5%e0%b8%b2%e0%b8%8b%e0%b8%b2-%e0%b8%9a%e0%b8%b2%e0%b8%87%e0%b8%99%e0%b8%b2-21/
LOCATION:เซ็นทรัลพลาซา บางนา\, เซ็นทรัล บางนา ทางคู่ขนาน ถนนบางนา-ตราด แขวงบางนาเหนือ เขตบางนา กรุงเทพมหานคร 10260
CATEGORIES:ปฏิทินตารางหน่วยเคลื่อนที่
END:VEVENT
BEGIN:VEVENT
DTSTART;TZID=Asia/Krasnoyarsk:20251227T090000
DTEND;TZID=Asia/Krasnoyarsk:20251227T150000
DTSTAMP:20260426T105009
CREATED:20251223T144454Z
LAST-MODIFIED:20251224T082203Z
UID:10004881-1766826000-1766847600@thaibloodcentre.redcross.or.th
SUMMARY:บ้านทรงไทย (ย่านวงศ์สว่าง) []
DESCRIPTION:สถานที่เจาะ : (พัก 12.30-13.00 น.) \nที่อยู่ : 1423 ถนนกรุงเทพ – นนทบุรี แขวงวงศ์สว่าง เขตบางซื่อ กรุงเทพฯ 0 2256 4300
URL:https://thaibloodcentre.redcross.or.th/event/%e0%b8%9a%e0%b9%89%e0%b8%b2%e0%b8%99%e0%b8%97%e0%b8%a3%e0%b8%87%e0%b9%84%e0%b8%97%e0%b8%a2-%e0%b8%a2%e0%b9%88%e0%b8%b2%e0%b8%99%e0%b8%a7%e0%b8%87%e0%b8%a8%e0%b9%8c%e0%b8%aa%e0%b8%a7%e0%b9%88-300/
LOCATION:บ้านทรงไทย (ย่านวงศ์สว่าง)\, หน่วยรับบริจาคโลหิต บ้านทรงไทย(ย่านวงศ์สว่าง) 1423 ถนนกรุงเทพ-นนทบุรี แขวงวงศ์สว่าง เขตบางซื่อ กรุงเทพมหานคร 10800
CATEGORIES:ปฏิทินตารางหน่วยเคลื่อนที่
END:VEVENT
BEGIN:VEVENT
DTSTART;TZID=Asia/Krasnoyarsk:20251227T083000
DTEND;TZID=Asia/Krasnoyarsk:20251227T153000
DTSTAMP:20260426T105009
CREATED:20251223T144324Z
LAST-MODIFIED:20251224T082135Z
UID:10004880-1766824200-1766849400@thaibloodcentre.redcross.or.th
SUMMARY:สถานีกาชาด 11 วิเศษนิยม []
DESCRIPTION:สถานที่เจาะ : ชั้น 3 \nที่อยู่ : 33/3 ถนนเพชรเกษม แขวงบางหว้า เขตภาษีเจริญ กรุงเทพฯ 0633450711
URL:https://thaibloodcentre.redcross.or.th/event/%e0%b8%aa%e0%b8%96%e0%b8%b2%e0%b8%99%e0%b8%b5%e0%b8%81%e0%b8%b2%e0%b8%8a%e0%b8%b2%e0%b8%94-11-%e0%b8%a7%e0%b8%b4%e0%b9%80%e0%b8%a8%e0%b8%a9%e0%b8%99%e0%b8%b4%e0%b8%a2%e0%b8%a1-124/
LOCATION:สถานีกาชาด 11 วิเศษนิยม\, สถานีกาชาด 11 วิเศษนิยม 605 ถ.เพชรเกษม แขวงบางหว้า เขตภาษีเจริญ กรุงเทพมหานคร 10160
CATEGORIES:ปฏิทินตารางหน่วยเคลื่อนที่
END:VEVENT
BEGIN:VEVENT
DTSTART;TZID=Asia/Krasnoyarsk:20251227T083000
DTEND;TZID=Asia/Krasnoyarsk:20251227T153000
DTSTAMP:20260426T105009
CREATED:20251223T144233Z
LAST-MODIFIED:20251224T082119Z
UID:10004874-1766824200-1766849400@thaibloodcentre.redcross.or.th
SUMMARY:ศูนย์บริการโลหิตแห่งชาติ สภากาชาดไทย []
DESCRIPTION:ที่อยู่ : 1871 ถ. อังรีดูนังต์ แขวงปทุมวัน เขตปทุมวัน
URL:https://thaibloodcentre.redcross.or.th/event/%e0%b8%a8%e0%b8%b9%e0%b8%99%e0%b8%a2%e0%b9%8c%e0%b8%9a%e0%b8%a3%e0%b8%b4%e0%b8%81%e0%b8%b2%e0%b8%a3%e0%b9%82%e0%b8%a5%e0%b8%ab%e0%b8%b4%e0%b8%95%e0%b9%81%e0%b8%ab%e0%b9%88%e0%b8%87%e0%b8%8a-382/
LOCATION:ศูนย์บริการโลหิตแห่งชาติ สภากาชาดไทย\, ศูนย์บริการโลหิตแห่งชาติ สภากาชาดไทย 1871 ถ. อังรีดูนังต์ แขวงปทุมวัน เขตปทุมวัน กรุงเทพมหานคร 10330
CATEGORIES:ปฏิทินตารางหน่วยเคลื่อนที่
END:VEVENT
BEGIN:VEVENT
DTSTART;TZID=Asia/Krasnoyarsk:20251226T120000
DTEND;TZID=Asia/Krasnoyarsk:20251226T180000
DTSTAMP:20260426T105009
CREATED:20251223T144148Z
LAST-MODIFIED:20251224T082020Z
UID:10004864-1766750400-1766772000@thaibloodcentre.redcross.or.th
SUMMARY:ศูนย์การค้าเดอะมอลล์ไลฟ์สโตร์ ท่าพระ []
DESCRIPTION:สถานที่เจาะ : ชั้น 1 (ติดลานจอดรถ) \nที่อยู่ : 99 ถนนรัชดาท่าพระตัดใหม่ แขวงบุคคโล เขตธนบุรี กรุงเทพฯ 0 2469-1000
URL:https://thaibloodcentre.redcross.or.th/event/%e0%b8%a8%e0%b8%b9%e0%b8%99%e0%b8%a2%e0%b9%8c%e0%b8%81%e0%b8%b2%e0%b8%a3%e0%b8%84%e0%b9%89%e0%b8%b2%e0%b9%80%e0%b8%94%e0%b8%ad%e0%b8%b0%e0%b8%a1%e0%b8%ad%e0%b8%a5%e0%b8%a5%e0%b9%8c%e0%b9%84-1206/
LOCATION:ศูนย์การค้าเดอะมอลล์ไลฟ์สโตร์ ท่าพระ\, เดอะมอลล์ไลฟ์สโตร์ ท่าพระ 129 ถ. รัชดาภิเษก แขวงบุคคโล เขตธนบุรี กรุงเทพมหานคร 10600
CATEGORIES:ปฏิทินตารางหน่วยเคลื่อนที่
END:VEVENT
BEGIN:VEVENT
DTSTART;TZID=Asia/Krasnoyarsk:20251226T120000
DTEND;TZID=Asia/Krasnoyarsk:20251226T180000
DTSTAMP:20260426T105009
CREATED:20251223T144144Z
LAST-MODIFIED:20251224T082019Z
UID:10004863-1766750400-1766772000@thaibloodcentre.redcross.or.th
SUMMARY:ศูนย์การค้า เอ็มโพเรียม []
DESCRIPTION:สถานที่เจาะ : ชั้น M ศูนย์การค้า ดิ เอ็มโพเรียม เชื่อมลานจอดรถอาคาร B \nที่อยู่ : 622 ถนนสุขุมวิท แขวงคลองตัน เขตคลองเตย กรุงเทพฯ 0 2269 1515
URL:https://thaibloodcentre.redcross.or.th/event/%e0%b8%a8%e0%b8%b9%e0%b8%99%e0%b8%a2%e0%b9%8c%e0%b8%81%e0%b8%b2%e0%b8%a3%e0%b8%84%e0%b9%89%e0%b8%b2-%e0%b9%80%e0%b8%ad%e0%b9%87%e0%b8%a1%e0%b9%82%e0%b8%9e%e0%b9%80%e0%b8%a3%e0%b8%b5%e0%b8%a2-297/
LOCATION:ศูนย์การค้า เอ็มโพเรียม\, เอ็มโพเรียม 622 ถ. สุขุมวิท แขวงคลองตัน เขตคลองเตย กรุงเทพมหานคร 10110
CATEGORIES:ปฏิทินตารางหน่วยเคลื่อนที่
END:VEVENT
BEGIN:VEVENT
DTSTART;TZID=Asia/Krasnoyarsk:20251226T120000
DTEND;TZID=Asia/Krasnoyarsk:20251226T180000
DTSTAMP:20260426T105009
CREATED:20251223T144133Z
LAST-MODIFIED:20251224T082018Z
UID:10004862-1766750400-1766772000@thaibloodcentre.redcross.or.th
SUMMARY:ศูนย์การค้าเดอะมอลล์ไลฟ์สโตร์ งามวงศ์วาน []
DESCRIPTION:สถานที่เจาะ : ชั้น 5 โซน Government Center \nที่อยู่ : ถนนงามวงศ์วาน ต.บางเขน อ.เมือง จ.นนทบุรี 0 2555 1550
URL:https://thaibloodcentre.redcross.or.th/event/%e0%b8%a8%e0%b8%b9%e0%b8%99%e0%b8%a2%e0%b9%8c%e0%b8%81%e0%b8%b2%e0%b8%a3%e0%b8%84%e0%b9%89%e0%b8%b2%e0%b9%80%e0%b8%94%e0%b8%ad%e0%b8%b0%e0%b8%a1%e0%b8%ad%e0%b8%a5%e0%b8%a5%e0%b9%8c%e0%b9%84-1205/
LOCATION:ศูนย์การค้าเดอะมอลล์ไลฟ์สโตร์ งามวงศ์วาน\, เดอะมอลล์ ไลฟ์สโตร์ งามวงศ์วาน 430 ถนน งามวงศ์วาน ตำบลบางเขน อำเภอเมืองนนทบุรี นนทบุรี 11000
CATEGORIES:ปฏิทินตารางหน่วยเคลื่อนที่
END:VEVENT
BEGIN:VEVENT
DTSTART;TZID=Asia/Krasnoyarsk:20251226T120000
DTEND;TZID=Asia/Krasnoyarsk:20251226T180000
DTSTAMP:20260426T105009
CREATED:20251223T144122Z
LAST-MODIFIED:20251224T082018Z
UID:10004861-1766750400-1766772000@thaibloodcentre.redcross.or.th
SUMMARY:ศูนย์การค้าเดอะมอลล์ไลฟ์สโตร์ บางกะปิ []
DESCRIPTION:สถานที่เจาะ : ชั้น 2 ทางออกลานจอดรถ \nที่อยู่ : ถนนลาดพร้าว แขวงคลองจั่น เขตบางกะปิ กรุงเทพฯ 0 2310 2278
URL:https://thaibloodcentre.redcross.or.th/event/%e0%b8%a8%e0%b8%b9%e0%b8%99%e0%b8%a2%e0%b9%8c%e0%b8%81%e0%b8%b2%e0%b8%a3%e0%b8%84%e0%b9%89%e0%b8%b2%e0%b9%80%e0%b8%94%e0%b8%ad%e0%b8%b0%e0%b8%a1%e0%b8%ad%e0%b8%a5%e0%b8%a5%e0%b9%8c%e0%b9%84-1204/
LOCATION:ศูนย์การค้าเดอะมอลล์ไลฟ์สโตร์ บางกะปิ\, เดอะมอลล์ไลฟ์สโตร์ บางกะปิ 3522 ถ. ลาดพร้าว แขวงคลองจั่น เขตบางกะปิ กรุงเทพมหานคร 10240
CATEGORIES:ปฏิทินตารางหน่วยเคลื่อนที่
END:VEVENT
BEGIN:VEVENT
DTSTART;TZID=Asia/Krasnoyarsk:20251226T120000
DTEND;TZID=Asia/Krasnoyarsk:20251226T180000
DTSTAMP:20260426T105009
CREATED:20251223T144051Z
LAST-MODIFIED:20251224T082005Z
UID:10004860-1766750400-1766772000@thaibloodcentre.redcross.or.th
SUMMARY:ศูนย์การค้าเดอะมอลล์ไลฟ์สโตร์ บางแค []
DESCRIPTION:สถานที่เจาะ : ชั้น 3 ตรงข้ามร้านโอ้กะจู๋ \nที่อยู่ : ถนนเพชรเกษม แขวงบางแคเหนือ เขตภาษีเจริญ กรุงเทพฯ 02 487 1221
URL:https://thaibloodcentre.redcross.or.th/event/%e0%b8%a8%e0%b8%b9%e0%b8%99%e0%b8%a2%e0%b9%8c%e0%b8%81%e0%b8%b2%e0%b8%a3%e0%b8%84%e0%b9%89%e0%b8%b2%e0%b9%80%e0%b8%94%e0%b8%ad%e0%b8%b0%e0%b8%a1%e0%b8%ad%e0%b8%a5%e0%b8%a5%e0%b9%8c%e0%b9%84-1203/
LOCATION:ศูนย์การค้าเดอะมอลล์ไลฟ์สโตร์ บางแค\, ศูนย์การค้าเดอะมอลล์ไลฟ์สโตร์ บางแค
CATEGORIES:ปฏิทินตารางหน่วยเคลื่อนที่
END:VEVENT
BEGIN:VEVENT
DTSTART;TZID=Asia/Krasnoyarsk:20251226T110000
DTEND;TZID=Asia/Krasnoyarsk:20251226T150000
DTSTAMP:20260426T105009
CREATED:20251223T144211Z
LAST-MODIFIED:20251224T082102Z
UID:10004867-1766746800-1766761200@thaibloodcentre.redcross.or.th
SUMMARY:ศูนย์การค้าทรี ออน ธรี พระราม 3 []
DESCRIPTION:สถานที่เจาะ : ชั้น 1 \nที่อยู่ : 295 ถนนพระราม 3 แขวงบางคอแหลม เขตบางคอแหลม กรุงเทพฯ 0 2689 0917-9
URL:https://thaibloodcentre.redcross.or.th/event/%e0%b8%a8%e0%b8%b9%e0%b8%99%e0%b8%a2%e0%b9%8c%e0%b8%81%e0%b8%b2%e0%b8%a3%e0%b8%84%e0%b9%89%e0%b8%b2%e0%b8%97%e0%b8%a3%e0%b8%b5-%e0%b8%ad%e0%b8%ad%e0%b8%99-%e0%b8%98%e0%b8%a3%e0%b8%b5-%e0%b8%9e-9/
LOCATION:ศูนย์การค้าทรี ออน ธรี พระราม 3\, ทรี ออน ธรี 295 ถนนพระรามที่ 3 แขวงบางคอแหลม เขตบางคอแหลม กรุงเทพมหานคร 10120
CATEGORIES:ปฏิทินตารางหน่วยเคลื่อนที่
END:VEVENT
BEGIN:VEVENT
DTSTART;TZID=Asia/Krasnoyarsk:20251226T090000
DTEND;TZID=Asia/Krasnoyarsk:20251226T150000
DTSTAMP:20260426T105009
CREATED:20251223T144230Z
LAST-MODIFIED:20251224T082118Z
UID:10004873-1766739600-1766761200@thaibloodcentre.redcross.or.th
SUMMARY:วัดสุทัศนเทพวนารามราชวรมหาวิหาร []
DESCRIPTION:สถานที่เจาะ : ริมถนนตีทองข้างศาลาเศรษฐีทอง (พัก 11.00-12.00 น.) \nที่อยู่ : 146 ถนนบำรุงเมือง แขวงวัดราชบพิธ เขตพระนคร กรุงเทพฯ 06 3654 6829
URL:https://thaibloodcentre.redcross.or.th/event/%e0%b8%a7%e0%b8%b1%e0%b8%94%e0%b8%aa%e0%b8%b8%e0%b8%97%e0%b8%b1%e0%b8%a8%e0%b8%99%e0%b9%80%e0%b8%97%e0%b8%9e%e0%b8%a7%e0%b8%99%e0%b8%b2%e0%b8%a3%e0%b8%b2%e0%b8%a1%e0%b8%a3%e0%b8%b2%e0%b8%8a%e0%b8%a7/
LOCATION:วัดสุทัศนเทพวนารามราชวรมหาวิหาร\, วัดสุทัศนเทพวนารามราชวรมหาวิหาร 146 ถนนบำรุงเมือง แขวงวัดราชบพิธ เขตพระนคร กรุงเทพมหานคร 10200
CATEGORIES:ปฏิทินตารางหน่วยเคลื่อนที่
END:VEVENT
BEGIN:VEVENT
DTSTART;TZID=Asia/Krasnoyarsk:20251226T090000
DTEND;TZID=Asia/Krasnoyarsk:20251226T150000
DTSTAMP:20260426T105009
CREATED:20251223T144228Z
LAST-MODIFIED:20251224T082117Z
UID:10004872-1766739600-1766761200@thaibloodcentre.redcross.or.th
SUMMARY:โรงพยาบาลพริ้นซ์ สุวรรณภูมิ []
DESCRIPTION:สถานที่เจาะ : ห้องประชุม ชั้น 5 อาคาร A (พัก 11.00-12.00 น.) \nที่อยู่ : 35/2 หมู่ 12 ถนนบางนา-ตราด กม.6 ตำบลบางแก้ว อำเภอบางพลี จ.สมุทรปราการ
URL:https://thaibloodcentre.redcross.or.th/event/%e0%b9%82%e0%b8%a3%e0%b8%87%e0%b8%9e%e0%b8%a2%e0%b8%b2%e0%b8%9a%e0%b8%b2%e0%b8%a5%e0%b8%9e%e0%b8%a3%e0%b8%b4%e0%b9%89%e0%b8%99%e0%b8%8b%e0%b9%8c-%e0%b8%aa%e0%b8%b8%e0%b8%a7%e0%b8%a3%e0%b8%a3-4/
LOCATION:โรงพยาบาลพริ้นซ์ สุวรรณภูมิ
CATEGORIES:ปฏิทินตารางหน่วยเคลื่อนที่
END:VEVENT
END:VCALENDAR