BEGIN:VCALENDAR
VERSION:2.0
PRODID:-//เว็บไซต์ศูนย์บริการโลหิตแห่งชาติ - ECPv6.11.2.1//NONSGML v1.0//EN
CALSCALE:GREGORIAN
METHOD:PUBLISH
X-ORIGINAL-URL:https://thaibloodcentre.redcross.or.th
X-WR-CALDESC:Events for เว็บไซต์ศูนย์บริการโลหิตแห่งชาติ
REFRESH-INTERVAL;VALUE=DURATION:PT1H
X-Robots-Tag:noindex
X-PUBLISHED-TTL:PT1H
BEGIN:VTIMEZONE
TZID:Asia/Krasnoyarsk
BEGIN:STANDARD
TZOFFSETFROM:+0700
TZOFFSETTO:+0700
TZNAME:+07
DTSTART:20260101T000000
END:STANDARD
END:VTIMEZONE
BEGIN:VEVENT
DTSTART;TZID=Asia/Krasnoyarsk:20260409T073000
DTEND;TZID=Asia/Krasnoyarsk:20260409T193000
DTSTAMP:20260420T112649
CREATED:20260408T072450Z
LAST-MODIFIED:20260408T072450Z
UID:10006417-1775719800-1775763000@thaibloodcentre.redcross.or.th
SUMMARY:ศูนย์บริการโลหิตแห่งชาติ สภากาชาดไทย [0A0000]
DESCRIPTION:ที่อยู่ : 1871 ถ. อังรีดูนังต์ แขวงปทุมวัน เขตปทุมวัน
URL:https://thaibloodcentre.redcross.or.th/event/%e0%b8%a8%e0%b8%b9%e0%b8%99%e0%b8%a2%e0%b9%8c%e0%b8%9a%e0%b8%a3%e0%b8%b4%e0%b8%81%e0%b8%b2%e0%b8%a3%e0%b9%82%e0%b8%a5%e0%b8%ab%e0%b8%b4%e0%b8%95%e0%b9%81%e0%b8%ab%e0%b9%88%e0%b8%87%e0%b8%8a-496/
LOCATION:ศูนย์บริการโลหิตแห่งชาติ สภากาชาดไทย\, ศูนย์บริการโลหิตแห่งชาติ สภากาชาดไทย 1871 ถ. อังรีดูนังต์ แขวงปทุมวัน เขตปทุมวัน กรุงเทพมหานคร 10330
CATEGORIES:ปฏิทินตารางหน่วยเคลื่อนที่
END:VEVENT
BEGIN:VEVENT
DTSTART;TZID=Asia/Krasnoyarsk:20260409T083000
DTEND;TZID=Asia/Krasnoyarsk:20260409T193000
DTSTAMP:20260420T112649
CREATED:20260408T072707Z
LAST-MODIFIED:20260408T072707Z
UID:10006423-1775723400-1775763000@thaibloodcentre.redcross.or.th
SUMMARY:สถานีกาชาด 11 วิเศษนิยม [0D0200]
DESCRIPTION:สถานที่เจาะ : ชั้น 3 \nที่อยู่ : 33/3 ถนนเพชรเกษม แขวงบางหว้า เขตภาษีเจริญ กรุงเทพฯ  \nโทร : 633450711
URL:https://thaibloodcentre.redcross.or.th/event/%e0%b8%aa%e0%b8%96%e0%b8%b2%e0%b8%99%e0%b8%b5%e0%b8%81%e0%b8%b2%e0%b8%8a%e0%b8%b2%e0%b8%94-11-%e0%b8%a7%e0%b8%b4%e0%b9%80%e0%b8%a8%e0%b8%a9%e0%b8%99%e0%b8%b4%e0%b8%a2%e0%b8%a1-0d0200-197/
LOCATION:สถานีกาชาด 11 วิเศษนิยม\, สถานีกาชาด 11 วิเศษนิยม 605 ถ.เพชรเกษม แขวงบางหว้า เขตภาษีเจริญ กรุงเทพมหานคร 10160
CATEGORIES:ปฏิทินตารางหน่วยเคลื่อนที่
END:VEVENT
BEGIN:VEVENT
DTSTART;TZID=Asia/Krasnoyarsk:20260409T090000
DTEND;TZID=Asia/Krasnoyarsk:20260409T150000
DTSTAMP:20260420T112649
CREATED:20260408T072710Z
LAST-MODIFIED:20260408T072710Z
UID:10006424-1775725200-1775746800@thaibloodcentre.redcross.or.th
SUMMARY:บ้านทรงไทย (ย่านวงศ์สว่าง) [0J0463]
DESCRIPTION:สถานที่เจาะ : (พัก 12.30-13.00 น.) \nที่อยู่ : 1423 ถนนกรุงเทพ – นนทบุรี แขวงวงศ์สว่าง เขตบางซื่อ กรุงเทพฯ  \nโทร : 0 2256 4300
URL:https://thaibloodcentre.redcross.or.th/event/%e0%b8%9a%e0%b9%89%e0%b8%b2%e0%b8%99%e0%b8%97%e0%b8%a3%e0%b8%87%e0%b9%84%e0%b8%97%e0%b8%a2-%e0%b8%a2%e0%b9%88%e0%b8%b2%e0%b8%99%e0%b8%a7%e0%b8%87%e0%b8%a8%e0%b9%8c%e0%b8%aa%e0%b8%a7%e0%b9%88-410/
LOCATION:บ้านทรงไทย (ย่านวงศ์สว่าง)\, หน่วยรับบริจาคโลหิต บ้านทรงไทย(ย่านวงศ์สว่าง) 1423 ถนนกรุงเทพ-นนทบุรี แขวงวงศ์สว่าง เขตบางซื่อ กรุงเทพมหานคร 10800
CATEGORIES:ปฏิทินตารางหน่วยเคลื่อนที่
END:VEVENT
BEGIN:VEVENT
DTSTART;TZID=Asia/Krasnoyarsk:20260409T090000
DTEND;TZID=Asia/Krasnoyarsk:20260409T150000
DTSTAMP:20260420T112649
CREATED:20260408T072716Z
LAST-MODIFIED:20260408T072716Z
UID:10006425-1775725200-1775746800@thaibloodcentre.redcross.or.th
SUMMARY:บริษัท ทิงค์เน็ต จำกัด [0M0650]
DESCRIPTION:สถานที่เจาะ : ห้องประชุมชั้น 12 อาคารยูไนเต็ดเซ็นเตอร์ (พัก 12-13 น.) \nที่อยู่ : 323 อาคารยูไนเต็ดเซ็นเตอร์ ชั้น 6 ห้อง 601 ถนนสีลม แขวงสีลม เขตบางรัก กรุงเทพฯ  \nโทร : 0 2480 9990
URL:https://thaibloodcentre.redcross.or.th/event/%e0%b8%9a%e0%b8%a3%e0%b8%b4%e0%b8%a9%e0%b8%b1%e0%b8%97-%e0%b8%97%e0%b8%b4%e0%b8%87%e0%b8%84%e0%b9%8c%e0%b9%80%e0%b8%99%e0%b9%87%e0%b8%95-%e0%b8%88%e0%b8%b3%e0%b8%81%e0%b8%b1%e0%b8%94-0m0650-4/
LOCATION:บริษัท ทิงค์เน็ต จำกัด\, บริษัท ทิงค์เน็ต จำกัด 323 อาคารยูไนเต็ดเซ็นเตอร์ ชั้น 6 ห้อง 601 ถนนสีลม แขวงสีลม เขตบางรัก กรุงเทพมหานคร 10500
CATEGORIES:ปฏิทินตารางหน่วยเคลื่อนที่
END:VEVENT
BEGIN:VEVENT
DTSTART;TZID=Asia/Krasnoyarsk:20260409T090000
DTEND;TZID=Asia/Krasnoyarsk:20260409T150000
DTSTAMP:20260420T112649
CREATED:20260408T072718Z
LAST-MODIFIED:20260408T072718Z
UID:10006426-1775725200-1775746800@thaibloodcentre.redcross.or.th
SUMMARY:การท่าเรือแห่งประเทศไทย [0D0029]
DESCRIPTION:สถานที่เจาะ : ห้องนิทรรศการชั้น 1 อาคาร B (พัก 11-12 น.) และ ห้องรับรองอาคารโอบี ริมน้ำ (พัก 12-13 น.) \nที่อยู่ : 444 ถนนท่าเรือ แขวงคลองเตย เขตคลองเตย กรุงเทพฯ  \nโทร : 0 2229 9337
URL:https://thaibloodcentre.redcross.or.th/event/%e0%b8%81%e0%b8%b2%e0%b8%a3%e0%b8%97%e0%b9%88%e0%b8%b2%e0%b9%80%e0%b8%a3%e0%b8%b7%e0%b8%ad%e0%b9%81%e0%b8%ab%e0%b9%88%e0%b8%87%e0%b8%9b%e0%b8%a3%e0%b8%b0%e0%b9%80%e0%b8%97%e0%b8%a8%e0%b9%84%e0%b8%97-5/
LOCATION:การท่าเรือแห่งประเทศไทย\, การท่าเรือแห่งประเทศไทย 444 ถนนท่าเรือ แขวงคลองเตย เขตคลองเตย กรุงเทพมหานคร 10110
CATEGORIES:ปฏิทินตารางหน่วยเคลื่อนที่
END:VEVENT
BEGIN:VEVENT
DTSTART;TZID=Asia/Krasnoyarsk:20260409T090000
DTEND;TZID=Asia/Krasnoyarsk:20260409T150000
DTSTAMP:20260420T112649
CREATED:20260408T072852Z
LAST-MODIFIED:20260408T072852Z
UID:10006427-1775725200-1775746800@thaibloodcentre.redcross.or.th
SUMMARY:ธนาคารออมสิน [0G0002]
DESCRIPTION:สถานที่เจาะ : หอประชุมเพชรรัตน์ \nที่อยู่ : 470 ถนนพหลโยธิน แขวงสามเสนใน เขตพญาไท กรุงเทพฯ  \nโทร : 0 2299 8000
URL:https://thaibloodcentre.redcross.or.th/event/%e0%b8%98%e0%b8%99%e0%b8%b2%e0%b8%84%e0%b8%b2%e0%b8%a3%e0%b8%ad%e0%b8%ad%e0%b8%a1%e0%b8%aa%e0%b8%b4%e0%b8%99-0g0002-4/
LOCATION:ธนาคารออมสิน\, ธนาคารออมสิน 470 ถนนพหลโยธิน แขวงสามเสนใน เขตพญาไท กรุงเทพมหานคร 10400
CATEGORIES:ปฏิทินตารางหน่วยเคลื่อนที่
END:VEVENT
BEGIN:VEVENT
DTSTART;TZID=Asia/Krasnoyarsk:20260409T090000
DTEND;TZID=Asia/Krasnoyarsk:20260409T150000
DTSTAMP:20260420T112649
CREATED:20260408T072857Z
LAST-MODIFIED:20260408T072857Z
UID:10006429-1775725200-1775746800@thaibloodcentre.redcross.or.th
SUMMARY:บริษัท บี.ยู.เอ็นเตอร์ไพรส์ จำกัด [0M0015]
DESCRIPTION:สถานที่เจาะ : ห้องปฏิบัติธรรมสุขสว่าง ชั้น 2 (พัก 11.30-12.30 น.) \nที่อยู่ : 565\,567 ซอยสุทธิพร ถนนประชาสงเคราะห์ แขวงดินแดง เขตดินแดง กรุงเทพฯ  \nโทร : 0 2641 7979
URL:https://thaibloodcentre.redcross.or.th/event/%e0%b8%9a%e0%b8%a3%e0%b8%b4%e0%b8%a9%e0%b8%b1%e0%b8%97-%e0%b8%9a%e0%b8%b5-%e0%b8%a2%e0%b8%b9-%e0%b9%80%e0%b8%ad%e0%b9%87%e0%b8%99%e0%b9%80%e0%b8%95%e0%b8%ad%e0%b8%a3%e0%b9%8c%e0%b9%84%e0%b8%9e-5/
LOCATION:บริษัท บี.ยู.เอ็นเตอร์ไพรส์ จำกัด\, อาคารบี.ยู.เพลส 567 ถนนรัชดาภิเษก แขวงดินแดง เขตดินแดง กรุงเทพมหานคร 10400
CATEGORIES:ปฏิทินตารางหน่วยเคลื่อนที่
END:VEVENT
BEGIN:VEVENT
DTSTART;TZID=Asia/Krasnoyarsk:20260409T090000
DTEND;TZID=Asia/Krasnoyarsk:20260409T150000
DTSTAMP:20260420T112649
CREATED:20260408T072900Z
LAST-MODIFIED:20260408T072900Z
UID:10006430-1775725200-1775746800@thaibloodcentre.redcross.or.th
SUMMARY:ศาลอาญาธนบุรี [0D0947]
DESCRIPTION:สถานที่เจาะ : ชั้น 2 อาคารศาลแขวงธนบุรี (หลังเดิม) (พัก 12-13 น.) \nที่อยู่ : 123 ถนนเอกชัย แขวงบางขุนเทียน เขตจอมทอง กรุงเทพฯ  \nโทร : 0 2415 0030
URL:https://thaibloodcentre.redcross.or.th/event/%e0%b8%a8%e0%b8%b2%e0%b8%a5%e0%b8%ad%e0%b8%b2%e0%b8%8d%e0%b8%b2%e0%b8%98%e0%b8%99%e0%b8%9a%e0%b8%b8%e0%b8%a3%e0%b8%b5-0d0947/
LOCATION:ศาลอาญาธนบุรี\, ศาลอาญาธนบุรี 123 ถ. เอกชัย แขวงบางขุนเทียน เขตจอมทอง กรุงเทพมหานคร 10150
CATEGORIES:ปฏิทินตารางหน่วยเคลื่อนที่
END:VEVENT
BEGIN:VEVENT
DTSTART;TZID=Asia/Krasnoyarsk:20260409T110000
DTEND;TZID=Asia/Krasnoyarsk:20260409T150000
DTSTAMP:20260420T112649
CREATED:20260408T072855Z
LAST-MODIFIED:20260408T072855Z
UID:10006428-1775732400-1775746800@thaibloodcentre.redcross.or.th
SUMMARY:นิติบุคคลอาคารชุดเจมส์ทาวเวอร์ [0M0470]
DESCRIPTION:สถานที่เจาะ : หน้าอาคารเจมส์ทาวเวอร์ ฝั่งมเหสักข์ \nที่อยู่ : 1249 เจริญกรุง 47/3 แขวงสุริยวงศ์ เขตบางรัก กรุงเทพฯ  \nโทร : 0 2267 4558-9
URL:https://thaibloodcentre.redcross.or.th/event/%e0%b8%99%e0%b8%b4%e0%b8%95%e0%b8%b4%e0%b8%9a%e0%b8%b8%e0%b8%84%e0%b8%84%e0%b8%a5%e0%b8%ad%e0%b8%b2%e0%b8%84%e0%b8%b2%e0%b8%a3%e0%b8%8a%e0%b8%b8%e0%b8%94%e0%b9%80%e0%b8%88%e0%b8%a1%e0%b8%aa%e0%b9%8c-4/
LOCATION:นิติบุคคลอาคารชุดเจมส์ทาวเวอร์\, อาคาร เจมส์ ทาวเวอร์ Gems Tower 1249 ถนนเจริญกรุง แขวงสุริยวงศ์ เขตบางรัก กรุงเทพมหานคร 10500
CATEGORIES:ปฏิทินตารางหน่วยเคลื่อนที่
END:VEVENT
BEGIN:VEVENT
DTSTART;TZID=Asia/Krasnoyarsk:20260409T120000
DTEND;TZID=Asia/Krasnoyarsk:20260409T180000
DTSTAMP:20260420T112649
CREATED:20260408T072456Z
LAST-MODIFIED:20260408T072456Z
UID:10006418-1775736000-1775757600@thaibloodcentre.redcross.or.th
SUMMARY:ศูนย์การค้าเดอะมอลล์ไลฟ์สโตร์ บางแค [0E0942]
DESCRIPTION:สถานที่เจาะ : ชั้น 3 ตรงข้ามร้านโอ้กะจู๋ \nที่อยู่ : ถนนเพชรเกษม แขวงบางแคเหนือ เขตภาษีเจริญ กรุงเทพฯ  \nโทร : 02 487 1221
URL:https://thaibloodcentre.redcross.or.th/event/%e0%b8%a8%e0%b8%b9%e0%b8%99%e0%b8%a2%e0%b9%8c%e0%b8%81%e0%b8%b2%e0%b8%a3%e0%b8%84%e0%b9%89%e0%b8%b2%e0%b9%80%e0%b8%94%e0%b8%ad%e0%b8%b0%e0%b8%a1%e0%b8%ad%e0%b8%a5%e0%b8%a5%e0%b9%8c%e0%b9%84-1656/
LOCATION:ศูนย์การค้าเดอะมอลล์ไลฟ์สโตร์ บางแค\, ศูนย์การค้าเดอะมอลล์ไลฟ์สโตร์ บางแค
CATEGORIES:ปฏิทินตารางหน่วยเคลื่อนที่
END:VEVENT
BEGIN:VEVENT
DTSTART;TZID=Asia/Krasnoyarsk:20260409T120000
DTEND;TZID=Asia/Krasnoyarsk:20260409T180000
DTSTAMP:20260420T112649
CREATED:20260408T072512Z
LAST-MODIFIED:20260408T072512Z
UID:10006419-1775736000-1775757600@thaibloodcentre.redcross.or.th
SUMMARY:ศูนย์การค้าเดอะมอลล์ไลฟ์สโตร์ บางกะปิ [0E0941]
DESCRIPTION:สถานที่เจาะ : ชั้น 2 ทางออกลานจอดรถ \nที่อยู่ : ถนนลาดพร้าว แขวงคลองจั่น เขตบางกะปิ กรุงเทพฯ  \nโทร : 0 2310 2278
URL:https://thaibloodcentre.redcross.or.th/event/%e0%b8%a8%e0%b8%b9%e0%b8%99%e0%b8%a2%e0%b9%8c%e0%b8%81%e0%b8%b2%e0%b8%a3%e0%b8%84%e0%b9%89%e0%b8%b2%e0%b9%80%e0%b8%94%e0%b8%ad%e0%b8%b0%e0%b8%a1%e0%b8%ad%e0%b8%a5%e0%b8%a5%e0%b9%8c%e0%b9%84-1657/
LOCATION:ศูนย์การค้าเดอะมอลล์ไลฟ์สโตร์ บางกะปิ\, เดอะมอลล์ไลฟ์สโตร์ บางกะปิ 3522 ถ. ลาดพร้าว แขวงคลองจั่น เขตบางกะปิ กรุงเทพมหานคร 10240
CATEGORIES:ปฏิทินตารางหน่วยเคลื่อนที่
END:VEVENT
BEGIN:VEVENT
DTSTART;TZID=Asia/Krasnoyarsk:20260409T120000
DTEND;TZID=Asia/Krasnoyarsk:20260409T180000
DTSTAMP:20260420T112649
CREATED:20260408T072528Z
LAST-MODIFIED:20260408T072528Z
UID:10006420-1775736000-1775757600@thaibloodcentre.redcross.or.th
SUMMARY:ศูนย์การค้าเดอะมอลล์ไลฟ์สโตร์ งามวงศ์วาน [0E0948]
DESCRIPTION:สถานที่เจาะ : ชั้น 5 โซน Government Center \nที่อยู่ : ถนนงามวงศ์วาน ต.บางเขน อ.เมือง จ.นนทบุรี  \nโทร : 0 2555 1550
URL:https://thaibloodcentre.redcross.or.th/event/%e0%b8%a8%e0%b8%b9%e0%b8%99%e0%b8%a2%e0%b9%8c%e0%b8%81%e0%b8%b2%e0%b8%a3%e0%b8%84%e0%b9%89%e0%b8%b2%e0%b9%80%e0%b8%94%e0%b8%ad%e0%b8%b0%e0%b8%a1%e0%b8%ad%e0%b8%a5%e0%b8%a5%e0%b9%8c%e0%b9%84-1658/
LOCATION:ศูนย์การค้าเดอะมอลล์ไลฟ์สโตร์ งามวงศ์วาน\, เดอะมอลล์ ไลฟ์สโตร์ งามวงศ์วาน 430 ถนน งามวงศ์วาน ตำบลบางเขน อำเภอเมืองนนทบุรี นนทบุรี 11000
CATEGORIES:ปฏิทินตารางหน่วยเคลื่อนที่
END:VEVENT
BEGIN:VEVENT
DTSTART;TZID=Asia/Krasnoyarsk:20260409T120000
DTEND;TZID=Asia/Krasnoyarsk:20260409T180000
DTSTAMP:20260420T112649
CREATED:20260408T072544Z
LAST-MODIFIED:20260408T072544Z
UID:10006421-1775736000-1775757600@thaibloodcentre.redcross.or.th
SUMMARY:ศูนย์การค้า เอ็มโพเรียม [0E0947]
DESCRIPTION:สถานที่เจาะ : ชั้น M ศูนย์การค้า ดิ เอ็มโพเรียม เชื่อมลานจอดรถอาคาร B \nที่อยู่ : 622 ถนนสุขุมวิท แขวงคลองตัน เขตคลองเตย กรุงเทพฯ  \nโทร : 0 2269 1515
URL:https://thaibloodcentre.redcross.or.th/event/%e0%b8%a8%e0%b8%b9%e0%b8%99%e0%b8%a2%e0%b9%8c%e0%b8%81%e0%b8%b2%e0%b8%a3%e0%b8%84%e0%b9%89%e0%b8%b2-%e0%b9%80%e0%b8%ad%e0%b9%87%e0%b8%a1%e0%b9%82%e0%b8%9e%e0%b9%80%e0%b8%a3%e0%b8%b5%e0%b8%a2-411/
LOCATION:ศูนย์การค้า เอ็มโพเรียม\, เอ็มโพเรียม 622 ถ. สุขุมวิท แขวงคลองตัน เขตคลองเตย กรุงเทพมหานคร 10110
CATEGORIES:ปฏิทินตารางหน่วยเคลื่อนที่
END:VEVENT
BEGIN:VEVENT
DTSTART;TZID=Asia/Krasnoyarsk:20260409T120000
DTEND;TZID=Asia/Krasnoyarsk:20260409T180000
DTSTAMP:20260420T112649
CREATED:20260408T072652Z
LAST-MODIFIED:20260408T072652Z
UID:10006422-1775736000-1775757600@thaibloodcentre.redcross.or.th
SUMMARY:ศูนย์การค้าเดอะมอลล์ไลฟ์สโตร์ ท่าพระ [0E0344]
DESCRIPTION:สถานที่เจาะ : ชั้น 1 (ติดลานจอดรถ) \nที่อยู่ : 99 ถนนรัชดาท่าพระตัดใหม่ แขวงบุคคโล เขตธนบุรี กรุงเทพฯ  \nโทร : 0 2469-1000
URL:https://thaibloodcentre.redcross.or.th/event/%e0%b8%a8%e0%b8%b9%e0%b8%99%e0%b8%a2%e0%b9%8c%e0%b8%81%e0%b8%b2%e0%b8%a3%e0%b8%84%e0%b9%89%e0%b8%b2%e0%b9%80%e0%b8%94%e0%b8%ad%e0%b8%b0%e0%b8%a1%e0%b8%ad%e0%b8%a5%e0%b8%a5%e0%b9%8c%e0%b9%84-1659/
LOCATION:ศูนย์การค้าเดอะมอลล์ไลฟ์สโตร์ ท่าพระ\, เดอะมอลล์ไลฟ์สโตร์ ท่าพระ 129 ถ. รัชดาภิเษก แขวงบุคคโล เขตธนบุรี กรุงเทพมหานคร 10600
CATEGORIES:ปฏิทินตารางหน่วยเคลื่อนที่
END:VEVENT
END:VCALENDAR