BEGIN:VCALENDAR
VERSION:2.0
PRODID:-//เว็บไซต์ศูนย์บริการโลหิตแห่งชาติ - ECPv6.11.2.1//NONSGML v1.0//EN
CALSCALE:GREGORIAN
METHOD:PUBLISH
X-WR-CALNAME:เว็บไซต์ศูนย์บริการโลหิตแห่งชาติ
X-ORIGINAL-URL:https://thaibloodcentre.redcross.or.th
X-WR-CALDESC:Events for เว็บไซต์ศูนย์บริการโลหิตแห่งชาติ
REFRESH-INTERVAL;VALUE=DURATION:PT1H
X-Robots-Tag:noindex
X-PUBLISHED-TTL:PT1H
BEGIN:VTIMEZONE
TZID:Asia/Krasnoyarsk
BEGIN:STANDARD
TZOFFSETFROM:+0700
TZOFFSETTO:+0700
TZNAME:+07
DTSTART:20260101T000000
END:STANDARD
END:VTIMEZONE
BEGIN:VEVENT
DTSTART;TZID=Asia/Krasnoyarsk:20260108T073000
DTEND;TZID=Asia/Krasnoyarsk:20260108T193000
DTSTAMP:20260426T060624
CREATED:20260106T123852Z
LAST-MODIFIED:20260106T132519Z
UID:10004993-1767857400-1767900600@thaibloodcentre.redcross.or.th
SUMMARY:ศูนย์บริการโลหิตแห่งชาติ สภากาชาดไทย [0A0000]
DESCRIPTION:ที่อยู่ : 1871 ถ. อังรีดูนังต์ แขวงปทุมวัน เขตปทุมวัน
URL:https://thaibloodcentre.redcross.or.th/event/%e0%b8%a8%e0%b8%b9%e0%b8%99%e0%b8%a2%e0%b9%8c%e0%b8%9a%e0%b8%a3%e0%b8%b4%e0%b8%81%e0%b8%b2%e0%b8%a3%e0%b9%82%e0%b8%a5%e0%b8%ab%e0%b8%b4%e0%b8%95%e0%b9%81%e0%b8%ab%e0%b9%88%e0%b8%87%e0%b8%8a-393/
LOCATION:ศูนย์บริการโลหิตแห่งชาติ สภากาชาดไทย\, ศูนย์บริการโลหิตแห่งชาติ สภากาชาดไทย 1871 ถ. อังรีดูนังต์ แขวงปทุมวัน เขตปทุมวัน กรุงเทพมหานคร 10330
CATEGORIES:ปฏิทินตารางหน่วยเคลื่อนที่
END:VEVENT
BEGIN:VEVENT
DTSTART;TZID=Asia/Krasnoyarsk:20260108T083000
DTEND;TZID=Asia/Krasnoyarsk:20260108T193000
DTSTAMP:20260426T060624
CREATED:20260106T124124Z
LAST-MODIFIED:20260106T132733Z
UID:10004999-1767861000-1767900600@thaibloodcentre.redcross.or.th
SUMMARY:สถานีกาชาด 11 วิเศษนิยม [0D0200]
DESCRIPTION:สถานที่เจาะ : ชั้น 3 \nที่อยู่ : 33/3 ถนนเพชรเกษม แขวงบางหว้า เขตภาษีเจริญ กรุงเทพฯ 0633450711
URL:https://thaibloodcentre.redcross.or.th/event/%e0%b8%aa%e0%b8%96%e0%b8%b2%e0%b8%99%e0%b8%b5%e0%b8%81%e0%b8%b2%e0%b8%8a%e0%b8%b2%e0%b8%94-11-%e0%b8%a7%e0%b8%b4%e0%b9%80%e0%b8%a8%e0%b8%a9%e0%b8%99%e0%b8%b4%e0%b8%a2%e0%b8%a1-0d0200-177/
LOCATION:สถานีกาชาด 11 วิเศษนิยม\, สถานีกาชาด 11 วิเศษนิยม 605 ถ.เพชรเกษม แขวงบางหว้า เขตภาษีเจริญ กรุงเทพมหานคร 10160
CATEGORIES:ปฏิทินตารางหน่วยเคลื่อนที่
END:VEVENT
BEGIN:VEVENT
DTSTART;TZID=Asia/Krasnoyarsk:20260108T090000
DTEND;TZID=Asia/Krasnoyarsk:20260108T150000
DTSTAMP:20260426T060624
CREATED:20260106T124128Z
LAST-MODIFIED:20260106T132734Z
UID:10005000-1767862800-1767884400@thaibloodcentre.redcross.or.th
SUMMARY:บ้านทรงไทย (ย่านวงศ์สว่าง) [0J0463]
DESCRIPTION:สถานที่เจาะ : (พัก 12.30-13.00 น.) \nที่อยู่ : 1423 ถนนกรุงเทพ – นนทบุรี แขวงวงศ์สว่าง เขตบางซื่อ กรุงเทพฯ 0 2256 4300
URL:https://thaibloodcentre.redcross.or.th/event/%e0%b8%9a%e0%b9%89%e0%b8%b2%e0%b8%99%e0%b8%97%e0%b8%a3%e0%b8%87%e0%b9%84%e0%b8%97%e0%b8%a2-%e0%b8%a2%e0%b9%88%e0%b8%b2%e0%b8%99%e0%b8%a7%e0%b8%87%e0%b8%a8%e0%b9%8c%e0%b8%aa%e0%b8%a7%e0%b9%88-311/
LOCATION:บ้านทรงไทย (ย่านวงศ์สว่าง)\, หน่วยรับบริจาคโลหิต บ้านทรงไทย(ย่านวงศ์สว่าง) 1423 ถนนกรุงเทพ-นนทบุรี แขวงวงศ์สว่าง เขตบางซื่อ กรุงเทพมหานคร 10800
CATEGORIES:ปฏิทินตารางหน่วยเคลื่อนที่
END:VEVENT
BEGIN:VEVENT
DTSTART;TZID=Asia/Krasnoyarsk:20260108T090000
DTEND;TZID=Asia/Krasnoyarsk:20260108T150000
DTSTAMP:20260426T060624
CREATED:20260106T124132Z
LAST-MODIFIED:20260106T132735Z
UID:10005001-1767862800-1767884400@thaibloodcentre.redcross.or.th
SUMMARY:ธนาคารไทยพาณิชย์ จำกัด (มหาชน) สาขาถนนนวลจันทร์ [0G0063]
DESCRIPTION:สถานที่เจาะ : ด้านหน้าธนาคารฯ (พัก 11.30-12.30 น.) \nที่อยู่ : 16/29 ถนนนวลจันทร์ แขวงคลองกุ่ม เขตบึงกุ่ม กรุงเทพฯ 0 2944 4836
URL:https://thaibloodcentre.redcross.or.th/event/%e0%b8%98%e0%b8%99%e0%b8%b2%e0%b8%84%e0%b8%b2%e0%b8%a3%e0%b9%84%e0%b8%97%e0%b8%a2%e0%b8%9e%e0%b8%b2%e0%b8%93%e0%b8%b4%e0%b8%8a%e0%b8%a2%e0%b9%8c-%e0%b8%88%e0%b8%b3%e0%b8%81%e0%b8%b1%e0%b8%94-16/
LOCATION:ธนาคารไทยพาณิชย์ จำกัด (มหาชน) สาขาถนนนวลจันทร์\, ธนาคารไทยพาณิชย์ จำกัด (มหาชน) สาขาถนนนวลจันทร์ 16/29 หมู่ที่ 11 ถนน นวลจันทร์ แขวงนวลจันทร์ เขตบึงกุ่ม กรุงเทพมหานคร 10230
CATEGORIES:ปฏิทินตารางหน่วยเคลื่อนที่
END:VEVENT
BEGIN:VEVENT
DTSTART;TZID=Asia/Krasnoyarsk:20260108T090000
DTEND;TZID=Asia/Krasnoyarsk:20260108T150000
DTSTAMP:20260426T060624
CREATED:20260106T124134Z
LAST-MODIFIED:20260106T132736Z
UID:10005002-1767862800-1767884400@thaibloodcentre.redcross.or.th
SUMMARY:ธนาคารไทยพาณิชย์ จำกัด (มหาชน) สาขาถนนเสรีไทย (สวนสยาม) [0G0059]
DESCRIPTION:สถานที่เจาะ : บริเวณลานจอดรถ (พัก 11.30-12.30 น.) \nที่อยู่ : 99/2 ถนนเสรีไทย แขวงคันนายาว เขตคันนายาว กรุงเทพฯ 0 2906 0515
URL:https://thaibloodcentre.redcross.or.th/event/%e0%b8%98%e0%b8%99%e0%b8%b2%e0%b8%84%e0%b8%b2%e0%b8%a3%e0%b9%84%e0%b8%97%e0%b8%a2%e0%b8%9e%e0%b8%b2%e0%b8%93%e0%b8%b4%e0%b8%8a%e0%b8%a2%e0%b9%8c-%e0%b8%88%e0%b8%b3%e0%b8%81%e0%b8%b1%e0%b8%94-17/
LOCATION:ธนาคารไทยพาณิชย์ จำกัด (มหาชน) สาขาถนนเสรีไทย (สวนสยาม)\, ธนาคารไทยพาณิชย์ จำกัด (มหาชน) สาขาถนนเสรีไทย (สวนสยาม) เลขที่ 137 หมู่ที่ 3 ถ.เสรีไทย แขวงคันนายาว เขตคันนายาว กรุงเทพมหานคร 10230
CATEGORIES:ปฏิทินตารางหน่วยเคลื่อนที่
END:VEVENT
BEGIN:VEVENT
DTSTART;TZID=Asia/Krasnoyarsk:20260108T090000
DTEND;TZID=Asia/Krasnoyarsk:20260108T150000
DTSTAMP:20260426T060624
CREATED:20260106T124137Z
LAST-MODIFIED:20260106T132737Z
UID:10005003-1767862800-1767884400@thaibloodcentre.redcross.or.th
SUMMARY:ธนาคารไทยพาณิชย์ จำกัด (มหาชน) สาขาอ้อมใหญ่ [0G0064]
DESCRIPTION:สถานที่เจาะ : ซอยด้านข้างธนาคาร (พัก 11.30-12.30 น.) \nที่อยู่ : 10/84 ม. 8 ถ.เพชรเกษม ต.อ้อมใหญ่ อ.สามพราน นครปฐม 0 2420 1117-9
URL:https://thaibloodcentre.redcross.or.th/event/%e0%b8%98%e0%b8%99%e0%b8%b2%e0%b8%84%e0%b8%b2%e0%b8%a3%e0%b9%84%e0%b8%97%e0%b8%a2%e0%b8%9e%e0%b8%b2%e0%b8%93%e0%b8%b4%e0%b8%8a%e0%b8%a2%e0%b9%8c-%e0%b8%88%e0%b8%b3%e0%b8%81%e0%b8%b1%e0%b8%94-18/
LOCATION:ธนาคารไทยพาณิชย์ จำกัด (มหาชน) สาขาอ้อมใหญ่\, ธนาคารไทยพาณิชย์ จำกัด (มหาชน) สาขาอ้อมใหญ่ 10/84 ม.8 เพชรเกษม สามพราน อ้อมใหญ่ นครปฐม 73160
CATEGORIES:ปฏิทินตารางหน่วยเคลื่อนที่
END:VEVENT
BEGIN:VEVENT
DTSTART;TZID=Asia/Krasnoyarsk:20260108T090000
DTEND;TZID=Asia/Krasnoyarsk:20260108T150000
DTSTAMP:20260426T060624
CREATED:20260106T124326Z
LAST-MODIFIED:20260106T132753Z
UID:10005004-1767862800-1767884400@thaibloodcentre.redcross.or.th
SUMMARY:สำนักงานพระคลังข้างที่ [0D0209]
DESCRIPTION:สถานที่เจาะ : บริเวณด้านหน้าอาคาร 5  (พัก 11.30-12.30 น.) \nที่อยู่ : 173 ถนนนครราชสีมา แขวงดุสิต เขตดุสิต กรุงเทพฯ 0 2787 6940
URL:https://thaibloodcentre.redcross.or.th/event/%e0%b8%aa%e0%b8%b3%e0%b8%99%e0%b8%b1%e0%b8%81%e0%b8%87%e0%b8%b2%e0%b8%99%e0%b8%9e%e0%b8%a3%e0%b8%b0%e0%b8%84%e0%b8%a5%e0%b8%b1%e0%b8%87%e0%b8%82%e0%b9%89%e0%b8%b2%e0%b8%87%e0%b8%97%e0%b8%b5%e0%b9%88-2/
LOCATION:สำนักงานพระคลังข้างที่\, สำนักงานทรัพย์สินพระมหากษัตริย์ 173 ถนน นครราชสีมา แขวงดุสิต เขตดุสิต กรุงเทพมหานคร 10300
CATEGORIES:ปฏิทินตารางหน่วยเคลื่อนที่
END:VEVENT
BEGIN:VEVENT
DTSTART;TZID=Asia/Krasnoyarsk:20260108T090000
DTEND;TZID=Asia/Krasnoyarsk:20260108T150000
DTSTAMP:20260426T060624
CREATED:20260106T124328Z
LAST-MODIFIED:20260106T132753Z
UID:10005005-1767862800-1767884400@thaibloodcentre.redcross.or.th
SUMMARY:อาคารลุมพินี ทาวเวอร์ [0E0746]
DESCRIPTION:สถานที่เจาะ : ห้องสัมมนา ชั้น 11 (พัก 11.00-12.00 น.) \nที่อยู่ : 1168 ถนนพระราม 4 แขวงทุ่งมหาเมฆ เขตสาทร กรุงเทพฯ 0 2285 5011-16
URL:https://thaibloodcentre.redcross.or.th/event/%e0%b8%ad%e0%b8%b2%e0%b8%84%e0%b8%b2%e0%b8%a3%e0%b8%a5%e0%b8%b8%e0%b8%a1%e0%b8%9e%e0%b8%b4%e0%b8%99%e0%b8%b5-%e0%b8%97%e0%b8%b2%e0%b8%a7%e0%b9%80%e0%b8%a7%e0%b8%ad%e0%b8%a3%e0%b9%8c-0e0746-2/
LOCATION:อาคารลุมพินี ทาวเวอร์\, อาคารลุมพินีทาวเวอร์ 1168 ถนนพระรามที่ 4 แขวงทุ่งมหาเมฆ เขตสาทร กรุงเทพมหานคร 10120
CATEGORIES:ปฏิทินตารางหน่วยเคลื่อนที่
END:VEVENT
BEGIN:VEVENT
DTSTART;TZID=Asia/Krasnoyarsk:20260108T090000
DTEND;TZID=Asia/Krasnoyarsk:20260108T150000
DTSTAMP:20260426T060624
CREATED:20260106T124331Z
LAST-MODIFIED:20260106T132754Z
UID:10005006-1767862800-1767884400@thaibloodcentre.redcross.or.th
SUMMARY:โรงพยาบาลสงฆ์ [0D0521]
DESCRIPTION:สถานที่เจาะ : ห้องพิธีสงฆ์ 1 ชั้น 2 อาคารมูลนิธิ (พัก 12.00-13.00 น.) \nที่อยู่ : ตึกกัลยาณิวัฒนา 445 ถนนศรีอยุธยา แขวงทุ่งพญาไท เขตราชเทวี กรุงเทพฯ 0 2640 9537
URL:https://thaibloodcentre.redcross.or.th/event/%e0%b9%82%e0%b8%a3%e0%b8%87%e0%b8%9e%e0%b8%a2%e0%b8%b2%e0%b8%9a%e0%b8%b2%e0%b8%a5%e0%b8%aa%e0%b8%87%e0%b8%86%e0%b9%8c-0d0521-3/
LOCATION:โรงพยาบาลสงฆ์\, โรงพยาบาลสงฆ์ 445 ถนนศรีอยุธยา แขวงทุ่งพญาไท เขตราชเทวี กรุงเทพมหานคร 10400
CATEGORIES:ปฏิทินตารางหน่วยเคลื่อนที่
END:VEVENT
BEGIN:VEVENT
DTSTART;TZID=Asia/Krasnoyarsk:20260108T090000
DTEND;TZID=Asia/Krasnoyarsk:20260108T150000
DTSTAMP:20260426T060624
CREATED:20260106T124334Z
LAST-MODIFIED:20260106T132755Z
UID:10005007-1767862800-1767884400@thaibloodcentre.redcross.or.th
SUMMARY:บริษัท เอไอเอ จำกัด เครือนำทอง [0M0592]
DESCRIPTION:สถานที่เจาะ : Lobby อาคาร AIC (พัก 12.00-13.00 น.) \nที่อยู่ : 138 ถนนสาทรเหนือ แขวงสีลม เขตบางรัก กรุงเทพฯ 0 2637 2061-2
URL:https://thaibloodcentre.redcross.or.th/event/%e0%b8%9a%e0%b8%a3%e0%b8%b4%e0%b8%a9%e0%b8%b1%e0%b8%97-%e0%b9%80%e0%b8%ad%e0%b9%84%e0%b8%ad%e0%b9%80%e0%b8%ad-%e0%b8%88%e0%b8%b3%e0%b8%81%e0%b8%b1%e0%b8%94-%e0%b9%80%e0%b8%84%e0%b8%a3%e0%b8%b7-6/
LOCATION:บริษัท เอไอเอ จำกัด เครือนำทอง\, บริษัท เอไอเอ จำกัด เครือนำทอง 138 อาคารจูเวลเลอรี่เซ็นเตอร์ ถ. นเรศ แขวง\, เขตบางรัก กรุงเทพมหานคร 10500
CATEGORIES:ปฏิทินตารางหน่วยเคลื่อนที่
END:VEVENT
BEGIN:VEVENT
DTSTART;TZID=Asia/Krasnoyarsk:20260108T090000
DTEND;TZID=Asia/Krasnoyarsk:20260108T150000
DTSTAMP:20260426T060624
CREATED:20260106T124336Z
LAST-MODIFIED:20260106T132756Z
UID:10005008-1767862800-1767884400@thaibloodcentre.redcross.or.th
SUMMARY:สำนักงานนิคมอุตสาหกรรมลาดกระบัง [0M0112]
DESCRIPTION:สถานที่เจาะ : ชั้น 1 สำนักงานนิคมฯ (พัก 11.00-12.00 น.) \nที่อยู่ : 40 ฉลองกรุง 31 แขวงลำปลาทิว เขตลาดกระบัง กรุงเทพฯ 0 2326 0221-4
URL:https://thaibloodcentre.redcross.or.th/event/%e0%b8%aa%e0%b8%b3%e0%b8%99%e0%b8%b1%e0%b8%81%e0%b8%87%e0%b8%b2%e0%b8%99%e0%b8%99%e0%b8%b4%e0%b8%84%e0%b8%a1%e0%b8%ad%e0%b8%b8%e0%b8%95%e0%b8%aa%e0%b8%b2%e0%b8%ab%e0%b8%81%e0%b8%a3%e0%b8%a3-20/
LOCATION:สำนักงานนิคมอุตสาหกรรมลาดกระบัง\, สำนักงานนิคมอุตสาหกรรมลาดกระบัง 40 ชั้น 4 อาคารสำนักงานนิคมอุตสาหกรรมลาดกระบัง ซอยฉลองกรุง 31 แขวงลำปลาทิว เขตลาดกระบัง กรุงเทพฯ 10520
CATEGORIES:ปฏิทินตารางหน่วยเคลื่อนที่
END:VEVENT
BEGIN:VEVENT
DTSTART;TZID=Asia/Krasnoyarsk:20260108T090000
DTEND;TZID=Asia/Krasnoyarsk:20260108T150000
DTSTAMP:20260426T060624
CREATED:20260106T124526Z
LAST-MODIFIED:20260106T132954Z
UID:10005009-1767862800-1767884400@thaibloodcentre.redcross.or.th
SUMMARY:การท่าเรือแห่งประเทศไทย [0D0029]
DESCRIPTION:สถานที่เจาะ : ห้องนิทรรศการชั้น 1 อาคาร B (พัก 11.00-12.00 น.) \nที่อยู่ : 444 ถนนท่าเรือ แขวงคลองเตย เขตคลองเตย กรุงเทพฯ 0 2229 9337
URL:https://thaibloodcentre.redcross.or.th/event/%e0%b8%81%e0%b8%b2%e0%b8%a3%e0%b8%97%e0%b9%88%e0%b8%b2%e0%b9%80%e0%b8%a3%e0%b8%b7%e0%b8%ad%e0%b9%81%e0%b8%ab%e0%b9%88%e0%b8%87%e0%b8%9b%e0%b8%a3%e0%b8%b0%e0%b9%80%e0%b8%97%e0%b8%a8%e0%b9%84%e0%b8%97-4/
LOCATION:การท่าเรือแห่งประเทศไทย\, การท่าเรือแห่งประเทศไทย 444 ถนนท่าเรือ แขวงคลองเตย เขตคลองเตย กรุงเทพมหานคร 10110
CATEGORIES:ปฏิทินตารางหน่วยเคลื่อนที่
END:VEVENT
BEGIN:VEVENT
DTSTART;TZID=Asia/Krasnoyarsk:20260108T120000
DTEND;TZID=Asia/Krasnoyarsk:20260108T180000
DTSTAMP:20260426T060624
CREATED:20260106T123924Z
LAST-MODIFIED:20260106T132717Z
UID:10004994-1767873600-1767895200@thaibloodcentre.redcross.or.th
SUMMARY:ศูนย์การค้าเดอะมอลล์ไลฟ์สโตร์ บางแค [0E0942]
DESCRIPTION:สถานที่เจาะ : ชั้น 3 ตรงข้ามร้านโอ้กะจู๋ \nที่อยู่ : ถนนเพชรเกษม แขวงบางแคเหนือ เขตภาษีเจริญ กรุงเทพฯ 02 487 1221
URL:https://thaibloodcentre.redcross.or.th/event/%e0%b8%a8%e0%b8%b9%e0%b8%99%e0%b8%a2%e0%b9%8c%e0%b8%81%e0%b8%b2%e0%b8%a3%e0%b8%84%e0%b9%89%e0%b8%b2%e0%b9%80%e0%b8%94%e0%b8%ad%e0%b8%b0%e0%b8%a1%e0%b8%ad%e0%b8%a5%e0%b8%a5%e0%b9%8c%e0%b9%84-1251/
LOCATION:ศูนย์การค้าเดอะมอลล์ไลฟ์สโตร์ บางแค\, ศูนย์การค้าเดอะมอลล์ไลฟ์สโตร์ บางแค
CATEGORIES:ปฏิทินตารางหน่วยเคลื่อนที่
END:VEVENT
BEGIN:VEVENT
DTSTART;TZID=Asia/Krasnoyarsk:20260108T120000
DTEND;TZID=Asia/Krasnoyarsk:20260108T180000
DTSTAMP:20260426T060624
CREATED:20260106T123934Z
LAST-MODIFIED:20260106T132718Z
UID:10004995-1767873600-1767895200@thaibloodcentre.redcross.or.th
SUMMARY:ศูนย์การค้าเดอะมอลล์ไลฟ์สโตร์ บางกะปิ [0E0941]
DESCRIPTION:สถานที่เจาะ : ชั้น 2 ทางออกลานจอดรถ \nที่อยู่ : ถนนลาดพร้าว แขวงคลองจั่น เขตบางกะปิ กรุงเทพฯ 0 2310 2278
URL:https://thaibloodcentre.redcross.or.th/event/%e0%b8%a8%e0%b8%b9%e0%b8%99%e0%b8%a2%e0%b9%8c%e0%b8%81%e0%b8%b2%e0%b8%a3%e0%b8%84%e0%b9%89%e0%b8%b2%e0%b9%80%e0%b8%94%e0%b8%ad%e0%b8%b0%e0%b8%a1%e0%b8%ad%e0%b8%a5%e0%b8%a5%e0%b9%8c%e0%b9%84-1252/
LOCATION:ศูนย์การค้าเดอะมอลล์ไลฟ์สโตร์ บางกะปิ\, เดอะมอลล์ไลฟ์สโตร์ บางกะปิ 3522 ถ. ลาดพร้าว แขวงคลองจั่น เขตบางกะปิ กรุงเทพมหานคร 10240
CATEGORIES:ปฏิทินตารางหน่วยเคลื่อนที่
END:VEVENT
BEGIN:VEVENT
DTSTART;TZID=Asia/Krasnoyarsk:20260108T120000
DTEND;TZID=Asia/Krasnoyarsk:20260108T180000
DTSTAMP:20260426T060624
CREATED:20260106T123944Z
LAST-MODIFIED:20260106T132719Z
UID:10004996-1767873600-1767895200@thaibloodcentre.redcross.or.th
SUMMARY:ศูนย์การค้าเดอะมอลล์ไลฟ์สโตร์ งามวงศ์วาน [0E0948]
DESCRIPTION:สถานที่เจาะ : ชั้น 5 โซน Government Center \nที่อยู่ : ถนนงามวงศ์วาน ต.บางเขน อ.เมือง จ.นนทบุรี 0 2555 1550
URL:https://thaibloodcentre.redcross.or.th/event/%e0%b8%a8%e0%b8%b9%e0%b8%99%e0%b8%a2%e0%b9%8c%e0%b8%81%e0%b8%b2%e0%b8%a3%e0%b8%84%e0%b9%89%e0%b8%b2%e0%b9%80%e0%b8%94%e0%b8%ad%e0%b8%b0%e0%b8%a1%e0%b8%ad%e0%b8%a5%e0%b8%a5%e0%b9%8c%e0%b9%84-1253/
LOCATION:ศูนย์การค้าเดอะมอลล์ไลฟ์สโตร์ งามวงศ์วาน\, เดอะมอลล์ ไลฟ์สโตร์ งามวงศ์วาน 430 ถนน งามวงศ์วาน ตำบลบางเขน อำเภอเมืองนนทบุรี นนทบุรี 11000
CATEGORIES:ปฏิทินตารางหน่วยเคลื่อนที่
END:VEVENT
BEGIN:VEVENT
DTSTART;TZID=Asia/Krasnoyarsk:20260108T120000
DTEND;TZID=Asia/Krasnoyarsk:20260108T180000
DTSTAMP:20260426T060624
CREATED:20260106T123954Z
LAST-MODIFIED:20260106T132720Z
UID:10004997-1767873600-1767895200@thaibloodcentre.redcross.or.th
SUMMARY:ศูนย์การค้า เอ็มโพเรียม [0E0947]
DESCRIPTION:สถานที่เจาะ : ชั้น M ศูนย์การค้า ดิ เอ็มโพเรียม เชื่อมลานจอดรถอาคาร B \nที่อยู่ : 622 ถนนสุขุมวิท แขวงคลองตัน เขตคลองเตย กรุงเทพฯ 0 2269 1515
URL:https://thaibloodcentre.redcross.or.th/event/%e0%b8%a8%e0%b8%b9%e0%b8%99%e0%b8%a2%e0%b9%8c%e0%b8%81%e0%b8%b2%e0%b8%a3%e0%b8%84%e0%b9%89%e0%b8%b2-%e0%b9%80%e0%b8%ad%e0%b9%87%e0%b8%a1%e0%b9%82%e0%b8%9e%e0%b9%80%e0%b8%a3%e0%b8%b5%e0%b8%a2-309/
LOCATION:ศูนย์การค้า เอ็มโพเรียม\, เอ็มโพเรียม 622 ถ. สุขุมวิท แขวงคลองตัน เขตคลองเตย กรุงเทพมหานคร 10110
CATEGORIES:ปฏิทินตารางหน่วยเคลื่อนที่
END:VEVENT
BEGIN:VEVENT
DTSTART;TZID=Asia/Krasnoyarsk:20260108T120000
DTEND;TZID=Asia/Krasnoyarsk:20260108T180000
DTSTAMP:20260426T060624
CREATED:20260106T123959Z
LAST-MODIFIED:20260106T132721Z
UID:10004998-1767873600-1767895200@thaibloodcentre.redcross.or.th
SUMMARY:ศูนย์การค้าเดอะมอลล์ไลฟ์สโตร์ ท่าพระ [0E0344]
DESCRIPTION:สถานที่เจาะ : ชั้น 1 (ติดลานจอดรถ) \nที่อยู่ : 99 ถนนรัชดาท่าพระตัดใหม่ แขวงบุคคโล เขตธนบุรี กรุงเทพฯ 0 2469-1000
URL:https://thaibloodcentre.redcross.or.th/event/%e0%b8%a8%e0%b8%b9%e0%b8%99%e0%b8%a2%e0%b9%8c%e0%b8%81%e0%b8%b2%e0%b8%a3%e0%b8%84%e0%b9%89%e0%b8%b2%e0%b9%80%e0%b8%94%e0%b8%ad%e0%b8%b0%e0%b8%a1%e0%b8%ad%e0%b8%a5%e0%b8%a5%e0%b9%8c%e0%b9%84-1254/
LOCATION:ศูนย์การค้าเดอะมอลล์ไลฟ์สโตร์ ท่าพระ\, เดอะมอลล์ไลฟ์สโตร์ ท่าพระ 129 ถ. รัชดาภิเษก แขวงบุคคโล เขตธนบุรี กรุงเทพมหานคร 10600
CATEGORIES:ปฏิทินตารางหน่วยเคลื่อนที่
END:VEVENT
END:VCALENDAR