BEGIN:VCALENDAR
VERSION:2.0
PRODID:-//เว็บไซต์ศูนย์บริการโลหิตแห่งชาติ - ECPv6.11.2.1//NONSGML v1.0//EN
CALSCALE:GREGORIAN
METHOD:PUBLISH
X-WR-CALNAME:เว็บไซต์ศูนย์บริการโลหิตแห่งชาติ
X-ORIGINAL-URL:https://thaibloodcentre.redcross.or.th
X-WR-CALDESC:Events for เว็บไซต์ศูนย์บริการโลหิตแห่งชาติ
REFRESH-INTERVAL;VALUE=DURATION:PT1H
X-Robots-Tag:noindex
X-PUBLISHED-TTL:PT1H
BEGIN:VTIMEZONE
TZID:Asia/Krasnoyarsk
BEGIN:STANDARD
TZOFFSETFROM:+0700
TZOFFSETTO:+0700
TZNAME:+07
DTSTART:20250101T000000
END:STANDARD
END:VTIMEZONE
BEGIN:VEVENT
DTSTART;TZID=Asia/Krasnoyarsk:20251211T073000
DTEND;TZID=Asia/Krasnoyarsk:20251211T193000
DTSTAMP:20260424T213151
CREATED:20251208T072836Z
LAST-MODIFIED:20251208T072836Z
UID:10004617-1765438200-1765481400@thaibloodcentre.redcross.or.th
SUMMARY:ศูนย์บริการโลหิตแห่งชาติ สภากาชาดไทย []
DESCRIPTION:ที่อยู่ : 1871 ถ. อังรีดูนังต์ แขวงปทุมวัน เขตปทุมวัน
URL:https://thaibloodcentre.redcross.or.th/event/%e0%b8%a8%e0%b8%b9%e0%b8%99%e0%b8%a2%e0%b9%8c%e0%b8%9a%e0%b8%a3%e0%b8%b4%e0%b8%81%e0%b8%b2%e0%b8%a3%e0%b9%82%e0%b8%a5%e0%b8%ab%e0%b8%b4%e0%b8%95%e0%b9%81%e0%b8%ab%e0%b9%88%e0%b8%87%e0%b8%8a-366/
LOCATION:ศูนย์บริการโลหิตแห่งชาติ สภากาชาดไทย\, ศูนย์บริการโลหิตแห่งชาติ สภากาชาดไทย 1871 ถ. อังรีดูนังต์ แขวงปทุมวัน เขตปทุมวัน กรุงเทพมหานคร 10330
CATEGORIES:ปฏิทินตารางหน่วยเคลื่อนที่
END:VEVENT
BEGIN:VEVENT
DTSTART;TZID=Asia/Krasnoyarsk:20251211T083000
DTEND;TZID=Asia/Krasnoyarsk:20251211T193000
DTSTAMP:20260424T213151
CREATED:20251208T072925Z
LAST-MODIFIED:20251208T072925Z
UID:10004623-1765441800-1765481400@thaibloodcentre.redcross.or.th
SUMMARY:สถานีกาชาด 11 วิเศษนิยม []
DESCRIPTION:สถานที่เจาะ : ชั้น 3 \nที่อยู่ : 33/3 ถนนเพชรเกษม แขวงบางหว้า เขตภาษีเจริญ กรุงเทพฯ 0633450711
URL:https://thaibloodcentre.redcross.or.th/event/%e0%b8%aa%e0%b8%96%e0%b8%b2%e0%b8%99%e0%b8%b5%e0%b8%81%e0%b8%b2%e0%b8%8a%e0%b8%b2%e0%b8%94-11-%e0%b8%a7%e0%b8%b4%e0%b9%80%e0%b8%a8%e0%b8%a9%e0%b8%99%e0%b8%b4%e0%b8%a2%e0%b8%a1-115/
LOCATION:สถานีกาชาด 11 วิเศษนิยม\, สถานีกาชาด 11 วิเศษนิยม 605 ถ.เพชรเกษม แขวงบางหว้า เขตภาษีเจริญ กรุงเทพมหานคร 10160
CATEGORIES:ปฏิทินตารางหน่วยเคลื่อนที่
END:VEVENT
BEGIN:VEVENT
DTSTART;TZID=Asia/Krasnoyarsk:20251211T090000
DTEND;TZID=Asia/Krasnoyarsk:20251211T113000
DTSTAMP:20260424T213151
CREATED:20251208T072954Z
LAST-MODIFIED:20251208T072954Z
UID:10004628-1765443600-1765452600@thaibloodcentre.redcross.or.th
SUMMARY:บริษัท ซีพี แอ็กซ์ตร้า จำกัด (มหาชน) สาขาลำลูกกา []
DESCRIPTION:สถานที่เจาะ : ด้านหน้าห้าง \nที่อยู่ : 222 ม.3 ต.คูคต อ.ลำลูกกา ปทุมธานี
URL:https://thaibloodcentre.redcross.or.th/event/%e0%b8%9a%e0%b8%a3%e0%b8%b4%e0%b8%a9%e0%b8%b1%e0%b8%97-%e0%b8%8b%e0%b8%b5%e0%b8%9e%e0%b8%b5-%e0%b9%81%e0%b8%ad%e0%b9%87%e0%b8%81%e0%b8%8b%e0%b9%8c%e0%b8%95%e0%b8%a3%e0%b9%89%e0%b8%b2-%e0%b8%88-38/
LOCATION:บริษัท ซีพี แอ็กซ์ตร้า จำกัด (มหาชน) สาขาลำลูกกา\, บริษัท ซีพี แอ็กซ์ตร้า จำกัด (มหาชน) สาขาลำลูกกา 222 ม.3 ถ.ลำลูกกา ต.คูคต อ.ลำลูกกา จ.ปทุมธานี 12130
CATEGORIES:ปฏิทินตารางหน่วยเคลื่อนที่
END:VEVENT
BEGIN:VEVENT
DTSTART;TZID=Asia/Krasnoyarsk:20251211T090000
DTEND;TZID=Asia/Krasnoyarsk:20251211T150000
DTSTAMP:20260424T213151
CREATED:20251208T072929Z
LAST-MODIFIED:20251208T072929Z
UID:10004624-1765443600-1765465200@thaibloodcentre.redcross.or.th
SUMMARY:บ้านทรงไทย (ย่านวงศ์สว่าง) []
DESCRIPTION:สถานที่เจาะ : (พัก 12.30-13.00 น.) \nที่อยู่ : 1423 ถนนกรุงเทพ – นนทบุรี แขวงวงศ์สว่าง เขตบางซื่อ กรุงเทพฯ 0 2256 4300
URL:https://thaibloodcentre.redcross.or.th/event/%e0%b8%9a%e0%b9%89%e0%b8%b2%e0%b8%99%e0%b8%97%e0%b8%a3%e0%b8%87%e0%b9%84%e0%b8%97%e0%b8%a2-%e0%b8%a2%e0%b9%88%e0%b8%b2%e0%b8%99%e0%b8%a7%e0%b8%87%e0%b8%a8%e0%b9%8c%e0%b8%aa%e0%b8%a7%e0%b9%88-284/
LOCATION:บ้านทรงไทย (ย่านวงศ์สว่าง)\, หน่วยรับบริจาคโลหิต บ้านทรงไทย(ย่านวงศ์สว่าง) 1423 ถนนกรุงเทพ-นนทบุรี แขวงวงศ์สว่าง เขตบางซื่อ กรุงเทพมหานคร 10800
CATEGORIES:ปฏิทินตารางหน่วยเคลื่อนที่
END:VEVENT
BEGIN:VEVENT
DTSTART;TZID=Asia/Krasnoyarsk:20251211T090000
DTEND;TZID=Asia/Krasnoyarsk:20251211T150000
DTSTAMP:20260424T213151
CREATED:20251208T072947Z
LAST-MODIFIED:20251208T072947Z
UID:10004625-1765443600-1765465200@thaibloodcentre.redcross.or.th
SUMMARY:มหาวิทยาลัยสุโขทัยธรรมาธิราช []
DESCRIPTION:สถานที่เจาะ : ห้องสุโขทัย อาคารอเนกนิทัศน์ (พัก 12.00-13.00 น.) \nที่อยู่ : 9/9 ม. 9 หมู่บ้านเมืองทองธานี แจ้งวัฒนะ 8 ต.บางพูด อ.ปากเกร็ด จ.นนทบุรี 0 2504 7134
URL:https://thaibloodcentre.redcross.or.th/event/%e0%b8%a1%e0%b8%ab%e0%b8%b2%e0%b8%a7%e0%b8%b4%e0%b8%97%e0%b8%a2%e0%b8%b2%e0%b8%a5%e0%b8%b1%e0%b8%a2%e0%b8%aa%e0%b8%b8%e0%b9%82%e0%b8%82%e0%b8%97%e0%b8%b1%e0%b8%a2%e0%b8%98%e0%b8%a3%e0%b8%a3%e0%b8%a1-4/
LOCATION:มหาวิทยาลัยสุโขทัยธรรมาธิราช\, มหาวิทยาลัยสุโขทัยธรรมาธิราช 9/9 ม.9 ต.บางพูด อ.ปากเกร็ด จ.นนทบุรี 11120
CATEGORIES:ปฏิทินตารางหน่วยเคลื่อนที่
END:VEVENT
BEGIN:VEVENT
DTSTART;TZID=Asia/Krasnoyarsk:20251211T090000
DTEND;TZID=Asia/Krasnoyarsk:20251211T150000
DTSTAMP:20260424T213151
CREATED:20251208T072949Z
LAST-MODIFIED:20251208T072949Z
UID:10004626-1765443600-1765465200@thaibloodcentre.redcross.or.th
SUMMARY:ธนาคารกรุงศรีอยุธยา จำกัด (มหาชน) สาขาเพลินจิต []
DESCRIPTION:สถานที่เจาะ : ห้อง Chillax ชั้น 22 (พัก 11.00-12.00 น.) \nที่อยู่ : 550 ถนนเพลินจิต แขวงลุมพินี เขตปทุมวัน กรุงเทพฯ
URL:https://thaibloodcentre.redcross.or.th/event/%e0%b8%98%e0%b8%99%e0%b8%b2%e0%b8%84%e0%b8%b2%e0%b8%a3%e0%b8%81%e0%b8%a3%e0%b8%b8%e0%b8%87%e0%b8%a8%e0%b8%a3%e0%b8%b5%e0%b8%ad%e0%b8%a2%e0%b8%b8%e0%b8%98%e0%b8%a2%e0%b8%b2-%e0%b8%88%e0%b8%b3-7/
LOCATION:ธนาคารกรุงศรีอยุธยา จำกัด (มหาชน) สาขาเพลินจิต\, ธนาคารกรุงศรีอยุธยา จำกัด (มหาชน) สาขาเพลินจิต อาคารกรุงศรีเพลินจิตทาวเวอร์ชั้น 14 เลขที่ 550 ถนนเพลินจิต แขวงลุมพินี เขตปทุมวัน กรุงเทพฯ 10330
CATEGORIES:ปฏิทินตารางหน่วยเคลื่อนที่
END:VEVENT
BEGIN:VEVENT
DTSTART;TZID=Asia/Krasnoyarsk:20251211T090000
DTEND;TZID=Asia/Krasnoyarsk:20251211T150000
DTSTAMP:20260424T213151
CREATED:20251208T072951Z
LAST-MODIFIED:20251208T072951Z
UID:10004627-1765443600-1765465200@thaibloodcentre.redcross.or.th
SUMMARY:กลุ่มเซ็นทรัล ตึก JTC สีลม []
DESCRIPTION:สถานที่เจาะ : ลานจอดรถ (พัก 12.00-13.00 น.) \nที่อยู่ : 919/555 ถนนสีลม แขวงสีลม เขตบางรัก กรุงเทพฯ 0 2101 7819
URL:https://thaibloodcentre.redcross.or.th/event/%e0%b8%81%e0%b8%a5%e0%b8%b8%e0%b9%88%e0%b8%a1%e0%b9%80%e0%b8%8b%e0%b9%87%e0%b8%99%e0%b8%97%e0%b8%a3%e0%b8%b1%e0%b8%a5-%e0%b8%95%e0%b8%b6%e0%b8%81-jtc-%e0%b8%aa%e0%b8%b5%e0%b8%a5%e0%b8%a1-2/
LOCATION:กลุ่มเซ็นทรัล ตึก JTC สีลม\, อาคารจิวเวลรี่เทรดเซ็นเตอร์ 919/1 ถนนสีลม แขวงสีลม เขตบางรัก กรุงเทพมหานคร 10500
CATEGORIES:ปฏิทินตารางหน่วยเคลื่อนที่
END:VEVENT
BEGIN:VEVENT
DTSTART;TZID=Asia/Krasnoyarsk:20251211T090000
DTEND;TZID=Asia/Krasnoyarsk:20251211T150000
DTSTAMP:20260424T213151
CREATED:20251208T073002Z
LAST-MODIFIED:20251208T073002Z
UID:10004630-1765443600-1765465200@thaibloodcentre.redcross.or.th
SUMMARY:บริษัท ทิสโก้ไฟแนนเชียลกรุ๊ป จำกัด (มหาชน) []
DESCRIPTION:สถานที่เจาะ : Lobby ชั้น1  (พัก 12.00-13.00 น.) \nที่อยู่ : 48/49 อาคารทิสโก้ทาวเวอร์ ชั้น 21 ถนนสาทรเหนือ แขวงสีลม เขตบางรัก กรุงเทพฯ 0 2633 6904
URL:https://thaibloodcentre.redcross.or.th/event/%e0%b8%9a%e0%b8%a3%e0%b8%b4%e0%b8%a9%e0%b8%b1%e0%b8%97-%e0%b8%97%e0%b8%b4%e0%b8%aa%e0%b9%82%e0%b8%81%e0%b9%89%e0%b9%84%e0%b8%9f%e0%b9%81%e0%b8%99%e0%b8%99%e0%b9%80%e0%b8%8a%e0%b8%b5%e0%b8%a2-7/
LOCATION:บริษัท ทิสโก้ไฟแนนเชียลกรุ๊ป จำกัด (มหาชน)\, บริษัท ทิสโก้ไฟแนนเชียลกรุ๊ป จำกัด (มหาชน) อาคารTisco Tower ชั้น 21 ถนนสาทรเหนือ แขวงสีลม เขตบางรัก กรุงเทพมหานคร 10500
CATEGORIES:ปฏิทินตารางหน่วยเคลื่อนที่
END:VEVENT
BEGIN:VEVENT
DTSTART;TZID=Asia/Krasnoyarsk:20251211T090000
DTEND;TZID=Asia/Krasnoyarsk:20251211T150000
DTSTAMP:20260424T213151
CREATED:20251208T073005Z
LAST-MODIFIED:20251208T073005Z
UID:10004631-1765443600-1765465200@thaibloodcentre.redcross.or.th
SUMMARY:ธนาคารทิสโก้ จำกัด (มหาชน) สาขาอาคารภคินท์ []
DESCRIPTION:สถานที่เจาะ : ชั้น 5 (พัก 12.00-13.00 น.) \nที่อยู่ : 9 ถนนรัชดาภิเษก แขวงดินแดง เขตดินแดง กรุงเทพฯ 0 2633 6904
URL:https://thaibloodcentre.redcross.or.th/event/%e0%b8%98%e0%b8%99%e0%b8%b2%e0%b8%84%e0%b8%b2%e0%b8%a3%e0%b8%97%e0%b8%b4%e0%b8%aa%e0%b9%82%e0%b8%81%e0%b9%89-%e0%b8%88%e0%b8%b3%e0%b8%81%e0%b8%b1%e0%b8%94-%e0%b8%a1%e0%b8%ab%e0%b8%b2%e0%b8%8a-6/
LOCATION:ธนาคารทิสโก้ จำกัด (มหาชน) สาขาอาคารภคินท์\, ธนาคารทิสโก้ สาขาอาคารภคินท์ อาคารภคินท์ ชั้น 1 ห้อง 102 เลขที่ 9 ถนนรัชดาภิเษก เขตดินแดง กรุงเทพมหานคร 10400
CATEGORIES:ปฏิทินตารางหน่วยเคลื่อนที่
END:VEVENT
BEGIN:VEVENT
DTSTART;TZID=Asia/Krasnoyarsk:20251211T090000
DTEND;TZID=Asia/Krasnoyarsk:20251211T150000
DTSTAMP:20260424T213151
CREATED:20251208T073010Z
LAST-MODIFIED:20251208T073010Z
UID:10004633-1765443600-1765465200@thaibloodcentre.redcross.or.th
SUMMARY:บริษัท ฟูจิตสึ (ประเทศไทย) จำกัด []
DESCRIPTION:สถานที่เจาะ : ชั้น 23 อาคารเอ็กเชนทาวเวอร์ \nที่อยู่ : 388 ถนนสุขุมวิท แขวงคลองเตย เขตคลองเตย กรุงเทพฯ 0 2302 1681
URL:https://thaibloodcentre.redcross.or.th/event/%e0%b8%9a%e0%b8%a3%e0%b8%b4%e0%b8%a9%e0%b8%b1%e0%b8%97-%e0%b8%9f%e0%b8%b9%e0%b8%88%e0%b8%b4%e0%b8%95%e0%b8%aa%e0%b8%b6-%e0%b8%9b%e0%b8%a3%e0%b8%b0%e0%b9%80%e0%b8%97%e0%b8%a8%e0%b9%84%e0%b8%97-2/
LOCATION:บริษัท ฟูจิตสึ (ประเทศไทย) จำกัด\, อาคารเอ็กซ์เชนจ์ทาวเวอร์ 388 ถนนสุขุมวิท แขวงคลองตัน เขตคลองเตย กรุงเทพมหานคร 10110
CATEGORIES:ปฏิทินตารางหน่วยเคลื่อนที่
END:VEVENT
BEGIN:VEVENT
DTSTART;TZID=Asia/Krasnoyarsk:20251211T090000
DTEND;TZID=Asia/Krasnoyarsk:20251211T150000
DTSTAMP:20260424T213151
CREATED:20251208T073012Z
LAST-MODIFIED:20251208T073012Z
UID:10004634-1765443600-1765465200@thaibloodcentre.redcross.or.th
SUMMARY:บริษัท ไอ.ซี.ซี.อินเตอร์เนชั่นแนล จำกัด (มหาชน) []
DESCRIPTION:สถานที่เจาะ : หน้าตึกเงิน (พัก 12.00-13.00 น.) \nที่อยู่ : 530 สาธุประดิษฐ์ 58 แขวงบางโพงพาง เขตยานนาวา กรุงเทพฯ 0 2293 9300
URL:https://thaibloodcentre.redcross.or.th/event/%e0%b8%9a%e0%b8%a3%e0%b8%b4%e0%b8%a9%e0%b8%b1%e0%b8%97-%e0%b9%84%e0%b8%ad-%e0%b8%8b%e0%b8%b5-%e0%b8%8b%e0%b8%b5-%e0%b8%ad%e0%b8%b4%e0%b8%99%e0%b9%80%e0%b8%95%e0%b8%ad%e0%b8%a3%e0%b9%8c%e0%b9%80-3/
LOCATION:บริษัท ไอ.ซี.ซี.อินเตอร์เนชั่นแนล จำกัด (มหาชน)\, บริษัท ไอ.ซี.ซี.อินเตอร์เนชั่นแนล จำกัด (มหาชน) 530 ซ.สาธุประดิษฐ์ 58 แขวงบางโพงพาง เขตยานนาวา กรุงเทพฯ 10120
CATEGORIES:ปฏิทินตารางหน่วยเคลื่อนที่
END:VEVENT
BEGIN:VEVENT
DTSTART;TZID=Asia/Krasnoyarsk:20251211T090000
DTEND;TZID=Asia/Krasnoyarsk:20251211T150000
DTSTAMP:20260424T213151
CREATED:20251208T073019Z
LAST-MODIFIED:20251208T073019Z
UID:10004635-1765443600-1765465200@thaibloodcentre.redcross.or.th
SUMMARY:บริษัท ซีพี รีเทลลิงค์ จำกัด []
DESCRIPTION:สถานที่เจาะ : บริเวณบ่อปลา (พัก 12.00-13.00 น.) \nที่อยู่ : 159/30 วิภาวดีรังสิต 62 (ศรีรับสุข) แขวงตลาดบางเขน เขตหลักสี่ กรุงเทพฯ 0 2781 6800
URL:https://thaibloodcentre.redcross.or.th/event/%e0%b8%9a%e0%b8%a3%e0%b8%b4%e0%b8%a9%e0%b8%b1%e0%b8%97-%e0%b8%8b%e0%b8%b5%e0%b8%9e%e0%b8%b5-%e0%b8%a3%e0%b8%b5%e0%b9%80%e0%b8%97%e0%b8%a5%e0%b8%a5%e0%b8%b4%e0%b8%87%e0%b8%84%e0%b9%8c-%e0%b8%88-4/
LOCATION:บริษัท ซีพี รีเทลลิงค์ จำกัด\, บริษัท ซีพี รีเทลลิงค์ จำกัด 159/30 ถนนวิภาวดีรังสิต แขวงตลาดบางเขน เขตหลักสี่ กรุงเทพมหานคร 10210
CATEGORIES:ปฏิทินตารางหน่วยเคลื่อนที่
END:VEVENT
BEGIN:VEVENT
DTSTART;TZID=Asia/Krasnoyarsk:20251211T090000
DTEND;TZID=Asia/Krasnoyarsk:20251211T150000
DTSTAMP:20260424T213151
CREATED:20251208T073022Z
LAST-MODIFIED:20251208T073022Z
UID:10004636-1765443600-1765465200@thaibloodcentre.redcross.or.th
SUMMARY:โรงพยาบาลแพทย์รังสิต []
DESCRIPTION:สถานที่เจาะ : หน้าโรงอาหาร (พัก 12.00-13.00 น.) \nที่อยู่ : 733/345 ม.8 ถ.พหลโยธิน ต.คูคต อ.ลำลูกกา จ.ปทุมธานี 0 2998 9999
URL:https://thaibloodcentre.redcross.or.th/event/%e0%b9%82%e0%b8%a3%e0%b8%87%e0%b8%9e%e0%b8%a2%e0%b8%b2%e0%b8%9a%e0%b8%b2%e0%b8%a5%e0%b9%81%e0%b8%9e%e0%b8%97%e0%b8%a2%e0%b9%8c%e0%b8%a3%e0%b8%b1%e0%b8%87%e0%b8%aa%e0%b8%b4%e0%b8%95/
LOCATION:โรงพยาบาลแพทย์รังสิต\, โรงพยาบาลแพทย์รังสิต 733/345 ม.8 ถ.พหลโยธิน ต.คูคต อ.ลำลูกกา จ.ปทุมธานี 12130
CATEGORIES:ปฏิทินตารางหน่วยเคลื่อนที่
END:VEVENT
BEGIN:VEVENT
DTSTART;TZID=Asia/Krasnoyarsk:20251211T110000
DTEND;TZID=Asia/Krasnoyarsk:20251211T150000
DTSTAMP:20260424T213152
CREATED:20251208T073007Z
LAST-MODIFIED:20251208T073007Z
UID:10004632-1765450800-1765465200@thaibloodcentre.redcross.or.th
SUMMARY:บริษัท ไทยโตชิบาอุตสาหกรรม จำกัด (สนามบินน้ำ) []
DESCRIPTION:สถานที่เจาะ : ห้องประชุม ชั้น 3 \nที่อยู่ : 129/1-5 ถ.ติวานนท์ ต.ท่าทราย อ.เมืองนนทบุรี จ.นนทบุรี 0 2589 0160-7
URL:https://thaibloodcentre.redcross.or.th/event/%e0%b8%9a%e0%b8%a3%e0%b8%b4%e0%b8%a9%e0%b8%b1%e0%b8%97-%e0%b9%84%e0%b8%97%e0%b8%a2%e0%b9%82%e0%b8%95%e0%b8%8a%e0%b8%b4%e0%b8%9a%e0%b8%b2%e0%b8%ad%e0%b8%b8%e0%b8%95%e0%b8%aa%e0%b8%b2%e0%b8%ab-9/
LOCATION:บริษัท ไทยโตชิบาอุตสาหกรรม จำกัด (สนามบินน้ำ)
CATEGORIES:ปฏิทินตารางหน่วยเคลื่อนที่
END:VEVENT
BEGIN:VEVENT
DTSTART;TZID=Asia/Krasnoyarsk:20251211T120000
DTEND;TZID=Asia/Krasnoyarsk:20251211T180000
DTSTAMP:20260424T213152
CREATED:20251208T072840Z
LAST-MODIFIED:20251208T072840Z
UID:10004618-1765454400-1765476000@thaibloodcentre.redcross.or.th
SUMMARY:ศูนย์การค้าเดอะมอลล์ไลฟ์สโตร์ บางแค []
DESCRIPTION:สถานที่เจาะ : ชั้น 3 ตรงข้ามร้านโอ้กะจู๋ \nที่อยู่ : ถนนเพชรเกษม แขวงบางแคเหนือ เขตภาษีเจริญ กรุงเทพฯ 02 487 1221
URL:https://thaibloodcentre.redcross.or.th/event/%e0%b8%a8%e0%b8%b9%e0%b8%99%e0%b8%a2%e0%b9%8c%e0%b8%81%e0%b8%b2%e0%b8%a3%e0%b8%84%e0%b9%89%e0%b8%b2%e0%b9%80%e0%b8%94%e0%b8%ad%e0%b8%b0%e0%b8%a1%e0%b8%ad%e0%b8%a5%e0%b8%a5%e0%b9%8c%e0%b9%84-1143/
LOCATION:ศูนย์การค้าเดอะมอลล์ไลฟ์สโตร์ บางแค\, ศูนย์การค้าเดอะมอลล์ไลฟ์สโตร์ บางแค
CATEGORIES:ปฏิทินตารางหน่วยเคลื่อนที่
END:VEVENT
BEGIN:VEVENT
DTSTART;TZID=Asia/Krasnoyarsk:20251211T120000
DTEND;TZID=Asia/Krasnoyarsk:20251211T180000
DTSTAMP:20260424T213152
CREATED:20251208T072849Z
LAST-MODIFIED:20251208T072849Z
UID:10004619-1765454400-1765476000@thaibloodcentre.redcross.or.th
SUMMARY:ศูนย์การค้าเดอะมอลล์ไลฟ์สโตร์ บางกะปิ []
DESCRIPTION:สถานที่เจาะ : ชั้น 2 ทางออกลานจอดรถ \nที่อยู่ : ถนนลาดพร้าว แขวงคลองจั่น เขตบางกะปิ กรุงเทพฯ 0 2310 2278
URL:https://thaibloodcentre.redcross.or.th/event/%e0%b8%a8%e0%b8%b9%e0%b8%99%e0%b8%a2%e0%b9%8c%e0%b8%81%e0%b8%b2%e0%b8%a3%e0%b8%84%e0%b9%89%e0%b8%b2%e0%b9%80%e0%b8%94%e0%b8%ad%e0%b8%b0%e0%b8%a1%e0%b8%ad%e0%b8%a5%e0%b8%a5%e0%b9%8c%e0%b9%84-1144/
LOCATION:ศูนย์การค้าเดอะมอลล์ไลฟ์สโตร์ บางกะปิ\, เดอะมอลล์ไลฟ์สโตร์ บางกะปิ 3522 ถ. ลาดพร้าว แขวงคลองจั่น เขตบางกะปิ กรุงเทพมหานคร 10240
CATEGORIES:ปฏิทินตารางหน่วยเคลื่อนที่
END:VEVENT
BEGIN:VEVENT
DTSTART;TZID=Asia/Krasnoyarsk:20251211T120000
DTEND;TZID=Asia/Krasnoyarsk:20251211T180000
DTSTAMP:20260424T213152
CREATED:20251208T072902Z
LAST-MODIFIED:20251208T072902Z
UID:10004620-1765454400-1765476000@thaibloodcentre.redcross.or.th
SUMMARY:ศูนย์การค้าเดอะมอลล์ไลฟ์สโตร์ งามวงศ์วาน []
DESCRIPTION:สถานที่เจาะ : ชั้น 5 โซน Government Center \nที่อยู่ : ถนนงามวงศ์วาน ต.บางเขน อ.เมือง จ.นนทบุรี 0 2555 1550
URL:https://thaibloodcentre.redcross.or.th/event/%e0%b8%a8%e0%b8%b9%e0%b8%99%e0%b8%a2%e0%b9%8c%e0%b8%81%e0%b8%b2%e0%b8%a3%e0%b8%84%e0%b9%89%e0%b8%b2%e0%b9%80%e0%b8%94%e0%b8%ad%e0%b8%b0%e0%b8%a1%e0%b8%ad%e0%b8%a5%e0%b8%a5%e0%b9%8c%e0%b9%84-1145/
LOCATION:ศูนย์การค้าเดอะมอลล์ไลฟ์สโตร์ งามวงศ์วาน\, เดอะมอลล์ ไลฟ์สโตร์ งามวงศ์วาน 430 ถนน งามวงศ์วาน ตำบลบางเขน อำเภอเมืองนนทบุรี นนทบุรี 11000
CATEGORIES:ปฏิทินตารางหน่วยเคลื่อนที่
END:VEVENT
BEGIN:VEVENT
DTSTART;TZID=Asia/Krasnoyarsk:20251211T120000
DTEND;TZID=Asia/Krasnoyarsk:20251211T180000
DTSTAMP:20260424T213152
CREATED:20251208T072911Z
LAST-MODIFIED:20251208T072911Z
UID:10004621-1765454400-1765476000@thaibloodcentre.redcross.or.th
SUMMARY:ศูนย์การค้า เอ็มโพเรียม []
DESCRIPTION:สถานที่เจาะ : ชั้น M ศูนย์การค้า ดิ เอ็มโพเรียม เชื่อมลานจอดรถอาคาร B \nที่อยู่ : 622 ถนนสุขุมวิท แขวงคลองตัน เขตคลองเตย กรุงเทพฯ 0 2269 1515
URL:https://thaibloodcentre.redcross.or.th/event/%e0%b8%a8%e0%b8%b9%e0%b8%99%e0%b8%a2%e0%b9%8c%e0%b8%81%e0%b8%b2%e0%b8%a3%e0%b8%84%e0%b9%89%e0%b8%b2-%e0%b9%80%e0%b8%ad%e0%b9%87%e0%b8%a1%e0%b9%82%e0%b8%9e%e0%b9%80%e0%b8%a3%e0%b8%b5%e0%b8%a2-282/
LOCATION:ศูนย์การค้า เอ็มโพเรียม\, เอ็มโพเรียม 622 ถ. สุขุมวิท แขวงคลองตัน เขตคลองเตย กรุงเทพมหานคร 10110
CATEGORIES:ปฏิทินตารางหน่วยเคลื่อนที่
END:VEVENT
BEGIN:VEVENT
DTSTART;TZID=Asia/Krasnoyarsk:20251211T120000
DTEND;TZID=Asia/Krasnoyarsk:20251211T180000
DTSTAMP:20260424T213152
CREATED:20251208T072915Z
LAST-MODIFIED:20251208T072915Z
UID:10004622-1765454400-1765476000@thaibloodcentre.redcross.or.th
SUMMARY:ศูนย์การค้าเดอะมอลล์ไลฟ์สโตร์ ท่าพระ []
DESCRIPTION:สถานที่เจาะ : ชั้น 1 (ติดลานจอดรถ) \nที่อยู่ : 99 ถนนรัชดาท่าพระตัดใหม่ แขวงบุคคโล เขตธนบุรี กรุงเทพฯ 0 2469-1000
URL:https://thaibloodcentre.redcross.or.th/event/%e0%b8%a8%e0%b8%b9%e0%b8%99%e0%b8%a2%e0%b9%8c%e0%b8%81%e0%b8%b2%e0%b8%a3%e0%b8%84%e0%b9%89%e0%b8%b2%e0%b9%80%e0%b8%94%e0%b8%ad%e0%b8%b0%e0%b8%a1%e0%b8%ad%e0%b8%a5%e0%b8%a5%e0%b9%8c%e0%b9%84-1146/
LOCATION:ศูนย์การค้าเดอะมอลล์ไลฟ์สโตร์ ท่าพระ\, เดอะมอลล์ไลฟ์สโตร์ ท่าพระ 129 ถ. รัชดาภิเษก แขวงบุคคโล เขตธนบุรี กรุงเทพมหานคร 10600
CATEGORIES:ปฏิทินตารางหน่วยเคลื่อนที่
END:VEVENT
BEGIN:VEVENT
DTSTART;TZID=Asia/Krasnoyarsk:20251211T130000
DTEND;TZID=Asia/Krasnoyarsk:20251211T150000
DTSTAMP:20260424T213152
CREATED:20251208T072956Z
LAST-MODIFIED:20251208T072956Z
UID:10004629-1765458000-1765465200@thaibloodcentre.redcross.or.th
SUMMARY:บริษัท ครอมัลลอย (ประเทศไทย) จำกัด []
DESCRIPTION:สถานที่เจาะ : ด้านข้างโรงอาหาร \nที่อยู่ : 25 ม.5 ถ.ลำลูกกา ต.บึงคำพร้อย อ.ลำลูกกา ปทุมธานี 0 2985 0834
URL:https://thaibloodcentre.redcross.or.th/event/%e0%b8%9a%e0%b8%a3%e0%b8%b4%e0%b8%a9%e0%b8%b1%e0%b8%97-%e0%b8%84%e0%b8%a3%e0%b8%ad%e0%b8%a1%e0%b8%b1%e0%b8%a5%e0%b8%a5%e0%b8%ad%e0%b8%a2-%e0%b8%9b%e0%b8%a3%e0%b8%b0%e0%b9%80%e0%b8%97%e0%b8%a8-5/
LOCATION:บริษัท ครอมัลลอย (ประเทศไทย) จำกัด\, บริษัท ครอมัลลอย (ประเทศไทย) จำกัด 25 ม.5 ถ.พหลโยธิน-ลำลูกกา ต.บึงคำพร้อย อ.ลำลูกกา จ.ปทุมธานี 12150
CATEGORIES:ปฏิทินตารางหน่วยเคลื่อนที่
END:VEVENT
END:VCALENDAR