BEGIN:VCALENDAR
VERSION:2.0
PRODID:-//เว็บไซต์ศูนย์บริการโลหิตแห่งชาติ - ECPv6.11.2.1//NONSGML v1.0//EN
CALSCALE:GREGORIAN
METHOD:PUBLISH
X-ORIGINAL-URL:https://thaibloodcentre.redcross.or.th
X-WR-CALDESC:Events for เว็บไซต์ศูนย์บริการโลหิตแห่งชาติ
REFRESH-INTERVAL;VALUE=DURATION:PT1H
X-Robots-Tag:noindex
X-PUBLISHED-TTL:PT1H
BEGIN:VTIMEZONE
TZID:Asia/Krasnoyarsk
BEGIN:STANDARD
TZOFFSETFROM:+0700
TZOFFSETTO:+0700
TZNAME:+07
DTSTART:20250101T000000
END:STANDARD
END:VTIMEZONE
BEGIN:VEVENT
DTSTART;TZID=Asia/Krasnoyarsk:20251204T073000
DTEND;TZID=Asia/Krasnoyarsk:20251204T193000
DTSTAMP:20260424T005807
CREATED:20251128T090358Z
LAST-MODIFIED:20251128T110239Z
UID:10004527-1764833400-1764876600@thaibloodcentre.redcross.or.th
SUMMARY:ศูนย์บริการโลหิตแห่งชาติ สภากาชาดไทย []
DESCRIPTION:ที่อยู่ : 1871 ถ. อังรีดูนังต์ แขวงปทุมวัน เขตปทุมวัน
URL:https://thaibloodcentre.redcross.or.th/event/%e0%b8%a8%e0%b8%b9%e0%b8%99%e0%b8%a2%e0%b9%8c%e0%b8%9a%e0%b8%a3%e0%b8%b4%e0%b8%81%e0%b8%b2%e0%b8%a3%e0%b9%82%e0%b8%a5%e0%b8%ab%e0%b8%b4%e0%b8%95%e0%b9%81%e0%b8%ab%e0%b9%88%e0%b8%87%e0%b8%8a-359/
LOCATION:ศูนย์บริการโลหิตแห่งชาติ สภากาชาดไทย\, ศูนย์บริการโลหิตแห่งชาติ สภากาชาดไทย 1871 ถ. อังรีดูนังต์ แขวงปทุมวัน เขตปทุมวัน กรุงเทพมหานคร 10330
CATEGORIES:ปฏิทินตารางหน่วยเคลื่อนที่
END:VEVENT
BEGIN:VEVENT
DTSTART;TZID=Asia/Krasnoyarsk:20251204T083000
DTEND;TZID=Asia/Krasnoyarsk:20251204T193000
DTSTAMP:20260424T005807
CREATED:20251128T090623Z
LAST-MODIFIED:20251128T110255Z
UID:10004533-1764837000-1764876600@thaibloodcentre.redcross.or.th
SUMMARY:สถานีกาชาด 11 วิเศษนิยม []
DESCRIPTION:สถานที่เจาะ : ชั้น 3 \nที่อยู่ : 33/3 ถนนเพชรเกษม แขวงบางหว้า เขตภาษีเจริญ กรุงเทพฯ 0633450711
URL:https://thaibloodcentre.redcross.or.th/event/%e0%b8%aa%e0%b8%96%e0%b8%b2%e0%b8%99%e0%b8%b5%e0%b8%81%e0%b8%b2%e0%b8%8a%e0%b8%b2%e0%b8%94-11-%e0%b8%a7%e0%b8%b4%e0%b9%80%e0%b8%a8%e0%b8%a9%e0%b8%99%e0%b8%b4%e0%b8%a2%e0%b8%a1-108/
LOCATION:สถานีกาชาด 11 วิเศษนิยม\, สถานีกาชาด 11 วิเศษนิยม 605 ถ.เพชรเกษม แขวงบางหว้า เขตภาษีเจริญ กรุงเทพมหานคร 10160
CATEGORIES:ปฏิทินตารางหน่วยเคลื่อนที่
END:VEVENT
BEGIN:VEVENT
DTSTART;TZID=Asia/Krasnoyarsk:20251204T090000
DTEND;TZID=Asia/Krasnoyarsk:20251204T150000
DTSTAMP:20260424T005807
CREATED:20251128T090752Z
LAST-MODIFIED:20251128T110307Z
UID:10004534-1764838800-1764860400@thaibloodcentre.redcross.or.th
SUMMARY:บ้านทรงไทย (ย่านวงศ์สว่าง) []
DESCRIPTION:สถานที่เจาะ : (พัก 12.30-13.00 น.) \nที่อยู่ : 1423 ถนนกรุงเทพ – นนทบุรี แขวงวงศ์สว่าง เขตบางซื่อ กรุงเทพฯ 0 2256 4300
URL:https://thaibloodcentre.redcross.or.th/event/%e0%b8%9a%e0%b9%89%e0%b8%b2%e0%b8%99%e0%b8%97%e0%b8%a3%e0%b8%87%e0%b9%84%e0%b8%97%e0%b8%a2-%e0%b8%a2%e0%b9%88%e0%b8%b2%e0%b8%99%e0%b8%a7%e0%b8%87%e0%b8%a8%e0%b9%8c%e0%b8%aa%e0%b8%a7%e0%b9%88-277/
LOCATION:บ้านทรงไทย (ย่านวงศ์สว่าง)\, หน่วยรับบริจาคโลหิต บ้านทรงไทย(ย่านวงศ์สว่าง) 1423 ถนนกรุงเทพ-นนทบุรี แขวงวงศ์สว่าง เขตบางซื่อ กรุงเทพมหานคร 10800
CATEGORIES:ปฏิทินตารางหน่วยเคลื่อนที่
END:VEVENT
BEGIN:VEVENT
DTSTART;TZID=Asia/Krasnoyarsk:20251204T090000
DTEND;TZID=Asia/Krasnoyarsk:20251204T150000
DTSTAMP:20260424T005807
CREATED:20251128T090757Z
LAST-MODIFIED:20251128T110308Z
UID:10004535-1764838800-1764860400@thaibloodcentre.redcross.or.th
SUMMARY:กองบัญชาการกองทัพไทย []
DESCRIPTION:สถานที่เจาะ : ห้องประชุมสำนักงานแพทย์ \nที่อยู่ : 127 ถนนแจ้งวัฒนะ แขวงทุ่งสองห้อง เขตหลักสี่ กรุงเทพฯ 0 2586 7360
URL:https://thaibloodcentre.redcross.or.th/event/%e0%b8%81%e0%b8%ad%e0%b8%87%e0%b8%9a%e0%b8%b1%e0%b8%8d%e0%b8%8a%e0%b8%b2%e0%b8%81%e0%b8%b2%e0%b8%a3%e0%b8%81%e0%b8%ad%e0%b8%87%e0%b8%97%e0%b8%b1%e0%b8%9e%e0%b9%84%e0%b8%97%e0%b8%a2-3/
LOCATION:กองบัญชาการกองทัพไทย\, กองบัญชาการกองทัพไทย 127 ซอยแจ้งวัฒนะ 7 แขวงทุ่งสองห้อง เขตหลักสี่ กรุงเทพมหานคร 10210
CATEGORIES:ปฏิทินตารางหน่วยเคลื่อนที่
END:VEVENT
BEGIN:VEVENT
DTSTART;TZID=Asia/Krasnoyarsk:20251204T090000
DTEND;TZID=Asia/Krasnoyarsk:20251204T150000
DTSTAMP:20260424T005807
CREATED:20251128T090759Z
LAST-MODIFIED:20251128T110309Z
UID:10004536-1764838800-1764860400@thaibloodcentre.redcross.or.th
SUMMARY:ธนาคารกรุงศรีอยุธยา จำกัด (มหาชน) []
DESCRIPTION:สถานที่เจาะ : ชั้น 9 \nที่อยู่ : เลขที่ 1222 ถนนพระราม 3 แขวงบางโพงพาง เขตยานนาวา กรุงเทพฯ 0 2296 2445
URL:https://thaibloodcentre.redcross.or.th/event/%e0%b8%98%e0%b8%99%e0%b8%b2%e0%b8%84%e0%b8%b2%e0%b8%a3%e0%b8%81%e0%b8%a3%e0%b8%b8%e0%b8%87%e0%b8%a8%e0%b8%a3%e0%b8%b5%e0%b8%ad%e0%b8%a2%e0%b8%b8%e0%b8%98%e0%b8%a2%e0%b8%b2-%e0%b8%88%e0%b8%b3-6/
LOCATION:ธนาคารกรุงศรีอยุธยา จำกัด (มหาชน)\, ธนาคารกรุงศรีอยุธยา จำกัด (มหาชน) 1222 ถนนพระราม 3 แขวงบางโพงพาง เขตยานนาวา กรุงเทพมหานคร10120
CATEGORIES:ปฏิทินตารางหน่วยเคลื่อนที่
END:VEVENT
BEGIN:VEVENT
DTSTART;TZID=Asia/Krasnoyarsk:20251204T090000
DTEND;TZID=Asia/Krasnoyarsk:20251204T150000
DTSTAMP:20260424T005807
CREATED:20251128T090802Z
LAST-MODIFIED:20251128T110309Z
UID:10004537-1764838800-1764860400@thaibloodcentre.redcross.or.th
SUMMARY:ธนาคารไทยพาณิชย์ จำกัด (มหาชน) อาคารจี ทาวเวอร์ []
DESCRIPTION:สถานที่เจาะ : ด้านหน้าอาคารยูนิลิเวอร์เฮาส์ (พัก 11.30-12.30 น.) \nที่อยู่ : 161 ถ. พระราม 9 แขวงห้วยขวาง เขตห้วยขวาง กรุงเทพฯ
URL:https://thaibloodcentre.redcross.or.th/event/%e0%b8%98%e0%b8%99%e0%b8%b2%e0%b8%84%e0%b8%b2%e0%b8%a3%e0%b9%84%e0%b8%97%e0%b8%a2%e0%b8%9e%e0%b8%b2%e0%b8%93%e0%b8%b4%e0%b8%8a%e0%b8%a2%e0%b9%8c-%e0%b8%88%e0%b8%b3%e0%b8%81%e0%b8%b1%e0%b8%94-15/
LOCATION:ธนาคารไทยพาณิชย์ จำกัด (มหาชน) อาคารจี ทาวเวอร์\, อาคารยูนิลิเวอร์เฮาส์ 161 ถนนพระราม 9 แขวงห้วยขวาง เขตห้วยขวาง กรุงเทพมหานคร 10310
CATEGORIES:ปฏิทินตารางหน่วยเคลื่อนที่
END:VEVENT
BEGIN:VEVENT
DTSTART;TZID=Asia/Krasnoyarsk:20251204T090000
DTEND;TZID=Asia/Krasnoyarsk:20251204T150000
DTSTAMP:20260424T005807
CREATED:20251128T090804Z
LAST-MODIFIED:20251128T110310Z
UID:10004538-1764838800-1764860400@thaibloodcentre.redcross.or.th
SUMMARY:สำนักงานเหล่ากาชาดจังหวัดปทุมธานี []
DESCRIPTION:สถานที่เจาะ : สำนักงานเหล่ากาชาดฯ (พัก 12.00-13.00 น.) \nที่อยู่ : ถ.เทศปทุม – ปทุมธานี ต.บางปรอก อ.เมือง ปทุมธานี 0 2581 5550
URL:https://thaibloodcentre.redcross.or.th/event/%e0%b8%aa%e0%b8%b3%e0%b8%99%e0%b8%b1%e0%b8%81%e0%b8%87%e0%b8%b2%e0%b8%99%e0%b9%80%e0%b8%ab%e0%b8%a5%e0%b9%88%e0%b8%b2%e0%b8%81%e0%b8%b2%e0%b8%8a%e0%b8%b2%e0%b8%94%e0%b8%88%e0%b8%b1%e0%b8%87%e0%b8%ab-2/
LOCATION:สำนักงานเหล่ากาชาดจังหวัดปทุมธานี\, สำนักงานเหล่ากาชาดจังหวัดปทุมธานี ถนนเทศปทุม-ปทุมธานี ต.บางปรอก อ.เมือง จ.ปทุมธานี 12000
CATEGORIES:ปฏิทินตารางหน่วยเคลื่อนที่
END:VEVENT
BEGIN:VEVENT
DTSTART;TZID=Asia/Krasnoyarsk:20251204T090000
DTEND;TZID=Asia/Krasnoyarsk:20251204T150000
DTSTAMP:20260424T005807
CREATED:20251128T090953Z
LAST-MODIFIED:20251128T110322Z
UID:10004539-1764838800-1764860400@thaibloodcentre.redcross.or.th
SUMMARY:องค์การขนส่งมวลชนกรุงเทพ []
DESCRIPTION:สถานที่เจาะ : หน้าตึกอำนวยการ (พัก 12.00-13.00 น.) \nที่อยู่ : 131 ถนนวัฒนธรรม แขวงห้วยขวาง เขตห้วยขวาง กรุงเทพฯ 0 2354 0796
URL:https://thaibloodcentre.redcross.or.th/event/%e0%b8%ad%e0%b8%87%e0%b8%84%e0%b9%8c%e0%b8%81%e0%b8%b2%e0%b8%a3%e0%b8%82%e0%b8%99%e0%b8%aa%e0%b9%88%e0%b8%87%e0%b8%a1%e0%b8%a7%e0%b8%a5%e0%b8%8a%e0%b8%99%e0%b8%81%e0%b8%a3%e0%b8%b8%e0%b8%87%e0%b9%80-4/
LOCATION:องค์การขนส่งมวลชนกรุงเทพ\, องค์การขนส่งมวลชนกรุงเทพ 131 ถนนวัฒนธรรม แขวงห้วยขวาง เขตห้วยขวาง กรุงเทพฯ 10310
CATEGORIES:ปฏิทินตารางหน่วยเคลื่อนที่
END:VEVENT
BEGIN:VEVENT
DTSTART;TZID=Asia/Krasnoyarsk:20251204T120000
DTEND;TZID=Asia/Krasnoyarsk:20251204T180000
DTSTAMP:20260424T005807
CREATED:20251128T090403Z
LAST-MODIFIED:20251128T110240Z
UID:10004528-1764849600-1764871200@thaibloodcentre.redcross.or.th
SUMMARY:ศูนย์การค้าเดอะมอลล์ไลฟ์สโตร์ บางแค []
DESCRIPTION:สถานที่เจาะ : ชั้น 3 ตรงข้ามร้านโอ้กะจู๋ \nที่อยู่ : ถนนเพชรเกษม แขวงบางแคเหนือ เขตภาษีเจริญ กรุงเทพฯ 02 487 1221
URL:https://thaibloodcentre.redcross.or.th/event/%e0%b8%a8%e0%b8%b9%e0%b8%99%e0%b8%a2%e0%b9%8c%e0%b8%81%e0%b8%b2%e0%b8%a3%e0%b8%84%e0%b9%89%e0%b8%b2%e0%b9%80%e0%b8%94%e0%b8%ad%e0%b8%b0%e0%b8%a1%e0%b8%ad%e0%b8%a5%e0%b8%a5%e0%b9%8c%e0%b9%84-1115/
LOCATION:ศูนย์การค้าเดอะมอลล์ไลฟ์สโตร์ บางแค\, ศูนย์การค้าเดอะมอลล์ไลฟ์สโตร์ บางแค
CATEGORIES:ปฏิทินตารางหน่วยเคลื่อนที่
END:VEVENT
BEGIN:VEVENT
DTSTART;TZID=Asia/Krasnoyarsk:20251204T120000
DTEND;TZID=Asia/Krasnoyarsk:20251204T180000
DTSTAMP:20260424T005807
CREATED:20251128T090551Z
LAST-MODIFIED:20251128T110252Z
UID:10004529-1764849600-1764871200@thaibloodcentre.redcross.or.th
SUMMARY:ศูนย์การค้าเดอะมอลล์ไลฟ์สโตร์ บางกะปิ []
DESCRIPTION:สถานที่เจาะ : ชั้น 2 ทางออกลานจอดรถ \nที่อยู่ : ถนนลาดพร้าว แขวงคลองจั่น เขตบางกะปิ กรุงเทพฯ 0 2310 2278
URL:https://thaibloodcentre.redcross.or.th/event/%e0%b8%a8%e0%b8%b9%e0%b8%99%e0%b8%a2%e0%b9%8c%e0%b8%81%e0%b8%b2%e0%b8%a3%e0%b8%84%e0%b9%89%e0%b8%b2%e0%b9%80%e0%b8%94%e0%b8%ad%e0%b8%b0%e0%b8%a1%e0%b8%ad%e0%b8%a5%e0%b8%a5%e0%b9%8c%e0%b9%84-1116/
LOCATION:ศูนย์การค้าเดอะมอลล์ไลฟ์สโตร์ บางกะปิ\, เดอะมอลล์ไลฟ์สโตร์ บางกะปิ 3522 ถ. ลาดพร้าว แขวงคลองจั่น เขตบางกะปิ กรุงเทพมหานคร 10240
CATEGORIES:ปฏิทินตารางหน่วยเคลื่อนที่
END:VEVENT
BEGIN:VEVENT
DTSTART;TZID=Asia/Krasnoyarsk:20251204T120000
DTEND;TZID=Asia/Krasnoyarsk:20251204T180000
DTSTAMP:20260424T005807
CREATED:20251128T090600Z
LAST-MODIFIED:20251128T110252Z
UID:10004530-1764849600-1764871200@thaibloodcentre.redcross.or.th
SUMMARY:ศูนย์การค้าเดอะมอลล์ไลฟ์สโตร์ งามวงศ์วาน []
DESCRIPTION:สถานที่เจาะ : ชั้น 5 โซน Government Center \nที่อยู่ : ถนนงามวงศ์วาน ต.บางเขน อ.เมือง จ.นนทบุรี 0 2555 1550
URL:https://thaibloodcentre.redcross.or.th/event/%e0%b8%a8%e0%b8%b9%e0%b8%99%e0%b8%a2%e0%b9%8c%e0%b8%81%e0%b8%b2%e0%b8%a3%e0%b8%84%e0%b9%89%e0%b8%b2%e0%b9%80%e0%b8%94%e0%b8%ad%e0%b8%b0%e0%b8%a1%e0%b8%ad%e0%b8%a5%e0%b8%a5%e0%b9%8c%e0%b9%84-1117/
LOCATION:ศูนย์การค้าเดอะมอลล์ไลฟ์สโตร์ งามวงศ์วาน\, เดอะมอลล์ ไลฟ์สโตร์ งามวงศ์วาน 430 ถนน งามวงศ์วาน ตำบลบางเขน อำเภอเมืองนนทบุรี นนทบุรี 11000
CATEGORIES:ปฏิทินตารางหน่วยเคลื่อนที่
END:VEVENT
BEGIN:VEVENT
DTSTART;TZID=Asia/Krasnoyarsk:20251204T120000
DTEND;TZID=Asia/Krasnoyarsk:20251204T180000
DTSTAMP:20260424T005807
CREATED:20251128T090610Z
LAST-MODIFIED:20251128T110253Z
UID:10004531-1764849600-1764871200@thaibloodcentre.redcross.or.th
SUMMARY:ศูนย์การค้า เอ็มโพเรียม []
DESCRIPTION:สถานที่เจาะ : ชั้น M ศูนย์การค้า ดิ เอ็มโพเรียม เชื่อมลานจอดรถอาคาร B \nที่อยู่ : 622 ถนนสุขุมวิท แขวงคลองตัน เขตคลองเตย กรุงเทพฯ 0 2269 1515
URL:https://thaibloodcentre.redcross.or.th/event/%e0%b8%a8%e0%b8%b9%e0%b8%99%e0%b8%a2%e0%b9%8c%e0%b8%81%e0%b8%b2%e0%b8%a3%e0%b8%84%e0%b9%89%e0%b8%b2-%e0%b9%80%e0%b8%ad%e0%b9%87%e0%b8%a1%e0%b9%82%e0%b8%9e%e0%b9%80%e0%b8%a3%e0%b8%b5%e0%b8%a2-275/
LOCATION:ศูนย์การค้า เอ็มโพเรียม\, เอ็มโพเรียม 622 ถ. สุขุมวิท แขวงคลองตัน เขตคลองเตย กรุงเทพมหานคร 10110
CATEGORIES:ปฏิทินตารางหน่วยเคลื่อนที่
END:VEVENT
BEGIN:VEVENT
DTSTART;TZID=Asia/Krasnoyarsk:20251204T120000
DTEND;TZID=Asia/Krasnoyarsk:20251204T180000
DTSTAMP:20260424T005807
CREATED:20251128T090614Z
LAST-MODIFIED:20251128T110254Z
UID:10004532-1764849600-1764871200@thaibloodcentre.redcross.or.th
SUMMARY:ศูนย์การค้าเดอะมอลล์ไลฟ์สโตร์ ท่าพระ []
DESCRIPTION:สถานที่เจาะ : ชั้น 1 (ติดลานจอดรถ) \nที่อยู่ : 99 ถนนรัชดาท่าพระตัดใหม่ แขวงบุคคโล เขตธนบุรี กรุงเทพฯ 0 2469-1000
URL:https://thaibloodcentre.redcross.or.th/event/%e0%b8%a8%e0%b8%b9%e0%b8%99%e0%b8%a2%e0%b9%8c%e0%b8%81%e0%b8%b2%e0%b8%a3%e0%b8%84%e0%b9%89%e0%b8%b2%e0%b9%80%e0%b8%94%e0%b8%ad%e0%b8%b0%e0%b8%a1%e0%b8%ad%e0%b8%a5%e0%b8%a5%e0%b9%8c%e0%b9%84-1118/
LOCATION:ศูนย์การค้าเดอะมอลล์ไลฟ์สโตร์ ท่าพระ\, เดอะมอลล์ไลฟ์สโตร์ ท่าพระ 129 ถ. รัชดาภิเษก แขวงบุคคโล เขตธนบุรี กรุงเทพมหานคร 10600
CATEGORIES:ปฏิทินตารางหน่วยเคลื่อนที่
END:VEVENT
END:VCALENDAR