BEGIN:VCALENDAR
VERSION:2.0
PRODID:-//เว็บไซต์ศูนย์บริการโลหิตแห่งชาติ - ECPv6.11.2.1//NONSGML v1.0//EN
CALSCALE:GREGORIAN
METHOD:PUBLISH
X-WR-CALNAME:เว็บไซต์ศูนย์บริการโลหิตแห่งชาติ
X-ORIGINAL-URL:https://thaibloodcentre.redcross.or.th
X-WR-CALDESC:Events for เว็บไซต์ศูนย์บริการโลหิตแห่งชาติ
REFRESH-INTERVAL;VALUE=DURATION:PT1H
X-Robots-Tag:noindex
X-PUBLISHED-TTL:PT1H
BEGIN:VTIMEZONE
TZID:Asia/Krasnoyarsk
BEGIN:STANDARD
TZOFFSETFROM:+0700
TZOFFSETTO:+0700
TZNAME:+07
DTSTART:20250101T000000
END:STANDARD
END:VTIMEZONE
BEGIN:VEVENT
DTSTART;TZID=Asia/Krasnoyarsk:20251203T073000
DTEND;TZID=Asia/Krasnoyarsk:20251203T193000
DTSTAMP:20260424T010629
CREATED:20251128T085903Z
LAST-MODIFIED:20251128T110152Z
UID:10004509-1764747000-1764790200@thaibloodcentre.redcross.or.th
SUMMARY:ศูนย์บริการโลหิตแห่งชาติ สภากาชาดไทย []
DESCRIPTION:ที่อยู่ : 1871 ถ. อังรีดูนังต์ แขวงปทุมวัน เขตปทุมวัน
URL:https://thaibloodcentre.redcross.or.th/event/%e0%b8%a8%e0%b8%b9%e0%b8%99%e0%b8%a2%e0%b9%8c%e0%b8%9a%e0%b8%a3%e0%b8%b4%e0%b8%81%e0%b8%b2%e0%b8%a3%e0%b9%82%e0%b8%a5%e0%b8%ab%e0%b8%b4%e0%b8%95%e0%b9%81%e0%b8%ab%e0%b9%88%e0%b8%87%e0%b8%8a-358/
LOCATION:ศูนย์บริการโลหิตแห่งชาติ สภากาชาดไทย\, ศูนย์บริการโลหิตแห่งชาติ สภากาชาดไทย 1871 ถ. อังรีดูนังต์ แขวงปทุมวัน เขตปทุมวัน กรุงเทพมหานคร 10330
CATEGORIES:ปฏิทินตารางหน่วยเคลื่อนที่
END:VEVENT
BEGIN:VEVENT
DTSTART;TZID=Asia/Krasnoyarsk:20251203T083000
DTEND;TZID=Asia/Krasnoyarsk:20251203T193000
DTSTAMP:20260424T010629
CREATED:20251128T090000Z
LAST-MODIFIED:20251128T110208Z
UID:10004515-1764750600-1764790200@thaibloodcentre.redcross.or.th
SUMMARY:สถานีกาชาด 11 วิเศษนิยม []
DESCRIPTION:สถานที่เจาะ : ชั้น 3 \nที่อยู่ : 33/3 ถนนเพชรเกษม แขวงบางหว้า เขตภาษีเจริญ กรุงเทพฯ 0633450711
URL:https://thaibloodcentre.redcross.or.th/event/%e0%b8%aa%e0%b8%96%e0%b8%b2%e0%b8%99%e0%b8%b5%e0%b8%81%e0%b8%b2%e0%b8%8a%e0%b8%b2%e0%b8%94-11-%e0%b8%a7%e0%b8%b4%e0%b9%80%e0%b8%a8%e0%b8%a9%e0%b8%99%e0%b8%b4%e0%b8%a2%e0%b8%a1-107/
LOCATION:สถานีกาชาด 11 วิเศษนิยม\, สถานีกาชาด 11 วิเศษนิยม 605 ถ.เพชรเกษม แขวงบางหว้า เขตภาษีเจริญ กรุงเทพมหานคร 10160
CATEGORIES:ปฏิทินตารางหน่วยเคลื่อนที่
END:VEVENT
BEGIN:VEVENT
DTSTART;TZID=Asia/Krasnoyarsk:20251203T090000
DTEND;TZID=Asia/Krasnoyarsk:20251203T150000
DTSTAMP:20260424T010629
CREATED:20251128T090006Z
LAST-MODIFIED:20251128T110208Z
UID:10004516-1764752400-1764774000@thaibloodcentre.redcross.or.th
SUMMARY:บ้านทรงไทย (ย่านวงศ์สว่าง) []
DESCRIPTION:สถานที่เจาะ : (พัก 12.30-13.00 น.) \nที่อยู่ : 1423 ถนนกรุงเทพ – นนทบุรี แขวงวงศ์สว่าง เขตบางซื่อ กรุงเทพฯ 0 2256 4300
URL:https://thaibloodcentre.redcross.or.th/event/%e0%b8%9a%e0%b9%89%e0%b8%b2%e0%b8%99%e0%b8%97%e0%b8%a3%e0%b8%87%e0%b9%84%e0%b8%97%e0%b8%a2-%e0%b8%a2%e0%b9%88%e0%b8%b2%e0%b8%99%e0%b8%a7%e0%b8%87%e0%b8%a8%e0%b9%8c%e0%b8%aa%e0%b8%a7%e0%b9%88-276/
LOCATION:บ้านทรงไทย (ย่านวงศ์สว่าง)\, หน่วยรับบริจาคโลหิต บ้านทรงไทย(ย่านวงศ์สว่าง) 1423 ถนนกรุงเทพ-นนทบุรี แขวงวงศ์สว่าง เขตบางซื่อ กรุงเทพมหานคร 10800
CATEGORIES:ปฏิทินตารางหน่วยเคลื่อนที่
END:VEVENT
BEGIN:VEVENT
DTSTART;TZID=Asia/Krasnoyarsk:20251203T090000
DTEND;TZID=Asia/Krasnoyarsk:20251203T150000
DTSTAMP:20260424T010629
CREATED:20251128T090019Z
LAST-MODIFIED:20251128T110210Z
UID:10004518-1764752400-1764774000@thaibloodcentre.redcross.or.th
SUMMARY:โรงพยาบาลกรุงเทพคริสเตียน []
DESCRIPTION:สถานที่เจาะ : ชั้น G อาคาร ซี.ซี.ที (พัก 12.00-13.00 น.) \nที่อยู่ : 124 ถนนสีลม แขวงสุริยวงศ์ เขตบางรัก กรุงเทพฯ 0 2265 9000
URL:https://thaibloodcentre.redcross.or.th/event/%e0%b9%82%e0%b8%a3%e0%b8%87%e0%b8%9e%e0%b8%a2%e0%b8%b2%e0%b8%9a%e0%b8%b2%e0%b8%a5%e0%b8%81%e0%b8%a3%e0%b8%b8%e0%b8%87%e0%b9%80%e0%b8%97%e0%b8%9e%e0%b8%84%e0%b8%a3%e0%b8%b4%e0%b8%aa%e0%b9%80%e0%b8%95/
LOCATION:โรงพยาบาลกรุงเทพคริสเตียน\, โรงพยาบาลกรุงเทพคริสเตียน 124 ถนนสีลม แขวงสุริยวงศ์ เขตบางรัก กรุงเทพมหานคร 10500
CATEGORIES:ปฏิทินตารางหน่วยเคลื่อนที่
END:VEVENT
BEGIN:VEVENT
DTSTART;TZID=Asia/Krasnoyarsk:20251203T090000
DTEND;TZID=Asia/Krasnoyarsk:20251203T150000
DTSTAMP:20260424T010629
CREATED:20251128T090149Z
LAST-MODIFIED:20251128T110221Z
UID:10004519-1764752400-1764774000@thaibloodcentre.redcross.or.th
SUMMARY:คณะวิทยาศาสตร์ มหาวิทยาลัยเกษตรศาสตร์ []
DESCRIPTION:สถานที่เจาะ : ด้านหน้าอาคาร 45 ปี (พัก 11.00-12.00 น.) \nที่อยู่ : ถนนพหลโยธิน แขวงลาดยาว เขตจตุจักร กรุงเทพฯ 0 2562 5555
URL:https://thaibloodcentre.redcross.or.th/event/%e0%b8%84%e0%b8%93%e0%b8%b0%e0%b8%a7%e0%b8%b4%e0%b8%97%e0%b8%a2%e0%b8%b2%e0%b8%a8%e0%b8%b2%e0%b8%aa%e0%b8%95%e0%b8%a3%e0%b9%8c-%e0%b8%a1%e0%b8%ab%e0%b8%b2%e0%b8%a7%e0%b8%b4%e0%b8%97%e0%b8%a2-2/
LOCATION:คณะวิทยาศาสตร์ มหาวิทยาลัยเกษตรศาสตร์\, คณะวิทยาศาสตร์ มหาวิทยาลัยเกษตรศาสตร์ 50 ถนนงามวงศ์วาน แขวงลาดยาว เขตจตุจักร กรุงเทพมหานคร 10900
CATEGORIES:ปฏิทินตารางหน่วยเคลื่อนที่
END:VEVENT
BEGIN:VEVENT
DTSTART;TZID=Asia/Krasnoyarsk:20251203T090000
DTEND;TZID=Asia/Krasnoyarsk:20251203T150000
DTSTAMP:20260424T010629
CREATED:20251128T090155Z
LAST-MODIFIED:20251128T110222Z
UID:10004520-1764752400-1764774000@thaibloodcentre.redcross.or.th
SUMMARY:ธนาคารพัฒนาวิสาหกิจขนาดกลางและขนาดย่อมแห่งประเทศไทย []
DESCRIPTION:สถานที่เจาะ : โถงชั้น1 ข้างบันไดเลื่อน (พัก 12.00-13.00 น.) \nที่อยู่ : 310 อาคาร SME BANK ทาวเวอร์ ถนนพหลโยธิน แขวงสามเสนใน เขตพญาไท กรุงเทพฯ 0 2265 4447
URL:https://thaibloodcentre.redcross.or.th/event/%e0%b8%98%e0%b8%99%e0%b8%b2%e0%b8%84%e0%b8%b2%e0%b8%a3%e0%b8%9e%e0%b8%b1%e0%b8%92%e0%b8%99%e0%b8%b2%e0%b8%a7%e0%b8%b4%e0%b8%aa%e0%b8%b2%e0%b8%ab%e0%b8%81%e0%b8%b4%e0%b8%88%e0%b8%82%e0%b8%99%e0%b8%b2-3/
LOCATION:ธนาคารพัฒนาวิสาหกิจขนาดกลางและขนาดย่อมแห่งประเทศไทย\, สำนักงานใหญ่ ธนาคารพัฒนาวิสาหกิจขนาดกลางและขนาดย่อมแห่งประเทศไทย 310 อาคาร SME Bank Tower ถนนพหลโยธิน แขวงสามเสนใน เขตพญาไท กทม. 10400
CATEGORIES:ปฏิทินตารางหน่วยเคลื่อนที่
END:VEVENT
BEGIN:VEVENT
DTSTART;TZID=Asia/Krasnoyarsk:20251203T090000
DTEND;TZID=Asia/Krasnoyarsk:20251203T150000
DTSTAMP:20260424T010629
CREATED:20251128T090159Z
LAST-MODIFIED:20251128T110223Z
UID:10004521-1764752400-1764774000@thaibloodcentre.redcross.or.th
SUMMARY:บริษัท โมเดอร์นฟอร์มกรุ๊ป จำกัด (มหาชน) []
DESCRIPTION:สถานที่เจาะ : ห้องประชุมชั้น 12 อาคารโมเดอร์นฟอร์ม ทาวเวอร์ (พัก 12.00-13.00 น.) \nที่อยู่ : 699 ถนนศรีนครินทร์ แขวงพัฒนาการ เขตสวนหลวง กรุงเทพฯ 0 2094 2336
URL:https://thaibloodcentre.redcross.or.th/event/%e0%b8%9a%e0%b8%a3%e0%b8%b4%e0%b8%a9%e0%b8%b1%e0%b8%97-%e0%b9%82%e0%b8%a1%e0%b9%80%e0%b8%94%e0%b8%ad%e0%b8%a3%e0%b9%8c%e0%b8%99%e0%b8%9f%e0%b8%ad%e0%b8%a3%e0%b9%8c%e0%b8%a1%e0%b8%81%e0%b8%a3-4/
LOCATION:บริษัท โมเดอร์นฟอร์มกรุ๊ป จำกัด (มหาชน)\, อาคารโมเดอร์นฟอร์ม ทาวเวอร์ 699 ถนนศรีนครินทร์ แขวงพัฒนาการ เขตสวนหลวง กรุงเทพฯ 10250
CATEGORIES:ปฏิทินตารางหน่วยเคลื่อนที่
END:VEVENT
BEGIN:VEVENT
DTSTART;TZID=Asia/Krasnoyarsk:20251203T090000
DTEND;TZID=Asia/Krasnoyarsk:20251203T150000
DTSTAMP:20260424T010629
CREATED:20251128T090203Z
LAST-MODIFIED:20251128T110224Z
UID:10004522-1764752400-1764774000@thaibloodcentre.redcross.or.th
SUMMARY:บริษัท อิมแพ็ค เอ็กซิบิชั่น แมเนจเม้นท์ จำกัด []
DESCRIPTION:สถานที่เจาะ : ห้องแซฟไฟร์ 113 อาคารอิมแพ็คฟอรั่ม (พัก 12.00-13.00 น.) \nที่อยู่ : 47/569-576 ถ.ป๊อปปูล่า 3 ต.บ้านใหม่ อ.ปากเกร็ด จ.นนทบุรี 0 2833 5186
URL:https://thaibloodcentre.redcross.or.th/event/%e0%b8%9a%e0%b8%a3%e0%b8%b4%e0%b8%a9%e0%b8%b1%e0%b8%97-%e0%b8%ad%e0%b8%b4%e0%b8%a1%e0%b9%81%e0%b8%9e%e0%b9%87%e0%b8%84-%e0%b9%80%e0%b8%ad%e0%b9%87%e0%b8%81%e0%b8%8b%e0%b8%b4%e0%b8%9a%e0%b8%b4-4/
LOCATION:บริษัท อิมแพ็ค เอ็กซิบิชั่น แมเนจเม้นท์ จำกัด\, IMPACT Forum Building 47/569-576 ม. 3 ชั้น 10 ถ.ป๊อปปูล่า 3 บ้านใหม่ นนทบุรี 11120
CATEGORIES:ปฏิทินตารางหน่วยเคลื่อนที่
END:VEVENT
BEGIN:VEVENT
DTSTART;TZID=Asia/Krasnoyarsk:20251203T090000
DTEND;TZID=Asia/Krasnoyarsk:20251203T150000
DTSTAMP:20260424T010629
CREATED:20251128T090208Z
LAST-MODIFIED:20251128T110224Z
UID:10004523-1764752400-1764774000@thaibloodcentre.redcross.or.th
SUMMARY:บริษัท กรุงเทพโทรทัศน์และวิทยุ จำกัด []
DESCRIPTION:สถานที่เจาะ : อาคาร 7 ชั้น 1 ห้อง 701 (พัก 12.00-13.00 น.) \nที่อยู่ : 998/1 ถนนพหลโยธิน แขวงจอมพล เขตจตุจักร กรุงเทพฯ 0 2495 7777
URL:https://thaibloodcentre.redcross.or.th/event/%e0%b8%9a%e0%b8%a3%e0%b8%b4%e0%b8%a9%e0%b8%b1%e0%b8%97-%e0%b8%81%e0%b8%a3%e0%b8%b8%e0%b8%87%e0%b9%80%e0%b8%97%e0%b8%9e%e0%b9%82%e0%b8%97%e0%b8%a3%e0%b8%97%e0%b8%b1%e0%b8%a8%e0%b8%99%e0%b9%8c-4/
LOCATION:บริษัท กรุงเทพโทรทัศน์และวิทยุ จำกัด\, บริษัท กรุงเทพโทรทัศน์และวิทยุ จำกัด 998/1 ซอยร่วมศิริมิตร (พหลโยธิน 18/1) ถนนพหลโยธิน แขวงจอมพล เขตจตุจักร กทม. 10900
CATEGORIES:ปฏิทินตารางหน่วยเคลื่อนที่
END:VEVENT
BEGIN:VEVENT
DTSTART;TZID=Asia/Krasnoyarsk:20251203T090000
DTEND;TZID=Asia/Krasnoyarsk:20251203T150000
DTSTAMP:20260424T010629
CREATED:20251128T090353Z
LAST-MODIFIED:20251128T110237Z
UID:10004525-1764752400-1764774000@thaibloodcentre.redcross.or.th
SUMMARY:องค์การขนส่งมวลชนกรุงเทพ []
DESCRIPTION:สถานที่เจาะ : หน้าตึกอำนวยการ (พัก 12.00-13.00 น.) \nที่อยู่ : 131 ถนนวัฒนธรรม แขวงห้วยขวาง เขตห้วยขวาง กรุงเทพฯ 0 2354 0796
URL:https://thaibloodcentre.redcross.or.th/event/%e0%b8%ad%e0%b8%87%e0%b8%84%e0%b9%8c%e0%b8%81%e0%b8%b2%e0%b8%a3%e0%b8%82%e0%b8%99%e0%b8%aa%e0%b9%88%e0%b8%87%e0%b8%a1%e0%b8%a7%e0%b8%a5%e0%b8%8a%e0%b8%99%e0%b8%81%e0%b8%a3%e0%b8%b8%e0%b8%87%e0%b9%80-3/
LOCATION:องค์การขนส่งมวลชนกรุงเทพ\, องค์การขนส่งมวลชนกรุงเทพ 131 ถนนวัฒนธรรม แขวงห้วยขวาง เขตห้วยขวาง กรุงเทพฯ 10310
CATEGORIES:ปฏิทินตารางหน่วยเคลื่อนที่
END:VEVENT
BEGIN:VEVENT
DTSTART;TZID=Asia/Krasnoyarsk:20251203T093000
DTEND;TZID=Asia/Krasnoyarsk:20251203T150000
DTSTAMP:20260424T010629
CREATED:20251128T090350Z
LAST-MODIFIED:20251128T110237Z
UID:10004524-1764754200-1764774000@thaibloodcentre.redcross.or.th
SUMMARY:นิติบุคคลอาคารชุด ปัญจธานีทาวเวอร์ []
DESCRIPTION:สถานที่เจาะ : หน้าอาคาร (พัก 11.30-12.30 น.) \nที่อยู่ : 127 ถนนนนทรี แขวงช่องนนทรี เขตยานนาวา กรุงเทพฯ 0 2295 2510
URL:https://thaibloodcentre.redcross.or.th/event/%e0%b8%99%e0%b8%b4%e0%b8%95%e0%b8%b4%e0%b8%9a%e0%b8%b8%e0%b8%84%e0%b8%84%e0%b8%a5%e0%b8%ad%e0%b8%b2%e0%b8%84%e0%b8%b2%e0%b8%a3%e0%b8%8a%e0%b8%b8%e0%b8%94-%e0%b8%9b%e0%b8%b1%e0%b8%8d%e0%b8%88-4/
LOCATION:นิติบุคคลอาคารชุด ปัญจธานีทาวเวอร์\, ปัญจธานี ทาวเวอร์ 127 ถนนรัชดาภิเษก แขวงช่องนนทรี เขตยานนาวา กรุงเทพมหานคร 10120
CATEGORIES:ปฏิทินตารางหน่วยเคลื่อนที่
END:VEVENT
BEGIN:VEVENT
DTSTART;TZID=Asia/Krasnoyarsk:20251203T110000
DTEND;TZID=Asia/Krasnoyarsk:20251203T150000
DTSTAMP:20260424T010629
CREATED:20251128T090013Z
LAST-MODIFIED:20251128T110209Z
UID:10004517-1764759600-1764774000@thaibloodcentre.redcross.or.th
SUMMARY:เซ็นทรัลพลาซา เวสต์เกต []
DESCRIPTION:สถานที่เจาะ : จุดจอดรถประตูยูนิโคล่ \nที่อยู่ : 199\,199/1\,199/2 ถ.กาญจนาภิเษก ต.เสาธงหิน อ.บางใหญ่ จ.นนทบุรี 0 2101 7999
URL:https://thaibloodcentre.redcross.or.th/event/%e0%b9%80%e0%b8%8b%e0%b9%87%e0%b8%99%e0%b8%97%e0%b8%a3%e0%b8%b1%e0%b8%a5%e0%b8%9e%e0%b8%a5%e0%b8%b2%e0%b8%8b%e0%b8%b2-%e0%b9%80%e0%b8%a7%e0%b8%aa%e0%b8%95%e0%b9%8c%e0%b9%80%e0%b8%81%e0%b8%95-6/
LOCATION:เซ็นทรัลพลาซา เวสต์เกต\, เซ็นทรัลพลาซา เวสต์เกต 199\, 199/1 199/2 ถ. กาญจนาภิเษก ตำบล เสาธงหิน อำเภอบางใหญ่ นนทบุรี 11140
CATEGORIES:ปฏิทินตารางหน่วยเคลื่อนที่
END:VEVENT
BEGIN:VEVENT
DTSTART;TZID=Asia/Krasnoyarsk:20251203T110000
DTEND;TZID=Asia/Krasnoyarsk:20251203T150000
DTSTAMP:20260424T010629
CREATED:20251128T090356Z
LAST-MODIFIED:20251128T110238Z
UID:10004526-1764759600-1764774000@thaibloodcentre.redcross.or.th
SUMMARY:บริษัท ซีพีแรม จำกัด (ลาดกระบัง) []
DESCRIPTION:สถานที่เจาะ : หน้าเสาธงโรงงานลาดกระบัง 1 \nที่อยู่ : 149 ฉลองกรุง 31 แขวงลำปลาทิว เขตลาดกระบัง กรุงเทพฯ 0 2844 8300-12
URL:https://thaibloodcentre.redcross.or.th/event/%e0%b8%9a%e0%b8%a3%e0%b8%b4%e0%b8%a9%e0%b8%b1%e0%b8%97-%e0%b8%8b%e0%b8%b5%e0%b8%9e%e0%b8%b5%e0%b9%81%e0%b8%a3%e0%b8%a1-%e0%b8%88%e0%b8%b3%e0%b8%81%e0%b8%b1%e0%b8%94-%e0%b8%a5%e0%b8%b2%e0%b8%94-5/
LOCATION:บริษัท ซีพีแรม จำกัด (ลาดกระบัง)\, บริษัท ซีพีแรม จำกัด (ลาดกระบัง) 149 ซอยฉลองกรุง 31 แขวงลำปลาทิว เขตลาดกระบัง กรุงเทพมหานคร 10520
CATEGORIES:ปฏิทินตารางหน่วยเคลื่อนที่
END:VEVENT
BEGIN:VEVENT
DTSTART;TZID=Asia/Krasnoyarsk:20251203T120000
DTEND;TZID=Asia/Krasnoyarsk:20251203T180000
DTSTAMP:20260424T010629
CREATED:20251128T085909Z
LAST-MODIFIED:20251128T110152Z
UID:10004510-1764763200-1764784800@thaibloodcentre.redcross.or.th
SUMMARY:ศูนย์การค้าเดอะมอลล์ไลฟ์สโตร์ บางแค []
DESCRIPTION:สถานที่เจาะ : ชั้น 3 ตรงข้ามร้านโอ้กะจู๋ \nที่อยู่ : ถนนเพชรเกษม แขวงบางแคเหนือ เขตภาษีเจริญ กรุงเทพฯ 02 487 1221
URL:https://thaibloodcentre.redcross.or.th/event/%e0%b8%a8%e0%b8%b9%e0%b8%99%e0%b8%a2%e0%b9%8c%e0%b8%81%e0%b8%b2%e0%b8%a3%e0%b8%84%e0%b9%89%e0%b8%b2%e0%b9%80%e0%b8%94%e0%b8%ad%e0%b8%b0%e0%b8%a1%e0%b8%ad%e0%b8%a5%e0%b8%a5%e0%b9%8c%e0%b9%84-1111/
LOCATION:ศูนย์การค้าเดอะมอลล์ไลฟ์สโตร์ บางแค\, ศูนย์การค้าเดอะมอลล์ไลฟ์สโตร์ บางแค
CATEGORIES:ปฏิทินตารางหน่วยเคลื่อนที่
END:VEVENT
BEGIN:VEVENT
DTSTART;TZID=Asia/Krasnoyarsk:20251203T120000
DTEND;TZID=Asia/Krasnoyarsk:20251203T180000
DTSTAMP:20260424T010629
CREATED:20251128T085918Z
LAST-MODIFIED:20251128T110153Z
UID:10004511-1764763200-1764784800@thaibloodcentre.redcross.or.th
SUMMARY:ศูนย์การค้าเดอะมอลล์ไลฟ์สโตร์ บางกะปิ []
DESCRIPTION:สถานที่เจาะ : ชั้น 2 ทางออกลานจอดรถ \nที่อยู่ : ถนนลาดพร้าว แขวงคลองจั่น เขตบางกะปิ กรุงเทพฯ 0 2310 2278
URL:https://thaibloodcentre.redcross.or.th/event/%e0%b8%a8%e0%b8%b9%e0%b8%99%e0%b8%a2%e0%b9%8c%e0%b8%81%e0%b8%b2%e0%b8%a3%e0%b8%84%e0%b9%89%e0%b8%b2%e0%b9%80%e0%b8%94%e0%b8%ad%e0%b8%b0%e0%b8%a1%e0%b8%ad%e0%b8%a5%e0%b8%a5%e0%b9%8c%e0%b9%84-1112/
LOCATION:ศูนย์การค้าเดอะมอลล์ไลฟ์สโตร์ บางกะปิ\, เดอะมอลล์ไลฟ์สโตร์ บางกะปิ 3522 ถ. ลาดพร้าว แขวงคลองจั่น เขตบางกะปิ กรุงเทพมหานคร 10240
CATEGORIES:ปฏิทินตารางหน่วยเคลื่อนที่
END:VEVENT
BEGIN:VEVENT
DTSTART;TZID=Asia/Krasnoyarsk:20251203T120000
DTEND;TZID=Asia/Krasnoyarsk:20251203T180000
DTSTAMP:20260424T010629
CREATED:20251128T085926Z
LAST-MODIFIED:20251128T110154Z
UID:10004512-1764763200-1764784800@thaibloodcentre.redcross.or.th
SUMMARY:ศูนย์การค้าเดอะมอลล์ไลฟ์สโตร์ งามวงศ์วาน []
DESCRIPTION:สถานที่เจาะ : ชั้น 5 โซน Government Center \nที่อยู่ : ถนนงามวงศ์วาน ต.บางเขน อ.เมือง จ.นนทบุรี 0 2555 1550
URL:https://thaibloodcentre.redcross.or.th/event/%e0%b8%a8%e0%b8%b9%e0%b8%99%e0%b8%a2%e0%b9%8c%e0%b8%81%e0%b8%b2%e0%b8%a3%e0%b8%84%e0%b9%89%e0%b8%b2%e0%b9%80%e0%b8%94%e0%b8%ad%e0%b8%b0%e0%b8%a1%e0%b8%ad%e0%b8%a5%e0%b8%a5%e0%b9%8c%e0%b9%84-1113/
LOCATION:ศูนย์การค้าเดอะมอลล์ไลฟ์สโตร์ งามวงศ์วาน\, เดอะมอลล์ ไลฟ์สโตร์ งามวงศ์วาน 430 ถนน งามวงศ์วาน ตำบลบางเขน อำเภอเมืองนนทบุรี นนทบุรี 11000
CATEGORIES:ปฏิทินตารางหน่วยเคลื่อนที่
END:VEVENT
BEGIN:VEVENT
DTSTART;TZID=Asia/Krasnoyarsk:20251203T120000
DTEND;TZID=Asia/Krasnoyarsk:20251203T180000
DTSTAMP:20260424T010629
CREATED:20251128T085936Z
LAST-MODIFIED:20251128T110155Z
UID:10004513-1764763200-1764784800@thaibloodcentre.redcross.or.th
SUMMARY:ศูนย์การค้า เอ็มโพเรียม []
DESCRIPTION:สถานที่เจาะ : ชั้น M ศูนย์การค้า ดิ เอ็มโพเรียม เชื่อมลานจอดรถอาคาร B \nที่อยู่ : 622 ถนนสุขุมวิท แขวงคลองตัน เขตคลองเตย กรุงเทพฯ 0 2269 1515
URL:https://thaibloodcentre.redcross.or.th/event/%e0%b8%a8%e0%b8%b9%e0%b8%99%e0%b8%a2%e0%b9%8c%e0%b8%81%e0%b8%b2%e0%b8%a3%e0%b8%84%e0%b9%89%e0%b8%b2-%e0%b9%80%e0%b8%ad%e0%b9%87%e0%b8%a1%e0%b9%82%e0%b8%9e%e0%b9%80%e0%b8%a3%e0%b8%b5%e0%b8%a2-274/
LOCATION:ศูนย์การค้า เอ็มโพเรียม\, เอ็มโพเรียม 622 ถ. สุขุมวิท แขวงคลองตัน เขตคลองเตย กรุงเทพมหานคร 10110
CATEGORIES:ปฏิทินตารางหน่วยเคลื่อนที่
END:VEVENT
BEGIN:VEVENT
DTSTART;TZID=Asia/Krasnoyarsk:20251203T120000
DTEND;TZID=Asia/Krasnoyarsk:20251203T180000
DTSTAMP:20260424T010629
CREATED:20251128T085948Z
LAST-MODIFIED:20251128T110207Z
UID:10004514-1764763200-1764784800@thaibloodcentre.redcross.or.th
SUMMARY:ศูนย์การค้าเดอะมอลล์ไลฟ์สโตร์ ท่าพระ []
DESCRIPTION:สถานที่เจาะ : ชั้น 1 (ติดลานจอดรถ) \nที่อยู่ : 99 ถนนรัชดาท่าพระตัดใหม่ แขวงบุคคโล เขตธนบุรี กรุงเทพฯ 0 2469-1000
URL:https://thaibloodcentre.redcross.or.th/event/%e0%b8%a8%e0%b8%b9%e0%b8%99%e0%b8%a2%e0%b9%8c%e0%b8%81%e0%b8%b2%e0%b8%a3%e0%b8%84%e0%b9%89%e0%b8%b2%e0%b9%80%e0%b8%94%e0%b8%ad%e0%b8%b0%e0%b8%a1%e0%b8%ad%e0%b8%a5%e0%b8%a5%e0%b9%8c%e0%b9%84-1114/
LOCATION:ศูนย์การค้าเดอะมอลล์ไลฟ์สโตร์ ท่าพระ\, เดอะมอลล์ไลฟ์สโตร์ ท่าพระ 129 ถ. รัชดาภิเษก แขวงบุคคโล เขตธนบุรี กรุงเทพมหานคร 10600
CATEGORIES:ปฏิทินตารางหน่วยเคลื่อนที่
END:VEVENT
END:VCALENDAR