BEGIN:VCALENDAR
VERSION:2.0
PRODID:-//เว็บไซต์ศูนย์บริการโลหิตแห่งชาติ - ECPv6.11.2.1//NONSGML v1.0//EN
CALSCALE:GREGORIAN
METHOD:PUBLISH
X-WR-CALNAME:เว็บไซต์ศูนย์บริการโลหิตแห่งชาติ
X-ORIGINAL-URL:https://thaibloodcentre.redcross.or.th
X-WR-CALDESC:Events for เว็บไซต์ศูนย์บริการโลหิตแห่งชาติ
REFRESH-INTERVAL;VALUE=DURATION:PT1H
X-Robots-Tag:noindex
X-PUBLISHED-TTL:PT1H
BEGIN:VTIMEZONE
TZID:Asia/Krasnoyarsk
BEGIN:STANDARD
TZOFFSETFROM:+0700
TZOFFSETTO:+0700
TZNAME:+07
DTSTART:20250101T000000
END:STANDARD
END:VTIMEZONE
BEGIN:VEVENT
DTSTART;TZID=Asia/Krasnoyarsk:20251127T073000
DTEND;TZID=Asia/Krasnoyarsk:20251127T193000
DTSTAMP:20260424T162202
CREATED:20251124T025648Z
LAST-MODIFIED:20251124T025648Z
UID:10004414-1764228600-1764271800@thaibloodcentre.redcross.or.th
SUMMARY:ศูนย์บริการโลหิตแห่งชาติ สภากาชาดไทย []
DESCRIPTION:ที่อยู่ : 1871 ถ. อังรีดูนังต์ แขวงปทุมวัน เขตปทุมวัน
URL:https://thaibloodcentre.redcross.or.th/event/%e0%b8%a8%e0%b8%b9%e0%b8%99%e0%b8%a2%e0%b9%8c%e0%b8%9a%e0%b8%a3%e0%b8%b4%e0%b8%81%e0%b8%b2%e0%b8%a3%e0%b9%82%e0%b8%a5%e0%b8%ab%e0%b8%b4%e0%b8%95%e0%b9%81%e0%b8%ab%e0%b9%88%e0%b8%87%e0%b8%8a-352/
LOCATION:ศูนย์บริการโลหิตแห่งชาติ สภากาชาดไทย\, ศูนย์บริการโลหิตแห่งชาติ สภากาชาดไทย 1871 ถ. อังรีดูนังต์ แขวงปทุมวัน เขตปทุมวัน กรุงเทพมหานคร 10330
CATEGORIES:ปฏิทินตารางหน่วยเคลื่อนที่
END:VEVENT
BEGIN:VEVENT
DTSTART;TZID=Asia/Krasnoyarsk:20251127T083000
DTEND;TZID=Asia/Krasnoyarsk:20251127T193000
DTSTAMP:20260424T162202
CREATED:20251124T025753Z
LAST-MODIFIED:20251124T025753Z
UID:10004420-1764232200-1764271800@thaibloodcentre.redcross.or.th
SUMMARY:สถานีกาชาด 11 วิเศษนิยม []
DESCRIPTION:สถานที่เจาะ : ชั้น 3 \nที่อยู่ : 33/3 ถนนเพชรเกษม แขวงบางหว้า เขตภาษีเจริญ กรุงเทพฯ 0633450711
URL:https://thaibloodcentre.redcross.or.th/event/%e0%b8%aa%e0%b8%96%e0%b8%b2%e0%b8%99%e0%b8%b5%e0%b8%81%e0%b8%b2%e0%b8%8a%e0%b8%b2%e0%b8%94-11-%e0%b8%a7%e0%b8%b4%e0%b9%80%e0%b8%a8%e0%b8%a9%e0%b8%99%e0%b8%b4%e0%b8%a2%e0%b8%a1-101/
LOCATION:สถานีกาชาด 11 วิเศษนิยม\, สถานีกาชาด 11 วิเศษนิยม 605 ถ.เพชรเกษม แขวงบางหว้า เขตภาษีเจริญ กรุงเทพมหานคร 10160
CATEGORIES:ปฏิทินตารางหน่วยเคลื่อนที่
END:VEVENT
BEGIN:VEVENT
DTSTART;TZID=Asia/Krasnoyarsk:20251127T090000
DTEND;TZID=Asia/Krasnoyarsk:20251127T120000
DTSTAMP:20260424T162202
CREATED:20251124T025848Z
LAST-MODIFIED:20251124T025848Z
UID:10004429-1764234000-1764244800@thaibloodcentre.redcross.or.th
SUMMARY:บริษัท วโรปกรณ์ จำกัด (มหาชน) []
DESCRIPTION:สถานที่เจาะ : หน้าฝ่ายบุคคล \nที่อยู่ : 280 หมู่ 4 ซ.เทศบาลบางปู 101 ถ.สุขุมวิท ต.บางปูใหม่ อ.เมือง จ.สมุทรปราการ 0 2323 1684
URL:https://thaibloodcentre.redcross.or.th/event/%e0%b8%9a%e0%b8%a3%e0%b8%b4%e0%b8%a9%e0%b8%b1%e0%b8%97-%e0%b8%a7%e0%b9%82%e0%b8%a3%e0%b8%9b%e0%b8%81%e0%b8%a3%e0%b8%93%e0%b9%8c-%e0%b8%88%e0%b8%b3%e0%b8%81%e0%b8%b1%e0%b8%94-%e0%b8%a1%e0%b8%ab-2/
LOCATION:บริษัท วโรปกรณ์ จำกัด (มหาชน)\, บริษัท วโรปกรณ์ จำกัด (มหาชน) 280 ม.4 ถ.สุขุมวิท ต.บางปูใหม่ อ.เมือง จ.สมุทรปราการ 10280
CATEGORIES:ปฏิทินตารางหน่วยเคลื่อนที่
END:VEVENT
BEGIN:VEVENT
DTSTART;TZID=Asia/Krasnoyarsk:20251127T090000
DTEND;TZID=Asia/Krasnoyarsk:20251127T150000
DTSTAMP:20260424T162202
CREATED:20251124T025755Z
LAST-MODIFIED:20251124T025755Z
UID:10004421-1764234000-1764255600@thaibloodcentre.redcross.or.th
SUMMARY:บ้านทรงไทย (ย่านวงศ์สว่าง) []
DESCRIPTION:สถานที่เจาะ : (พัก 12.30-13.00 น.) \nที่อยู่ : 1423 ถนนกรุงเทพ – นนทบุรี แขวงวงศ์สว่าง เขตบางซื่อ กรุงเทพฯ 0 2256 4300
URL:https://thaibloodcentre.redcross.or.th/event/%e0%b8%9a%e0%b9%89%e0%b8%b2%e0%b8%99%e0%b8%97%e0%b8%a3%e0%b8%87%e0%b9%84%e0%b8%97%e0%b8%a2-%e0%b8%a2%e0%b9%88%e0%b8%b2%e0%b8%99%e0%b8%a7%e0%b8%87%e0%b8%a8%e0%b9%8c%e0%b8%aa%e0%b8%a7%e0%b9%88-270/
LOCATION:บ้านทรงไทย (ย่านวงศ์สว่าง)\, หน่วยรับบริจาคโลหิต บ้านทรงไทย(ย่านวงศ์สว่าง) 1423 ถนนกรุงเทพ-นนทบุรี แขวงวงศ์สว่าง เขตบางซื่อ กรุงเทพมหานคร 10800
CATEGORIES:ปฏิทินตารางหน่วยเคลื่อนที่
END:VEVENT
BEGIN:VEVENT
DTSTART;TZID=Asia/Krasnoyarsk:20251127T090000
DTEND;TZID=Asia/Krasnoyarsk:20251127T150000
DTSTAMP:20260424T162202
CREATED:20251124T025824Z
LAST-MODIFIED:20251124T025824Z
UID:10004424-1764234000-1764255600@thaibloodcentre.redcross.or.th
SUMMARY:มหาวิทยาลัยรังสิต []
DESCRIPTION:สถานที่เจาะ : หอพัก อาคาร 9A \nที่อยู่ : 52/347 ม.7 หมู่บ้านเมืองเอก ถ.พหลโยธิน 87 ต.หลักหก อ.เมือง ปทุมธานี 0 2791 6000
URL:https://thaibloodcentre.redcross.or.th/event/%e0%b8%a1%e0%b8%ab%e0%b8%b2%e0%b8%a7%e0%b8%b4%e0%b8%97%e0%b8%a2%e0%b8%b2%e0%b8%a5%e0%b8%b1%e0%b8%a2%e0%b8%a3%e0%b8%b1%e0%b8%87%e0%b8%aa%e0%b8%b4%e0%b8%95/
LOCATION:มหาวิทยาลัยรังสิต\, มหาวิทยาลัยรังสิต 52/347 หมู่บ้านเมืองเอก ถ.พหลโยธิน ต.หลักหก อ.เมือง จ.ปทุมธานี 12000
CATEGORIES:ปฏิทินตารางหน่วยเคลื่อนที่
END:VEVENT
BEGIN:VEVENT
DTSTART;TZID=Asia/Krasnoyarsk:20251127T090000
DTEND;TZID=Asia/Krasnoyarsk:20251127T150000
DTSTAMP:20260424T162202
CREATED:20251124T025830Z
LAST-MODIFIED:20251124T025830Z
UID:10004426-1764234000-1764255600@thaibloodcentre.redcross.or.th
SUMMARY:กระทรวงเกษตรและสหกรณ์ []
DESCRIPTION:สถานที่เจาะ : ศูนย์บริการเกษตรพิรุณราช อาคาร 5 ชั้น 1 (พัก 12.00-13.00 น.) \nที่อยู่ : 3 ถนนราชดำเนินนอก แขวงบ้านพานถม เขตพระนคร กรุงเทพฯ 0 2629 9094
URL:https://thaibloodcentre.redcross.or.th/event/%e0%b8%81%e0%b8%a3%e0%b8%b0%e0%b8%97%e0%b8%a3%e0%b8%a7%e0%b8%87%e0%b9%80%e0%b8%81%e0%b8%a9%e0%b8%95%e0%b8%a3%e0%b9%81%e0%b8%a5%e0%b8%b0%e0%b8%aa%e0%b8%ab%e0%b8%81%e0%b8%a3%e0%b8%93%e0%b9%8c/
LOCATION:กระทรวงเกษตรและสหกรณ์\, กระทรวงเกษตรและสหกรณ์ 3 ถนน ราชดำเนินกลาง แขวงบ้านพานถม เขตพระนคร กรุงเทพมหานคร 10200
CATEGORIES:ปฏิทินตารางหน่วยเคลื่อนที่
END:VEVENT
BEGIN:VEVENT
DTSTART;TZID=Asia/Krasnoyarsk:20251127T090000
DTEND;TZID=Asia/Krasnoyarsk:20251127T150000
DTSTAMP:20260424T162202
CREATED:20251124T025833Z
LAST-MODIFIED:20251124T025833Z
UID:10004427-1764234000-1764255600@thaibloodcentre.redcross.or.th
SUMMARY:บริษัท จัสมินอินเตอร์เนชั่นแนล จำกัด (มหาชน) []
DESCRIPTION:สถานที่เจาะ : ชั้น 3 หน้าห้องออดิทอเรียม (พัก 12.00-13.00 น.) \nที่อยู่ : 200 ม.4 ถ.แจ้งวัฒนะ ต.ปากเกร็ด อ.ปากเกร็ด จ.นนทบุรี 0 2100 3067
URL:https://thaibloodcentre.redcross.or.th/event/%e0%b8%9a%e0%b8%a3%e0%b8%b4%e0%b8%a9%e0%b8%b1%e0%b8%97-%e0%b8%88%e0%b8%b1%e0%b8%aa%e0%b8%a1%e0%b8%b4%e0%b8%99%e0%b8%ad%e0%b8%b4%e0%b8%99%e0%b9%80%e0%b8%95%e0%b8%ad%e0%b8%a3%e0%b9%8c%e0%b9%80-2/
LOCATION:บริษัท จัสมินอินเตอร์เนชั่นแนล จำกัด (มหาชน)\, บริษัท จัสมินอินเตอร์เนชั่นแนล จำกัด (มหาชน) 200 ชั้น 29-30 ม.4 ถ.แจ้งวัฒนะ ต.ปากเกร็ด อ.ปากเกร็ด จ.นนทบุรี 11120
CATEGORIES:ปฏิทินตารางหน่วยเคลื่อนที่
END:VEVENT
BEGIN:VEVENT
DTSTART;TZID=Asia/Krasnoyarsk:20251127T090000
DTEND;TZID=Asia/Krasnoyarsk:20251127T150000
DTSTAMP:20260424T162202
CREATED:20251124T025846Z
LAST-MODIFIED:20251124T025846Z
UID:10004428-1764234000-1764255600@thaibloodcentre.redcross.or.th
SUMMARY:อาคารซันทาวเวอร์ส บี []
DESCRIPTION:สถานที่เจาะ : หน้าอาคารฯ (พัก 11.00-12.00 น.) \nที่อยู่ : 123 ถนนวิภาวดีรังสิต แขวงจอมพล เขตจตุจักร กรุงเทพฯ 0 2617 8333
URL:https://thaibloodcentre.redcross.or.th/event/%e0%b8%ad%e0%b8%b2%e0%b8%84%e0%b8%b2%e0%b8%a3%e0%b8%8b%e0%b8%b1%e0%b8%99%e0%b8%97%e0%b8%b2%e0%b8%a7%e0%b9%80%e0%b8%a7%e0%b8%ad%e0%b8%a3%e0%b9%8c%e0%b8%aa-%e0%b8%9a%e0%b8%b5/
LOCATION:อาคารซันทาวเวอร์ส บี\, อาคารซันทาวเวอร์ส บี 123 อาคารซันทาวเวอร์ส บี ถนนวิภาวดีรังสิต แขวงจอมพล เขตจตุจักร กรุงเทพมหานคร 10900
CATEGORIES:ปฏิทินตารางหน่วยเคลื่อนที่
END:VEVENT
BEGIN:VEVENT
DTSTART;TZID=Asia/Krasnoyarsk:20251127T093000
DTEND;TZID=Asia/Krasnoyarsk:20251127T150000
DTSTAMP:20260424T162202
CREATED:20251124T025822Z
LAST-MODIFIED:20251124T025822Z
UID:10004423-1764235800-1764255600@thaibloodcentre.redcross.or.th
SUMMARY:บริษัท ชาญอิสสระ ดีเวล็อปเมนท์ จำกัด (มหาชน) []
DESCRIPTION:สถานที่เจาะ : ห้องประชุมชั้น 21 อาคารชาญอิสระ 2 (พัก 11.30-12.30 น.) \nที่อยู่ : 2922/200 ถนนเพชรบุรีตัดใหม่ แขวงบางกะปิ เขตห้วยขวาง กรุงเทพฯ 0 2308 2020
URL:https://thaibloodcentre.redcross.or.th/event/%e0%b8%9a%e0%b8%a3%e0%b8%b4%e0%b8%a9%e0%b8%b1%e0%b8%97-%e0%b8%8a%e0%b8%b2%e0%b8%8d%e0%b8%ad%e0%b8%b4%e0%b8%aa%e0%b8%aa%e0%b8%a3%e0%b8%b0-%e0%b8%94%e0%b8%b5%e0%b9%80%e0%b8%a7%e0%b8%a5%e0%b9%87-2/
LOCATION:บริษัท ชาญอิสสระ ดีเวล็อปเมนท์ จำกัด (มหาชน)\, บริษัท ชาญอิสสระ ดีเวล็อปเมนท์ จำกัด (มหาชน) 2922/200 ถนนเพชรบุรีตัดใหม่ แขวงบางกะปิ เขตห้วยขวาง กรุงเทพมหานคร 10310
CATEGORIES:ปฏิทินตารางหน่วยเคลื่อนที่
END:VEVENT
BEGIN:VEVENT
DTSTART;TZID=Asia/Krasnoyarsk:20251127T093000
DTEND;TZID=Asia/Krasnoyarsk:20251127T150000
DTSTAMP:20260424T162202
CREATED:20251124T025826Z
LAST-MODIFIED:20251124T025826Z
UID:10004425-1764235800-1764255600@thaibloodcentre.redcross.or.th
SUMMARY:บริษัท จีเอ็มเอ็ม แกรมมี่ จำกัด (มหาชน) []
DESCRIPTION:สถานที่เจาะ : ชั้น 21 ห้องออดิทอเรียม  (พัก 12.00-13.00 น.) \nที่อยู่ : 50 สุขุมวิท 21 (อโศก) แขวงคลองเตยเหนือ  เขตคลองเตย กรุงเทพฯ 0 2669 8166
URL:https://thaibloodcentre.redcross.or.th/event/%e0%b8%9a%e0%b8%a3%e0%b8%b4%e0%b8%a9%e0%b8%b1%e0%b8%97-%e0%b8%88%e0%b8%b5%e0%b9%80%e0%b8%ad%e0%b9%87%e0%b8%a1%e0%b9%80%e0%b8%ad%e0%b9%87%e0%b8%a1-%e0%b9%81%e0%b8%81%e0%b8%a3%e0%b8%a1%e0%b8%a1-3/
LOCATION:บริษัท จีเอ็มเอ็ม แกรมมี่ จำกัด (มหาชน)\, บริษัท จีเอ็มเอ็ม แกรมมี่ จำกัด (มหาชน) 50 จีเอ็มเอ็ม แกรมมี่ เพลส สุขุมวิท 21 ถนนอโศกมนตรี แขวงคลองเตยเหนือ เขตวัฒนา กรุงเทพมหานคร 10110
CATEGORIES:ปฏิทินตารางหน่วยเคลื่อนที่
END:VEVENT
BEGIN:VEVENT
DTSTART;TZID=Asia/Krasnoyarsk:20251127T110000
DTEND;TZID=Asia/Krasnoyarsk:20251127T150000
DTSTAMP:20260424T162202
CREATED:20251124T025800Z
LAST-MODIFIED:20251124T025800Z
UID:10004422-1764241200-1764255600@thaibloodcentre.redcross.or.th
SUMMARY:ห้างสรรพสินค้าเซ็นทรัล สาขาเมกาบางนา []
DESCRIPTION:สถานที่เจาะ : หน้าห้าง ฝั่ง Tops \nที่อยู่ : 39 ม.6 ต.บางแก้ว อ.บางพลี จ.สมุทรปราการ 0 2105 1333-42
URL:https://thaibloodcentre.redcross.or.th/event/%e0%b8%ab%e0%b9%89%e0%b8%b2%e0%b8%87%e0%b8%aa%e0%b8%a3%e0%b8%a3%e0%b8%9e%e0%b8%aa%e0%b8%b4%e0%b8%99%e0%b8%84%e0%b9%89%e0%b8%b2%e0%b9%80%e0%b8%8b%e0%b9%87%e0%b8%99%e0%b8%97%e0%b8%a3%e0%b8%b1%e0%b8%a5-2/
LOCATION:ห้างสรรพสินค้าเซ็นทรัล สาขาเมกาบางนา\, ห้างสรรพสินค้าเซ็นทรัล สาขาเมกาบางนา 39 ม.6 ทางคู่ขนาน ถ.บางนา-ตราด ต.บางแก้ว อ.บางพลี สมุทรปราการ 10540
CATEGORIES:ปฏิทินตารางหน่วยเคลื่อนที่
END:VEVENT
BEGIN:VEVENT
DTSTART;TZID=Asia/Krasnoyarsk:20251127T120000
DTEND;TZID=Asia/Krasnoyarsk:20251127T180000
DTSTAMP:20260424T162202
CREATED:20251124T025652Z
LAST-MODIFIED:20251124T025652Z
UID:10004415-1764244800-1764266400@thaibloodcentre.redcross.or.th
SUMMARY:ศูนย์การค้าเดอะมอลล์ไลฟ์สโตร์ บางแค []
DESCRIPTION:สถานที่เจาะ : ชั้น 3 ตรงข้ามร้านโอ้กะจู๋ \nที่อยู่ : ถนนเพชรเกษม แขวงบางแคเหนือ เขตภาษีเจริญ กรุงเทพฯ 02 487 1221
URL:https://thaibloodcentre.redcross.or.th/event/%e0%b8%a8%e0%b8%b9%e0%b8%99%e0%b8%a2%e0%b9%8c%e0%b8%81%e0%b8%b2%e0%b8%a3%e0%b8%84%e0%b9%89%e0%b8%b2%e0%b9%80%e0%b8%94%e0%b8%ad%e0%b8%b0%e0%b8%a1%e0%b8%ad%e0%b8%a5%e0%b8%a5%e0%b9%8c%e0%b9%84-1087/
LOCATION:ศูนย์การค้าเดอะมอลล์ไลฟ์สโตร์ บางแค\, ศูนย์การค้าเดอะมอลล์ไลฟ์สโตร์ บางแค
CATEGORIES:ปฏิทินตารางหน่วยเคลื่อนที่
END:VEVENT
BEGIN:VEVENT
DTSTART;TZID=Asia/Krasnoyarsk:20251127T120000
DTEND;TZID=Asia/Krasnoyarsk:20251127T180000
DTSTAMP:20260424T162202
CREATED:20251124T025701Z
LAST-MODIFIED:20251124T025701Z
UID:10004416-1764244800-1764266400@thaibloodcentre.redcross.or.th
SUMMARY:ศูนย์การค้าเดอะมอลล์ไลฟ์สโตร์ บางกะปิ []
DESCRIPTION:สถานที่เจาะ : ชั้น 2 ทางออกลานจอดรถ \nที่อยู่ : ถนนลาดพร้าว แขวงคลองจั่น เขตบางกะปิ กรุงเทพฯ 0 2310 2278
URL:https://thaibloodcentre.redcross.or.th/event/%e0%b8%a8%e0%b8%b9%e0%b8%99%e0%b8%a2%e0%b9%8c%e0%b8%81%e0%b8%b2%e0%b8%a3%e0%b8%84%e0%b9%89%e0%b8%b2%e0%b9%80%e0%b8%94%e0%b8%ad%e0%b8%b0%e0%b8%a1%e0%b8%ad%e0%b8%a5%e0%b8%a5%e0%b9%8c%e0%b9%84-1088/
LOCATION:ศูนย์การค้าเดอะมอลล์ไลฟ์สโตร์ บางกะปิ\, เดอะมอลล์ไลฟ์สโตร์ บางกะปิ 3522 ถ. ลาดพร้าว แขวงคลองจั่น เขตบางกะปิ กรุงเทพมหานคร 10240
CATEGORIES:ปฏิทินตารางหน่วยเคลื่อนที่
END:VEVENT
BEGIN:VEVENT
DTSTART;TZID=Asia/Krasnoyarsk:20251127T120000
DTEND;TZID=Asia/Krasnoyarsk:20251127T180000
DTSTAMP:20260424T162202
CREATED:20251124T025709Z
LAST-MODIFIED:20251124T025709Z
UID:10004417-1764244800-1764266400@thaibloodcentre.redcross.or.th
SUMMARY:ศูนย์การค้าเดอะมอลล์ไลฟ์สโตร์ งามวงศ์วาน []
DESCRIPTION:สถานที่เจาะ : ชั้น 5 โซน Government Center \nที่อยู่ : ถนนงามวงศ์วาน ต.บางเขน อ.เมือง จ.นนทบุรี 0 2555 1550
URL:https://thaibloodcentre.redcross.or.th/event/%e0%b8%a8%e0%b8%b9%e0%b8%99%e0%b8%a2%e0%b9%8c%e0%b8%81%e0%b8%b2%e0%b8%a3%e0%b8%84%e0%b9%89%e0%b8%b2%e0%b9%80%e0%b8%94%e0%b8%ad%e0%b8%b0%e0%b8%a1%e0%b8%ad%e0%b8%a5%e0%b8%a5%e0%b9%8c%e0%b9%84-1089/
LOCATION:ศูนย์การค้าเดอะมอลล์ไลฟ์สโตร์ งามวงศ์วาน\, เดอะมอลล์ ไลฟ์สโตร์ งามวงศ์วาน 430 ถนน งามวงศ์วาน ตำบลบางเขน อำเภอเมืองนนทบุรี นนทบุรี 11000
CATEGORIES:ปฏิทินตารางหน่วยเคลื่อนที่
END:VEVENT
BEGIN:VEVENT
DTSTART;TZID=Asia/Krasnoyarsk:20251127T120000
DTEND;TZID=Asia/Krasnoyarsk:20251127T180000
DTSTAMP:20260424T162202
CREATED:20251124T025740Z
LAST-MODIFIED:20251124T025740Z
UID:10004418-1764244800-1764266400@thaibloodcentre.redcross.or.th
SUMMARY:ศูนย์การค้า เอ็มโพเรียม []
DESCRIPTION:สถานที่เจาะ : ชั้น M ศูนย์การค้า ดิ เอ็มโพเรียม เชื่อมลานจอดรถอาคาร B \nที่อยู่ : 622 ถนนสุขุมวิท แขวงคลองตัน เขตคลองเตย กรุงเทพฯ 0 2269 1515
URL:https://thaibloodcentre.redcross.or.th/event/%e0%b8%a8%e0%b8%b9%e0%b8%99%e0%b8%a2%e0%b9%8c%e0%b8%81%e0%b8%b2%e0%b8%a3%e0%b8%84%e0%b9%89%e0%b8%b2-%e0%b9%80%e0%b8%ad%e0%b9%87%e0%b8%a1%e0%b9%82%e0%b8%9e%e0%b9%80%e0%b8%a3%e0%b8%b5%e0%b8%a2-268/
LOCATION:ศูนย์การค้า เอ็มโพเรียม\, เอ็มโพเรียม 622 ถ. สุขุมวิท แขวงคลองตัน เขตคลองเตย กรุงเทพมหานคร 10110
CATEGORIES:ปฏิทินตารางหน่วยเคลื่อนที่
END:VEVENT
BEGIN:VEVENT
DTSTART;TZID=Asia/Krasnoyarsk:20251127T120000
DTEND;TZID=Asia/Krasnoyarsk:20251127T180000
DTSTAMP:20260424T162202
CREATED:20251124T025744Z
LAST-MODIFIED:20251124T025744Z
UID:10004419-1764244800-1764266400@thaibloodcentre.redcross.or.th
SUMMARY:ศูนย์การค้าเดอะมอลล์ไลฟ์สโตร์ ท่าพระ []
DESCRIPTION:สถานที่เจาะ : ชั้น 1 (ติดลานจอดรถ) \nที่อยู่ : 99 ถนนรัชดาท่าพระตัดใหม่ แขวงบุคคโล เขตธนบุรี กรุงเทพฯ 0 2469-1000
URL:https://thaibloodcentre.redcross.or.th/event/%e0%b8%a8%e0%b8%b9%e0%b8%99%e0%b8%a2%e0%b9%8c%e0%b8%81%e0%b8%b2%e0%b8%a3%e0%b8%84%e0%b9%89%e0%b8%b2%e0%b9%80%e0%b8%94%e0%b8%ad%e0%b8%b0%e0%b8%a1%e0%b8%ad%e0%b8%a5%e0%b8%a5%e0%b9%8c%e0%b9%84-1090/
LOCATION:ศูนย์การค้าเดอะมอลล์ไลฟ์สโตร์ ท่าพระ\, เดอะมอลล์ไลฟ์สโตร์ ท่าพระ 129 ถ. รัชดาภิเษก แขวงบุคคโล เขตธนบุรี กรุงเทพมหานคร 10600
CATEGORIES:ปฏิทินตารางหน่วยเคลื่อนที่
END:VEVENT
BEGIN:VEVENT
DTSTART;TZID=Asia/Krasnoyarsk:20251127T130000
DTEND;TZID=Asia/Krasnoyarsk:20251127T150000
DTSTAMP:20260424T162203
CREATED:20251124T025850Z
LAST-MODIFIED:20251124T025850Z
UID:10004430-1764248400-1764255600@thaibloodcentre.redcross.or.th
SUMMARY:บริษัท ซีพี แอ็กซ์ตร้า จำกัด (มหาชน) สาขาบางปู []
DESCRIPTION:สถานที่เจาะ : ด้านข้างของสโตร์ \nที่อยู่ : 858/21 ม.1 ต.บางปูใหม่ อ.เมือง จ.สมุทรปราการ 0 2017 0040
URL:https://thaibloodcentre.redcross.or.th/event/%e0%b8%9a%e0%b8%a3%e0%b8%b4%e0%b8%a9%e0%b8%b1%e0%b8%97-%e0%b8%8b%e0%b8%b5%e0%b8%9e%e0%b8%b5-%e0%b9%81%e0%b8%ad%e0%b9%87%e0%b8%81%e0%b8%8b%e0%b9%8c%e0%b8%95%e0%b8%a3%e0%b9%89%e0%b8%b2-%e0%b8%88-35/
LOCATION:บริษัท ซีพี แอ็กซ์ตร้า จำกัด (มหาชน) สาขาบางปู\, บริษัท ซีพี แอ็กซ์ตร้า จำกัด (มหาชน) สาขาบางปู 85/21 ม.1 ต.ท้ายบ้าน อ.เมืองสมุทรปราการ สมุทรปราการ 10280
CATEGORIES:ปฏิทินตารางหน่วยเคลื่อนที่
END:VEVENT
END:VCALENDAR