BEGIN:VCALENDAR
VERSION:2.0
PRODID:-//เว็บไซต์ศูนย์บริการโลหิตแห่งชาติ - ECPv6.11.2.1//NONSGML v1.0//EN
CALSCALE:GREGORIAN
METHOD:PUBLISH
X-ORIGINAL-URL:https://thaibloodcentre.redcross.or.th
X-WR-CALDESC:Events for เว็บไซต์ศูนย์บริการโลหิตแห่งชาติ
REFRESH-INTERVAL;VALUE=DURATION:PT1H
X-Robots-Tag:noindex
X-PUBLISHED-TTL:PT1H
BEGIN:VTIMEZONE
TZID:Asia/Krasnoyarsk
BEGIN:STANDARD
TZOFFSETFROM:+0700
TZOFFSETTO:+0700
TZNAME:+07
DTSTART:20250101T000000
END:STANDARD
END:VTIMEZONE
BEGIN:VEVENT
DTSTART;TZID=Asia/Krasnoyarsk:20251123T083000
DTEND;TZID=Asia/Krasnoyarsk:20251123T153000
DTSTAMP:20260425T193454
CREATED:20251117T023644Z
LAST-MODIFIED:20251117T023644Z
UID:10004356-1763886600-1763911800@thaibloodcentre.redcross.or.th
SUMMARY:ศูนย์บริการโลหิตแห่งชาติ สภากาชาดไทย []
DESCRIPTION:ที่อยู่ : 1871 ถ. อังรีดูนังต์ แขวงปทุมวัน เขตปทุมวัน
URL:https://thaibloodcentre.redcross.or.th/event/%e0%b8%a8%e0%b8%b9%e0%b8%99%e0%b8%a2%e0%b9%8c%e0%b8%9a%e0%b8%a3%e0%b8%b4%e0%b8%81%e0%b8%b2%e0%b8%a3%e0%b9%82%e0%b8%a5%e0%b8%ab%e0%b8%b4%e0%b8%95%e0%b9%81%e0%b8%ab%e0%b9%88%e0%b8%87%e0%b8%8a-348/
LOCATION:ศูนย์บริการโลหิตแห่งชาติ สภากาชาดไทย\, ศูนย์บริการโลหิตแห่งชาติ สภากาชาดไทย 1871 ถ. อังรีดูนังต์ แขวงปทุมวัน เขตปทุมวัน กรุงเทพมหานคร 10330
CATEGORIES:ปฏิทินตารางหน่วยเคลื่อนที่
END:VEVENT
BEGIN:VEVENT
DTSTART;TZID=Asia/Krasnoyarsk:20251123T083000
DTEND;TZID=Asia/Krasnoyarsk:20251123T153000
DTSTAMP:20260425T193454
CREATED:20251117T023744Z
LAST-MODIFIED:20251117T023744Z
UID:10004362-1763886600-1763911800@thaibloodcentre.redcross.or.th
SUMMARY:สถานีกาชาด 11 วิเศษนิยม []
DESCRIPTION:สถานที่เจาะ : ชั้น 3 \nที่อยู่ : 33/3 ถนนเพชรเกษม แขวงบางหว้า เขตภาษีเจริญ กรุงเทพฯ 0633450711
URL:https://thaibloodcentre.redcross.or.th/event/%e0%b8%aa%e0%b8%96%e0%b8%b2%e0%b8%99%e0%b8%b5%e0%b8%81%e0%b8%b2%e0%b8%8a%e0%b8%b2%e0%b8%94-11-%e0%b8%a7%e0%b8%b4%e0%b9%80%e0%b8%a8%e0%b8%a9%e0%b8%99%e0%b8%b4%e0%b8%a2%e0%b8%a1-97/
LOCATION:สถานีกาชาด 11 วิเศษนิยม\, สถานีกาชาด 11 วิเศษนิยม 605 ถ.เพชรเกษม แขวงบางหว้า เขตภาษีเจริญ กรุงเทพมหานคร 10160
CATEGORIES:ปฏิทินตารางหน่วยเคลื่อนที่
END:VEVENT
BEGIN:VEVENT
DTSTART;TZID=Asia/Krasnoyarsk:20251123T090000
DTEND;TZID=Asia/Krasnoyarsk:20251123T150000
DTSTAMP:20260425T193454
CREATED:20251117T023753Z
LAST-MODIFIED:20251117T023753Z
UID:10004363-1763888400-1763910000@thaibloodcentre.redcross.or.th
SUMMARY:บ้านทรงไทย (ย่านวงศ์สว่าง) []
DESCRIPTION:สถานที่เจาะ : (พัก 12.30-13.00 น.) \nที่อยู่ : 1423 ถนนกรุงเทพ – นนทบุรี แขวงวงศ์สว่าง เขตบางซื่อ กรุงเทพฯ 0 2256 4300
URL:https://thaibloodcentre.redcross.or.th/event/%e0%b8%9a%e0%b9%89%e0%b8%b2%e0%b8%99%e0%b8%97%e0%b8%a3%e0%b8%87%e0%b9%84%e0%b8%97%e0%b8%a2-%e0%b8%a2%e0%b9%88%e0%b8%b2%e0%b8%99%e0%b8%a7%e0%b8%87%e0%b8%a8%e0%b9%8c%e0%b8%aa%e0%b8%a7%e0%b9%88-266/
LOCATION:บ้านทรงไทย (ย่านวงศ์สว่าง)\, หน่วยรับบริจาคโลหิต บ้านทรงไทย(ย่านวงศ์สว่าง) 1423 ถนนกรุงเทพ-นนทบุรี แขวงวงศ์สว่าง เขตบางซื่อ กรุงเทพมหานคร 10800
CATEGORIES:ปฏิทินตารางหน่วยเคลื่อนที่
END:VEVENT
BEGIN:VEVENT
DTSTART;TZID=Asia/Krasnoyarsk:20251123T110000
DTEND;TZID=Asia/Krasnoyarsk:20251123T150000
DTSTAMP:20260425T193454
CREATED:20251117T023757Z
LAST-MODIFIED:20251117T023757Z
UID:10004364-1763895600-1763910000@thaibloodcentre.redcross.or.th
SUMMARY:กลุ่มโครงการลุมพินี เพลส รามอินทรา-หลักสี่ []
DESCRIPTION:สถานที่เจาะ : หน้านิติบุคคล \nที่อยู่ : 20 ถนนรามอินทรา แขวงอนุสาวรีย์ เขตบางเขน กรุงเทพฯ 0 2285 5011-16
URL:https://thaibloodcentre.redcross.or.th/event/%e0%b8%81%e0%b8%a5%e0%b8%b8%e0%b9%88%e0%b8%a1%e0%b9%82%e0%b8%84%e0%b8%a3%e0%b8%87%e0%b8%81%e0%b8%b2%e0%b8%a3%e0%b8%a5%e0%b8%b8%e0%b8%a1%e0%b8%9e%e0%b8%b4%e0%b8%99%e0%b8%b5-%e0%b9%80%e0%b8%9e-4/
LOCATION:กลุ่มโครงการลุมพินี เพลส รามอินทรา-หลักสี่\, ลุมพินี เพลส รามอินทรา-หลักสี่ 20 ถ.รามอินทรา แขวงอนุสาวรีย์ เขตบางเขน กรุงเทพมหานคร 10220
CATEGORIES:ปฏิทินตารางหน่วยเคลื่อนที่
END:VEVENT
BEGIN:VEVENT
DTSTART;TZID=Asia/Krasnoyarsk:20251123T110000
DTEND;TZID=Asia/Krasnoyarsk:20251123T150000
DTSTAMP:20260425T193454
CREATED:20251117T023800Z
LAST-MODIFIED:20251117T023800Z
UID:10004365-1763895600-1763910000@thaibloodcentre.redcross.or.th
SUMMARY:ชุมชนหมู่บ้านนิรันดร์วิลล่า []
DESCRIPTION:สถานที่เจาะ : ลานกีฬาชุมชน \nที่อยู่ : 296/326 หมู่บ้านนิรันดร์วิลล่า ซอยพึ่งมี 50 แขวงบางจาก เขตพระโขนง กรุงเทพฯ 0 2741 0022
URL:https://thaibloodcentre.redcross.or.th/event/%e0%b8%8a%e0%b8%b8%e0%b8%a1%e0%b8%8a%e0%b8%99%e0%b8%ab%e0%b8%a1%e0%b8%b9%e0%b9%88%e0%b8%9a%e0%b9%89%e0%b8%b2%e0%b8%99%e0%b8%99%e0%b8%b4%e0%b8%a3%e0%b8%b1%e0%b8%99%e0%b8%94%e0%b8%a3%e0%b9%8c%e0%b8%a7-4/
LOCATION:ชุมชนหมู่บ้านนิรันดร์วิลล่า\, หมู่บ้านนิรันดร์วิลล่า 7\, 1 ซอย นิรันดร์คอนโด บางจาก เขตพระโขนง กรุงเทพมหานคร 10260
CATEGORIES:ปฏิทินตารางหน่วยเคลื่อนที่
END:VEVENT
BEGIN:VEVENT
DTSTART;TZID=Asia/Krasnoyarsk:20251123T110000
DTEND;TZID=Asia/Krasnoyarsk:20251123T150000
DTSTAMP:20260425T193454
CREATED:20251117T023803Z
LAST-MODIFIED:20251117T023803Z
UID:10004366-1763895600-1763910000@thaibloodcentre.redcross.or.th
SUMMARY:โครงการบ้านเอื้ออาทรบึงกุ่ม []
DESCRIPTION:สถานที่เจาะ : หน้าศูนย์ชุมชนบ้านเอื้ออาทรบึงกุ่ม \nที่อยู่ : สำนักงานนิติบุคคลอาคารชุด 1-6 ถนนเสรีไทย 43 แขวงคลองกุ่ม เขตบึงกุ่ม กรุงเทพฯ
URL:https://thaibloodcentre.redcross.or.th/event/%e0%b9%82%e0%b8%84%e0%b8%a3%e0%b8%87%e0%b8%81%e0%b8%b2%e0%b8%a3%e0%b8%9a%e0%b9%89%e0%b8%b2%e0%b8%99%e0%b9%80%e0%b8%ad%e0%b8%b7%e0%b9%89%e0%b8%ad%e0%b8%ad%e0%b8%b2%e0%b8%97%e0%b8%a3%e0%b8%9a%e0%b8%b6-4/
LOCATION:โครงการบ้านเอื้ออาทรบึงกุ่ม\, โครงการบ้านเอื้ออาทรบึงกุ่ม ซอยหมู่บ้านเอื้ออาทรบึงกุ่ม แขวงคลองกุ่ม เขตบึงกุ่ม กรุงเทพมหานคร 10230
CATEGORIES:ปฏิทินตารางหน่วยเคลื่อนที่
END:VEVENT
BEGIN:VEVENT
DTSTART;TZID=Asia/Krasnoyarsk:20251123T110000
DTEND;TZID=Asia/Krasnoyarsk:20251123T150000
DTSTAMP:20260425T193454
CREATED:20251117T023805Z
LAST-MODIFIED:20251117T023805Z
UID:10004367-1763895600-1763910000@thaibloodcentre.redcross.or.th
SUMMARY:บริษัท เจริญสินกรุ๊ป จำกัด (สาขาบางปูนคร) []
DESCRIPTION:สถานที่เจาะ : หน้าอาคาร K1 \nที่อยู่ : 222 ม.7 ถ.สุขุมวิท ต.บางปูใหม่  อ.เมือง จ.สมุทรปราการ 0 2707 9085
URL:https://thaibloodcentre.redcross.or.th/event/%e0%b8%9a%e0%b8%a3%e0%b8%b4%e0%b8%a9%e0%b8%b1%e0%b8%97-%e0%b9%80%e0%b8%88%e0%b8%a3%e0%b8%b4%e0%b8%8d%e0%b8%aa%e0%b8%b4%e0%b8%99%e0%b8%81%e0%b8%a3%e0%b8%b8%e0%b9%8a%e0%b8%9b-%e0%b8%88%e0%b8%b3-2/
LOCATION:บริษัท เจริญสินกรุ๊ป จำกัด (สาขาบางปูนคร)\, บริษัท เจริญสินกรุ๊ป จำกัด (สาขาบางปูนคร) 133/21-30 ม.7 ถ.สุขุมวิท ต.บางปูใหม่ อ.เมืองสมุทรปราการ จ.สมุทรปราการ 10280
CATEGORIES:ปฏิทินตารางหน่วยเคลื่อนที่
END:VEVENT
BEGIN:VEVENT
DTSTART;TZID=Asia/Krasnoyarsk:20251123T120000
DTEND;TZID=Asia/Krasnoyarsk:20251123T180000
DTSTAMP:20260425T193455
CREATED:20251117T023650Z
LAST-MODIFIED:20251117T023650Z
UID:10004357-1763899200-1763920800@thaibloodcentre.redcross.or.th
SUMMARY:ศูนย์การค้าเดอะมอลล์ไลฟ์สโตร์ บางแค []
DESCRIPTION:สถานที่เจาะ : ชั้น 3 ตรงข้ามร้านโอ้กะจู๋ \nที่อยู่ : ถนนเพชรเกษม แขวงบางแคเหนือ เขตภาษีเจริญ กรุงเทพฯ 02 487 1221
URL:https://thaibloodcentre.redcross.or.th/event/%e0%b8%a8%e0%b8%b9%e0%b8%99%e0%b8%a2%e0%b9%8c%e0%b8%81%e0%b8%b2%e0%b8%a3%e0%b8%84%e0%b9%89%e0%b8%b2%e0%b9%80%e0%b8%94%e0%b8%ad%e0%b8%b0%e0%b8%a1%e0%b8%ad%e0%b8%a5%e0%b8%a5%e0%b9%8c%e0%b9%84-1071/
LOCATION:ศูนย์การค้าเดอะมอลล์ไลฟ์สโตร์ บางแค\, ศูนย์การค้าเดอะมอลล์ไลฟ์สโตร์ บางแค
CATEGORIES:ปฏิทินตารางหน่วยเคลื่อนที่
END:VEVENT
BEGIN:VEVENT
DTSTART;TZID=Asia/Krasnoyarsk:20251123T120000
DTEND;TZID=Asia/Krasnoyarsk:20251123T180000
DTSTAMP:20260425T193455
CREATED:20251117T023714Z
LAST-MODIFIED:20251117T023714Z
UID:10004358-1763899200-1763920800@thaibloodcentre.redcross.or.th
SUMMARY:ศูนย์การค้าเดอะมอลล์ไลฟ์สโตร์ บางกะปิ []
DESCRIPTION:สถานที่เจาะ : ชั้น 2 ทางออกลานจอดรถ \nที่อยู่ : ถนนลาดพร้าว แขวงคลองจั่น เขตบางกะปิ กรุงเทพฯ 0 2310 2278
URL:https://thaibloodcentre.redcross.or.th/event/%e0%b8%a8%e0%b8%b9%e0%b8%99%e0%b8%a2%e0%b9%8c%e0%b8%81%e0%b8%b2%e0%b8%a3%e0%b8%84%e0%b9%89%e0%b8%b2%e0%b9%80%e0%b8%94%e0%b8%ad%e0%b8%b0%e0%b8%a1%e0%b8%ad%e0%b8%a5%e0%b8%a5%e0%b9%8c%e0%b9%84-1072/
LOCATION:ศูนย์การค้าเดอะมอลล์ไลฟ์สโตร์ บางกะปิ\, เดอะมอลล์ไลฟ์สโตร์ บางกะปิ 3522 ถ. ลาดพร้าว แขวงคลองจั่น เขตบางกะปิ กรุงเทพมหานคร 10240
CATEGORIES:ปฏิทินตารางหน่วยเคลื่อนที่
END:VEVENT
BEGIN:VEVENT
DTSTART;TZID=Asia/Krasnoyarsk:20251123T120000
DTEND;TZID=Asia/Krasnoyarsk:20251123T180000
DTSTAMP:20260425T193455
CREATED:20251117T023723Z
LAST-MODIFIED:20251117T023723Z
UID:10004359-1763899200-1763920800@thaibloodcentre.redcross.or.th
SUMMARY:ศูนย์การค้าเดอะมอลล์ไลฟ์สโตร์ งามวงศ์วาน []
DESCRIPTION:สถานที่เจาะ : ชั้น 5 โซน Government Center \nที่อยู่ : ถนนงามวงศ์วาน ต.บางเขน อ.เมือง จ.นนทบุรี 0 2555 1550
URL:https://thaibloodcentre.redcross.or.th/event/%e0%b8%a8%e0%b8%b9%e0%b8%99%e0%b8%a2%e0%b9%8c%e0%b8%81%e0%b8%b2%e0%b8%a3%e0%b8%84%e0%b9%89%e0%b8%b2%e0%b9%80%e0%b8%94%e0%b8%ad%e0%b8%b0%e0%b8%a1%e0%b8%ad%e0%b8%a5%e0%b8%a5%e0%b9%8c%e0%b9%84-1073/
LOCATION:ศูนย์การค้าเดอะมอลล์ไลฟ์สโตร์ งามวงศ์วาน\, เดอะมอลล์ ไลฟ์สโตร์ งามวงศ์วาน 430 ถนน งามวงศ์วาน ตำบลบางเขน อำเภอเมืองนนทบุรี นนทบุรี 11000
CATEGORIES:ปฏิทินตารางหน่วยเคลื่อนที่
END:VEVENT
BEGIN:VEVENT
DTSTART;TZID=Asia/Krasnoyarsk:20251123T120000
DTEND;TZID=Asia/Krasnoyarsk:20251123T180000
DTSTAMP:20260425T193455
CREATED:20251117T023731Z
LAST-MODIFIED:20251117T023731Z
UID:10004360-1763899200-1763920800@thaibloodcentre.redcross.or.th
SUMMARY:ศูนย์การค้า เอ็มโพเรียม []
DESCRIPTION:สถานที่เจาะ : ชั้น M ศูนย์การค้า ดิ เอ็มโพเรียม เชื่อมลานจอดรถอาคาร B \nที่อยู่ : 622 ถนนสุขุมวิท แขวงคลองตัน เขตคลองเตย กรุงเทพฯ 0 2269 1515
URL:https://thaibloodcentre.redcross.or.th/event/%e0%b8%a8%e0%b8%b9%e0%b8%99%e0%b8%a2%e0%b9%8c%e0%b8%81%e0%b8%b2%e0%b8%a3%e0%b8%84%e0%b9%89%e0%b8%b2-%e0%b9%80%e0%b8%ad%e0%b9%87%e0%b8%a1%e0%b9%82%e0%b8%9e%e0%b9%80%e0%b8%a3%e0%b8%b5%e0%b8%a2-264/
LOCATION:ศูนย์การค้า เอ็มโพเรียม\, เอ็มโพเรียม 622 ถ. สุขุมวิท แขวงคลองตัน เขตคลองเตย กรุงเทพมหานคร 10110
CATEGORIES:ปฏิทินตารางหน่วยเคลื่อนที่
END:VEVENT
BEGIN:VEVENT
DTSTART;TZID=Asia/Krasnoyarsk:20251123T120000
DTEND;TZID=Asia/Krasnoyarsk:20251123T180000
DTSTAMP:20260425T193455
CREATED:20251117T023736Z
LAST-MODIFIED:20251117T023736Z
UID:10004361-1763899200-1763920800@thaibloodcentre.redcross.or.th
SUMMARY:ศูนย์การค้าเดอะมอลล์ไลฟ์สโตร์ ท่าพระ []
DESCRIPTION:สถานที่เจาะ : ชั้น 1 (ติดลานจอดรถ) \nที่อยู่ : 99 ถนนรัชดาท่าพระตัดใหม่ แขวงบุคคโล เขตธนบุรี กรุงเทพฯ 0 2469-1000
URL:https://thaibloodcentre.redcross.or.th/event/%e0%b8%a8%e0%b8%b9%e0%b8%99%e0%b8%a2%e0%b9%8c%e0%b8%81%e0%b8%b2%e0%b8%a3%e0%b8%84%e0%b9%89%e0%b8%b2%e0%b9%80%e0%b8%94%e0%b8%ad%e0%b8%b0%e0%b8%a1%e0%b8%ad%e0%b8%a5%e0%b8%a5%e0%b9%8c%e0%b9%84-1074/
LOCATION:ศูนย์การค้าเดอะมอลล์ไลฟ์สโตร์ ท่าพระ\, เดอะมอลล์ไลฟ์สโตร์ ท่าพระ 129 ถ. รัชดาภิเษก แขวงบุคคโล เขตธนบุรี กรุงเทพมหานคร 10600
CATEGORIES:ปฏิทินตารางหน่วยเคลื่อนที่
END:VEVENT
END:VCALENDAR