BEGIN:VCALENDAR
VERSION:2.0
PRODID:-//เว็บไซต์ศูนย์บริการโลหิตแห่งชาติ - ECPv6.11.2.1//NONSGML v1.0//EN
CALSCALE:GREGORIAN
METHOD:PUBLISH
X-WR-CALNAME:เว็บไซต์ศูนย์บริการโลหิตแห่งชาติ
X-ORIGINAL-URL:https://thaibloodcentre.redcross.or.th
X-WR-CALDESC:Events for เว็บไซต์ศูนย์บริการโลหิตแห่งชาติ
REFRESH-INTERVAL;VALUE=DURATION:PT1H
X-Robots-Tag:noindex
X-PUBLISHED-TTL:PT1H
BEGIN:VTIMEZONE
TZID:Asia/Bangkok
BEGIN:STANDARD
TZOFFSETFROM:+0700
TZOFFSETTO:+0700
TZNAME:+07
DTSTART:20250101T000000
END:STANDARD
END:VTIMEZONE
BEGIN:VEVENT
DTSTART;TZID=Asia/Bangkok:20251028T103000
DTEND;TZID=Asia/Bangkok:20251028T103000
DTSTAMP:20260425T215101
CREATED:20251017T044146Z
LAST-MODIFIED:20251017T044146Z
UID:10003801-1761647400-1761647400@thaibloodcentre.redcross.or.th
SUMMARY:บจก. วนวิทย์ แมนูแฟคเจอริ่ง [บริษัท วนวิทย์ แมนูแฟคเจอริ่ง จำกัด (สะแกงาม)]
DESCRIPTION:สถานที่เจาะ : 4/632 ซอยวัดสะแกงาม ถนนพระราม 2 \nที่อยู่ : แขวงแสมดำ เขตบางขุนเทียน กรุงเทพฯ 0 2896 2390
URL:https://thaibloodcentre.redcross.or.th/event/%e0%b8%9a%e0%b8%88%e0%b8%81-%e0%b8%a7%e0%b8%99%e0%b8%a7%e0%b8%b4%e0%b8%97%e0%b8%a2%e0%b9%8c-%e0%b9%81%e0%b8%a1%e0%b8%99%e0%b8%b9%e0%b9%81%e0%b8%9f%e0%b8%84%e0%b9%80%e0%b8%88%e0%b8%ad%e0%b8%a3/
LOCATION:บจก. วนวิทย์ แมนูแฟคเจอริ่ง\, 10 ซอย 94 ถนนพระรามที่ 2 แขวงแสมดำ เขตบางขุนเทียน กรุงเทพมหานคร 10150 0.375
CATEGORIES:ปฏิทินตารางหน่วยเคลื่อนที่
END:VEVENT
BEGIN:VEVENT
DTSTART;TZID=Asia/Bangkok:20251028T150000
DTEND;TZID=Asia/Bangkok:20251028T150000
DTSTAMP:20260425T215101
CREATED:20251017T044132Z
LAST-MODIFIED:20251017T044132Z
UID:10003798-1761663600-1761663600@thaibloodcentre.redcross.or.th
SUMMARY:หน่วยรับบริจาคโลหิต บ้านทรงไทย(ย่านวงศ์สว่าง) [บ้านทรงไทย (ย่านวงศ์สว่าง)]
DESCRIPTION:สถานที่เจาะ : 1423 ถนนกรุงเทพ – นนทบุรี \nที่อยู่ : แขวงวงศ์สว่าง เขตบางซื่อ กรุงเทพฯ 0 2256 4300
URL:https://thaibloodcentre.redcross.or.th/event/%e0%b8%ab%e0%b8%99%e0%b9%88%e0%b8%a7%e0%b8%a2%e0%b8%a3%e0%b8%b1%e0%b8%9a%e0%b8%9a%e0%b8%a3%e0%b8%b4%e0%b8%88%e0%b8%b2%e0%b8%84%e0%b9%82%e0%b8%a5%e0%b8%ab%e0%b8%b4%e0%b8%95-%e0%b8%9a%e0%b9%89-10/
LOCATION:หน่วยรับบริจาคโลหิต บ้านทรงไทย(ย่านวงศ์สว่าง)\, 1423 ถนนกรุงเทพ-นนทบุรี แขวงวงศ์สว่าง เขตบางซื่อ กรุงเทพมหานคร 10800 0.375
CATEGORIES:ปฏิทินตารางหน่วยเคลื่อนที่
END:VEVENT
BEGIN:VEVENT
DTSTART;TZID=Asia/Bangkok:20251028T150000
DTEND;TZID=Asia/Bangkok:20251028T150000
DTSTAMP:20260425T215101
CREATED:20251017T044136Z
LAST-MODIFIED:20251017T044136Z
UID:10003799-1761663600-1761663600@thaibloodcentre.redcross.or.th
SUMMARY:บริษัท ไทยแอร์เอเชีย จำกัด [บริษัท ไทยแอร์เอเชีย จำกัด]
DESCRIPTION:สถานที่เจาะ : ตรงข้ามวิภาวดีรังสิต 35 \nที่อยู่ : แขวงสนามบิน เขตดอนเมือง กรุงเทพฯ
URL:https://thaibloodcentre.redcross.or.th/event/%e0%b8%9a%e0%b8%a3%e0%b8%b4%e0%b8%a9%e0%b8%b1%e0%b8%97-%e0%b9%84%e0%b8%97%e0%b8%a2%e0%b9%81%e0%b8%ad%e0%b8%a3%e0%b9%8c%e0%b9%80%e0%b8%ad%e0%b9%80%e0%b8%8a%e0%b8%b5%e0%b8%a2-%e0%b8%88%e0%b8%b3-3/
LOCATION:บริษัท ไทยแอร์เอเชีย จำกัด\, บริษัท ไทยแอร์เอเชีย จำกัด 222 ท่าอากาศยานดอนเมือง อาคารส่วนกลางชั้น 3 ห้องหมายเลข 3200 ถนนวิภาวดีรังสิต แขวงสนามบิน เขตดอนเมือง กรุงเทพฯ 10210
CATEGORIES:ปฏิทินตารางหน่วยเคลื่อนที่
END:VEVENT
BEGIN:VEVENT
DTSTART;TZID=Asia/Bangkok:20251028T150000
DTEND;TZID=Asia/Bangkok:20251028T150000
DTSTAMP:20260425T215101
CREATED:20251017T044139Z
LAST-MODIFIED:20251017T044139Z
UID:10003800-1761663600-1761663600@thaibloodcentre.redcross.or.th
SUMMARY:คลังสินค้า ทเวนตี้โฟร์ช้อปปิ้ง [บริษัท ทเวนตี้โฟร์ ช้อปปิ้ง จำกัด]
DESCRIPTION:สถานที่เจาะ : 9/19 ม.5 ถ.ตลิ่งชัน-สุพรรณบุรี \nที่อยู่ : ต.ละหาร อ.บางบัวทอง จ.นนทบุรี 0 2925 6613
URL:https://thaibloodcentre.redcross.or.th/event/%e0%b8%84%e0%b8%a5%e0%b8%b1%e0%b8%87%e0%b8%aa%e0%b8%b4%e0%b8%99%e0%b8%84%e0%b9%89%e0%b8%b2-%e0%b8%97%e0%b9%80%e0%b8%a7%e0%b8%99%e0%b8%95%e0%b8%b5%e0%b9%89%e0%b9%82%e0%b8%9f%e0%b8%a3%e0%b9%8c%e0%b8%8a/
LOCATION:คลังสินค้า ทเวนตี้โฟร์ช้อปปิ้ง\, 9/19 ม.5 ถ.ตลิ่งชัน-สุพรรณบุรี ต.ละหาร อ.บางบัวทอง จ.นนทบุรี 11110 0.375
CATEGORIES:ปฏิทินตารางหน่วยเคลื่อนที่
END:VEVENT
BEGIN:VEVENT
DTSTART;TZID=Asia/Bangkok:20251028T150000
DTEND;TZID=Asia/Bangkok:20251028T150000
DTSTAMP:20260425T215101
CREATED:20251017T044149Z
LAST-MODIFIED:20251017T044149Z
UID:10003802-1761663600-1761663600@thaibloodcentre.redcross.or.th
SUMMARY:บริษัท วนวิทย์ แมนูแฟคเจอริ่ง จำกัด ( Hatari ) [บริษัท วนวิทย์ แมนูแฟคเจอริ่ง จำกัด (พระราม 2)]
DESCRIPTION:สถานที่เจาะ : 10 ถนนพระราม 2 ซอย 94 \nที่อยู่ : แขวงแสมดำ เขตบางขุนเทียน กรุงเทพฯ 0 2896 2390
URL:https://thaibloodcentre.redcross.or.th/event/%e0%b8%9a%e0%b8%a3%e0%b8%b4%e0%b8%a9%e0%b8%b1%e0%b8%97-%e0%b8%a7%e0%b8%99%e0%b8%a7%e0%b8%b4%e0%b8%97%e0%b8%a2%e0%b9%8c-%e0%b9%81%e0%b8%a1%e0%b8%99%e0%b8%b9%e0%b9%81%e0%b8%9f%e0%b8%84%e0%b9%80-5/
LOCATION:บริษัท วนวิทย์ แมนูแฟคเจอริ่ง จำกัด ( Hatari )\, 10 ซอยพระรามที่ 2 ซอย 94 แขวงแสมดำ เขตบางขุนเทียน กรุงเทพมหานคร 10150 0.5
CATEGORIES:ปฏิทินตารางหน่วยเคลื่อนที่
END:VEVENT
BEGIN:VEVENT
DTSTART;TZID=Asia/Bangkok:20251028T150000
DTEND;TZID=Asia/Bangkok:20251028T150000
DTSTAMP:20260425T215101
CREATED:20251017T044151Z
LAST-MODIFIED:20251017T044151Z
UID:10003803-1761663600-1761663600@thaibloodcentre.redcross.or.th
SUMMARY:อุทยานวิทยาศาสตร์ประเทศไทย [สำนักงานพัฒนาวิทยาศาสตร์และเทคโนโลยีแห่งชาติ]
DESCRIPTION:สถานที่เจาะ : 111 ถ.พหลโยธิน (อยู่ใน มธ.ศูนย์รังสิต) \nที่อยู่ : ต.คลองหนึ่ง อ.คลองหลวง ปทุมธานี 0 2564 7000
URL:https://thaibloodcentre.redcross.or.th/event/%e0%b8%ad%e0%b8%b8%e0%b8%97%e0%b8%a2%e0%b8%b2%e0%b8%99%e0%b8%a7%e0%b8%b4%e0%b8%97%e0%b8%a2%e0%b8%b2%e0%b8%a8%e0%b8%b2%e0%b8%aa%e0%b8%95%e0%b8%a3%e0%b9%8c%e0%b8%9b%e0%b8%a3%e0%b8%b0%e0%b9%80%e0%b8%97/
LOCATION:อุทยานวิทยาศาสตร์ประเทศไทย\, 111 ถ.พหลโยธิน ต.คลองหนึ่ง อ.คลองหลวง จ.ปทุมธานี 12120 0.375
CATEGORIES:ปฏิทินตารางหน่วยเคลื่อนที่
END:VEVENT
BEGIN:VEVENT
DTSTART;TZID=Asia/Bangkok:20251028T150000
DTEND;TZID=Asia/Bangkok:20251028T150000
DTSTAMP:20260425T215101
CREATED:20251017T044154Z
LAST-MODIFIED:20251017T044154Z
UID:10003804-1761663600-1761663600@thaibloodcentre.redcross.or.th
SUMMARY:บริษัท เฮ็ลธ์ฟู้ดส์ คอร์ปอเรชั่น จำกัด [บริษัท เฮ็ลธ์ฟู้ดส์ คอร์ปอเรชั่น จำกัด]
DESCRIPTION:สถานที่เจาะ : 14 ซอยคู้บอน 13 แยก 1 ถนนคู้บอน \nที่อยู่ : แขวงรามอินทรา เขตคันนายาว กรุงเทพฯ
URL:https://thaibloodcentre.redcross.or.th/event/%e0%b8%9a%e0%b8%a3%e0%b8%b4%e0%b8%a9%e0%b8%b1%e0%b8%97-%e0%b9%80%e0%b8%ae%e0%b9%87%e0%b8%a5%e0%b8%98%e0%b9%8c%e0%b8%9f%e0%b8%b9%e0%b9%89%e0%b8%94%e0%b8%aa%e0%b9%8c-%e0%b8%84%e0%b8%ad%e0%b8%a3%e0%b9%8c/
LOCATION:บริษัท เฮ็ลธ์ฟู้ดส์ คอร์ปอเรชั่น จำกัด\, 14 ซอยคู้บอน 13 แยก 1 ถนนคู้บอน แขวงรามอินทรา เขตคันนายาว กรุงเทพฯ 10230 0.375
CATEGORIES:ปฏิทินตารางหน่วยเคลื่อนที่
END:VEVENT
BEGIN:VEVENT
DTSTART;TZID=Asia/Bangkok:20251028T180000
DTEND;TZID=Asia/Bangkok:20251028T180000
DTSTAMP:20260425T215101
CREATED:20251017T044109Z
LAST-MODIFIED:20251017T044109Z
UID:10003792-1761674400-1761674400@thaibloodcentre.redcross.or.th
SUMMARY:เดอะมอลล์ไลฟ์สโตร์ บางแค [ศูนย์การค้าเดอะมอลล์ไลฟ์สโตร์ บางแค]
DESCRIPTION:สถานที่เจาะ : ถนนเพชรเกษม \nที่อยู่ : แขวงบางแคเหนือ เขตภาษีเจริญ กรุงเทพฯ 02 487 1221
URL:https://thaibloodcentre.redcross.or.th/event/%e0%b9%80%e0%b8%94%e0%b8%ad%e0%b8%b0%e0%b8%a1%e0%b8%ad%e0%b8%a5%e0%b8%a5%e0%b9%8c%e0%b9%84%e0%b8%a5%e0%b8%9f%e0%b9%8c%e0%b8%aa%e0%b9%82%e0%b8%95%e0%b8%a3%e0%b9%8c-%e0%b8%9a%e0%b8%b2%e0%b8%87-18/
LOCATION:เดอะมอลล์ไลฟ์สโตร์ บางแค\, 518 ถ.เพชรเกษม แขวงบางแคเหนือ เขตบางแค กรุงเทพมหานคร 10160 0.5
CATEGORIES:ปฏิทินตารางหน่วยเคลื่อนที่
END:VEVENT
BEGIN:VEVENT
DTSTART;TZID=Asia/Bangkok:20251028T180000
DTEND;TZID=Asia/Bangkok:20251028T180000
DTSTAMP:20260425T215101
CREATED:20251017T044112Z
LAST-MODIFIED:20251017T044112Z
UID:10003793-1761674400-1761674400@thaibloodcentre.redcross.or.th
SUMMARY:เดอะมอลล์ไลฟ์สโตร์ บางกะปิ [ศูนย์การค้าเดอะมอลล์ไลฟ์สโตร์ บางกะปิ]
DESCRIPTION:สถานที่เจาะ : ถนนลาดพร้าว \nที่อยู่ : แขวงคลองจั่น เขตบางกะปิ กรุงเทพฯ 0 2310 2278
URL:https://thaibloodcentre.redcross.or.th/event/%e0%b9%80%e0%b8%94%e0%b8%ad%e0%b8%b0%e0%b8%a1%e0%b8%ad%e0%b8%a5%e0%b8%a5%e0%b9%8c%e0%b9%84%e0%b8%a5%e0%b8%9f%e0%b9%8c%e0%b8%aa%e0%b9%82%e0%b8%95%e0%b8%a3%e0%b9%8c-%e0%b8%9a%e0%b8%b2%e0%b8%87-19/
LOCATION:เดอะมอลล์ไลฟ์สโตร์ บางกะปิ\, 3522 ถ. ลาดพร้าว แขวงคลองจั่น เขตบางกะปิ กรุงเทพมหานคร 10240 0.5
CATEGORIES:ปฏิทินตารางหน่วยเคลื่อนที่
END:VEVENT
BEGIN:VEVENT
DTSTART;TZID=Asia/Bangkok:20251028T180000
DTEND;TZID=Asia/Bangkok:20251028T180000
DTSTAMP:20260425T215101
CREATED:20251017T044116Z
LAST-MODIFIED:20251017T044116Z
UID:10003794-1761674400-1761674400@thaibloodcentre.redcross.or.th
SUMMARY:เดอะมอลล์ ไลฟ์สโตร์ งามวงศ์วาน [ศูนย์การค้าเดอะมอลล์ไลฟ์สโตร์ งามวงศ์วาน]
DESCRIPTION:สถานที่เจาะ : ถนนงามวงศ์วาน \nที่อยู่ : ต.บางเขน อ.เมือง จ.นนทบุรี 0 2555 1550
URL:https://thaibloodcentre.redcross.or.th/event/%e0%b9%80%e0%b8%94%e0%b8%ad%e0%b8%b0%e0%b8%a1%e0%b8%ad%e0%b8%a5%e0%b8%a5%e0%b9%8c-%e0%b9%84%e0%b8%a5%e0%b8%9f%e0%b9%8c%e0%b8%aa%e0%b9%82%e0%b8%95%e0%b8%a3%e0%b9%8c-%e0%b8%87%e0%b8%b2%e0%b8%a1-10/
LOCATION:เดอะมอลล์ ไลฟ์สโตร์ งามวงศ์วาน\, 430 ถนน งามวงศ์วาน ตำบลบางเขน อำเภอเมืองนนทบุรี นนทบุรี 11000 0.5
CATEGORIES:ปฏิทินตารางหน่วยเคลื่อนที่
END:VEVENT
BEGIN:VEVENT
DTSTART;TZID=Asia/Bangkok:20251028T180000
DTEND;TZID=Asia/Bangkok:20251028T180000
DTSTAMP:20260425T215102
CREATED:20251017T044119Z
LAST-MODIFIED:20251017T044119Z
UID:10003795-1761674400-1761674400@thaibloodcentre.redcross.or.th
SUMMARY:เอ็มโพเรียม [ศูนย์การค้า เอ็มโพเรียม]
DESCRIPTION:สถานที่เจาะ : 622 ถนนสุขุมวิท \nที่อยู่ : แขวงคลองตัน เขตคลองเตย กรุงเทพฯ 0 2269 1515
URL:https://thaibloodcentre.redcross.or.th/event/%e0%b9%80%e0%b8%ad%e0%b9%87%e0%b8%a1%e0%b9%82%e0%b8%9e%e0%b9%80%e0%b8%a3%e0%b8%b5%e0%b8%a2%e0%b8%a1-%e0%b8%a8%e0%b8%b9%e0%b8%99%e0%b8%a2%e0%b9%8c%e0%b8%81%e0%b8%b2%e0%b8%a3%e0%b8%84%e0%b9%89-10/
LOCATION:เอ็มโพเรียม\, 622 ถ. สุขุมวิท แขวงคลองตัน เขตคลองเตย กรุงเทพมหานคร 10110 0.5
CATEGORIES:ปฏิทินตารางหน่วยเคลื่อนที่
END:VEVENT
BEGIN:VEVENT
DTSTART;TZID=Asia/Bangkok:20251028T180000
DTEND;TZID=Asia/Bangkok:20251028T180000
DTSTAMP:20260425T215102
CREATED:20251017T044125Z
LAST-MODIFIED:20251017T044125Z
UID:10003796-1761674400-1761674400@thaibloodcentre.redcross.or.th
SUMMARY:เดอะมอลล์ไลฟ์สโตร์ ท่าพระ [ศูนย์การค้าเดอะมอลล์ไลฟ์สโตร์ ท่าพระ]
DESCRIPTION:สถานที่เจาะ : 99 ถนนรัชดาท่าพระตัดใหม่ \nที่อยู่ : แขวงบุคคโล เขตธนบุรี กรุงเทพฯ 0 2469-1000
URL:https://thaibloodcentre.redcross.or.th/event/%e0%b9%80%e0%b8%94%e0%b8%ad%e0%b8%b0%e0%b8%a1%e0%b8%ad%e0%b8%a5%e0%b8%a5%e0%b9%8c%e0%b9%84%e0%b8%a5%e0%b8%9f%e0%b9%8c%e0%b8%aa%e0%b9%82%e0%b8%95%e0%b8%a3%e0%b9%8c-%e0%b8%97%e0%b9%88%e0%b8%b2-11/
LOCATION:เดอะมอลล์ไลฟ์สโตร์ ท่าพระ\, 129 ถ. รัชดาภิเษก แขวงบุคคโล เขตธนบุรี กรุงเทพมหานคร 10600 0.5
CATEGORIES:ปฏิทินตารางหน่วยเคลื่อนที่
END:VEVENT
BEGIN:VEVENT
DTSTART;TZID=Asia/Bangkok:20251028T193000
DTEND;TZID=Asia/Bangkok:20251028T193000
DTSTAMP:20260425T215102
CREATED:20251017T044105Z
LAST-MODIFIED:20251017T044105Z
UID:10003791-1761679800-1761679800@thaibloodcentre.redcross.or.th
SUMMARY:ศูนย์บริการโลหิตแห่งชาติ สภากาชาดไทย [ศูนย์บริการโลหิตแห่งชาติ สภากาชาดไทย]
DESCRIPTION:สถานที่เจาะ : 1871 ถ. อังรีดูนังต์ แขวงปทุมวัน เขตปทุมวัน
URL:https://thaibloodcentre.redcross.or.th/event/%e0%b8%a8%e0%b8%b9%e0%b8%99%e0%b8%a2%e0%b9%8c%e0%b8%9a%e0%b8%a3%e0%b8%b4%e0%b8%81%e0%b8%b2%e0%b8%a3%e0%b9%82%e0%b8%a5%e0%b8%ab%e0%b8%b4%e0%b8%95%e0%b9%81%e0%b8%ab%e0%b9%88%e0%b8%87%e0%b8%8a-304/
LOCATION:ศูนย์บริการโลหิตแห่งชาติ สภากาชาดไทย\, ศูนย์บริการโลหิตแห่งชาติ สภากาชาดไทย 1871 ถ. อังรีดูนังต์ แขวงปทุมวัน เขตปทุมวัน กรุงเทพมหานคร 10330
CATEGORIES:ปฏิทินตารางหน่วยเคลื่อนที่
END:VEVENT
BEGIN:VEVENT
DTSTART;TZID=Asia/Bangkok:20251028T193000
DTEND;TZID=Asia/Bangkok:20251028T193000
DTSTAMP:20260425T215102
CREATED:20251017T044129Z
LAST-MODIFIED:20251017T044129Z
UID:10003797-1761679800-1761679800@thaibloodcentre.redcross.or.th
SUMMARY:สถานีกาชาดที่ 11 วิเศษนิยม สภากาชาดไทย [สถานีกาชาด 11 วิเศษนิยม]
DESCRIPTION:สถานที่เจาะ : 33/3 ถนนเพชรเกษม \nที่อยู่ : แขวงบางหว้า เขตภาษีเจริญ กรุงเทพฯ 0633450711
URL:https://thaibloodcentre.redcross.or.th/event/%e0%b8%aa%e0%b8%96%e0%b8%b2%e0%b8%99%e0%b8%b5%e0%b8%81%e0%b8%b2%e0%b8%8a%e0%b8%b2%e0%b8%94%e0%b8%97%e0%b8%b5%e0%b9%88-11-%e0%b8%a7%e0%b8%b4%e0%b9%80%e0%b8%a8%e0%b8%a9%e0%b8%99%e0%b8%b4%e0%b8%a2-10/
LOCATION:สถานีกาชาดที่ 11 วิเศษนิยม สภากาชาดไทย\, 605 ถ.เพชรเกษม แขวงบางหว้า เขตภาษีเจริญ กรุงเทพมหานคร 10160 0.35416666666667
CATEGORIES:ปฏิทินตารางหน่วยเคลื่อนที่
END:VEVENT
END:VCALENDAR