BEGIN:VCALENDAR
VERSION:2.0
PRODID:-//เว็บไซต์ศูนย์บริการโลหิตแห่งชาติ - ECPv6.11.2.1//NONSGML v1.0//EN
CALSCALE:GREGORIAN
METHOD:PUBLISH
X-WR-CALNAME:เว็บไซต์ศูนย์บริการโลหิตแห่งชาติ
X-ORIGINAL-URL:https://thaibloodcentre.redcross.or.th
X-WR-CALDESC:Events for เว็บไซต์ศูนย์บริการโลหิตแห่งชาติ
REFRESH-INTERVAL;VALUE=DURATION:PT1H
X-Robots-Tag:noindex
X-PUBLISHED-TTL:PT1H
BEGIN:VTIMEZONE
TZID:Asia/Bangkok
BEGIN:STANDARD
TZOFFSETFROM:+0700
TZOFFSETTO:+0700
TZNAME:+07
DTSTART:20250101T000000
END:STANDARD
END:VTIMEZONE
BEGIN:VEVENT
DTSTART;TZID=Asia/Bangkok:20251027T150000
DTEND;TZID=Asia/Bangkok:20251027T150000
DTSTAMP:20260425T215035
CREATED:20251017T034342Z
LAST-MODIFIED:20251017T034857Z
UID:10003786-1761577200-1761577200@thaibloodcentre.redcross.or.th
SUMMARY:หน่วยรับบริจาคโลหิต บ้านทรงไทย(ย่านวงศ์สว่าง) [บ้านทรงไทย (ย่านวงศ์สว่าง)]
DESCRIPTION:สถานที่เจาะ : 1423 ถนนกรุงเทพ – นนทบุรี \nที่อยู่ : แขวงวงศ์สว่าง เขตบางซื่อ กรุงเทพฯ 0 2256 4300
URL:https://thaibloodcentre.redcross.or.th/event/%e0%b8%ab%e0%b8%99%e0%b9%88%e0%b8%a7%e0%b8%a2%e0%b8%a3%e0%b8%b1%e0%b8%9a%e0%b8%9a%e0%b8%a3%e0%b8%b4%e0%b8%88%e0%b8%b2%e0%b8%84%e0%b9%82%e0%b8%a5%e0%b8%ab%e0%b8%b4%e0%b8%95-%e0%b8%9a%e0%b9%89-9/
LOCATION:หน่วยรับบริจาคโลหิต บ้านทรงไทย(ย่านวงศ์สว่าง)\, 1423 ถนนกรุงเทพ-นนทบุรี แขวงวงศ์สว่าง เขตบางซื่อ กรุงเทพมหานคร 10800 0.375
CATEGORIES:ปฏิทินตารางหน่วยเคลื่อนที่
END:VEVENT
BEGIN:VEVENT
DTSTART;TZID=Asia/Bangkok:20251027T150000
DTEND;TZID=Asia/Bangkok:20251027T150000
DTSTAMP:20260425T215035
CREATED:20251017T034349Z
LAST-MODIFIED:20251017T035055Z
UID:10003787-1761577200-1761577200@thaibloodcentre.redcross.or.th
SUMMARY:บริษัท พาราไดซ์ พาร์ค จำกัด [บริษัท พาราไดซ์ พาร์ค จำกัด]
DESCRIPTION:สถานที่เจาะ : 59/5 ถนนศรีนครินทร์ \nที่อยู่ : แขวงหนองบอน เขตประเวศ กรุงเทพฯ 0 2780 1000
URL:https://thaibloodcentre.redcross.or.th/event/%e0%b8%9a%e0%b8%a3%e0%b8%b4%e0%b8%a9%e0%b8%b1%e0%b8%97-%e0%b8%9e%e0%b8%b2%e0%b8%a3%e0%b8%b2%e0%b9%84%e0%b8%94%e0%b8%8b%e0%b9%8c-%e0%b8%9e%e0%b8%b2%e0%b8%a3%e0%b9%8c%e0%b8%84-%e0%b8%88%e0%b8%b3-8/
LOCATION:บริษัท พาราไดซ์ พาร์ค จำกัด\, บริษัท พาราไดซ์ พาร์ค จำกัด 61 ศรีนครินทร์ ซอย ศรีนครินทร์ 61 แขวงหนองบอน เขตประเวศ กรุงเทพมหานคร 10250
CATEGORIES:ปฏิทินตารางหน่วยเคลื่อนที่
END:VEVENT
BEGIN:VEVENT
DTSTART;TZID=Asia/Bangkok:20251027T150000
DTEND;TZID=Asia/Bangkok:20251027T150000
DTSTAMP:20260425T215035
CREATED:20251017T034351Z
LAST-MODIFIED:20251017T035057Z
UID:10003788-1761577200-1761577200@thaibloodcentre.redcross.or.th
SUMMARY:โรงพยาบาลสินแพทย์ ศรีนครินทร์ [โรงพยาบาลสินแพทย์ ศรีนครินทร์]
DESCRIPTION:สถานที่เจาะ : 19/9 ถนนเฉลิมพระเกียรติ ร. 9 \nที่อยู่ : แขวงหนองบอน เขตประเวศ กรุงเทพฯ 0 2006 8888
URL:https://thaibloodcentre.redcross.or.th/event/%e0%b9%82%e0%b8%a3%e0%b8%87%e0%b8%9e%e0%b8%a2%e0%b8%b2%e0%b8%9a%e0%b8%b2%e0%b8%a5%e0%b8%aa%e0%b8%b4%e0%b8%99%e0%b9%81%e0%b8%9e%e0%b8%97%e0%b8%a2%e0%b9%8c-%e0%b8%a8%e0%b8%a3%e0%b8%b5%e0%b8%99-3/
LOCATION:โรงพยาบาลสินแพทย์ ศรีนครินทร์\, โรงพยาบาลสินแพทย์ ศรีนครินทร์ 19/9 ถนนเฉลิมพระเกียรติ ร.9 แขวงหนองบอน เขตประเวศ กรุงเทพมหานคร 10250
CATEGORIES:ปฏิทินตารางหน่วยเคลื่อนที่
END:VEVENT
BEGIN:VEVENT
DTSTART;TZID=Asia/Bangkok:20251027T150000
DTEND;TZID=Asia/Bangkok:20251027T150000
DTSTAMP:20260425T215035
CREATED:20251017T034353Z
LAST-MODIFIED:20251017T035058Z
UID:10003789-1761577200-1761577200@thaibloodcentre.redcross.or.th
SUMMARY:บริษัท บุญรอดบริวเวอรี่ จำกัด [บริษัท บุญรอดบริวเวอรี่ จำกัด]
DESCRIPTION:สถานที่เจาะ : 999 ถนนสามเสน \nที่อยู่ : แขวงถนนนครไชยศรี เขตดุสิต กรุงเทพฯ 0 2242 4251
URL:https://thaibloodcentre.redcross.or.th/event/%e0%b8%9a%e0%b8%a3%e0%b8%b4%e0%b8%a9%e0%b8%b1%e0%b8%97-%e0%b8%9a%e0%b8%b8%e0%b8%8d%e0%b8%a3%e0%b8%ad%e0%b8%94%e0%b8%9a%e0%b8%a3%e0%b8%b4%e0%b8%a7%e0%b9%80%e0%b8%a7%e0%b8%ad%e0%b8%a3%e0%b8%b5-3/
LOCATION:บริษัท บุญรอดบริวเวอรี่ จำกัด\, บริษัท บุญรอดบริวเวอรี่ จำกัด 999 ถนนสามเสน แขวงถนนนครไชยศรี เขตดุสิต กรุงเทพมหานคร 10300
CATEGORIES:ปฏิทินตารางหน่วยเคลื่อนที่
END:VEVENT
BEGIN:VEVENT
DTSTART;TZID=Asia/Bangkok:20251027T150000
DTEND;TZID=Asia/Bangkok:20251027T150000
DTSTAMP:20260425T215035
CREATED:20251017T034356Z
LAST-MODIFIED:20251017T035058Z
UID:10003790-1761577200-1761577200@thaibloodcentre.redcross.or.th
SUMMARY:อาคาร เอไอเอ สาทร ทาวเวอร์ [อาคาร เอไอเอ สาทร ทาวเวอร์]
DESCRIPTION:สถานที่เจาะ : 11/1 ถนนสาทรใต้ \nที่อยู่ : แขวงยานนาวา เขตสาทร กรุงเทพฯ 0 2286 5929
URL:https://thaibloodcentre.redcross.or.th/event/%e0%b8%ad%e0%b8%b2%e0%b8%84%e0%b8%b2%e0%b8%a3-%e0%b9%80%e0%b8%ad%e0%b9%84%e0%b8%ad%e0%b9%80%e0%b8%ad-%e0%b8%aa%e0%b8%b2%e0%b8%97%e0%b8%a3-%e0%b8%97%e0%b8%b2%e0%b8%a7%e0%b9%80%e0%b8%a7%e0%b8%ad-2/
LOCATION:อาคาร เอไอเอ สาทร ทาวเวอร์\, อาคาร เอไอเอ สาทร ทาวเวอร์ 11/1 ถนนสาทรใต้ แขวงยานนาวา เขตสาทร กรุงเทพมหานคร 10120
CATEGORIES:ปฏิทินตารางหน่วยเคลื่อนที่
END:VEVENT
BEGIN:VEVENT
DTSTART;TZID=Asia/Bangkok:20251027T180000
DTEND;TZID=Asia/Bangkok:20251027T180000
DTSTAMP:20260425T215035
CREATED:20251017T034322Z
LAST-MODIFIED:20251017T034656Z
UID:10003780-1761588000-1761588000@thaibloodcentre.redcross.or.th
SUMMARY:เดอะมอลล์ไลฟ์สโตร์ บางแค [ศูนย์การค้าเดอะมอลล์ไลฟ์สโตร์ บางแค]
DESCRIPTION:สถานที่เจาะ : ถนนเพชรเกษม \nที่อยู่ : แขวงบางแคเหนือ เขตภาษีเจริญ กรุงเทพฯ 02 487 1221
URL:https://thaibloodcentre.redcross.or.th/event/%e0%b9%80%e0%b8%94%e0%b8%ad%e0%b8%b0%e0%b8%a1%e0%b8%ad%e0%b8%a5%e0%b8%a5%e0%b9%8c%e0%b9%84%e0%b8%a5%e0%b8%9f%e0%b9%8c%e0%b8%aa%e0%b9%82%e0%b8%95%e0%b8%a3%e0%b9%8c-%e0%b8%9a%e0%b8%b2%e0%b8%87-16/
LOCATION:เดอะมอลล์ไลฟ์สโตร์ บางแค\, 518 ถ.เพชรเกษม แขวงบางแคเหนือ เขตบางแค กรุงเทพมหานคร 10160 0.5
CATEGORIES:ปฏิทินตารางหน่วยเคลื่อนที่
END:VEVENT
BEGIN:VEVENT
DTSTART;TZID=Asia/Bangkok:20251027T180000
DTEND;TZID=Asia/Bangkok:20251027T180000
DTSTAMP:20260425T215035
CREATED:20251017T034325Z
LAST-MODIFIED:20251017T034657Z
UID:10003781-1761588000-1761588000@thaibloodcentre.redcross.or.th
SUMMARY:เดอะมอลล์ไลฟ์สโตร์ บางกะปิ [ศูนย์การค้าเดอะมอลล์ไลฟ์สโตร์ บางกะปิ]
DESCRIPTION:สถานที่เจาะ : ถนนลาดพร้าว \nที่อยู่ : แขวงคลองจั่น เขตบางกะปิ กรุงเทพฯ 0 2310 2278
URL:https://thaibloodcentre.redcross.or.th/event/%e0%b9%80%e0%b8%94%e0%b8%ad%e0%b8%b0%e0%b8%a1%e0%b8%ad%e0%b8%a5%e0%b8%a5%e0%b9%8c%e0%b9%84%e0%b8%a5%e0%b8%9f%e0%b9%8c%e0%b8%aa%e0%b9%82%e0%b8%95%e0%b8%a3%e0%b9%8c-%e0%b8%9a%e0%b8%b2%e0%b8%87-17/
LOCATION:เดอะมอลล์ไลฟ์สโตร์ บางกะปิ\, 3522 ถ. ลาดพร้าว แขวงคลองจั่น เขตบางกะปิ กรุงเทพมหานคร 10240 0.5
CATEGORIES:ปฏิทินตารางหน่วยเคลื่อนที่
END:VEVENT
BEGIN:VEVENT
DTSTART;TZID=Asia/Bangkok:20251027T180000
DTEND;TZID=Asia/Bangkok:20251027T180000
DTSTAMP:20260425T215035
CREATED:20251017T034334Z
LAST-MODIFIED:20251017T034854Z
UID:10003782-1761588000-1761588000@thaibloodcentre.redcross.or.th
SUMMARY:เดอะมอลล์ ไลฟ์สโตร์ งามวงศ์วาน [ศูนย์การค้าเดอะมอลล์ไลฟ์สโตร์ งามวงศ์วาน]
DESCRIPTION:สถานที่เจาะ : ถนนงามวงศ์วาน \nที่อยู่ : ต.บางเขน อ.เมือง จ.นนทบุรี 0 2555 1550
URL:https://thaibloodcentre.redcross.or.th/event/%e0%b9%80%e0%b8%94%e0%b8%ad%e0%b8%b0%e0%b8%a1%e0%b8%ad%e0%b8%a5%e0%b8%a5%e0%b9%8c-%e0%b9%84%e0%b8%a5%e0%b8%9f%e0%b9%8c%e0%b8%aa%e0%b9%82%e0%b8%95%e0%b8%a3%e0%b9%8c-%e0%b8%87%e0%b8%b2%e0%b8%a1-9/
LOCATION:เดอะมอลล์ ไลฟ์สโตร์ งามวงศ์วาน\, 430 ถนน งามวงศ์วาน ตำบลบางเขน อำเภอเมืองนนทบุรี นนทบุรี 11000 0.5
CATEGORIES:ปฏิทินตารางหน่วยเคลื่อนที่
END:VEVENT
BEGIN:VEVENT
DTSTART;TZID=Asia/Bangkok:20251027T180000
DTEND;TZID=Asia/Bangkok:20251027T180000
DTSTAMP:20260425T215035
CREATED:20251017T034336Z
LAST-MODIFIED:20251017T034855Z
UID:10003783-1761588000-1761588000@thaibloodcentre.redcross.or.th
SUMMARY:เอ็มโพเรียม [ศูนย์การค้า เอ็มโพเรียม]
DESCRIPTION:สถานที่เจาะ : 622 ถนนสุขุมวิท \nที่อยู่ : แขวงคลองตัน เขตคลองเตย กรุงเทพฯ 0 2269 1515
URL:https://thaibloodcentre.redcross.or.th/event/%e0%b9%80%e0%b8%ad%e0%b9%87%e0%b8%a1%e0%b9%82%e0%b8%9e%e0%b9%80%e0%b8%a3%e0%b8%b5%e0%b8%a2%e0%b8%a1-%e0%b8%a8%e0%b8%b9%e0%b8%99%e0%b8%a2%e0%b9%8c%e0%b8%81%e0%b8%b2%e0%b8%a3%e0%b8%84%e0%b9%89-9/
LOCATION:เอ็มโพเรียม\, 622 ถ. สุขุมวิท แขวงคลองตัน เขตคลองเตย กรุงเทพมหานคร 10110 0.5
CATEGORIES:ปฏิทินตารางหน่วยเคลื่อนที่
END:VEVENT
BEGIN:VEVENT
DTSTART;TZID=Asia/Bangkok:20251027T180000
DTEND;TZID=Asia/Bangkok:20251027T180000
DTSTAMP:20260425T215035
CREATED:20251017T034338Z
LAST-MODIFIED:20251017T034856Z
UID:10003784-1761588000-1761588000@thaibloodcentre.redcross.or.th
SUMMARY:เดอะมอลล์ไลฟ์สโตร์ ท่าพระ [ศูนย์การค้าเดอะมอลล์ไลฟ์สโตร์ ท่าพระ]
DESCRIPTION:สถานที่เจาะ : 99 ถนนรัชดาท่าพระตัดใหม่ \nที่อยู่ : แขวงบุคคโล เขตธนบุรี กรุงเทพฯ 0 2469-1000
URL:https://thaibloodcentre.redcross.or.th/event/%e0%b9%80%e0%b8%94%e0%b8%ad%e0%b8%b0%e0%b8%a1%e0%b8%ad%e0%b8%a5%e0%b8%a5%e0%b9%8c%e0%b9%84%e0%b8%a5%e0%b8%9f%e0%b9%8c%e0%b8%aa%e0%b9%82%e0%b8%95%e0%b8%a3%e0%b9%8c-%e0%b8%97%e0%b9%88%e0%b8%b2-10/
LOCATION:เดอะมอลล์ไลฟ์สโตร์ ท่าพระ\, 129 ถ. รัชดาภิเษก แขวงบุคคโล เขตธนบุรี กรุงเทพมหานคร 10600 0.5
CATEGORIES:ปฏิทินตารางหน่วยเคลื่อนที่
END:VEVENT
BEGIN:VEVENT
DTSTART;TZID=Asia/Bangkok:20251027T193000
DTEND;TZID=Asia/Bangkok:20251027T193000
DTSTAMP:20260425T215035
CREATED:20251017T034318Z
LAST-MODIFIED:20251017T034655Z
UID:10003779-1761593400-1761593400@thaibloodcentre.redcross.or.th
SUMMARY:ศูนย์บริการโลหิตแห่งชาติ สภากาชาดไทย [ศูนย์บริการโลหิตแห่งชาติ สภากาชาดไทย]
DESCRIPTION:สถานที่เจาะ : 1871 ถ. อังรีดูนังต์ แขวงปทุมวัน เขตปทุมวัน
URL:https://thaibloodcentre.redcross.or.th/event/%e0%b8%a8%e0%b8%b9%e0%b8%99%e0%b8%a2%e0%b9%8c%e0%b8%9a%e0%b8%a3%e0%b8%b4%e0%b8%81%e0%b8%b2%e0%b8%a3%e0%b9%82%e0%b8%a5%e0%b8%ab%e0%b8%b4%e0%b8%95%e0%b9%81%e0%b8%ab%e0%b9%88%e0%b8%87%e0%b8%8a-303/
LOCATION:ศูนย์บริการโลหิตแห่งชาติ สภากาชาดไทย\, ศูนย์บริการโลหิตแห่งชาติ สภากาชาดไทย 1871 ถ. อังรีดูนังต์ แขวงปทุมวัน เขตปทุมวัน กรุงเทพมหานคร 10330
CATEGORIES:ปฏิทินตารางหน่วยเคลื่อนที่
END:VEVENT
BEGIN:VEVENT
DTSTART;TZID=Asia/Bangkok:20251027T193000
DTEND;TZID=Asia/Bangkok:20251027T193000
DTSTAMP:20260425T215035
CREATED:20251017T034340Z
LAST-MODIFIED:20251017T034856Z
UID:10003785-1761593400-1761593400@thaibloodcentre.redcross.or.th
SUMMARY:สถานีกาชาดที่ 11 วิเศษนิยม สภากาชาดไทย [สถานีกาชาด 11 วิเศษนิยม]
DESCRIPTION:สถานที่เจาะ : 33/3 ถนนเพชรเกษม \nที่อยู่ : แขวงบางหว้า เขตภาษีเจริญ กรุงเทพฯ 0633450711
URL:https://thaibloodcentre.redcross.or.th/event/%e0%b8%aa%e0%b8%96%e0%b8%b2%e0%b8%99%e0%b8%b5%e0%b8%81%e0%b8%b2%e0%b8%8a%e0%b8%b2%e0%b8%94%e0%b8%97%e0%b8%b5%e0%b9%88-11-%e0%b8%a7%e0%b8%b4%e0%b9%80%e0%b8%a8%e0%b8%a9%e0%b8%99%e0%b8%b4%e0%b8%a2-9/
LOCATION:สถานีกาชาดที่ 11 วิเศษนิยม สภากาชาดไทย\, 605 ถ.เพชรเกษม แขวงบางหว้า เขตภาษีเจริญ กรุงเทพมหานคร 10160 0.35416666666667
CATEGORIES:ปฏิทินตารางหน่วยเคลื่อนที่
END:VEVENT
END:VCALENDAR