BEGIN:VCALENDAR
VERSION:2.0
PRODID:-//เว็บไซต์ศูนย์บริการโลหิตแห่งชาติ - ECPv6.11.2.1//NONSGML v1.0//EN
CALSCALE:GREGORIAN
METHOD:PUBLISH
X-ORIGINAL-URL:https://thaibloodcentre.redcross.or.th
X-WR-CALDESC:Events for เว็บไซต์ศูนย์บริการโลหิตแห่งชาติ
REFRESH-INTERVAL;VALUE=DURATION:PT1H
X-Robots-Tag:noindex
X-PUBLISHED-TTL:PT1H
BEGIN:VTIMEZONE
TZID:Asia/Bangkok
BEGIN:STANDARD
TZOFFSETFROM:+0700
TZOFFSETTO:+0700
TZNAME:+07
DTSTART:20250101T000000
END:STANDARD
END:VTIMEZONE
BEGIN:VEVENT
DTSTART;TZID=Asia/Bangkok:20251020T150000
DTEND;TZID=Asia/Bangkok:20251020T150000
DTSTAMP:20260425T195707
CREATED:20251014T070015Z
LAST-MODIFIED:20251014T070015Z
UID:10003712-1760972400-1760972400@thaibloodcentre.redcross.or.th
SUMMARY:หน่วยรับบริจาคโลหิต บ้านทรงไทย(ย่านวงศ์สว่าง) [บ้านทรงไทย (ย่านวงศ์สว่าง)]
DESCRIPTION:สถานที่เจาะ : 1423 ถนนกรุงเทพ – นนทบุรี \nที่อยู่ : แขวงวงศ์สว่าง เขตบางซื่อ กรุงเทพฯ 0 2256 4300
URL:https://thaibloodcentre.redcross.or.th/event/%e0%b8%ab%e0%b8%99%e0%b9%88%e0%b8%a7%e0%b8%a2%e0%b8%a3%e0%b8%b1%e0%b8%9a%e0%b8%9a%e0%b8%a3%e0%b8%b4%e0%b8%88%e0%b8%b2%e0%b8%84%e0%b9%82%e0%b8%a5%e0%b8%ab%e0%b8%b4%e0%b8%95-%e0%b8%9a%e0%b9%89-4/
LOCATION:หน่วยรับบริจาคโลหิต บ้านทรงไทย(ย่านวงศ์สว่าง)\, 1423 ถนนกรุงเทพ-นนทบุรี แขวงวงศ์สว่าง เขตบางซื่อ กรุงเทพมหานคร 10800 0.375
CATEGORIES:ปฏิทินตารางหน่วยเคลื่อนที่
END:VEVENT
BEGIN:VEVENT
DTSTART;TZID=Asia/Bangkok:20251020T150000
DTEND;TZID=Asia/Bangkok:20251020T150000
DTSTAMP:20260425T195707
CREATED:20251014T070023Z
LAST-MODIFIED:20251014T070023Z
UID:10003713-1760972400-1760972400@thaibloodcentre.redcross.or.th
SUMMARY:มาร์เก็ต วิลเลจ สุวรรณภูมิ [ศูนย์การค้า มาร์เก็ต วิลเลจ สุวรรณภูมิ]
DESCRIPTION:สถานที่เจาะ : 99/29 ม.1 \nที่อยู่ : ต.ราชาเทวะ อ.บางพลี จ.สมุทรปราการ 0 2115 1000
URL:https://thaibloodcentre.redcross.or.th/event/%e0%b8%a1%e0%b8%b2%e0%b8%a3%e0%b9%8c%e0%b9%80%e0%b8%81%e0%b9%87%e0%b8%95-%e0%b8%a7%e0%b8%b4%e0%b8%a5%e0%b9%80%e0%b8%a5%e0%b8%88-%e0%b8%aa%e0%b8%b8%e0%b8%a7%e0%b8%a3%e0%b8%a3%e0%b8%93%e0%b8%a0%e0%b8%b9/
LOCATION:มาร์เก็ต วิลเลจ สุวรรณภูมิ\, 99/29 ถ.เทพรัตน ต.บางพลีใหญ่ อ.บางพลี จ.สมุทรปราการ 10540 0.45833333333333
CATEGORIES:ปฏิทินตารางหน่วยเคลื่อนที่
END:VEVENT
BEGIN:VEVENT
DTSTART;TZID=Asia/Bangkok:20251020T150000
DTEND;TZID=Asia/Bangkok:20251020T150000
DTSTAMP:20260425T195707
CREATED:20251014T070026Z
LAST-MODIFIED:20251014T070026Z
UID:10003714-1760972400-1760972400@thaibloodcentre.redcross.or.th
SUMMARY:ศูนย์บริหารพื้นที่เขตปลอดอากรและคลังสินค้า [สำนักงานบริหารจัดการเขตปลอดอากร]
DESCRIPTION:สถานที่เจาะ : 999 ม. 7 อาคารสำนักงานเขตปลอดอากร \nที่อยู่ : ต.ราชาเทวะ อ.บางพลี จ.สมุทรปราการ 0 2132 9832
URL:https://thaibloodcentre.redcross.or.th/event/%e0%b8%a8%e0%b8%b9%e0%b8%99%e0%b8%a2%e0%b9%8c%e0%b8%9a%e0%b8%a3%e0%b8%b4%e0%b8%ab%e0%b8%b2%e0%b8%a3%e0%b8%9e%e0%b8%b7%e0%b9%89%e0%b8%99%e0%b8%97%e0%b8%b5%e0%b9%88%e0%b9%80%e0%b8%82%e0%b8%95%e0%b8%9b/
LOCATION:ศูนย์บริหารพื้นที่เขตปลอดอากรและคลังสินค้า\, 999 ม.7 ต.ราชาเทวะ อ.บางพลี จ.สมุทรปราการ 10540 0.375
CATEGORIES:ปฏิทินตารางหน่วยเคลื่อนที่
END:VEVENT
BEGIN:VEVENT
DTSTART;TZID=Asia/Bangkok:20251020T150000
DTEND;TZID=Asia/Bangkok:20251020T150000
DTSTAMP:20260425T195707
CREATED:20251014T070029Z
LAST-MODIFIED:20251014T070029Z
UID:10003715-1760972400-1760972400@thaibloodcentre.redcross.or.th
SUMMARY:บิ๊กซี รัตนาธิเบศร์ 2 [บิ๊กซี ซูเปอร์เซ็นเตอร์ สาขารัตนาธิเบศร์ 2]
DESCRIPTION:สถานที่เจาะ : 243 ถ.รัตนาธิเบศร์ \nที่อยู่ : ต.บางกระสอ อ.เมือง จ.นนทบุรี 0 2950 4888
URL:https://thaibloodcentre.redcross.or.th/event/%e0%b8%9a%e0%b8%b4%e0%b9%8a%e0%b8%81%e0%b8%8b%e0%b8%b5-%e0%b8%a3%e0%b8%b1%e0%b8%95%e0%b8%99%e0%b8%b2%e0%b8%98%e0%b8%b4%e0%b9%80%e0%b8%9a%e0%b8%a8%e0%b8%a3%e0%b9%8c-2-%e0%b8%9a%e0%b8%b4%e0%b9%8a/
LOCATION:บิ๊กซี รัตนาธิเบศร์ 2\, 243 ถ.รัตนาธิเบศร์ บางกระสอ อ.เมืองนนทบุรี จ.นนทบุรี 11000 0.45833333333333
CATEGORIES:ปฏิทินตารางหน่วยเคลื่อนที่
END:VEVENT
BEGIN:VEVENT
DTSTART;TZID=Asia/Bangkok:20251020T150000
DTEND;TZID=Asia/Bangkok:20251020T150000
DTSTAMP:20260425T195707
CREATED:20251014T070032Z
LAST-MODIFIED:20251014T070032Z
UID:10003716-1760972400-1760972400@thaibloodcentre.redcross.or.th
SUMMARY:กองสถานพักผ่อน กรมพลาธิการทหารบก [กองสถานพักผ่อน กรมพลาธิการทหารบก]
DESCRIPTION:สถานที่เจาะ : 164 ม. 2 ถ.สุขุมวิท \nที่อยู่ : ต.บางปูใหม่ อ.เมือง จ.สมุทรปราการ 0 2323 1213
URL:https://thaibloodcentre.redcross.or.th/event/%e0%b8%81%e0%b8%ad%e0%b8%87%e0%b8%aa%e0%b8%96%e0%b8%b2%e0%b8%99%e0%b8%9e%e0%b8%b1%e0%b8%81%e0%b8%9c%e0%b9%88%e0%b8%ad%e0%b8%99-%e0%b8%81%e0%b8%a3%e0%b8%a1%e0%b8%9e%e0%b8%a5%e0%b8%b2%e0%b8%98-2/
LOCATION:กองสถานพักผ่อน กรมพลาธิการทหารบก\, กองสถานพักผ่อน กรมพลาธิการทหารบก 164 ม.2 ถ.สุขุมวิทต.บางปูใหม่ อ.เมือง จ.สมุทรปราการ 10280
CATEGORIES:ปฏิทินตารางหน่วยเคลื่อนที่
END:VEVENT
BEGIN:VEVENT
DTSTART;TZID=Asia/Bangkok:20251020T150000
DTEND;TZID=Asia/Bangkok:20251020T150000
DTSTAMP:20260425T195707
CREATED:20251014T070035Z
LAST-MODIFIED:20251014T070035Z
UID:10003717-1760972400-1760972400@thaibloodcentre.redcross.or.th
SUMMARY:อาคารคิวเฮ้าส์ [ธนาคารอิสลามแห่งประเทศไทย]
DESCRIPTION:สถานที่เจาะ : 66 อาคารนวม ชั้น 21 ถนนสุขุมวิท 21 \nที่อยู่ : แขวงคลองเตยเหนือ เขตวัฒนา กรุงเทพฯ 0 2650 6999
URL:https://thaibloodcentre.redcross.or.th/event/%e0%b8%ad%e0%b8%b2%e0%b8%84%e0%b8%b2%e0%b8%a3%e0%b8%84%e0%b8%b4%e0%b8%a7%e0%b9%80%e0%b8%ae%e0%b9%89%e0%b8%b2%e0%b8%aa%e0%b9%8c-%e0%b8%98%e0%b8%99%e0%b8%b2%e0%b8%84%e0%b8%b2%e0%b8%a3%e0%b8%ad%e0%b8%b4/
LOCATION:อาคารคิวเฮ้าส์\, 66 ชั้น M\,21\,22 อาคารคิวเฮ้าส์ ถนนสุขุมวิท 21 แขวงคลองเตยเหนือ เขตวัฒนา กรุงเทพมหานคร 10110 0.375
CATEGORIES:ปฏิทินตารางหน่วยเคลื่อนที่
END:VEVENT
BEGIN:VEVENT
DTSTART;TZID=Asia/Bangkok:20251020T150000
DTEND;TZID=Asia/Bangkok:20251020T150000
DTSTAMP:20260425T195707
CREATED:20251014T070042Z
LAST-MODIFIED:20251014T070042Z
UID:10003718-1760972400-1760972400@thaibloodcentre.redcross.or.th
SUMMARY:บริษัท ทิปโก้ ทาวเวอร์ จำกัด [บริษัท ทิปโก้ ทาวเวอร์ จำกัด]
DESCRIPTION:สถานที่เจาะ : 118/1 ถนนพระราม 6 \nที่อยู่ : แขวงสามเสนใน เขตพญาไท กรุงเทพฯ 0 2273 6000
URL:https://thaibloodcentre.redcross.or.th/event/%e0%b8%9a%e0%b8%a3%e0%b8%b4%e0%b8%a9%e0%b8%b1%e0%b8%97-%e0%b8%97%e0%b8%b4%e0%b8%9b%e0%b9%82%e0%b8%81%e0%b9%89-%e0%b8%97%e0%b8%b2%e0%b8%a7%e0%b9%80%e0%b8%a7%e0%b8%ad%e0%b8%a3%e0%b9%8c-%e0%b8%88-3/
LOCATION:บริษัท ทิปโก้ ทาวเวอร์ จำกัด\, บริษัท ทิปโก้ ทาวเวอร์ จำกัด 118/1 ถนนพระรามที่ 6 แขวงพญาไท เขตพญาไท กรุงเทพมหานคร 10400
CATEGORIES:ปฏิทินตารางหน่วยเคลื่อนที่
END:VEVENT
BEGIN:VEVENT
DTSTART;TZID=Asia/Bangkok:20251020T150000
DTEND;TZID=Asia/Bangkok:20251020T150000
DTSTAMP:20260425T195707
CREATED:20251014T070044Z
LAST-MODIFIED:20251014T070044Z
UID:10003719-1760972400-1760972400@thaibloodcentre.redcross.or.th
SUMMARY:เซ็นทรัล บางนา [เซ็นทรัลพลาซา บางนา]
DESCRIPTION:สถานที่เจาะ : 1090 ถนนบางนา-ตราด \nที่อยู่ : แขวงบางนา เขตบางนา กรุงเทพฯ 0 2763 6000
URL:https://thaibloodcentre.redcross.or.th/event/%e0%b9%80%e0%b8%8b%e0%b9%87%e0%b8%99%e0%b8%97%e0%b8%a3%e0%b8%b1%e0%b8%a5-%e0%b8%9a%e0%b8%b2%e0%b8%87%e0%b8%99%e0%b8%b2-%e0%b9%80%e0%b8%8b%e0%b9%87%e0%b8%99%e0%b8%97%e0%b8%a3%e0%b8%b1%e0%b8%a5-2/
LOCATION:เซ็นทรัล บางนา\, ทางคู่ขนาน ถนนบางนา-ตราด แขวงบางนาเหนือ เขตบางนา กรุงเทพมหานคร 10260 0.45833333333333
CATEGORIES:ปฏิทินตารางหน่วยเคลื่อนที่
END:VEVENT
BEGIN:VEVENT
DTSTART;TZID=Asia/Bangkok:20251020T150000
DTEND;TZID=Asia/Bangkok:20251020T150000
DTSTAMP:20260425T195707
CREATED:20251014T070047Z
LAST-MODIFIED:20251014T070047Z
UID:10003720-1760972400-1760972400@thaibloodcentre.redcross.or.th
SUMMARY:เซ็นทรัลพลาซา เวสต์เกต [เซ็นทรัลพลาซา เวสต์เกต]
DESCRIPTION:สถานที่เจาะ : 199\,199/1\,199/2 ถ.กาญจนาภิเษก \nที่อยู่ : ต.เสาธงหิน อ.บางใหญ่ จ.นนทบุรี 0 2101 7999
URL:https://thaibloodcentre.redcross.or.th/event/%e0%b9%80%e0%b8%8b%e0%b9%87%e0%b8%99%e0%b8%97%e0%b8%a3%e0%b8%b1%e0%b8%a5%e0%b8%9e%e0%b8%a5%e0%b8%b2%e0%b8%8b%e0%b8%b2-%e0%b9%80%e0%b8%a7%e0%b8%aa%e0%b8%95%e0%b9%8c%e0%b9%80%e0%b8%81%e0%b8%95-4/
LOCATION:เซ็นทรัลพลาซา เวสต์เกต\, เซ็นทรัลพลาซา เวสต์เกต 199\, 199/1 199/2 ถ. กาญจนาภิเษก ตำบล เสาธงหิน อำเภอบางใหญ่ นนทบุรี 11140
CATEGORIES:ปฏิทินตารางหน่วยเคลื่อนที่
END:VEVENT
BEGIN:VEVENT
DTSTART;TZID=Asia/Bangkok:20251020T180000
DTEND;TZID=Asia/Bangkok:20251020T180000
DTSTAMP:20260425T195707
CREATED:20251014T065952Z
LAST-MODIFIED:20251014T065952Z
UID:10003706-1760983200-1760983200@thaibloodcentre.redcross.or.th
SUMMARY:เดอะมอลล์ไลฟ์สโตร์ บางแค [ศูนย์การค้าเดอะมอลล์ไลฟ์สโตร์ บางแค]
DESCRIPTION:สถานที่เจาะ : ถนนเพชรเกษม \nที่อยู่ : แขวงบางแคเหนือ เขตภาษีเจริญ กรุงเทพฯ 02 487 1221
URL:https://thaibloodcentre.redcross.or.th/event/%e0%b9%80%e0%b8%94%e0%b8%ad%e0%b8%b0%e0%b8%a1%e0%b8%ad%e0%b8%a5%e0%b8%a5%e0%b9%8c%e0%b9%84%e0%b8%a5%e0%b8%9f%e0%b9%8c%e0%b8%aa%e0%b9%82%e0%b8%95%e0%b8%a3%e0%b9%8c-%e0%b8%9a%e0%b8%b2%e0%b8%87-6/
LOCATION:เดอะมอลล์ไลฟ์สโตร์ บางแค\, 518 ถ.เพชรเกษม แขวงบางแคเหนือ เขตบางแค กรุงเทพมหานคร 10160 0.5
CATEGORIES:ปฏิทินตารางหน่วยเคลื่อนที่
END:VEVENT
BEGIN:VEVENT
DTSTART;TZID=Asia/Bangkok:20251020T180000
DTEND;TZID=Asia/Bangkok:20251020T180000
DTSTAMP:20260425T195707
CREATED:20251014T065955Z
LAST-MODIFIED:20251014T065955Z
UID:10003707-1760983200-1760983200@thaibloodcentre.redcross.or.th
SUMMARY:เดอะมอลล์ไลฟ์สโตร์ บางกะปิ [ศูนย์การค้าเดอะมอลล์ไลฟ์สโตร์ บางกะปิ]
DESCRIPTION:สถานที่เจาะ : ถนนลาดพร้าว \nที่อยู่ : แขวงคลองจั่น เขตบางกะปิ กรุงเทพฯ 0 2310 2278
URL:https://thaibloodcentre.redcross.or.th/event/%e0%b9%80%e0%b8%94%e0%b8%ad%e0%b8%b0%e0%b8%a1%e0%b8%ad%e0%b8%a5%e0%b8%a5%e0%b9%8c%e0%b9%84%e0%b8%a5%e0%b8%9f%e0%b9%8c%e0%b8%aa%e0%b9%82%e0%b8%95%e0%b8%a3%e0%b9%8c-%e0%b8%9a%e0%b8%b2%e0%b8%87-7/
LOCATION:เดอะมอลล์ไลฟ์สโตร์ บางกะปิ\, 3522 ถ. ลาดพร้าว แขวงคลองจั่น เขตบางกะปิ กรุงเทพมหานคร 10240 0.5
CATEGORIES:ปฏิทินตารางหน่วยเคลื่อนที่
END:VEVENT
BEGIN:VEVENT
DTSTART;TZID=Asia/Bangkok:20251020T180000
DTEND;TZID=Asia/Bangkok:20251020T180000
DTSTAMP:20260425T195707
CREATED:20251014T070003Z
LAST-MODIFIED:20251014T070003Z
UID:10003708-1760983200-1760983200@thaibloodcentre.redcross.or.th
SUMMARY:เดอะมอลล์ ไลฟ์สโตร์ งามวงศ์วาน [ศูนย์การค้าเดอะมอลล์ไลฟ์สโตร์ งามวงศ์วาน]
DESCRIPTION:สถานที่เจาะ : ถนนงามวงศ์วาน \nที่อยู่ : ต.บางเขน อ.เมือง จ.นนทบุรี 0 2555 1550
URL:https://thaibloodcentre.redcross.or.th/event/%e0%b9%80%e0%b8%94%e0%b8%ad%e0%b8%b0%e0%b8%a1%e0%b8%ad%e0%b8%a5%e0%b8%a5%e0%b9%8c-%e0%b9%84%e0%b8%a5%e0%b8%9f%e0%b9%8c%e0%b8%aa%e0%b9%82%e0%b8%95%e0%b8%a3%e0%b9%8c-%e0%b8%87%e0%b8%b2%e0%b8%a1-4/
LOCATION:เดอะมอลล์ ไลฟ์สโตร์ งามวงศ์วาน\, 430 ถนน งามวงศ์วาน ตำบลบางเขน อำเภอเมืองนนทบุรี นนทบุรี 11000 0.5
CATEGORIES:ปฏิทินตารางหน่วยเคลื่อนที่
END:VEVENT
BEGIN:VEVENT
DTSTART;TZID=Asia/Bangkok:20251020T180000
DTEND;TZID=Asia/Bangkok:20251020T180000
DTSTAMP:20260425T195707
CREATED:20251014T070006Z
LAST-MODIFIED:20251014T070006Z
UID:10003709-1760983200-1760983200@thaibloodcentre.redcross.or.th
SUMMARY:เอ็มโพเรียม [ศูนย์การค้า เอ็มโพเรียม]
DESCRIPTION:สถานที่เจาะ : 622 ถนนสุขุมวิท \nที่อยู่ : แขวงคลองตัน เขตคลองเตย กรุงเทพฯ 0 2269 1515
URL:https://thaibloodcentre.redcross.or.th/event/%e0%b9%80%e0%b8%ad%e0%b9%87%e0%b8%a1%e0%b9%82%e0%b8%9e%e0%b9%80%e0%b8%a3%e0%b8%b5%e0%b8%a2%e0%b8%a1-%e0%b8%a8%e0%b8%b9%e0%b8%99%e0%b8%a2%e0%b9%8c%e0%b8%81%e0%b8%b2%e0%b8%a3%e0%b8%84%e0%b9%89-4/
LOCATION:เอ็มโพเรียม\, 622 ถ. สุขุมวิท แขวงคลองตัน เขตคลองเตย กรุงเทพมหานคร 10110 0.5
CATEGORIES:ปฏิทินตารางหน่วยเคลื่อนที่
END:VEVENT
BEGIN:VEVENT
DTSTART;TZID=Asia/Bangkok:20251020T180000
DTEND;TZID=Asia/Bangkok:20251020T180000
DTSTAMP:20260425T195707
CREATED:20251014T070009Z
LAST-MODIFIED:20251014T070009Z
UID:10003710-1760983200-1760983200@thaibloodcentre.redcross.or.th
SUMMARY:เดอะมอลล์ไลฟ์สโตร์ ท่าพระ [ศูนย์การค้าเดอะมอลล์ไลฟ์สโตร์ ท่าพระ]
DESCRIPTION:สถานที่เจาะ : 99 ถนนรัชดาท่าพระตัดใหม่ \nที่อยู่ : แขวงบุคคโล เขตธนบุรี กรุงเทพฯ 0 2469-1000
URL:https://thaibloodcentre.redcross.or.th/event/%e0%b9%80%e0%b8%94%e0%b8%ad%e0%b8%b0%e0%b8%a1%e0%b8%ad%e0%b8%a5%e0%b8%a5%e0%b9%8c%e0%b9%84%e0%b8%a5%e0%b8%9f%e0%b9%8c%e0%b8%aa%e0%b9%82%e0%b8%95%e0%b8%a3%e0%b9%8c-%e0%b8%97%e0%b9%88%e0%b8%b2-4/
LOCATION:เดอะมอลล์ไลฟ์สโตร์ ท่าพระ\, 129 ถ. รัชดาภิเษก แขวงบุคคโล เขตธนบุรี กรุงเทพมหานคร 10600 0.5
CATEGORIES:ปฏิทินตารางหน่วยเคลื่อนที่
END:VEVENT
BEGIN:VEVENT
DTSTART;TZID=Asia/Bangkok:20251020T193000
DTEND;TZID=Asia/Bangkok:20251020T193000
DTSTAMP:20260425T195707
CREATED:20251014T065948Z
LAST-MODIFIED:20251014T065948Z
UID:10003705-1760988600-1760988600@thaibloodcentre.redcross.or.th
SUMMARY:ศูนย์บริการโลหิตแห่งชาติ สภากาชาดไทย [ศูนย์บริการโลหิตแห่งชาติ สภากาชาดไทย]
DESCRIPTION:สถานที่เจาะ : 1871 ถ. อังรีดูนังต์ แขวงปทุมวัน เขตปทุมวัน
URL:https://thaibloodcentre.redcross.or.th/event/%e0%b8%a8%e0%b8%b9%e0%b8%99%e0%b8%a2%e0%b9%8c%e0%b8%9a%e0%b8%a3%e0%b8%b4%e0%b8%81%e0%b8%b2%e0%b8%a3%e0%b9%82%e0%b8%a5%e0%b8%ab%e0%b8%b4%e0%b8%95%e0%b9%81%e0%b8%ab%e0%b9%88%e0%b8%87%e0%b8%8a-298/
LOCATION:ศูนย์บริการโลหิตแห่งชาติ สภากาชาดไทย\, ศูนย์บริการโลหิตแห่งชาติ สภากาชาดไทย 1871 ถ. อังรีดูนังต์ แขวงปทุมวัน เขตปทุมวัน กรุงเทพมหานคร 10330
CATEGORIES:ปฏิทินตารางหน่วยเคลื่อนที่
END:VEVENT
BEGIN:VEVENT
DTSTART;TZID=Asia/Bangkok:20251020T193000
DTEND;TZID=Asia/Bangkok:20251020T193000
DTSTAMP:20260425T195707
CREATED:20251014T070012Z
LAST-MODIFIED:20251014T070012Z
UID:10003711-1760988600-1760988600@thaibloodcentre.redcross.or.th
SUMMARY:สถานีกาชาดที่ 11 วิเศษนิยม สภากาชาดไทย [สถานีกาชาด 11 วิเศษนิยม]
DESCRIPTION:สถานที่เจาะ : 33/3 ถนนเพชรเกษม \nที่อยู่ : แขวงบางหว้า เขตภาษีเจริญ กรุงเทพฯ 0633450711
URL:https://thaibloodcentre.redcross.or.th/event/%e0%b8%aa%e0%b8%96%e0%b8%b2%e0%b8%99%e0%b8%b5%e0%b8%81%e0%b8%b2%e0%b8%8a%e0%b8%b2%e0%b8%94%e0%b8%97%e0%b8%b5%e0%b9%88-11-%e0%b8%a7%e0%b8%b4%e0%b9%80%e0%b8%a8%e0%b8%a9%e0%b8%99%e0%b8%b4%e0%b8%a2-4/
LOCATION:สถานีกาชาดที่ 11 วิเศษนิยม สภากาชาดไทย\, 605 ถ.เพชรเกษม แขวงบางหว้า เขตภาษีเจริญ กรุงเทพมหานคร 10160 0.35416666666667
CATEGORIES:ปฏิทินตารางหน่วยเคลื่อนที่
END:VEVENT
END:VCALENDAR