BEGIN:VCALENDAR
VERSION:2.0
PRODID:-//เว็บไซต์ศูนย์บริการโลหิตแห่งชาติ - ECPv6.11.2.1//NONSGML v1.0//EN
CALSCALE:GREGORIAN
METHOD:PUBLISH
X-ORIGINAL-URL:https://thaibloodcentre.redcross.or.th
X-WR-CALDESC:Events for เว็บไซต์ศูนย์บริการโลหิตแห่งชาติ
REFRESH-INTERVAL;VALUE=DURATION:PT1H
X-Robots-Tag:noindex
X-PUBLISHED-TTL:PT1H
BEGIN:VTIMEZONE
TZID:Asia/Bangkok
BEGIN:STANDARD
TZOFFSETFROM:+0700
TZOFFSETTO:+0700
TZNAME:+07
DTSTART:20250101T000000
END:STANDARD
END:VTIMEZONE
BEGIN:VEVENT
DTSTART;TZID=Asia/Bangkok:20251017T150000
DTEND;TZID=Asia/Bangkok:20251017T150000
DTSTAMP:20260425T195712
CREATED:20251014T061258Z
LAST-MODIFIED:20251014T061310Z
UID:10003674-1760713200-1760713200@thaibloodcentre.redcross.or.th
SUMMARY:หน่วยรับบริจาคโลหิต บ้านทรงไทย(ย่านวงศ์สว่าง) [บ้านทรงไทย (ย่านวงศ์สว่าง)]
DESCRIPTION:สถานที่เจาะ : 1423 ถนนกรุงเทพ – นนทบุรี \nที่อยู่ : แขวงวงศ์สว่าง เขตบางซื่อ กรุงเทพฯ 0 2256 4300
URL:https://thaibloodcentre.redcross.or.th/event/%e0%b8%ab%e0%b8%99%e0%b9%88%e0%b8%a7%e0%b8%a2%e0%b8%a3%e0%b8%b1%e0%b8%9a%e0%b8%9a%e0%b8%a3%e0%b8%b4%e0%b8%88%e0%b8%b2%e0%b8%84%e0%b9%82%e0%b8%a5%e0%b8%ab%e0%b8%b4%e0%b8%95-%e0%b8%9a%e0%b9%89%e0%b8%b2/
LOCATION:หน่วยรับบริจาคโลหิต บ้านทรงไทย(ย่านวงศ์สว่าง)\, 1423 ถนนกรุงเทพ-นนทบุรี แขวงวงศ์สว่าง เขตบางซื่อ กรุงเทพมหานคร 10800 0.375
CATEGORIES:ปฏิทินตารางหน่วยเคลื่อนที่
END:VEVENT
BEGIN:VEVENT
DTSTART;TZID=Asia/Bangkok:20251017T150000
DTEND;TZID=Asia/Bangkok:20251017T150000
DTSTAMP:20260425T195712
CREATED:20251014T061301Z
LAST-MODIFIED:20251014T061311Z
UID:10003675-1760713200-1760713200@thaibloodcentre.redcross.or.th
SUMMARY:บริษัท ไทยประกันชีวิต จำกัด (มหาชน) [บริษัท ไทยประกันชีวิต จำกัด (มหาชน)]
DESCRIPTION:สถานที่เจาะ : 123 อาคารไทยประกันชีวิต ถนนรัชดาภิเษก \nที่อยู่ : แขวงดินแดง เขตดินแดง กรุงเทพฯ
URL:https://thaibloodcentre.redcross.or.th/event/%e0%b8%9a%e0%b8%a3%e0%b8%b4%e0%b8%a9%e0%b8%b1%e0%b8%97-%e0%b9%84%e0%b8%97%e0%b8%a2%e0%b8%9b%e0%b8%a3%e0%b8%b0%e0%b8%81%e0%b8%b1%e0%b8%99%e0%b8%8a%e0%b8%b5%e0%b8%a7%e0%b8%b4%e0%b8%95-%e0%b8%88-17/
LOCATION:บริษัท ไทยประกันชีวิต จำกัด (มหาชน)\, บริษัท ไทยประกันชีวิต จำกัด (มหาชน) ไทยประกันชีวิต 123 ถ. รัชดาภิเษก แขวงดินแดง เขตดินแดง กรุงเทพมหานคร 10400
CATEGORIES:ปฏิทินตารางหน่วยเคลื่อนที่
END:VEVENT
BEGIN:VEVENT
DTSTART;TZID=Asia/Bangkok:20251017T150000
DTEND;TZID=Asia/Bangkok:20251017T150000
DTSTAMP:20260425T195712
CREATED:20251014T061322Z
LAST-MODIFIED:20251014T061322Z
UID:10003677-1760713200-1760713200@thaibloodcentre.redcross.or.th
SUMMARY:ศูนย์ราชการฯ แจ้งวัฒนะ [บริษัท ธนารักษ์พัฒนาสินทรัพย์ จำกัด]
DESCRIPTION:สถานที่เจาะ : 120 ชั้น 1 อาคารศูนย์ประชุมฯ ถนนแจ้งวัฒนะ 7 \nที่อยู่ : แขวงทุ่งสองห้อง  เขตหลักสี่ กรุงเทพฯ 0 2142 2204
URL:https://thaibloodcentre.redcross.or.th/event/%e0%b8%a8%e0%b8%b9%e0%b8%99%e0%b8%a2%e0%b9%8c%e0%b8%a3%e0%b8%b2%e0%b8%8a%e0%b8%81%e0%b8%b2%e0%b8%a3%e0%b8%af-%e0%b9%81%e0%b8%88%e0%b9%89%e0%b8%87%e0%b8%a7%e0%b8%b1%e0%b8%92%e0%b8%99%e0%b8%b0/
LOCATION:ศูนย์ราชการฯ แจ้งวัฒนะ\, 120 หมู่ที่ 3 ถนนแจ้งวัฒนะ แขวงทุ่งสองห้อง เขตหลักสี่ กรุงเทพมหานคร 10210 0.375
CATEGORIES:ปฏิทินตารางหน่วยเคลื่อนที่
END:VEVENT
BEGIN:VEVENT
DTSTART;TZID=Asia/Bangkok:20251017T150000
DTEND;TZID=Asia/Bangkok:20251017T150000
DTSTAMP:20260425T195712
CREATED:20251014T061325Z
LAST-MODIFIED:20251014T061325Z
UID:10003678-1760713200-1760713200@thaibloodcentre.redcross.or.th
SUMMARY:บริษัท ธนิยะ จำกัด [บริษัท ธนิยะ จำกัด]
DESCRIPTION:สถานที่เจาะ : 52 ถนนสีลม \nที่อยู่ : แขวงสุริยวงศ์ เขตบางรัก กรุงเทพฯ 0 2231 2294
URL:https://thaibloodcentre.redcross.or.th/event/%e0%b8%9a%e0%b8%a3%e0%b8%b4%e0%b8%a9%e0%b8%b1%e0%b8%97-%e0%b8%98%e0%b8%99%e0%b8%b4%e0%b8%a2%e0%b8%b0-%e0%b8%88%e0%b8%b3%e0%b8%81%e0%b8%b1%e0%b8%94-%e0%b8%9a%e0%b8%a3%e0%b8%b4%e0%b8%a9%e0%b8%b1/
LOCATION:บริษัท ธนิยะ จำกัด\, บริษัท ธนิยะ จำกัด 52 ถนนสีลม แขวงสุริยวงศ์ เขตบางรัก กรุงเทพมหานคร 10500
CATEGORIES:ปฏิทินตารางหน่วยเคลื่อนที่
END:VEVENT
BEGIN:VEVENT
DTSTART;TZID=Asia/Bangkok:20251017T150000
DTEND;TZID=Asia/Bangkok:20251017T150000
DTSTAMP:20260425T195712
CREATED:20251014T061327Z
LAST-MODIFIED:20251014T061327Z
UID:10003679-1760713200-1760713200@thaibloodcentre.redcross.or.th
SUMMARY:บริษัท รสา ทาวเวอร์ จำกัด [บริษัท รสา ทาวเวอร์ จำกัด]
DESCRIPTION:สถานที่เจาะ : 555 ชั้น G อาคารรสาทาวเวอร์ ถนนพหลโยธิน \nที่อยู่ : แขวงจตุจักร เขตจตุจักร กรุงเทพฯ 0 2937 0000
URL:https://thaibloodcentre.redcross.or.th/event/%e0%b8%9a%e0%b8%a3%e0%b8%b4%e0%b8%a9%e0%b8%b1%e0%b8%97-%e0%b8%a3%e0%b8%aa%e0%b8%b2-%e0%b8%97%e0%b8%b2%e0%b8%a7%e0%b9%80%e0%b8%a7%e0%b8%ad%e0%b8%a3%e0%b9%8c-%e0%b8%88%e0%b8%b3%e0%b8%81%e0%b8%b1-3/
LOCATION:บริษัท รสา ทาวเวอร์ จำกัด\, บริษัท รสา ทาวเวอร์ จำกัด 555 ถนนพหลโยธิน แขวงจตุจักร เขตจตุจักร กรุงเทพมหานคร 10900
CATEGORIES:ปฏิทินตารางหน่วยเคลื่อนที่
END:VEVENT
BEGIN:VEVENT
DTSTART;TZID=Asia/Bangkok:20251017T150000
DTEND;TZID=Asia/Bangkok:20251017T150000
DTSTAMP:20260425T195712
CREATED:20251014T061330Z
LAST-MODIFIED:20251014T061330Z
UID:10003680-1760713200-1760713200@thaibloodcentre.redcross.or.th
SUMMARY:โรงพยาบาลคณะทันตแพทยศาสตร์ จุฬาลงกรณ์มหาวิทยาลัย [คณะทันตแพทยศาสตร์ จุฬาลงกรณ์มหาวิทยาลัย]
DESCRIPTION:สถานที่เจาะ : 34 ถนนอังรีดูนังต์ \nที่อยู่ : แขวงวังใหม่ เขตปทุมวัน กรุงเทพฯ
URL:https://thaibloodcentre.redcross.or.th/event/%e0%b9%82%e0%b8%a3%e0%b8%87%e0%b8%9e%e0%b8%a2%e0%b8%b2%e0%b8%9a%e0%b8%b2%e0%b8%a5%e0%b8%84%e0%b8%93%e0%b8%b0%e0%b8%97%e0%b8%b1%e0%b8%99%e0%b8%95%e0%b9%81%e0%b8%9e%e0%b8%97%e0%b8%a2%e0%b8%a8%e0%b8%b2/
LOCATION:โรงพยาบาลคณะทันตแพทยศาสตร์ จุฬาลงกรณ์มหาวิทยาลัย\, 34 ถนนอังรีดูนังต์ แขวงวังใหม่ เขตปทุมวัน กรุงเทพมหานคร 10330 0.375
CATEGORIES:ปฏิทินตารางหน่วยเคลื่อนที่
END:VEVENT
BEGIN:VEVENT
DTSTART;TZID=Asia/Bangkok:20251017T180000
DTEND;TZID=Asia/Bangkok:20251017T180000
DTSTAMP:20260425T195712
CREATED:20251014T061236Z
LAST-MODIFIED:20251014T061236Z
UID:10003668-1760724000-1760724000@thaibloodcentre.redcross.or.th
SUMMARY:เดอะมอลล์ไลฟ์สโตร์ บางแค [ศูนย์การค้าเดอะมอลล์ไลฟ์สโตร์ บางแค]
DESCRIPTION:สถานที่เจาะ : ถนนเพชรเกษม \nที่อยู่ : แขวงบางแคเหนือ เขตภาษีเจริญ กรุงเทพฯ 02 487 1221
URL:https://thaibloodcentre.redcross.or.th/event/%e0%b9%80%e0%b8%94%e0%b8%ad%e0%b8%b0%e0%b8%a1%e0%b8%ad%e0%b8%a5%e0%b8%a5%e0%b9%8c%e0%b9%84%e0%b8%a5%e0%b8%9f%e0%b9%8c%e0%b8%aa%e0%b9%82%e0%b8%95%e0%b8%a3%e0%b9%8c-%e0%b8%9a%e0%b8%b2%e0%b8%87%e0%b9%81/
LOCATION:เดอะมอลล์ไลฟ์สโตร์ บางแค\, 518 ถ.เพชรเกษม แขวงบางแคเหนือ เขตบางแค กรุงเทพมหานคร 10160 0.5
CATEGORIES:ปฏิทินตารางหน่วยเคลื่อนที่
END:VEVENT
BEGIN:VEVENT
DTSTART;TZID=Asia/Bangkok:20251017T180000
DTEND;TZID=Asia/Bangkok:20251017T180000
DTSTAMP:20260425T195712
CREATED:20251014T061239Z
LAST-MODIFIED:20251014T061239Z
UID:10003669-1760724000-1760724000@thaibloodcentre.redcross.or.th
SUMMARY:เดอะมอลล์ไลฟ์สโตร์ บางกะปิ [ศูนย์การค้าเดอะมอลล์ไลฟ์สโตร์ บางกะปิ]
DESCRIPTION:สถานที่เจาะ : ถนนลาดพร้าว \nที่อยู่ : แขวงคลองจั่น เขตบางกะปิ กรุงเทพฯ 0 2310 2278
URL:https://thaibloodcentre.redcross.or.th/event/%e0%b9%80%e0%b8%94%e0%b8%ad%e0%b8%b0%e0%b8%a1%e0%b8%ad%e0%b8%a5%e0%b8%a5%e0%b9%8c%e0%b9%84%e0%b8%a5%e0%b8%9f%e0%b9%8c%e0%b8%aa%e0%b9%82%e0%b8%95%e0%b8%a3%e0%b9%8c-%e0%b8%9a%e0%b8%b2%e0%b8%87%e0%b8%81/
LOCATION:เดอะมอลล์ไลฟ์สโตร์ บางกะปิ\, 3522 ถ. ลาดพร้าว แขวงคลองจั่น เขตบางกะปิ กรุงเทพมหานคร 10240 0.5
CATEGORIES:ปฏิทินตารางหน่วยเคลื่อนที่
END:VEVENT
BEGIN:VEVENT
DTSTART;TZID=Asia/Bangkok:20251017T180000
DTEND;TZID=Asia/Bangkok:20251017T180000
DTSTAMP:20260425T195712
CREATED:20251014T061243Z
LAST-MODIFIED:20251014T061243Z
UID:10003670-1760724000-1760724000@thaibloodcentre.redcross.or.th
SUMMARY:เดอะมอลล์ ไลฟ์สโตร์ งามวงศ์วาน [ศูนย์การค้าเดอะมอลล์ไลฟ์สโตร์ งามวงศ์วาน]
DESCRIPTION:สถานที่เจาะ : ถนนงามวงศ์วาน \nที่อยู่ : ต.บางเขน อ.เมือง จ.นนทบุรี 0 2555 1550
URL:https://thaibloodcentre.redcross.or.th/event/%e0%b9%80%e0%b8%94%e0%b8%ad%e0%b8%b0%e0%b8%a1%e0%b8%ad%e0%b8%a5%e0%b8%a5%e0%b9%8c-%e0%b9%84%e0%b8%a5%e0%b8%9f%e0%b9%8c%e0%b8%aa%e0%b9%82%e0%b8%95%e0%b8%a3%e0%b9%8c-%e0%b8%87%e0%b8%b2%e0%b8%a1%e0%b8%a7/
LOCATION:เดอะมอลล์ ไลฟ์สโตร์ งามวงศ์วาน\, 430 ถนน งามวงศ์วาน ตำบลบางเขน อำเภอเมืองนนทบุรี นนทบุรี 11000 0.5
CATEGORIES:ปฏิทินตารางหน่วยเคลื่อนที่
END:VEVENT
BEGIN:VEVENT
DTSTART;TZID=Asia/Bangkok:20251017T180000
DTEND;TZID=Asia/Bangkok:20251017T180000
DTSTAMP:20260425T195712
CREATED:20251014T061246Z
LAST-MODIFIED:20251014T061246Z
UID:10003671-1760724000-1760724000@thaibloodcentre.redcross.or.th
SUMMARY:เอ็มโพเรียม [ศูนย์การค้า เอ็มโพเรียม]
DESCRIPTION:สถานที่เจาะ : 622 ถนนสุขุมวิท \nที่อยู่ : แขวงคลองตัน เขตคลองเตย กรุงเทพฯ 0 2269 1515
URL:https://thaibloodcentre.redcross.or.th/event/%e0%b9%80%e0%b8%ad%e0%b9%87%e0%b8%a1%e0%b9%82%e0%b8%9e%e0%b9%80%e0%b8%a3%e0%b8%b5%e0%b8%a2%e0%b8%a1-%e0%b8%a8%e0%b8%b9%e0%b8%99%e0%b8%a2%e0%b9%8c%e0%b8%81%e0%b8%b2%e0%b8%a3%e0%b8%84%e0%b9%89%e0%b8%b2/
LOCATION:เอ็มโพเรียม\, 622 ถ. สุขุมวิท แขวงคลองตัน เขตคลองเตย กรุงเทพมหานคร 10110 0.5
CATEGORIES:ปฏิทินตารางหน่วยเคลื่อนที่
END:VEVENT
BEGIN:VEVENT
DTSTART;TZID=Asia/Bangkok:20251017T180000
DTEND;TZID=Asia/Bangkok:20251017T180000
DTSTAMP:20260425T195712
CREATED:20251014T061252Z
LAST-MODIFIED:20251014T061308Z
UID:10003672-1760724000-1760724000@thaibloodcentre.redcross.or.th
SUMMARY:เดอะมอลล์ไลฟ์สโตร์ ท่าพระ [ศูนย์การค้าเดอะมอลล์ไลฟ์สโตร์ ท่าพระ]
DESCRIPTION:สถานที่เจาะ : 99 ถนนรัชดาท่าพระตัดใหม่ \nที่อยู่ : แขวงบุคคโล เขตธนบุรี กรุงเทพฯ 0 2469-1000
URL:https://thaibloodcentre.redcross.or.th/event/%e0%b9%80%e0%b8%94%e0%b8%ad%e0%b8%b0%e0%b8%a1%e0%b8%ad%e0%b8%a5%e0%b8%a5%e0%b9%8c%e0%b9%84%e0%b8%a5%e0%b8%9f%e0%b9%8c%e0%b8%aa%e0%b9%82%e0%b8%95%e0%b8%a3%e0%b9%8c-%e0%b8%97%e0%b9%88%e0%b8%b2%e0%b8%9e/
LOCATION:เดอะมอลล์ไลฟ์สโตร์ ท่าพระ\, 129 ถ. รัชดาภิเษก แขวงบุคคโล เขตธนบุรี กรุงเทพมหานคร 10600 0.5
CATEGORIES:ปฏิทินตารางหน่วยเคลื่อนที่
END:VEVENT
BEGIN:VEVENT
DTSTART;TZID=Asia/Bangkok:20251017T193000
DTEND;TZID=Asia/Bangkok:20251017T193000
DTSTAMP:20260425T195712
CREATED:20251014T061232Z
LAST-MODIFIED:20251014T061232Z
UID:10003667-1760729400-1760729400@thaibloodcentre.redcross.or.th
SUMMARY:ศูนย์บริการโลหิตแห่งชาติ สภากาชาดไทย [ศูนย์บริการโลหิตแห่งชาติ สภากาชาดไทย]
DESCRIPTION:สถานที่เจาะ : 1871 ถ. อังรีดูนังต์ แขวงปทุมวัน เขตปทุมวัน
URL:https://thaibloodcentre.redcross.or.th/event/%e0%b8%a8%e0%b8%b9%e0%b8%99%e0%b8%a2%e0%b9%8c%e0%b8%9a%e0%b8%a3%e0%b8%b4%e0%b8%81%e0%b8%b2%e0%b8%a3%e0%b9%82%e0%b8%a5%e0%b8%ab%e0%b8%b4%e0%b8%95%e0%b9%81%e0%b8%ab%e0%b9%88%e0%b8%87%e0%b8%8a-295/
LOCATION:ศูนย์บริการโลหิตแห่งชาติ สภากาชาดไทย\, ศูนย์บริการโลหิตแห่งชาติ สภากาชาดไทย 1871 ถ. อังรีดูนังต์ แขวงปทุมวัน เขตปทุมวัน กรุงเทพมหานคร 10330
CATEGORIES:ปฏิทินตารางหน่วยเคลื่อนที่
END:VEVENT
BEGIN:VEVENT
DTSTART;TZID=Asia/Bangkok:20251017T193000
DTEND;TZID=Asia/Bangkok:20251017T193000
DTSTAMP:20260425T195712
CREATED:20251014T061255Z
LAST-MODIFIED:20251014T061309Z
UID:10003673-1760729400-1760729400@thaibloodcentre.redcross.or.th
SUMMARY:สถานีกาชาดที่ 11 วิเศษนิยม สภากาชาดไทย [สถานีกาชาด 11 วิเศษนิยม]
DESCRIPTION:สถานที่เจาะ : 33/3 ถนนเพชรเกษม \nที่อยู่ : แขวงบางหว้า เขตภาษีเจริญ กรุงเทพฯ 0633450711
URL:https://thaibloodcentre.redcross.or.th/event/%e0%b8%aa%e0%b8%96%e0%b8%b2%e0%b8%99%e0%b8%b5%e0%b8%81%e0%b8%b2%e0%b8%8a%e0%b8%b2%e0%b8%94%e0%b8%97%e0%b8%b5%e0%b9%88-11-%e0%b8%a7%e0%b8%b4%e0%b9%80%e0%b8%a8%e0%b8%a9%e0%b8%99%e0%b8%b4%e0%b8%a2/
LOCATION:สถานีกาชาดที่ 11 วิเศษนิยม สภากาชาดไทย\, 605 ถ.เพชรเกษม แขวงบางหว้า เขตภาษีเจริญ กรุงเทพมหานคร 10160 0.35416666666667
CATEGORIES:ปฏิทินตารางหน่วยเคลื่อนที่
END:VEVENT
END:VCALENDAR