BEGIN:VCALENDAR
VERSION:2.0
PRODID:-//เว็บไซต์ศูนย์บริการโลหิตแห่งชาติ - ECPv6.11.2.1//NONSGML v1.0//EN
CALSCALE:GREGORIAN
METHOD:PUBLISH
X-WR-CALNAME:เว็บไซต์ศูนย์บริการโลหิตแห่งชาติ
X-ORIGINAL-URL:https://thaibloodcentre.redcross.or.th
X-WR-CALDESC:Events for เว็บไซต์ศูนย์บริการโลหิตแห่งชาติ
REFRESH-INTERVAL;VALUE=DURATION:PT1H
X-Robots-Tag:noindex
X-PUBLISHED-TTL:PT1H
BEGIN:VTIMEZONE
TZID:Asia/Bangkok
BEGIN:STANDARD
TZOFFSETFROM:+0700
TZOFFSETTO:+0700
TZNAME:+07
DTSTART:20250101T000000
END:STANDARD
END:VTIMEZONE
BEGIN:VEVENT
DTSTART;TZID=Asia/Bangkok:20251015T073000
DTEND;TZID=Asia/Bangkok:20251015T193000
DTSTAMP:20260425T232416
CREATED:20251003T101808Z
LAST-MODIFIED:20251003T101808Z
UID:10003634-1760513400-1760556600@thaibloodcentre.redcross.or.th
SUMMARY:ศูนย์บริการโลหิตแห่งชาติ สภากาชาดไทย [0A0000]
DESCRIPTION:ที่อยู่ : 1871 ถ. อังรีดูนังต์ แขวงปทุมวัน เขตปทุมวัน
URL:https://thaibloodcentre.redcross.or.th/event/%e0%b8%a8%e0%b8%b9%e0%b8%99%e0%b8%a2%e0%b9%8c%e0%b8%9a%e0%b8%a3%e0%b8%b4%e0%b8%81%e0%b8%b2%e0%b8%a3%e0%b9%82%e0%b8%a5%e0%b8%ab%e0%b8%b4%e0%b8%95%e0%b9%81%e0%b8%ab%e0%b9%88%e0%b8%87%e0%b8%8a-293/
LOCATION:ศูนย์บริการโลหิตแห่งชาติ สภากาชาดไทย\, ศูนย์บริการโลหิตแห่งชาติ สภากาชาดไทย 1871 ถ. อังรีดูนังต์ แขวงปทุมวัน เขตปทุมวัน กรุงเทพมหานคร 10330
CATEGORIES:ปฏิทินตารางหน่วยเคลื่อนที่
END:VEVENT
BEGIN:VEVENT
DTSTART;TZID=Asia/Bangkok:20251015T083000
DTEND;TZID=Asia/Bangkok:20251015T193000
DTSTAMP:20260425T232416
CREATED:20251003T101851Z
LAST-MODIFIED:20251003T101851Z
UID:10003640-1760517000-1760556600@thaibloodcentre.redcross.or.th
SUMMARY:สถานีกาชาด 11 วิเศษนิยม [0D0200]
DESCRIPTION:สถานที่เจาะ : ชั้น 3 \nที่อยู่ : 33/3 ถนนเพชรเกษม แขวงบางหว้า เขตภาษีเจริญ กรุงเทพฯ 0633450711
URL:https://thaibloodcentre.redcross.or.th/event/%e0%b8%aa%e0%b8%96%e0%b8%b2%e0%b8%99%e0%b8%b5%e0%b8%81%e0%b8%b2%e0%b8%8a%e0%b8%b2%e0%b8%94-11-%e0%b8%a7%e0%b8%b4%e0%b9%80%e0%b8%a8%e0%b8%a9%e0%b8%99%e0%b8%b4%e0%b8%a2%e0%b8%a1-0d0200-154/
LOCATION:สถานีกาชาด 11 วิเศษนิยม\, สถานีกาชาด 11 วิเศษนิยม 605 ถ.เพชรเกษม แขวงบางหว้า เขตภาษีเจริญ กรุงเทพมหานคร 10160
CATEGORIES:ปฏิทินตารางหน่วยเคลื่อนที่
END:VEVENT
BEGIN:VEVENT
DTSTART;TZID=Asia/Bangkok:20251015T090000
DTEND;TZID=Asia/Bangkok:20251015T120000
DTSTAMP:20260425T232416
CREATED:20251003T101917Z
LAST-MODIFIED:20251003T101917Z
UID:10003645-1760518800-1760529600@thaibloodcentre.redcross.or.th
SUMMARY:บริษัท ไทยประกันชีวิต จำกัด (มหาชน) สาขารัตนาธิเบศร์ [0M0485]
DESCRIPTION:สถานที่เจาะ : หน้าอาคาร \nที่อยู่ : 99/999 ม.8 ถ.รัตนาธิเบศร์ ต.บางกระสอ อ.เมือง จ.นนทบุรี 0 2965 6999
URL:https://thaibloodcentre.redcross.or.th/event/%e0%b8%9a%e0%b8%a3%e0%b8%b4%e0%b8%a9%e0%b8%b1%e0%b8%97-%e0%b9%84%e0%b8%97%e0%b8%a2%e0%b8%9b%e0%b8%a3%e0%b8%b0%e0%b8%81%e0%b8%b1%e0%b8%99%e0%b8%8a%e0%b8%b5%e0%b8%a7%e0%b8%b4%e0%b8%95-%e0%b8%88-15/
LOCATION:บริษัท ไทยประกันชีวิต จำกัด (มหาชน) สาขารัตนาธิเบศร์\, บริษัท ไทยประกันชีวิต จำกัด (มหาชน) สาขารัตนาธิเบศร์ 99/999 หมู่ 8 ถนนรัตนาธิเบศร์ ตำบลบางกระสอ อำเภอเมืองนนทบุรี จังหวัดนนทบุรี 11000
CATEGORIES:ปฏิทินตารางหน่วยเคลื่อนที่
END:VEVENT
BEGIN:VEVENT
DTSTART;TZID=Asia/Bangkok:20251015T090000
DTEND;TZID=Asia/Bangkok:20251015T150000
DTSTAMP:20260425T232416
CREATED:20251003T101854Z
LAST-MODIFIED:20251003T101854Z
UID:10003641-1760518800-1760540400@thaibloodcentre.redcross.or.th
SUMMARY:บ้านทรงไทย (ย่านวงศ์สว่าง) [0J0463]
DESCRIPTION:สถานที่เจาะ : (พัก 12-13 น.) \nที่อยู่ : 1423 ถนนกรุงเทพ – นนทบุรี แขวงวงศ์สว่าง เขตบางซื่อ กรุงเทพฯ 0 2256 4300
URL:https://thaibloodcentre.redcross.or.th/event/%e0%b8%9a%e0%b9%89%e0%b8%b2%e0%b8%99%e0%b8%97%e0%b8%a3%e0%b8%87%e0%b9%84%e0%b8%97%e0%b8%a2-%e0%b8%a2%e0%b9%88%e0%b8%b2%e0%b8%99%e0%b8%a7%e0%b8%87%e0%b8%a8%e0%b9%8c%e0%b8%aa%e0%b8%a7%e0%b9%88-238/
LOCATION:บ้านทรงไทย (ย่านวงศ์สว่าง)\, หน่วยรับบริจาคโลหิต บ้านทรงไทย(ย่านวงศ์สว่าง) 1423 ถนนกรุงเทพ-นนทบุรี แขวงวงศ์สว่าง เขตบางซื่อ กรุงเทพมหานคร 10800
CATEGORIES:ปฏิทินตารางหน่วยเคลื่อนที่
END:VEVENT
BEGIN:VEVENT
DTSTART;TZID=Asia/Bangkok:20251015T090000
DTEND;TZID=Asia/Bangkok:20251015T150000
DTSTAMP:20260425T232416
CREATED:20251003T101858Z
LAST-MODIFIED:20251003T101858Z
UID:10003642-1760518800-1760540400@thaibloodcentre.redcross.or.th
SUMMARY:บริษัท ธนารักษ์พัฒนาสินทรัพย์ จำกัด [0M0535]
DESCRIPTION:สถานที่เจาะ : ประตู N4 อาคาร C ชั้น 2 (พัก 11-12 น.) \nที่อยู่ : 120 ชั้น 1 อาคารศูนย์ประชุมฯ ถนนแจ้งวัฒนะ 7 แขวงทุ่งสองห้อง  เขตหลักสี่ กรุงเทพฯ 0 2142 2204
URL:https://thaibloodcentre.redcross.or.th/event/%e0%b8%9a%e0%b8%a3%e0%b8%b4%e0%b8%a9%e0%b8%b1%e0%b8%97-%e0%b8%98%e0%b8%99%e0%b8%b2%e0%b8%a3%e0%b8%b1%e0%b8%81%e0%b8%a9%e0%b9%8c%e0%b8%9e%e0%b8%b1%e0%b8%92%e0%b8%99%e0%b8%b2%e0%b8%aa%e0%b8%b4-10/
LOCATION:บริษัท ธนารักษ์พัฒนาสินทรัพย์ จำกัด\, ศูนย์ราชการฯ แจ้งวัฒนะ 120 หมู่ที่ 3 ถนนแจ้งวัฒนะ แขวงทุ่งสองห้อง เขตหลักสี่ กรุงเทพมหานคร 10210
CATEGORIES:ปฏิทินตารางหน่วยเคลื่อนที่
END:VEVENT
BEGIN:VEVENT
DTSTART;TZID=Asia/Bangkok:20251015T090000
DTEND;TZID=Asia/Bangkok:20251015T150000
DTSTAMP:20260425T232416
CREATED:20251003T101915Z
LAST-MODIFIED:20251003T101915Z
UID:10003644-1760518800-1760540400@thaibloodcentre.redcross.or.th
SUMMARY:บริษัท ไทยประกันชีวิต จำกัด (มหาชน) [0E0132]
DESCRIPTION:สถานที่เจาะ : ชั้น 1 ตรงข้ามไปรษณีย์ (พัก 11.30-12.30 น.) \nที่อยู่ : 123 อาคารไทยประกันชีวิต ถนนรัชดาภิเษก แขวงดินแดง เขตดินแดง กรุงเทพฯ
URL:https://thaibloodcentre.redcross.or.th/event/%e0%b8%9a%e0%b8%a3%e0%b8%b4%e0%b8%a9%e0%b8%b1%e0%b8%97-%e0%b9%84%e0%b8%97%e0%b8%a2%e0%b8%9b%e0%b8%a3%e0%b8%b0%e0%b8%81%e0%b8%b1%e0%b8%99%e0%b8%8a%e0%b8%b5%e0%b8%a7%e0%b8%b4%e0%b8%95-%e0%b8%88-14/
LOCATION:บริษัท ไทยประกันชีวิต จำกัด (มหาชน)\, บริษัท ไทยประกันชีวิต จำกัด (มหาชน) ไทยประกันชีวิต 123 ถ. รัชดาภิเษก แขวงดินแดง เขตดินแดง กรุงเทพมหานคร 10400
CATEGORIES:ปฏิทินตารางหน่วยเคลื่อนที่
END:VEVENT
BEGIN:VEVENT
DTSTART;TZID=Asia/Bangkok:20251015T090000
DTEND;TZID=Asia/Bangkok:20251015T150000
DTSTAMP:20260425T232416
CREATED:20251003T101922Z
LAST-MODIFIED:20251003T101922Z
UID:10003647-1760518800-1760540400@thaibloodcentre.redcross.or.th
SUMMARY:โรงเรียนร่วมฤดีวิเทศศึกษา [0B0359]
DESCRIPTION:สถานที่เจาะ : ห้อง Nest ชั้น 2 ของโรงอาหาร (พัก 12-13 น.) \nที่อยู่ : 6 ถนนรามคำแหง 184 แขวงสุขาภิบาล 3 เขตมีนบุรี กรุงเทพฯ 0 2791 8900
URL:https://thaibloodcentre.redcross.or.th/event/%e0%b9%82%e0%b8%a3%e0%b8%87%e0%b9%80%e0%b8%a3%e0%b8%b5%e0%b8%a2%e0%b8%99%e0%b8%a3%e0%b9%88%e0%b8%a7%e0%b8%a1%e0%b8%a4%e0%b8%94%e0%b8%b5%e0%b8%a7%e0%b8%b4%e0%b9%80%e0%b8%97%e0%b8%a8%e0%b8%a8%e0%b8%b6-2/
LOCATION:โรงเรียนร่วมฤดีวิเทศศึกษา\, โรงเรียนร่วมฤดีวิเทศศึกษา มีนบุรี 6 ซอยรามคำแหง 184 แขวงมีนบุรี เขตมีนบุรี กรุงเทพมหานคร 10510
CATEGORIES:ปฏิทินตารางหน่วยเคลื่อนที่
END:VEVENT
BEGIN:VEVENT
DTSTART;TZID=Asia/Bangkok:20251015T090000
DTEND;TZID=Asia/Bangkok:20251015T150000
DTSTAMP:20260425T232416
CREATED:20251003T101925Z
LAST-MODIFIED:20251003T101925Z
UID:10003648-1760518800-1760540400@thaibloodcentre.redcross.or.th
SUMMARY:บริษัท ไดกิ้นอินดัสทรีส์ (ประเทศไทย) จำกัด [0M0286]
DESCRIPTION:สถานที่เจาะ : VIP Canteen \nที่อยู่ : 700/11 ม.1 นิคมอุสาหกรรมอมตะ ซิตี้ ชลบุรี ถ.บางนา-ตราด กม. 57 ต.คลองตำหรุ อ.เมือง ชลบุรี 038 469 700
URL:https://thaibloodcentre.redcross.or.th/event/%e0%b8%9a%e0%b8%a3%e0%b8%b4%e0%b8%a9%e0%b8%b1%e0%b8%97-%e0%b9%84%e0%b8%94%e0%b8%81%e0%b8%b4%e0%b9%89%e0%b8%99%e0%b8%ad%e0%b8%b4%e0%b8%99%e0%b8%94%e0%b8%b1%e0%b8%aa%e0%b8%97%e0%b8%a3%e0%b8%b5-4/
LOCATION:บริษัท ไดกิ้นอินดัสทรีส์ (ประเทศไทย) จำกัด\, บริษัท ไดกิ้นอินดัสทรีส์ (ประเทศไทย) จำกัด 700/11 นิคมอุตสาหกรรมอมตะซิตี้ ชลบุรี ถนนบางนา-ตราด ตำบล คลองตำหรุ อำเภอเมืองชลบุรี ชลบุรี 20000
CATEGORIES:ปฏิทินตารางหน่วยเคลื่อนที่
END:VEVENT
BEGIN:VEVENT
DTSTART;TZID=Asia/Bangkok:20251015T090000
DTEND;TZID=Asia/Bangkok:20251015T150000
DTSTAMP:20260425T232416
CREATED:20251003T101931Z
LAST-MODIFIED:20251003T101931Z
UID:10003649-1760518800-1760540400@thaibloodcentre.redcross.or.th
SUMMARY:บริษัท มติชน จำกัด (มหาชน) [0E0751]
DESCRIPTION:สถานที่เจาะ : หน้าอาคารฝ่ายผลิต (ด้านหลังสนง.) (พัก 12-13 น.) \nที่อยู่ : 12 หมู่บ้านประชานิเวศน์ 1 ถนนเทศบาลนฤมาล แขวงลาดยาว เขตจตุจักร กรุงเทพฯ 0 2589 0020
URL:https://thaibloodcentre.redcross.or.th/event/%e0%b8%9a%e0%b8%a3%e0%b8%b4%e0%b8%a9%e0%b8%b1%e0%b8%97-%e0%b8%a1%e0%b8%95%e0%b8%b4%e0%b8%8a%e0%b8%99-%e0%b8%88%e0%b8%b3%e0%b8%81%e0%b8%b1%e0%b8%94-%e0%b8%a1%e0%b8%ab%e0%b8%b2%e0%b8%8a%e0%b8%99-0e07-2/
LOCATION:บริษัท มติชน จำกัด (มหาชน)\, บริษัท มติชน จำกัด (มหาชน) 12 ถนนเทศบาลนฤมาล หมู่บ้านประชานิเวศน์ 1 แขวงลาดยาว เขตจตุจักร 10900
CATEGORIES:ปฏิทินตารางหน่วยเคลื่อนที่
END:VEVENT
BEGIN:VEVENT
DTSTART;TZID=Asia/Bangkok:20251015T090000
DTEND;TZID=Asia/Bangkok:20251015T150000
DTSTAMP:20260425T232416
CREATED:20251003T101934Z
LAST-MODIFIED:20251003T101934Z
UID:10003650-1760518800-1760540400@thaibloodcentre.redcross.or.th
SUMMARY:กรมการขนส่งทางบก [0D0001]
DESCRIPTION:สถานที่เจาะ : หน้าอาคาร 1 (พัก 12-13 น.) \nที่อยู่ : 1032 ถนนพหลโยธิน แขวงลาดยาว เขตจตุจักร กรุงเทพฯ 0 2271 8802
URL:https://thaibloodcentre.redcross.or.th/event/%e0%b8%81%e0%b8%a3%e0%b8%a1%e0%b8%81%e0%b8%b2%e0%b8%a3%e0%b8%82%e0%b8%99%e0%b8%aa%e0%b9%88%e0%b8%87%e0%b8%97%e0%b8%b2%e0%b8%87%e0%b8%9a%e0%b8%81-0d0001-2/
LOCATION:กรมการขนส่งทางบก\, กรมการขนส่งทางบก 1032 ถ.พหลโยธิน แขวงจอมพล เขตจตุจักร กรุงเทพมหานคร 10900
CATEGORIES:ปฏิทินตารางหน่วยเคลื่อนที่
END:VEVENT
BEGIN:VEVENT
DTSTART;TZID=Asia/Bangkok:20251015T093000
DTEND;TZID=Asia/Bangkok:20251015T150000
DTSTAMP:20260425T232416
CREATED:20251003T101901Z
LAST-MODIFIED:20251003T101901Z
UID:10003643-1760520600-1760540400@thaibloodcentre.redcross.or.th
SUMMARY:บริษัท ซีพี แอ็กตร้า จำกัด (มหาชน) สำนักงานส่วนกลาง นวมินทร์ [0M0037]
DESCRIPTION:สถานที่เจาะ : ห้องประชุม D101-D106 ตึก D (พัก 12-13 น.) \nที่อยู่ : 629/1 ถนนนวมินทร์ แขวงนวลจันทร์ เขตบึงกุ่ม กรุงเทพฯ 0 2797 9000
URL:https://thaibloodcentre.redcross.or.th/event/%e0%b8%9a%e0%b8%a3%e0%b8%b4%e0%b8%a9%e0%b8%b1%e0%b8%97-%e0%b8%8b%e0%b8%b5%e0%b8%9e%e0%b8%b5-%e0%b9%81%e0%b8%ad%e0%b9%87%e0%b8%81%e0%b8%95%e0%b8%a3%e0%b9%89%e0%b8%b2-%e0%b8%88%e0%b8%b3%e0%b8%81-2/
LOCATION:บริษัท ซีพี แอ็กตร้า จำกัด (มหาชน) สำนักงานส่วนกลาง นวมินทร์\, บมจ. ซีพี แอ็กซ์ตร้า สำนักงานนวมินทร์ 629/1 ถนนนวมินทร์ แขวงนวลจันทร์ เขตบึงกุ่ม กรุงเทพฯ 10230
CATEGORIES:ปฏิทินตารางหน่วยเคลื่อนที่
END:VEVENT
BEGIN:VEVENT
DTSTART;TZID=Asia/Bangkok:20251015T120000
DTEND;TZID=Asia/Bangkok:20251015T180000
DTSTAMP:20260425T232416
CREATED:20251003T101812Z
LAST-MODIFIED:20251003T101812Z
UID:10003635-1760529600-1760551200@thaibloodcentre.redcross.or.th
SUMMARY:ศูนย์การค้าเดอะมอลล์ไลฟ์สโตร์ บางแค [0E0942]
DESCRIPTION:สถานที่เจาะ : ชั้น 3 ตรงข้ามร้านโอ้กะจู๋ \nที่อยู่ : ถนนเพชรเกษม แขวงบางแคเหนือ เขตภาษีเจริญ กรุงเทพฯ 02 487 1221
URL:https://thaibloodcentre.redcross.or.th/event/%e0%b8%a8%e0%b8%b9%e0%b8%99%e0%b8%a2%e0%b9%8c%e0%b8%81%e0%b8%b2%e0%b8%a3%e0%b8%84%e0%b9%89%e0%b8%b2%e0%b9%80%e0%b8%94%e0%b8%ad%e0%b8%b0%e0%b8%a1%e0%b8%ad%e0%b8%a5%e0%b8%a5%e0%b9%8c%e0%b9%84-960/
LOCATION:ศูนย์การค้าเดอะมอลล์ไลฟ์สโตร์ บางแค\, ศูนย์การค้าเดอะมอลล์ไลฟ์สโตร์ บางแค
CATEGORIES:ปฏิทินตารางหน่วยเคลื่อนที่
END:VEVENT
BEGIN:VEVENT
DTSTART;TZID=Asia/Bangkok:20251015T120000
DTEND;TZID=Asia/Bangkok:20251015T180000
DTSTAMP:20260425T232416
CREATED:20251003T101820Z
LAST-MODIFIED:20251003T101820Z
UID:10003636-1760529600-1760551200@thaibloodcentre.redcross.or.th
SUMMARY:ศูนย์การค้าเดอะมอลล์ไลฟ์สโตร์ บางกะปิ [0E0941]
DESCRIPTION:สถานที่เจาะ : ชั้น 2 ทางออกลานจอดรถ \nที่อยู่ : ถนนลาดพร้าว แขวงคลองจั่น เขตบางกะปิ กรุงเทพฯ 0 2310 2278
URL:https://thaibloodcentre.redcross.or.th/event/%e0%b8%a8%e0%b8%b9%e0%b8%99%e0%b8%a2%e0%b9%8c%e0%b8%81%e0%b8%b2%e0%b8%a3%e0%b8%84%e0%b9%89%e0%b8%b2%e0%b9%80%e0%b8%94%e0%b8%ad%e0%b8%b0%e0%b8%a1%e0%b8%ad%e0%b8%a5%e0%b8%a5%e0%b9%8c%e0%b9%84-961/
LOCATION:ศูนย์การค้าเดอะมอลล์ไลฟ์สโตร์ บางกะปิ\, เดอะมอลล์ไลฟ์สโตร์ บางกะปิ 3522 ถ. ลาดพร้าว แขวงคลองจั่น เขตบางกะปิ กรุงเทพมหานคร 10240
CATEGORIES:ปฏิทินตารางหน่วยเคลื่อนที่
END:VEVENT
BEGIN:VEVENT
DTSTART;TZID=Asia/Bangkok:20251015T120000
DTEND;TZID=Asia/Bangkok:20251015T180000
DTSTAMP:20260425T232416
CREATED:20251003T101827Z
LAST-MODIFIED:20251003T101827Z
UID:10003637-1760529600-1760551200@thaibloodcentre.redcross.or.th
SUMMARY:ศูนย์การค้าเดอะมอลล์ไลฟ์สโตร์ งามวงศ์วาน [0E0948]
DESCRIPTION:สถานที่เจาะ : ชั้น 5 โซน Government Center \nที่อยู่ : ถนนงามวงศ์วาน ต.บางเขน อ.เมือง จ.นนทบุรี 0 2555 1550
URL:https://thaibloodcentre.redcross.or.th/event/%e0%b8%a8%e0%b8%b9%e0%b8%99%e0%b8%a2%e0%b9%8c%e0%b8%81%e0%b8%b2%e0%b8%a3%e0%b8%84%e0%b9%89%e0%b8%b2%e0%b9%80%e0%b8%94%e0%b8%ad%e0%b8%b0%e0%b8%a1%e0%b8%ad%e0%b8%a5%e0%b8%a5%e0%b9%8c%e0%b9%84-962/
LOCATION:ศูนย์การค้าเดอะมอลล์ไลฟ์สโตร์ งามวงศ์วาน\, เดอะมอลล์ ไลฟ์สโตร์ งามวงศ์วาน 430 ถนน งามวงศ์วาน ตำบลบางเขน อำเภอเมืองนนทบุรี นนทบุรี 11000
CATEGORIES:ปฏิทินตารางหน่วยเคลื่อนที่
END:VEVENT
BEGIN:VEVENT
DTSTART;TZID=Asia/Bangkok:20251015T120000
DTEND;TZID=Asia/Bangkok:20251015T180000
DTSTAMP:20260425T232416
CREATED:20251003T101834Z
LAST-MODIFIED:20251003T101834Z
UID:10003638-1760529600-1760551200@thaibloodcentre.redcross.or.th
SUMMARY:ศูนย์การค้า เอ็มโพเรียม [0E0947]
DESCRIPTION:สถานที่เจาะ : ชั้น M ศูนย์การค้า ดิ เอ็มโพเรียม เชื่อมลานจอดรถอาคาร B \nที่อยู่ : 622 ถนนสุขุมวิท แขวงคลองตัน เขตคลองเตย กรุงเทพฯ 0 2269 1515
URL:https://thaibloodcentre.redcross.or.th/event/%e0%b8%a8%e0%b8%b9%e0%b8%99%e0%b8%a2%e0%b9%8c%e0%b8%81%e0%b8%b2%e0%b8%a3%e0%b8%84%e0%b9%89%e0%b8%b2-%e0%b9%80%e0%b8%ad%e0%b9%87%e0%b8%a1%e0%b9%82%e0%b8%9e%e0%b9%80%e0%b8%a3%e0%b8%b5%e0%b8%a2-236/
LOCATION:ศูนย์การค้า เอ็มโพเรียม\, เอ็มโพเรียม 622 ถ. สุขุมวิท แขวงคลองตัน เขตคลองเตย กรุงเทพมหานคร 10110
CATEGORIES:ปฏิทินตารางหน่วยเคลื่อนที่
END:VEVENT
BEGIN:VEVENT
DTSTART;TZID=Asia/Bangkok:20251015T120000
DTEND;TZID=Asia/Bangkok:20251015T180000
DTSTAMP:20260425T232416
CREATED:20251003T101842Z
LAST-MODIFIED:20251003T101842Z
UID:10003639-1760529600-1760551200@thaibloodcentre.redcross.or.th
SUMMARY:ศูนย์การค้าเดอะมอลล์ไลฟ์สโตร์ ท่าพระ [0E0344]
DESCRIPTION:สถานที่เจาะ : ชั้น 1 (ติดลานจอดรถ) \nที่อยู่ : 99 ถนนรัชดาท่าพระตัดใหม่ แขวงบุคคโล เขตธนบุรี กรุงเทพฯ 0 2469-1000
URL:https://thaibloodcentre.redcross.or.th/event/%e0%b8%a8%e0%b8%b9%e0%b8%99%e0%b8%a2%e0%b9%8c%e0%b8%81%e0%b8%b2%e0%b8%a3%e0%b8%84%e0%b9%89%e0%b8%b2%e0%b9%80%e0%b8%94%e0%b8%ad%e0%b8%b0%e0%b8%a1%e0%b8%ad%e0%b8%a5%e0%b8%a5%e0%b9%8c%e0%b9%84-963/
LOCATION:ศูนย์การค้าเดอะมอลล์ไลฟ์สโตร์ ท่าพระ\, เดอะมอลล์ไลฟ์สโตร์ ท่าพระ 129 ถ. รัชดาภิเษก แขวงบุคคโล เขตธนบุรี กรุงเทพมหานคร 10600
CATEGORIES:ปฏิทินตารางหน่วยเคลื่อนที่
END:VEVENT
BEGIN:VEVENT
DTSTART;TZID=Asia/Bangkok:20251015T130000
DTEND;TZID=Asia/Bangkok:20251015T150000
DTSTAMP:20260425T232416
CREATED:20251003T101920Z
LAST-MODIFIED:20251003T101920Z
UID:10003646-1760533200-1760540400@thaibloodcentre.redcross.or.th
SUMMARY:โรบินสัน ไลฟ์สไตล์ ราชพฤกษ์ [0M1031]
DESCRIPTION:สถานที่เจาะ : จุดโหลดสินค้า \nที่อยู่ : 19/11 ม. 4 ต.คลองข่อย อ.ปากเกร็ด จ.นนทบุรี
URL:https://thaibloodcentre.redcross.or.th/event/%e0%b9%82%e0%b8%a3%e0%b8%9a%e0%b8%b4%e0%b8%99%e0%b8%aa%e0%b8%b1%e0%b8%99-%e0%b9%84%e0%b8%a5%e0%b8%9f%e0%b9%8c%e0%b8%aa%e0%b9%84%e0%b8%95%e0%b8%a5%e0%b9%8c-%e0%b8%a3%e0%b8%b2%e0%b8%8a%e0%b8%9e-3/
LOCATION:โรบินสัน ไลฟ์สไตล์ ราชพฤกษ์\, โรบินสัน ไลฟ์สไตล์ ราชพฤกษ์ ตําบล คลองข่อย 19/11 หมู่ที่ 4 อำเภอปากเกร็ด นนทบุรี 11120
CATEGORIES:ปฏิทินตารางหน่วยเคลื่อนที่
END:VEVENT
END:VCALENDAR