BEGIN:VCALENDAR
VERSION:2.0
PRODID:-//เว็บไซต์ศูนย์บริการโลหิตแห่งชาติ - ECPv6.11.2.1//NONSGML v1.0//EN
CALSCALE:GREGORIAN
METHOD:PUBLISH
X-WR-CALNAME:เว็บไซต์ศูนย์บริการโลหิตแห่งชาติ
X-ORIGINAL-URL:https://thaibloodcentre.redcross.or.th
X-WR-CALDESC:Events for เว็บไซต์ศูนย์บริการโลหิตแห่งชาติ
REFRESH-INTERVAL;VALUE=DURATION:PT1H
X-Robots-Tag:noindex
X-PUBLISHED-TTL:PT1H
BEGIN:VTIMEZONE
TZID:Asia/Bangkok
BEGIN:STANDARD
TZOFFSETFROM:+0700
TZOFFSETTO:+0700
TZNAME:+07
DTSTART:20250101T000000
END:STANDARD
END:VTIMEZONE
BEGIN:VEVENT
DTSTART;TZID=Asia/Bangkok:20251010T073000
DTEND;TZID=Asia/Bangkok:20251010T193000
DTSTAMP:20260426T084731
CREATED:20251003T084200Z
LAST-MODIFIED:20251003T084200Z
UID:10003570-1760081400-1760124600@thaibloodcentre.redcross.or.th
SUMMARY:ศูนย์บริการโลหิตแห่งชาติ สภากาชาดไทย [0A0000]
DESCRIPTION:ที่อยู่ : 1871 ถ. อังรีดูนังต์ แขวงปทุมวัน เขตปทุมวัน
URL:https://thaibloodcentre.redcross.or.th/event/%e0%b8%a8%e0%b8%b9%e0%b8%99%e0%b8%a2%e0%b9%8c%e0%b8%9a%e0%b8%a3%e0%b8%b4%e0%b8%81%e0%b8%b2%e0%b8%a3%e0%b9%82%e0%b8%a5%e0%b8%ab%e0%b8%b4%e0%b8%95%e0%b9%81%e0%b8%ab%e0%b9%88%e0%b8%87%e0%b8%8a-288/
LOCATION:ศูนย์บริการโลหิตแห่งชาติ สภากาชาดไทย\, ศูนย์บริการโลหิตแห่งชาติ สภากาชาดไทย 1871 ถ. อังรีดูนังต์ แขวงปทุมวัน เขตปทุมวัน กรุงเทพมหานคร 10330
CATEGORIES:ปฏิทินตารางหน่วยเคลื่อนที่
END:VEVENT
BEGIN:VEVENT
DTSTART;TZID=Asia/Bangkok:20251010T083000
DTEND;TZID=Asia/Bangkok:20251010T120000
DTSTAMP:20260426T084731
CREATED:20251003T084700Z
LAST-MODIFIED:20251003T084700Z
UID:10003587-1760085000-1760097600@thaibloodcentre.redcross.or.th
SUMMARY:โรงงานมักกะสัน การรถไฟแห่งประเทศไทย [0D0063]
DESCRIPTION:สถานที่เจาะ : หน้าตึกอำนวยการ \nที่อยู่ : ถนนนิคมมักกะสัน แขวงมักกะสัน เขตราชเทวี กรุงเทพฯ 0 2245 2480
URL:https://thaibloodcentre.redcross.or.th/event/%e0%b9%82%e0%b8%a3%e0%b8%87%e0%b8%87%e0%b8%b2%e0%b8%99%e0%b8%a1%e0%b8%b1%e0%b8%81%e0%b8%81%e0%b8%b0%e0%b8%aa%e0%b8%b1%e0%b8%99-%e0%b8%81%e0%b8%b2%e0%b8%a3%e0%b8%a3%e0%b8%96%e0%b9%84%e0%b8%9f-3/
LOCATION:โรงงานมักกะสัน การรถไฟแห่งประเทศไทย\, โรงงานมักกะสัน การรถไฟแห่งประเทศไทย 700 ถ.นิคมมักกะสัน แขวงมักกะสัน เขตราชเทวี กรุงเทพมหานคร 10400
CATEGORIES:ปฏิทินตารางหน่วยเคลื่อนที่
END:VEVENT
BEGIN:VEVENT
DTSTART;TZID=Asia/Bangkok:20251010T083000
DTEND;TZID=Asia/Bangkok:20251010T193000
DTSTAMP:20260426T084731
CREATED:20251003T084245Z
LAST-MODIFIED:20251003T084245Z
UID:10003576-1760085000-1760124600@thaibloodcentre.redcross.or.th
SUMMARY:สถานีกาชาด 11 วิเศษนิยม [0D0200]
DESCRIPTION:สถานที่เจาะ : ชั้น 3 \nที่อยู่ : 33/3 ถนนเพชรเกษม แขวงบางหว้า เขตภาษีเจริญ กรุงเทพฯ 0633450711
URL:https://thaibloodcentre.redcross.or.th/event/%e0%b8%aa%e0%b8%96%e0%b8%b2%e0%b8%99%e0%b8%b5%e0%b8%81%e0%b8%b2%e0%b8%8a%e0%b8%b2%e0%b8%94-11-%e0%b8%a7%e0%b8%b4%e0%b9%80%e0%b8%a8%e0%b8%a9%e0%b8%99%e0%b8%b4%e0%b8%a2%e0%b8%a1-0d0200-149/
LOCATION:สถานีกาชาด 11 วิเศษนิยม\, สถานีกาชาด 11 วิเศษนิยม 605 ถ.เพชรเกษม แขวงบางหว้า เขตภาษีเจริญ กรุงเทพมหานคร 10160
CATEGORIES:ปฏิทินตารางหน่วยเคลื่อนที่
END:VEVENT
BEGIN:VEVENT
DTSTART;TZID=Asia/Bangkok:20251010T090000
DTEND;TZID=Asia/Bangkok:20251010T120000
DTSTAMP:20260426T084731
CREATED:20251003T084655Z
LAST-MODIFIED:20251003T084655Z
UID:10003585-1760086800-1760097600@thaibloodcentre.redcross.or.th
SUMMARY:องค์การพิพิธภัณฑ์วิทยาศาสตร์แห่งชาติ [0D0943]
DESCRIPTION:สถานที่เจาะ : หน้าพิพิธภัณฑ์วิทยาศาสตร์แห่งชาติ พระราม 9 \nที่อยู่ : เทคโนธานี ต.คลองห้า อ.คลองหลวง ปทุมธานี 0 2577 9999
URL:https://thaibloodcentre.redcross.or.th/event/%e0%b8%ad%e0%b8%87%e0%b8%84%e0%b9%8c%e0%b8%81%e0%b8%b2%e0%b8%a3%e0%b8%9e%e0%b8%b4%e0%b8%9e%e0%b8%b4%e0%b8%98%e0%b8%a0%e0%b8%b1%e0%b8%93%e0%b8%91%e0%b9%8c%e0%b8%a7%e0%b8%b4%e0%b8%97%e0%b8%a2%e0%b8%b2-3/
LOCATION:องค์การพิพิธภัณฑ์วิทยาศาสตร์แห่งชาติ\, องค์การพิพิธภัณฑ์วิทยาศาสตร์แห่งชาติ 39 ม.3 ถ.เลียบคลองห้า ต.คลองห้า อ.คลองหลวง จ.ปทุมธานี 12120
CATEGORIES:ปฏิทินตารางหน่วยเคลื่อนที่
END:VEVENT
BEGIN:VEVENT
DTSTART;TZID=Asia/Bangkok:20251010T090000
DTEND;TZID=Asia/Bangkok:20251010T150000
DTSTAMP:20260426T084731
CREATED:20251003T084249Z
LAST-MODIFIED:20251003T084249Z
UID:10003577-1760086800-1760108400@thaibloodcentre.redcross.or.th
SUMMARY:บ้านทรงไทย (ย่านวงศ์สว่าง) [0J0463]
DESCRIPTION:สถานที่เจาะ : (พัก 12-13 น.) \nที่อยู่ : 1423 ถนนกรุงเทพ – นนทบุรี แขวงวงศ์สว่าง เขตบางซื่อ กรุงเทพฯ 0 2256 4300
URL:https://thaibloodcentre.redcross.or.th/event/%e0%b8%9a%e0%b9%89%e0%b8%b2%e0%b8%99%e0%b8%97%e0%b8%a3%e0%b8%87%e0%b9%84%e0%b8%97%e0%b8%a2-%e0%b8%a2%e0%b9%88%e0%b8%b2%e0%b8%99%e0%b8%a7%e0%b8%87%e0%b8%a8%e0%b9%8c%e0%b8%aa%e0%b8%a7%e0%b9%88-233/
LOCATION:บ้านทรงไทย (ย่านวงศ์สว่าง)\, หน่วยรับบริจาคโลหิต บ้านทรงไทย(ย่านวงศ์สว่าง) 1423 ถนนกรุงเทพ-นนทบุรี แขวงวงศ์สว่าง เขตบางซื่อ กรุงเทพมหานคร 10800
CATEGORIES:ปฏิทินตารางหน่วยเคลื่อนที่
END:VEVENT
BEGIN:VEVENT
DTSTART;TZID=Asia/Bangkok:20251010T090000
DTEND;TZID=Asia/Bangkok:20251010T150000
DTSTAMP:20260426T084731
CREATED:20251003T084253Z
LAST-MODIFIED:20251003T084253Z
UID:10003578-1760086800-1760108400@thaibloodcentre.redcross.or.th
SUMMARY:กองบัญชาการกองทัพไทย [0C0239]
DESCRIPTION:สถานที่เจาะ : ห้องประชุมสำนักงานแพทย์ \nที่อยู่ : 127 ถนนแจ้งวัฒนะ แขวงทุ่งสองห้อง เขตหลักสี่ กรุงเทพฯ 0 2586 7360
URL:https://thaibloodcentre.redcross.or.th/event/%e0%b8%81%e0%b8%ad%e0%b8%87%e0%b8%9a%e0%b8%b1%e0%b8%8d%e0%b8%8a%e0%b8%b2%e0%b8%81%e0%b8%b2%e0%b8%a3%e0%b8%81%e0%b8%ad%e0%b8%87%e0%b8%97%e0%b8%b1%e0%b8%9e%e0%b9%84%e0%b8%97%e0%b8%a2-0c0239-3/
LOCATION:กองบัญชาการกองทัพไทย\, กองบัญชาการกองทัพไทย 127 ซอยแจ้งวัฒนะ 7 แขวงทุ่งสองห้อง เขตหลักสี่ กรุงเทพมหานคร 10210
CATEGORIES:ปฏิทินตารางหน่วยเคลื่อนที่
END:VEVENT
BEGIN:VEVENT
DTSTART;TZID=Asia/Bangkok:20251010T090000
DTEND;TZID=Asia/Bangkok:20251010T150000
DTSTAMP:20260426T084731
CREATED:20251003T084256Z
LAST-MODIFIED:20251003T084256Z
UID:10003579-1760086800-1760108400@thaibloodcentre.redcross.or.th
SUMMARY:กองบัญชาการตำรวจนครบาล [0C0223]
DESCRIPTION:สถานที่เจาะ : ห้องประชุม ชั้น1 บก.อคฝ.บช.น. (พัก 12-13 น.) \nที่อยู่ : กองบังคับการอารักขาและควบคุมฝูงชน ถนนวิภาวดีรังสิต แขวงตลาดบางเขน เขตหลักสี่ กรุงเทพฯ
URL:https://thaibloodcentre.redcross.or.th/event/%e0%b8%81%e0%b8%ad%e0%b8%87%e0%b8%9a%e0%b8%b1%e0%b8%8d%e0%b8%8a%e0%b8%b2%e0%b8%81%e0%b8%b2%e0%b8%a3%e0%b8%95%e0%b8%b3%e0%b8%a3%e0%b8%a7%e0%b8%88%e0%b8%99%e0%b8%84%e0%b8%a3%e0%b8%9a%e0%b8%b2%e0%b8%a5-3/
LOCATION:กองบัญชาการตำรวจนครบาล\, กองบังคับการอารักขาและควบคุมฝูงชน กองบังคับการอารักขาและควบคุมฝูงชน ถนนวิภาวดีรังสิต แขวงตลาดบางเขน เขตหลักสี่ กทม 10220
CATEGORIES:ปฏิทินตารางหน่วยเคลื่อนที่
END:VEVENT
BEGIN:VEVENT
DTSTART;TZID=Asia/Bangkok:20251010T090000
DTEND;TZID=Asia/Bangkok:20251010T150000
DTSTAMP:20260426T084731
CREATED:20251003T084457Z
LAST-MODIFIED:20251003T084457Z
UID:10003581-1760086800-1760108400@thaibloodcentre.redcross.or.th
SUMMARY:มหาวิทยาลัยรามคำแหง [0B0001]
DESCRIPTION:สถานที่เจาะ : ห้องศักดิ์ ผาสุขนิรันต์ หอประชุมพ่อขุนฯ (พัก 12-13 น.) \nที่อยู่ : ถนนรามคำแหง แขวงหัวหมาก เขตบางกะปิ กรุงเทพฯ 0 2310 8066-69
URL:https://thaibloodcentre.redcross.or.th/event/%e0%b8%a1%e0%b8%ab%e0%b8%b2%e0%b8%a7%e0%b8%b4%e0%b8%97%e0%b8%a2%e0%b8%b2%e0%b8%a5%e0%b8%b1%e0%b8%a2%e0%b8%a3%e0%b8%b2%e0%b8%a1%e0%b8%84%e0%b8%b3%e0%b9%81%e0%b8%ab%e0%b8%87-0b0001-2/
LOCATION:มหาวิทยาลัยรามคำแหง\, มหาวิทยาลัยรามคำแหง 282 ถนน รามคำแหง แขวงหัวหมาก เขตบางกะปิ กรุงเทพมหานคร 10240
CATEGORIES:ปฏิทินตารางหน่วยเคลื่อนที่
END:VEVENT
BEGIN:VEVENT
DTSTART;TZID=Asia/Bangkok:20251010T090000
DTEND;TZID=Asia/Bangkok:20251010T150000
DTSTAMP:20260426T084732
CREATED:20251003T084459Z
LAST-MODIFIED:20251003T084459Z
UID:10003582-1760086800-1760108400@thaibloodcentre.redcross.or.th
SUMMARY:บริษัท บี.ยู.เอ็นเตอร์ไพรส์ จำกัด [0M0015]
DESCRIPTION:สถานที่เจาะ : ห้องปฏบัติธรรมสุขสว่าง ชั้น 2 (พัก 11.30-12.30 น.) \nที่อยู่ : 565\,567 ซอยสุทธิพร ถนนประชาสงเคราะห์ แขวงดินแดง เขตดินแดง กรุงเทพฯ 0 2641 7979
URL:https://thaibloodcentre.redcross.or.th/event/%e0%b8%9a%e0%b8%a3%e0%b8%b4%e0%b8%a9%e0%b8%b1%e0%b8%97-%e0%b8%9a%e0%b8%b5-%e0%b8%a2%e0%b8%b9-%e0%b9%80%e0%b8%ad%e0%b9%87%e0%b8%99%e0%b9%80%e0%b8%95%e0%b8%ad%e0%b8%a3%e0%b9%8c%e0%b9%84%e0%b8%9e-3/
LOCATION:บริษัท บี.ยู.เอ็นเตอร์ไพรส์ จำกัด\, อาคารบี.ยู.เพลส 567 ถนนรัชดาภิเษก แขวงดินแดง เขตดินแดง กรุงเทพมหานคร 10400
CATEGORIES:ปฏิทินตารางหน่วยเคลื่อนที่
END:VEVENT
BEGIN:VEVENT
DTSTART;TZID=Asia/Bangkok:20251010T090000
DTEND;TZID=Asia/Bangkok:20251010T150000
DTSTAMP:20260426T084732
CREATED:20251003T084503Z
LAST-MODIFIED:20251003T084503Z
UID:10003583-1760086800-1760108400@thaibloodcentre.redcross.or.th
SUMMARY:บริษัท การบินไทย จำกัด (มหาชน) [0E0257]
DESCRIPTION:สถานที่เจาะ : ห้องโถงชั้น 1 อาคาร 3 (พัก 12-13 น.) \nที่อยู่ : 89 ถนนวิภาวดีรังสิต แขวงจอมพล เขตจตุจักร กรุงเทพฯ 0 2545 1421
URL:https://thaibloodcentre.redcross.or.th/event/%e0%b8%9a%e0%b8%a3%e0%b8%b4%e0%b8%a9%e0%b8%b1%e0%b8%97-%e0%b8%81%e0%b8%b2%e0%b8%a3%e0%b8%9a%e0%b8%b4%e0%b8%99%e0%b9%84%e0%b8%97%e0%b8%a2-%e0%b8%88%e0%b8%b3%e0%b8%81%e0%b8%b1%e0%b8%94-%e0%b8%a1-4/
LOCATION:บริษัท การบินไทย จำกัด (มหาชน)\, บริษัท การบินไทย จำกัด (มหาชน) 89 ถนน วิภาวดีรังสิต แขวงจอมพล เขตจตุจักร กรุงเทพมหานคร 10900
CATEGORIES:ปฏิทินตารางหน่วยเคลื่อนที่
END:VEVENT
BEGIN:VEVENT
DTSTART;TZID=Asia/Bangkok:20251010T110000
DTEND;TZID=Asia/Bangkok:20251010T150000
DTSTAMP:20260426T084732
CREATED:20251003T084506Z
LAST-MODIFIED:20251003T084506Z
UID:10003584-1760094000-1760108400@thaibloodcentre.redcross.or.th
SUMMARY:นิติบุคคลอาคารชุดเจมส์ทาวเวอร์ [0M0470]
DESCRIPTION:สถานที่เจาะ : หน้าอาคารฯ ฝั่งมเหสักข์ \nที่อยู่ : 1249 เจริญกรุง 47/3 แขวงสุริยวงศ์ เขตบางรัก กรุงเทพฯ 0 2267 4558-9
URL:https://thaibloodcentre.redcross.or.th/event/%e0%b8%99%e0%b8%b4%e0%b8%95%e0%b8%b4%e0%b8%9a%e0%b8%b8%e0%b8%84%e0%b8%84%e0%b8%a5%e0%b8%ad%e0%b8%b2%e0%b8%84%e0%b8%b2%e0%b8%a3%e0%b8%8a%e0%b8%b8%e0%b8%94%e0%b9%80%e0%b8%88%e0%b8%a1%e0%b8%aa%e0%b9%8c-3/
LOCATION:นิติบุคคลอาคารชุดเจมส์ทาวเวอร์\, อาคาร เจมส์ ทาวเวอร์ Gems Tower 1249 ถนนเจริญกรุง แขวงสุริยวงศ์ เขตบางรัก กรุงเทพมหานคร 10500
CATEGORIES:ปฏิทินตารางหน่วยเคลื่อนที่
END:VEVENT
BEGIN:VEVENT
DTSTART;TZID=Asia/Bangkok:20251010T110000
DTEND;TZID=Asia/Bangkok:20251010T190000
DTSTAMP:20260426T084732
CREATED:20251003T084454Z
LAST-MODIFIED:20251003T084454Z
UID:10003580-1760094000-1760122800@thaibloodcentre.redcross.or.th
SUMMARY:บริษัท รถไฟฟ้า ร.ฟ.ท. จำกัด (สำนักงานใหญ่) [0M1021]
DESCRIPTION:สถานที่เจาะ : จุดจำหน่ายตั๋วรถไฟสายสีแดง (พัก 15-16 น.) \nที่อยู่ : สถานีกลางบางซื่อ 10 ถนนกำแพงเพชร แขวงจตุจักร เขตจตุจักร กรุงเทพฯ
URL:https://thaibloodcentre.redcross.or.th/event/%e0%b8%9a%e0%b8%a3%e0%b8%b4%e0%b8%a9%e0%b8%b1%e0%b8%97-%e0%b8%a3%e0%b8%96%e0%b9%84%e0%b8%9f%e0%b8%9f%e0%b9%89%e0%b8%b2-%e0%b8%a3-%e0%b8%9f-%e0%b8%97-%e0%b8%88%e0%b8%b3%e0%b8%81%e0%b8%b1%e0%b8%94-3/
LOCATION:บริษัท รถไฟฟ้า ร.ฟ.ท. จำกัด (สำนักงานใหญ่)\, บริษัท รถไฟฟ้า ร.ฟ.ท. จำกัด (สำนักงานใหญ่) PHWP+8X6 แขวงบางกะปิ เขตห้วยขวาง กรุงเทพมหานคร 10310
CATEGORIES:ปฏิทินตารางหน่วยเคลื่อนที่
END:VEVENT
BEGIN:VEVENT
DTSTART;TZID=Asia/Bangkok:20251010T120000
DTEND;TZID=Asia/Bangkok:20251010T180000
DTSTAMP:20260426T084732
CREATED:20251003T084205Z
LAST-MODIFIED:20251003T084205Z
UID:10003571-1760097600-1760119200@thaibloodcentre.redcross.or.th
SUMMARY:ศูนย์การค้าเดอะมอลล์ไลฟ์สโตร์ บางแค [0E0942]
DESCRIPTION:สถานที่เจาะ : ชั้น 3 ตรงข้ามร้านโอ้กะจู๋ \nที่อยู่ : ถนนเพชรเกษม แขวงบางแคเหนือ เขตภาษีเจริญ กรุงเทพฯ 02 487 1221
URL:https://thaibloodcentre.redcross.or.th/event/%e0%b8%a8%e0%b8%b9%e0%b8%99%e0%b8%a2%e0%b9%8c%e0%b8%81%e0%b8%b2%e0%b8%a3%e0%b8%84%e0%b9%89%e0%b8%b2%e0%b9%80%e0%b8%94%e0%b8%ad%e0%b8%b0%e0%b8%a1%e0%b8%ad%e0%b8%a5%e0%b8%a5%e0%b9%8c%e0%b9%84-940/
LOCATION:ศูนย์การค้าเดอะมอลล์ไลฟ์สโตร์ บางแค\, ศูนย์การค้าเดอะมอลล์ไลฟ์สโตร์ บางแค
CATEGORIES:ปฏิทินตารางหน่วยเคลื่อนที่
END:VEVENT
BEGIN:VEVENT
DTSTART;TZID=Asia/Bangkok:20251010T120000
DTEND;TZID=Asia/Bangkok:20251010T180000
DTSTAMP:20260426T084732
CREATED:20251003T084213Z
LAST-MODIFIED:20251003T084213Z
UID:10003572-1760097600-1760119200@thaibloodcentre.redcross.or.th
SUMMARY:ศูนย์การค้าเดอะมอลล์ไลฟ์สโตร์ บางกะปิ [0E0941]
DESCRIPTION:สถานที่เจาะ : ชั้น 2 ทางออกลานจอดรถ \nที่อยู่ : ถนนลาดพร้าว แขวงคลองจั่น เขตบางกะปิ กรุงเทพฯ 0 2310 2278
URL:https://thaibloodcentre.redcross.or.th/event/%e0%b8%a8%e0%b8%b9%e0%b8%99%e0%b8%a2%e0%b9%8c%e0%b8%81%e0%b8%b2%e0%b8%a3%e0%b8%84%e0%b9%89%e0%b8%b2%e0%b9%80%e0%b8%94%e0%b8%ad%e0%b8%b0%e0%b8%a1%e0%b8%ad%e0%b8%a5%e0%b8%a5%e0%b9%8c%e0%b9%84-941/
LOCATION:ศูนย์การค้าเดอะมอลล์ไลฟ์สโตร์ บางกะปิ\, เดอะมอลล์ไลฟ์สโตร์ บางกะปิ 3522 ถ. ลาดพร้าว แขวงคลองจั่น เขตบางกะปิ กรุงเทพมหานคร 10240
CATEGORIES:ปฏิทินตารางหน่วยเคลื่อนที่
END:VEVENT
BEGIN:VEVENT
DTSTART;TZID=Asia/Bangkok:20251010T120000
DTEND;TZID=Asia/Bangkok:20251010T180000
DTSTAMP:20260426T084732
CREATED:20251003T084221Z
LAST-MODIFIED:20251003T084221Z
UID:10003573-1760097600-1760119200@thaibloodcentre.redcross.or.th
SUMMARY:ศูนย์การค้าเดอะมอลล์ไลฟ์สโตร์ งามวงศ์วาน [0E0948]
DESCRIPTION:สถานที่เจาะ : ชั้น 5 โซน Government Center \nที่อยู่ : ถนนงามวงศ์วาน ต.บางเขน อ.เมือง จ.นนทบุรี 0 2555 1550
URL:https://thaibloodcentre.redcross.or.th/event/%e0%b8%a8%e0%b8%b9%e0%b8%99%e0%b8%a2%e0%b9%8c%e0%b8%81%e0%b8%b2%e0%b8%a3%e0%b8%84%e0%b9%89%e0%b8%b2%e0%b9%80%e0%b8%94%e0%b8%ad%e0%b8%b0%e0%b8%a1%e0%b8%ad%e0%b8%a5%e0%b8%a5%e0%b9%8c%e0%b9%84-942/
LOCATION:ศูนย์การค้าเดอะมอลล์ไลฟ์สโตร์ งามวงศ์วาน\, เดอะมอลล์ ไลฟ์สโตร์ งามวงศ์วาน 430 ถนน งามวงศ์วาน ตำบลบางเขน อำเภอเมืองนนทบุรี นนทบุรี 11000
CATEGORIES:ปฏิทินตารางหน่วยเคลื่อนที่
END:VEVENT
BEGIN:VEVENT
DTSTART;TZID=Asia/Bangkok:20251010T120000
DTEND;TZID=Asia/Bangkok:20251010T180000
DTSTAMP:20260426T084732
CREATED:20251003T084228Z
LAST-MODIFIED:20251003T084228Z
UID:10003574-1760097600-1760119200@thaibloodcentre.redcross.or.th
SUMMARY:ศูนย์การค้า เอ็มโพเรียม [0E0947]
DESCRIPTION:สถานที่เจาะ : ชั้น M ศูนย์การค้า ดิ เอ็มโพเรียม เชื่อมลานจอดรถอาคาร B \nที่อยู่ : 622 ถนนสุขุมวิท แขวงคลองตัน เขตคลองเตย กรุงเทพฯ 0 2269 1515
URL:https://thaibloodcentre.redcross.or.th/event/%e0%b8%a8%e0%b8%b9%e0%b8%99%e0%b8%a2%e0%b9%8c%e0%b8%81%e0%b8%b2%e0%b8%a3%e0%b8%84%e0%b9%89%e0%b8%b2-%e0%b9%80%e0%b8%ad%e0%b9%87%e0%b8%a1%e0%b9%82%e0%b8%9e%e0%b9%80%e0%b8%a3%e0%b8%b5%e0%b8%a2-231/
LOCATION:ศูนย์การค้า เอ็มโพเรียม\, เอ็มโพเรียม 622 ถ. สุขุมวิท แขวงคลองตัน เขตคลองเตย กรุงเทพมหานคร 10110
CATEGORIES:ปฏิทินตารางหน่วยเคลื่อนที่
END:VEVENT
BEGIN:VEVENT
DTSTART;TZID=Asia/Bangkok:20251010T120000
DTEND;TZID=Asia/Bangkok:20251010T180000
DTSTAMP:20260426T084732
CREATED:20251003T084236Z
LAST-MODIFIED:20251003T084236Z
UID:10003575-1760097600-1760119200@thaibloodcentre.redcross.or.th
SUMMARY:ศูนย์การค้าเดอะมอลล์ไลฟ์สโตร์ ท่าพระ [0E0344]
DESCRIPTION:สถานที่เจาะ : ชั้น 1 (ติดลานจอดรถ) \nที่อยู่ : 99 ถนนรัชดาท่าพระตัดใหม่ แขวงบุคคโล เขตธนบุรี กรุงเทพฯ 0 2469-1000
URL:https://thaibloodcentre.redcross.or.th/event/%e0%b8%a8%e0%b8%b9%e0%b8%99%e0%b8%a2%e0%b9%8c%e0%b8%81%e0%b8%b2%e0%b8%a3%e0%b8%84%e0%b9%89%e0%b8%b2%e0%b9%80%e0%b8%94%e0%b8%ad%e0%b8%b0%e0%b8%a1%e0%b8%ad%e0%b8%a5%e0%b8%a5%e0%b9%8c%e0%b9%84-943/
LOCATION:ศูนย์การค้าเดอะมอลล์ไลฟ์สโตร์ ท่าพระ\, เดอะมอลล์ไลฟ์สโตร์ ท่าพระ 129 ถ. รัชดาภิเษก แขวงบุคคโล เขตธนบุรี กรุงเทพมหานคร 10600
CATEGORIES:ปฏิทินตารางหน่วยเคลื่อนที่
END:VEVENT
BEGIN:VEVENT
DTSTART;TZID=Asia/Bangkok:20251010T130000
DTEND;TZID=Asia/Bangkok:20251010T150000
DTSTAMP:20260426T084732
CREATED:20251003T084657Z
LAST-MODIFIED:20251003T084657Z
UID:10003586-1760101200-1760108400@thaibloodcentre.redcross.or.th
SUMMARY:บิ๊กซี ซูเปอร์เซ็นเตอร์ สาขารังสิตคลองหก [0M0468]
DESCRIPTION:สถานที่เจาะ : ด้านหน้าห้าง \nที่อยู่ : 158/17 ม. 4 ต.รังสิต อ.ธัญญบุรี ปทุมธานี 0 2577 6200
URL:https://thaibloodcentre.redcross.or.th/event/%e0%b8%9a%e0%b8%b4%e0%b9%8a%e0%b8%81%e0%b8%8b%e0%b8%b5-%e0%b8%8b%e0%b8%b9%e0%b9%80%e0%b8%9b%e0%b8%ad%e0%b8%a3%e0%b9%8c%e0%b9%80%e0%b8%8b%e0%b9%87%e0%b8%99%e0%b9%80%e0%b8%95%e0%b8%ad%e0%b8%a3-27/
LOCATION:บิ๊กซี ซูเปอร์เซ็นเตอร์ สาขารังสิตคลองหก\, บิ๊กซี รังสิต คลอง 6 158/17 ม.4 ถ.รังสิต - นครนายก ต.รังสิต อ.ธัญบุรี จ.ปทุมธานี 12110
CATEGORIES:ปฏิทินตารางหน่วยเคลื่อนที่
END:VEVENT
BEGIN:VEVENT
DTSTART;TZID=Asia/Bangkok:20251010T133000
DTEND;TZID=Asia/Bangkok:20251010T150000
DTSTAMP:20260426T084732
CREATED:20251003T084703Z
LAST-MODIFIED:20251003T084703Z
UID:10003588-1760103000-1760108400@thaibloodcentre.redcross.or.th
SUMMARY:บริษัท เอ็มโอแค็ป จำกัด [0M0987]
DESCRIPTION:สถานที่เจาะ : หน้าอาคารสิริภิญโญ \nที่อยู่ : 475 ถนนศรีอยุธยา แขวงพญาไท เขตพญาไท กรุงเทพฯ 0 2203 9017
URL:https://thaibloodcentre.redcross.or.th/event/%e0%b8%9a%e0%b8%a3%e0%b8%b4%e0%b8%a9%e0%b8%b1%e0%b8%97-%e0%b9%80%e0%b8%ad%e0%b9%87%e0%b8%a1%e0%b9%82%e0%b8%ad%e0%b9%81%e0%b8%84%e0%b9%87%e0%b8%9b-%e0%b8%88%e0%b8%b3%e0%b8%81%e0%b8%b1%e0%b8%94-0m0987-3/
LOCATION:บริษัท เอ็มโอแค็ป จำกัด\, บริษัท เอ็มโอแค็ป จำกัด เลขที่ 475 อาคารสิริภิญโญ ชั้น 3 ถนนศรีอยุธยา แขวงถนนพญาไท เขตราชเทวี กรุงเทพมหานคร 10400
CATEGORIES:ปฏิทินตารางหน่วยเคลื่อนที่
END:VEVENT
END:VCALENDAR