BEGIN:VCALENDAR
VERSION:2.0
PRODID:-//เว็บไซต์ศูนย์บริการโลหิตแห่งชาติ - ECPv6.11.2.1//NONSGML v1.0//EN
CALSCALE:GREGORIAN
METHOD:PUBLISH
X-ORIGINAL-URL:https://thaibloodcentre.redcross.or.th
X-WR-CALDESC:Events for เว็บไซต์ศูนย์บริการโลหิตแห่งชาติ
REFRESH-INTERVAL;VALUE=DURATION:PT1H
X-Robots-Tag:noindex
X-PUBLISHED-TTL:PT1H
BEGIN:VTIMEZONE
TZID:Asia/Bangkok
BEGIN:STANDARD
TZOFFSETFROM:+0700
TZOFFSETTO:+0700
TZNAME:+07
DTSTART:20250101T000000
END:STANDARD
END:VTIMEZONE
BEGIN:VEVENT
DTSTART;TZID=Asia/Bangkok:20251007T073000
DTEND;TZID=Asia/Bangkok:20251007T193000
DTSTAMP:20260426T104444
CREATED:20250925T032340Z
LAST-MODIFIED:20250925T032340Z
UID:10003522-1759822200-1759865400@thaibloodcentre.redcross.or.th
SUMMARY:ศูนย์บริการโลหิตแห่งชาติ สภากาชาดไทย [0A0000]
DESCRIPTION:ที่อยู่ : 1871 ถ. อังรีดูนังต์ แขวงปทุมวัน เขตปทุมวัน
URL:https://thaibloodcentre.redcross.or.th/event/%e0%b8%a8%e0%b8%b9%e0%b8%99%e0%b8%a2%e0%b9%8c%e0%b8%9a%e0%b8%a3%e0%b8%b4%e0%b8%81%e0%b8%b2%e0%b8%a3%e0%b9%82%e0%b8%a5%e0%b8%ab%e0%b8%b4%e0%b8%95%e0%b9%81%e0%b8%ab%e0%b9%88%e0%b8%87%e0%b8%8a-285/
LOCATION:ศูนย์บริการโลหิตแห่งชาติ สภากาชาดไทย\, ศูนย์บริการโลหิตแห่งชาติ สภากาชาดไทย 1871 ถ. อังรีดูนังต์ แขวงปทุมวัน เขตปทุมวัน กรุงเทพมหานคร 10330
CATEGORIES:ปฏิทินตารางหน่วยเคลื่อนที่
END:VEVENT
BEGIN:VEVENT
DTSTART;TZID=Asia/Bangkok:20251007T083000
DTEND;TZID=Asia/Bangkok:20251007T193000
DTSTAMP:20260426T104444
CREATED:20250925T032427Z
LAST-MODIFIED:20250925T032427Z
UID:10003528-1759825800-1759865400@thaibloodcentre.redcross.or.th
SUMMARY:สถานีกาชาด 11 วิเศษนิยม [0D0200]
DESCRIPTION:สถานที่เจาะ : ชั้น 3 \nที่อยู่ : 33/3 ถนนเพชรเกษม แขวงบางหว้า เขตภาษีเจริญ กรุงเทพฯ 0633450711
URL:https://thaibloodcentre.redcross.or.th/event/%e0%b8%aa%e0%b8%96%e0%b8%b2%e0%b8%99%e0%b8%b5%e0%b8%81%e0%b8%b2%e0%b8%8a%e0%b8%b2%e0%b8%94-11-%e0%b8%a7%e0%b8%b4%e0%b9%80%e0%b8%a8%e0%b8%a9%e0%b8%99%e0%b8%b4%e0%b8%a2%e0%b8%a1-0d0200-146/
LOCATION:สถานีกาชาด 11 วิเศษนิยม\, สถานีกาชาด 11 วิเศษนิยม 605 ถ.เพชรเกษม แขวงบางหว้า เขตภาษีเจริญ กรุงเทพมหานคร 10160
CATEGORIES:ปฏิทินตารางหน่วยเคลื่อนที่
END:VEVENT
BEGIN:VEVENT
DTSTART;TZID=Asia/Bangkok:20251007T090000
DTEND;TZID=Asia/Bangkok:20251007T120000
DTSTAMP:20260426T104444
CREATED:20250925T032636Z
LAST-MODIFIED:20250925T032636Z
UID:10003536-1759827600-1759838400@thaibloodcentre.redcross.or.th
SUMMARY:บริษัท สหพัฒนพิบูล จำกัด (มหาชน) [0E0038]
DESCRIPTION:สถานที่เจาะ : ข้างอาคารบางกอกทาวเวอร์ \nที่อยู่ : 2156 ถนนเพชรบุรีตัดใหม่ แขวงบางกะปิ เขตห้วยขวาง กรุงเทพฯ 0 2318 0062
URL:https://thaibloodcentre.redcross.or.th/event/%e0%b8%9a%e0%b8%a3%e0%b8%b4%e0%b8%a9%e0%b8%b1%e0%b8%97-%e0%b8%aa%e0%b8%ab%e0%b8%9e%e0%b8%b1%e0%b8%92%e0%b8%99%e0%b8%9e%e0%b8%b4%e0%b8%9a%e0%b8%b9%e0%b8%a5-%e0%b8%88%e0%b8%b3%e0%b8%81%e0%b8%b1-4/
LOCATION:บริษัท สหพัฒนพิบูล จำกัด (มหาชน)\, บริษัท สหพัฒนพิบูล จำกัด (มหาชน) 2156 ถ.เพชรบุรีตัดใหม่ แขวงบางกะปิ เขตห้วยขวาง กรุงเทพมหานคร 10310
CATEGORIES:ปฏิทินตารางหน่วยเคลื่อนที่
END:VEVENT
BEGIN:VEVENT
DTSTART;TZID=Asia/Bangkok:20251007T090000
DTEND;TZID=Asia/Bangkok:20251007T150000
DTSTAMP:20260426T104445
CREATED:20250925T032431Z
LAST-MODIFIED:20250925T032431Z
UID:10003529-1759827600-1759849200@thaibloodcentre.redcross.or.th
SUMMARY:บ้านทรงไทย (ย่านวงศ์สว่าง) [0J0463]
DESCRIPTION:สถานที่เจาะ : (พัก 12-13 น.) \nที่อยู่ : 1423 ถนนกรุงเทพ – นนทบุรี แขวงวงศ์สว่าง เขตบางซื่อ กรุงเทพฯ 0 2256 4300
URL:https://thaibloodcentre.redcross.or.th/event/%e0%b8%9a%e0%b9%89%e0%b8%b2%e0%b8%99%e0%b8%97%e0%b8%a3%e0%b8%87%e0%b9%84%e0%b8%97%e0%b8%a2-%e0%b8%a2%e0%b9%88%e0%b8%b2%e0%b8%99%e0%b8%a7%e0%b8%87%e0%b8%a8%e0%b9%8c%e0%b8%aa%e0%b8%a7%e0%b9%88-230/
LOCATION:บ้านทรงไทย (ย่านวงศ์สว่าง)\, หน่วยรับบริจาคโลหิต บ้านทรงไทย(ย่านวงศ์สว่าง) 1423 ถนนกรุงเทพ-นนทบุรี แขวงวงศ์สว่าง เขตบางซื่อ กรุงเทพมหานคร 10800
CATEGORIES:ปฏิทินตารางหน่วยเคลื่อนที่
END:VEVENT
BEGIN:VEVENT
DTSTART;TZID=Asia/Bangkok:20251007T090000
DTEND;TZID=Asia/Bangkok:20251007T150000
DTSTAMP:20260426T104445
CREATED:20250925T032435Z
LAST-MODIFIED:20250925T032435Z
UID:10003530-1759827600-1759849200@thaibloodcentre.redcross.or.th
SUMMARY:การไฟฟ้าส่วนภูมิภาค [0D0015]
DESCRIPTION:สถานที่เจาะ : ห้องสุวรรณภูมิ ชั้น 6 ตึก LED \nที่อยู่ : 200 ถนนงามวงศ์วาน แขวงลาดยาว เขตจตุจักร กรุงเทพฯ 0 2590 5885
URL:https://thaibloodcentre.redcross.or.th/event/%e0%b8%81%e0%b8%b2%e0%b8%a3%e0%b9%84%e0%b8%9f%e0%b8%9f%e0%b9%89%e0%b8%b2%e0%b8%aa%e0%b9%88%e0%b8%a7%e0%b8%99%e0%b8%a0%e0%b8%b9%e0%b8%a1%e0%b8%b4%e0%b8%a0%e0%b8%b2%e0%b8%84-0d0015-2/
LOCATION:การไฟฟ้าส่วนภูมิภาค\, การไฟฟ้าส่วนภูมิภาค สำนักงานใหญ่ 200 ถนนงามวงศ์วาน ลาดยาว จตุจักร กรุงเทพ 10900
CATEGORIES:ปฏิทินตารางหน่วยเคลื่อนที่
END:VEVENT
BEGIN:VEVENT
DTSTART;TZID=Asia/Bangkok:20251007T090000
DTEND;TZID=Asia/Bangkok:20251007T150000
DTSTAMP:20260426T104445
CREATED:20250925T032437Z
LAST-MODIFIED:20250925T032437Z
UID:10003531-1759827600-1759849200@thaibloodcentre.redcross.or.th
SUMMARY:มหาวิทยาลัยเทคโนโลยีราชมงคลธัญบุรี [0B0351]
DESCRIPTION:สถานที่เจาะ : ห้องประชุมสงค์ธนาพิทักษ์ อาคารอธิการบดี \nที่อยู่ : 39 ม.1 ถ.รังสิต – นครนายก ต.คลองหก อ.ธัญบุรี ปทุมธานี 0 2549 4010
URL:https://thaibloodcentre.redcross.or.th/event/%e0%b8%a1%e0%b8%ab%e0%b8%b2%e0%b8%a7%e0%b8%b4%e0%b8%97%e0%b8%a2%e0%b8%b2%e0%b8%a5%e0%b8%b1%e0%b8%a2%e0%b9%80%e0%b8%97%e0%b8%84%e0%b9%82%e0%b8%99%e0%b9%82%e0%b8%a5%e0%b8%a2%e0%b8%b5%e0%b8%a3%e0%b8%b2-5/
LOCATION:มหาวิทยาลัยเทคโนโลยีราชมงคลธัญบุรี\, มหาวิทยาลัยเทคโนโลยีราชมงคลธัญบุรี 39 หมู่ที่ 1 ถนนรังสิต - นครนายก ตำบล คลองหก อำเภอคลองหลวง ปทุมธานี 12110
CATEGORIES:ปฏิทินตารางหน่วยเคลื่อนที่
END:VEVENT
BEGIN:VEVENT
DTSTART;TZID=Asia/Bangkok:20251007T090000
DTEND;TZID=Asia/Bangkok:20251007T150000
DTSTAMP:20260426T104445
CREATED:20250925T032622Z
LAST-MODIFIED:20250925T032622Z
UID:10003532-1759827600-1759849200@thaibloodcentre.redcross.or.th
SUMMARY:กระทรวงยุติธรรม [0D0449]
DESCRIPTION:สถานที่เจาะ : ห้องรับรอง 2 ชั้น 2 (พัก 12-13 น.) \nที่อยู่ : 404 ถนนแจ้งวัฒนะ แขวงทุ่งสองห้อง เขตหลักสี่ กรุงเทพฯ 0 2141 2123
URL:https://thaibloodcentre.redcross.or.th/event/%e0%b8%81%e0%b8%a3%e0%b8%b0%e0%b8%97%e0%b8%a3%e0%b8%a7%e0%b8%87%e0%b8%a2%e0%b8%b8%e0%b8%95%e0%b8%b4%e0%b8%98%e0%b8%a3%e0%b8%a3%e0%b8%a1-0d0449-4/
LOCATION:กระทรวงยุติธรรม\, อาคารกระทรวงยุติธรรม 404 ถนนแจ้งวัฒนะ แขวงทุ่งสองห้อง เขตหลักสี่ กรุงเทพมหานคร 10210
CATEGORIES:ปฏิทินตารางหน่วยเคลื่อนที่
END:VEVENT
BEGIN:VEVENT
DTSTART;TZID=Asia/Bangkok:20251007T090000
DTEND;TZID=Asia/Bangkok:20251007T150000
DTSTAMP:20260426T104445
CREATED:20250925T032625Z
LAST-MODIFIED:20250925T032625Z
UID:10003533-1759827600-1759849200@thaibloodcentre.redcross.or.th
SUMMARY:บริษัท คิง เพาเวอร์ คอร์ปอเรชั่น จำกัด (สำนักงานใหญ่) [0M0044]
DESCRIPTION:สถานที่เจาะ : Eternity Daylight Ballroom โรงแรมพูลแมน คิงเพาเวอร์ กรุงเทพ \nที่อยู่ : 8 ถนนรางน้ำ แขวงถนนพญาไท เขตราชเทวี กรุงเทพฯ 0 2677 8888
URL:https://thaibloodcentre.redcross.or.th/event/%e0%b8%9a%e0%b8%a3%e0%b8%b4%e0%b8%a9%e0%b8%b1%e0%b8%97-%e0%b8%84%e0%b8%b4%e0%b8%87-%e0%b9%80%e0%b8%9e%e0%b8%b2%e0%b9%80%e0%b8%a7%e0%b8%ad%e0%b8%a3%e0%b9%8c-%e0%b8%84%e0%b8%ad%e0%b8%a3%e0%b9%8c-6/
LOCATION:บริษัท คิง เพาเวอร์ คอร์ปอเรชั่น จำกัด (สำนักงานใหญ่)\, บริษัท คิง เพาเวอร์ คอร์ปอเรชั่น จำกัด (สำนักงานใหญ่) 8 คิง เพาเวอร์ คอมเพล็กซ์ ถนนรางน้ำ แขวงถนนพญาไท เขตราชเทวี กรุงเทพมหานคร 10400
CATEGORIES:ปฏิทินตารางหน่วยเคลื่อนที่
END:VEVENT
BEGIN:VEVENT
DTSTART;TZID=Asia/Bangkok:20251007T090000
DTEND;TZID=Asia/Bangkok:20251007T150000
DTSTAMP:20260426T104445
CREATED:20250925T032629Z
LAST-MODIFIED:20250925T032629Z
UID:10003534-1759827600-1759849200@thaibloodcentre.redcross.or.th
SUMMARY:บริษัท คิง เพาเวอร์ คอร์ปอเรชั่น จำกัด (สุวรรณภูมิ) [0M0515]
DESCRIPTION:สถานที่เจาะ : Training Room 7-8 Concourse G (พัก 11-12 น.) \nที่อยู่ : 999 ม. 1 ต.หนองปรือ อ.บางพลี จ.สมุทรปราการ 0 2134 8888
URL:https://thaibloodcentre.redcross.or.th/event/%e0%b8%9a%e0%b8%a3%e0%b8%b4%e0%b8%a9%e0%b8%b1%e0%b8%97-%e0%b8%84%e0%b8%b4%e0%b8%87-%e0%b9%80%e0%b8%9e%e0%b8%b2%e0%b9%80%e0%b8%a7%e0%b8%ad%e0%b8%a3%e0%b9%8c-%e0%b8%84%e0%b8%ad%e0%b8%a3%e0%b9%8c-7/
LOCATION:บริษัท คิง เพาเวอร์ คอร์ปอเรชั่น จำกัด (สุวรรณภูมิ)\, บริษัท คิง เพาเวอร์ คอร์ปอเรชั่น จำกัด (สุวรรณภูมิ) 999 ถ.บางนา-บางปะกง ตำบลราชาเทวะ อำเภอบางพลี สมุทรปราการ 10540
CATEGORIES:ปฏิทินตารางหน่วยเคลื่อนที่
END:VEVENT
BEGIN:VEVENT
DTSTART;TZID=Asia/Bangkok:20251007T090000
DTEND;TZID=Asia/Bangkok:20251007T150000
DTSTAMP:20260426T104445
CREATED:20250925T032632Z
LAST-MODIFIED:20250925T032632Z
UID:10003535-1759827600-1759849200@thaibloodcentre.redcross.or.th
SUMMARY:สำนักงานนิคมอุตสาหกรรมบ้านหว้า (ไฮเทค) [0D0527]
DESCRIPTION:สถานที่เจาะ : ด้านหน้าอาคาร \nที่อยู่ : 99 ม.5 ต.บ้านหว้า อ.บางปะอิน จ.พระนครศรีอยุธยา 035 350 141
URL:https://thaibloodcentre.redcross.or.th/event/%e0%b8%aa%e0%b8%b3%e0%b8%99%e0%b8%b1%e0%b8%81%e0%b8%87%e0%b8%b2%e0%b8%99%e0%b8%99%e0%b8%b4%e0%b8%84%e0%b8%a1%e0%b8%ad%e0%b8%b8%e0%b8%95%e0%b8%aa%e0%b8%b2%e0%b8%ab%e0%b8%81%e0%b8%a3%e0%b8%a3-15/
LOCATION:สำนักงานนิคมอุตสาหกรรมบ้านหว้า (ไฮเทค)\, สำนักงานนิคมอุตสาหกรรมบ้านหว้า (ไฮเทค) 99 หมู่ 5 ถนนสายเอเซีย ตำบลบ้านหว้า อำเภอบางปะอิน จังหวัดพระนครศรีอยุธยา 13160
CATEGORIES:ปฏิทินตารางหน่วยเคลื่อนที่
END:VEVENT
BEGIN:VEVENT
DTSTART;TZID=Asia/Bangkok:20251007T120000
DTEND;TZID=Asia/Bangkok:20251007T180000
DTSTAMP:20260426T104445
CREATED:20250925T032345Z
LAST-MODIFIED:20250925T032345Z
UID:10003523-1759838400-1759860000@thaibloodcentre.redcross.or.th
SUMMARY:ศูนย์การค้าเดอะมอลล์ไลฟ์สโตร์ บางแค [0E0942]
DESCRIPTION:สถานที่เจาะ : ชั้น 3 ตรงข้ามร้านโอ้กะจู๋ \nที่อยู่ : ถนนเพชรเกษม แขวงบางแคเหนือ เขตภาษีเจริญ กรุงเทพฯ 02 487 1221
URL:https://thaibloodcentre.redcross.or.th/event/%e0%b8%a8%e0%b8%b9%e0%b8%99%e0%b8%a2%e0%b9%8c%e0%b8%81%e0%b8%b2%e0%b8%a3%e0%b8%84%e0%b9%89%e0%b8%b2%e0%b9%80%e0%b8%94%e0%b8%ad%e0%b8%b0%e0%b8%a1%e0%b8%ad%e0%b8%a5%e0%b8%a5%e0%b9%8c%e0%b9%84-928/
LOCATION:ศูนย์การค้าเดอะมอลล์ไลฟ์สโตร์ บางแค\, ศูนย์การค้าเดอะมอลล์ไลฟ์สโตร์ บางแค
CATEGORIES:ปฏิทินตารางหน่วยเคลื่อนที่
END:VEVENT
BEGIN:VEVENT
DTSTART;TZID=Asia/Bangkok:20251007T120000
DTEND;TZID=Asia/Bangkok:20251007T180000
DTSTAMP:20260426T104445
CREATED:20250925T032354Z
LAST-MODIFIED:20250925T032354Z
UID:10003524-1759838400-1759860000@thaibloodcentre.redcross.or.th
SUMMARY:ศูนย์การค้าเดอะมอลล์ไลฟ์สโตร์ บางกะปิ [0E0941]
DESCRIPTION:สถานที่เจาะ : ชั้น 2 ทางออกลานจอดรถ \nที่อยู่ : ถนนลาดพร้าว แขวงคลองจั่น เขตบางกะปิ กรุงเทพฯ 0 2310 2278
URL:https://thaibloodcentre.redcross.or.th/event/%e0%b8%a8%e0%b8%b9%e0%b8%99%e0%b8%a2%e0%b9%8c%e0%b8%81%e0%b8%b2%e0%b8%a3%e0%b8%84%e0%b9%89%e0%b8%b2%e0%b9%80%e0%b8%94%e0%b8%ad%e0%b8%b0%e0%b8%a1%e0%b8%ad%e0%b8%a5%e0%b8%a5%e0%b9%8c%e0%b9%84-929/
LOCATION:ศูนย์การค้าเดอะมอลล์ไลฟ์สโตร์ บางกะปิ\, เดอะมอลล์ไลฟ์สโตร์ บางกะปิ 3522 ถ. ลาดพร้าว แขวงคลองจั่น เขตบางกะปิ กรุงเทพมหานคร 10240
CATEGORIES:ปฏิทินตารางหน่วยเคลื่อนที่
END:VEVENT
BEGIN:VEVENT
DTSTART;TZID=Asia/Bangkok:20251007T120000
DTEND;TZID=Asia/Bangkok:20251007T180000
DTSTAMP:20260426T104445
CREATED:20250925T032402Z
LAST-MODIFIED:20250925T032402Z
UID:10003525-1759838400-1759860000@thaibloodcentre.redcross.or.th
SUMMARY:ศูนย์การค้าเดอะมอลล์ไลฟ์สโตร์ งามวงศ์วาน [0E0948]
DESCRIPTION:สถานที่เจาะ : ชั้น 5 โซน Government Center \nที่อยู่ : ถนนงามวงศ์วาน ต.บางเขน อ.เมือง จ.นนทบุรี 0 2555 1550
URL:https://thaibloodcentre.redcross.or.th/event/%e0%b8%a8%e0%b8%b9%e0%b8%99%e0%b8%a2%e0%b9%8c%e0%b8%81%e0%b8%b2%e0%b8%a3%e0%b8%84%e0%b9%89%e0%b8%b2%e0%b9%80%e0%b8%94%e0%b8%ad%e0%b8%b0%e0%b8%a1%e0%b8%ad%e0%b8%a5%e0%b8%a5%e0%b9%8c%e0%b9%84-930/
LOCATION:ศูนย์การค้าเดอะมอลล์ไลฟ์สโตร์ งามวงศ์วาน\, เดอะมอลล์ ไลฟ์สโตร์ งามวงศ์วาน 430 ถนน งามวงศ์วาน ตำบลบางเขน อำเภอเมืองนนทบุรี นนทบุรี 11000
CATEGORIES:ปฏิทินตารางหน่วยเคลื่อนที่
END:VEVENT
BEGIN:VEVENT
DTSTART;TZID=Asia/Bangkok:20251007T120000
DTEND;TZID=Asia/Bangkok:20251007T180000
DTSTAMP:20260426T104445
CREATED:20250925T032410Z
LAST-MODIFIED:20250925T032410Z
UID:10003526-1759838400-1759860000@thaibloodcentre.redcross.or.th
SUMMARY:ศูนย์การค้า เอ็มโพเรียม [0E0947]
DESCRIPTION:สถานที่เจาะ : ชั้น M ศูนย์การค้า ดิ เอ็มโพเรียม เชื่อมลานจอดรถอาคาร B \nที่อยู่ : 622 ถนนสุขุมวิท แขวงคลองตัน เขตคลองเตย กรุงเทพฯ 0 2269 1515
URL:https://thaibloodcentre.redcross.or.th/event/%e0%b8%a8%e0%b8%b9%e0%b8%99%e0%b8%a2%e0%b9%8c%e0%b8%81%e0%b8%b2%e0%b8%a3%e0%b8%84%e0%b9%89%e0%b8%b2-%e0%b9%80%e0%b8%ad%e0%b9%87%e0%b8%a1%e0%b9%82%e0%b8%9e%e0%b9%80%e0%b8%a3%e0%b8%b5%e0%b8%a2-228/
LOCATION:ศูนย์การค้า เอ็มโพเรียม\, เอ็มโพเรียม 622 ถ. สุขุมวิท แขวงคลองตัน เขตคลองเตย กรุงเทพมหานคร 10110
CATEGORIES:ปฏิทินตารางหน่วยเคลื่อนที่
END:VEVENT
BEGIN:VEVENT
DTSTART;TZID=Asia/Bangkok:20251007T120000
DTEND;TZID=Asia/Bangkok:20251007T180000
DTSTAMP:20260426T104445
CREATED:20250925T032419Z
LAST-MODIFIED:20250925T032419Z
UID:10003527-1759838400-1759860000@thaibloodcentre.redcross.or.th
SUMMARY:ศูนย์การค้าเดอะมอลล์ไลฟ์สโตร์ ท่าพระ [0E0344]
DESCRIPTION:สถานที่เจาะ : ชั้น 1 (ติดลานจอดรถ) \nที่อยู่ : 99 ถนนรัชดาท่าพระตัดใหม่ แขวงบุคคโล เขตธนบุรี กรุงเทพฯ 0 2469-1000
URL:https://thaibloodcentre.redcross.or.th/event/%e0%b8%a8%e0%b8%b9%e0%b8%99%e0%b8%a2%e0%b9%8c%e0%b8%81%e0%b8%b2%e0%b8%a3%e0%b8%84%e0%b9%89%e0%b8%b2%e0%b9%80%e0%b8%94%e0%b8%ad%e0%b8%b0%e0%b8%a1%e0%b8%ad%e0%b8%a5%e0%b8%a5%e0%b9%8c%e0%b9%84-931/
LOCATION:ศูนย์การค้าเดอะมอลล์ไลฟ์สโตร์ ท่าพระ\, เดอะมอลล์ไลฟ์สโตร์ ท่าพระ 129 ถ. รัชดาภิเษก แขวงบุคคโล เขตธนบุรี กรุงเทพมหานคร 10600
CATEGORIES:ปฏิทินตารางหน่วยเคลื่อนที่
END:VEVENT
BEGIN:VEVENT
DTSTART;TZID=Asia/Bangkok:20251007T133000
DTEND;TZID=Asia/Bangkok:20251007T150000
DTSTAMP:20260426T104445
CREATED:20250925T032823Z
LAST-MODIFIED:20250925T032823Z
UID:10003537-1759843800-1759849200@thaibloodcentre.redcross.or.th
SUMMARY:อาคารวานิชเพลซ อารีย์ [0M1033]
DESCRIPTION:สถานที่เจาะ : ด้านหน้าอาคาร \nที่อยู่ : 304 ถนนพหลโยธิน แขวงสามเสนใน เขตพญาไท กรุงเทพฯ 0 2279 2450
URL:https://thaibloodcentre.redcross.or.th/event/%e0%b8%ad%e0%b8%b2%e0%b8%84%e0%b8%b2%e0%b8%a3%e0%b8%a7%e0%b8%b2%e0%b8%99%e0%b8%b4%e0%b8%8a%e0%b9%80%e0%b8%9e%e0%b8%a5%e0%b8%8b-%e0%b8%ad%e0%b8%b2%e0%b8%a3%e0%b8%b5%e0%b8%a2%e0%b9%8c-0m1033-3/
LOCATION:อาคารวานิชเพลซ อารีย์\, อาคารวานิชเพลซ อารีย์ 304 ถ. พหลโยธิน แขวงสามเสนใน เขตพญาไท กรุงเทพมหานคร 10400
CATEGORIES:ปฏิทินตารางหน่วยเคลื่อนที่
END:VEVENT
END:VCALENDAR