BEGIN:VCALENDAR
VERSION:2.0
PRODID:-//National Blood Center, Thai Red Cross Society - ECPv6.11.2.1//NONSGML v1.0//EN
CALSCALE:GREGORIAN
METHOD:PUBLISH
X-ORIGINAL-URL:https://thaibloodcentre.redcross.or.th/en
X-WR-CALDESC:Events for National Blood Center, Thai Red Cross Society
REFRESH-INTERVAL;VALUE=DURATION:PT1H
X-Robots-Tag:noindex
X-PUBLISHED-TTL:PT1H
BEGIN:VTIMEZONE
TZID:Asia/Bangkok
BEGIN:STANDARD
TZOFFSETFROM:+0700
TZOFFSETTO:+0700
TZNAME:+07
DTSTART:20250101T000000
END:STANDARD
END:VTIMEZONE
BEGIN:VEVENT
DTSTART;TZID=Asia/Bangkok:20250210T090000
DTEND;TZID=Asia/Bangkok:20250210T150000
DTSTAMP:20260423T104357
CREATED:20250209T130314Z
LAST-MODIFIED:20250209T130314Z
UID:10000230-1739178000-1739199600@thaibloodcentre.redcross.or.th
SUMMARY:ธนาคารกรุงไทย จำกัด (มหาชน) [0G0034]
DESCRIPTION:สถานที่เจาะ : บริเวณลานจอดรถแอโรบิค อาคารนานาเหนือ \nที่อยู่ : 35 สุขุมวิท 3 แขวงคลองเตยเหนือ เขตวัฒนา กรุงเทพฯ  \nโทร : 0 2208 4404
URL:https://thaibloodcentre.redcross.or.th/en/event/%e0%b8%98%e0%b8%99%e0%b8%b2%e0%b8%84%e0%b8%b2%e0%b8%a3%e0%b8%81%e0%b8%a3%e0%b8%b8%e0%b8%87%e0%b9%84%e0%b8%97%e0%b8%a2-%e0%b8%88%e0%b8%b3%e0%b8%81%e0%b8%b1%e0%b8%94-%e0%b8%a1%e0%b8%ab%e0%b8%b2-2/
LOCATION:ธนาคารกรุงไทย จำกัด (มหาชน)\, ธนาคารกรุงไทย จำกัด (มหาชน) เลขที่ 35 ถนนสุขุมวิท แขวงคลองเตยเหนือ เขตวัฒนา กทม. 10110
CATEGORIES:ปฏิทินตารางหน่วยเคลื่อนที่
END:VEVENT
BEGIN:VEVENT
DTSTART;TZID=Asia/Bangkok:20250210T090000
DTEND;TZID=Asia/Bangkok:20250210T150000
DTSTAMP:20260423T104357
CREATED:20250209T130312Z
LAST-MODIFIED:20250209T130312Z
UID:10000229-1739178000-1739199600@thaibloodcentre.redcross.or.th
SUMMARY:ธนาคารกรุงไทย จำกัด (มหาชน) [0G0034]
DESCRIPTION:สถานที่เจาะ : บริเวณลานจอดรถแอโรบิค อาคารนานาเหนือ \nที่อยู่ : 35 สุขุมวิท 3 แขวงคลองเตยเหนือ เขตวัฒนา กรุงเทพฯ  \nโทร : 0 2208 4404
URL:https://thaibloodcentre.redcross.or.th/en/event/%e0%b8%98%e0%b8%99%e0%b8%b2%e0%b8%84%e0%b8%b2%e0%b8%a3%e0%b8%81%e0%b8%a3%e0%b8%b8%e0%b8%87%e0%b9%84%e0%b8%97%e0%b8%a2-%e0%b8%88%e0%b8%b3%e0%b8%81%e0%b8%b1%e0%b8%94-%e0%b8%a1%e0%b8%ab%e0%b8%b2/
LOCATION:ธนาคารกรุงไทย จำกัด (มหาชน)\, ธนาคารกรุงไทย จำกัด (มหาชน) เลขที่ 35 ถนนสุขุมวิท แขวงคลองเตยเหนือ เขตวัฒนา กทม. 10110
CATEGORIES:ปฏิทินตารางหน่วยเคลื่อนที่
END:VEVENT
END:VCALENDAR