BEGIN:VCALENDAR
VERSION:2.0
PRODID:-//National Blood Center, Thai Red Cross Society - ECPv6.11.2.1//NONSGML v1.0//EN
CALSCALE:GREGORIAN
METHOD:PUBLISH
X-WR-CALNAME:National Blood Center, Thai Red Cross Society
X-ORIGINAL-URL:https://thaibloodcentre.redcross.or.th/en
X-WR-CALDESC:Events for National Blood Center, Thai Red Cross Society
REFRESH-INTERVAL;VALUE=DURATION:PT1H
X-Robots-Tag:noindex
X-PUBLISHED-TTL:PT1H
BEGIN:VTIMEZONE
TZID:UTC
BEGIN:STANDARD
TZOFFSETFROM:+0000
TZOFFSETTO:+0000
TZNAME:UTC
DTSTART:20240101T000000
END:STANDARD
END:VTIMEZONE
BEGIN:VEVENT
DTSTART;TZID=UTC:20241003T090000
DTEND;TZID=UTC:20241003T200000
DTSTAMP:20260426T015513
CREATED:20241002T115431Z
LAST-MODIFIED:20241002T115431Z
UID:10000025-1727946000-1727985600@thaibloodcentre.redcross.or.th
SUMMARY:คณะแพทย์ศาสตร์ จุฬาลงกรณ์มหาวิทยาลัย [0B0240]
DESCRIPTION:สถานที่เจาะ : ลานอเนกประสงค์ชั้น 1 อาคารอานันทมหิดล
URL:https://thaibloodcentre.redcross.or.th/en/event/%e0%b8%84%e0%b8%93%e0%b8%b0%e0%b9%81%e0%b8%9e%e0%b8%97%e0%b8%a2%e0%b9%8c%e0%b8%a8%e0%b8%b2%e0%b8%aa%e0%b8%95%e0%b8%a3%e0%b9%8c-%e0%b8%88%e0%b8%b8%e0%b8%ac%e0%b8%b2%e0%b8%a5%e0%b8%87%e0%b8%81-4/
LOCATION:คณะแพทย์ศาสตร์ จุฬาลงกรณ์มหาวิทยาลัย\, คณะแพทย์ศาสตร์ จุฬาลงกรณ์มหาวิทยาลัย 1873 ถ. พระรามที่ 4 แขวงปทุมวัน เขตปทุมวัน กรุงเทพมหานคร 10330
CATEGORIES:ปฏิทินตารางหน่วยเคลื่อนที่
END:VEVENT
BEGIN:VEVENT
DTSTART;TZID=UTC:20241003T090000
DTEND;TZID=UTC:20241003T200000
DTSTAMP:20260426T015514
CREATED:20241002T115431Z
LAST-MODIFIED:20241002T115431Z
UID:10000106-1727946000-1727985600@thaibloodcentre.redcross.or.th
SUMMARY:คณะแพทย์ศาสตร์ จุฬาลงกรณ์มหาวิทยาลัย [0B0240]
DESCRIPTION:สถานที่เจาะ : ลานอเนกประสงค์ชั้น 1 อาคารอานันทมหิดล
URL:https://thaibloodcentre.redcross.or.th/en/event/%e0%b8%84%e0%b8%93%e0%b8%b0%e0%b9%81%e0%b8%9e%e0%b8%97%e0%b8%a2%e0%b9%8c%e0%b8%a8%e0%b8%b2%e0%b8%aa%e0%b8%95%e0%b8%a3%e0%b9%8c-%e0%b8%88%e0%b8%b8%e0%b8%ac%e0%b8%b2%e0%b8%a5%e0%b8%87%e0%b8%81-4-2/
LOCATION:คณะแพทย์ศาสตร์ จุฬาลงกรณ์มหาวิทยาลัย\, คณะแพทย์ศาสตร์ จุฬาลงกรณ์มหาวิทยาลัย 1873 ถ. พระรามที่ 4 แขวงปทุมวัน เขตปทุมวัน กรุงเทพมหานคร 10330
CATEGORIES:ปฏิทินตารางหน่วยเคลื่อนที่
END:VEVENT
BEGIN:VEVENT
DTSTART;TZID=UTC:20241003T080000
DTEND;TZID=UTC:20241003T170000
DTSTAMP:20260426T015514
CREATED:20241002T115105Z
LAST-MODIFIED:20241002T115105Z
UID:10000105-1727942400-1727974800@thaibloodcentre.redcross.or.th
SUMMARY:คณะแพทย์ศาสตร์ จุฬาลงกรณ์มหาวิทยาลัย [0B0240]
DESCRIPTION:สถานที่เจาะ : ลานอเนกประสงค์ชั้น 1 อาคารอานันทมหิดล
URL:https://thaibloodcentre.redcross.or.th/en/event/%e0%b8%84%e0%b8%93%e0%b8%b0%e0%b9%81%e0%b8%9e%e0%b8%97%e0%b8%a2%e0%b9%8c%e0%b8%a8%e0%b8%b2%e0%b8%aa%e0%b8%95%e0%b8%a3%e0%b9%8c-%e0%b8%88%e0%b8%b8%e0%b8%ac%e0%b8%b2%e0%b8%a5%e0%b8%87%e0%b8%81-3-2/
LOCATION:คณะแพทย์ศาสตร์ จุฬาลงกรณ์มหาวิทยาลัย\, คณะแพทย์ศาสตร์ จุฬาลงกรณ์มหาวิทยาลัย 1873 ถ. พระรามที่ 4 แขวงปทุมวัน เขตปทุมวัน กรุงเทพมหานคร 10330
CATEGORIES:ปฏิทินตารางหน่วยเคลื่อนที่
END:VEVENT
BEGIN:VEVENT
DTSTART;TZID=UTC:20241003T080000
DTEND;TZID=UTC:20241003T170000
DTSTAMP:20260426T015514
CREATED:20241002T115105Z
LAST-MODIFIED:20241002T115105Z
UID:10000024-1727942400-1727974800@thaibloodcentre.redcross.or.th
SUMMARY:คณะแพทย์ศาสตร์ จุฬาลงกรณ์มหาวิทยาลัย [0B0240]
DESCRIPTION:สถานที่เจาะ : ลานอเนกประสงค์ชั้น 1 อาคารอานันทมหิดล
URL:https://thaibloodcentre.redcross.or.th/en/event/%e0%b8%84%e0%b8%93%e0%b8%b0%e0%b9%81%e0%b8%9e%e0%b8%97%e0%b8%a2%e0%b9%8c%e0%b8%a8%e0%b8%b2%e0%b8%aa%e0%b8%95%e0%b8%a3%e0%b9%8c-%e0%b8%88%e0%b8%b8%e0%b8%ac%e0%b8%b2%e0%b8%a5%e0%b8%87%e0%b8%81-3/
LOCATION:คณะแพทย์ศาสตร์ จุฬาลงกรณ์มหาวิทยาลัย\, คณะแพทย์ศาสตร์ จุฬาลงกรณ์มหาวิทยาลัย 1873 ถ. พระรามที่ 4 แขวงปทุมวัน เขตปทุมวัน กรุงเทพมหานคร 10330
CATEGORIES:ปฏิทินตารางหน่วยเคลื่อนที่
END:VEVENT
END:VCALENDAR